{"text_format":"1","workbook":"xlsx","n_sheets":6,"sheets":["手順","JAAFデータ貼り付け","生年月日貼り付け","Sheet5","フリガナ貼り付け","NISHI貼り付け用"],"not_rendered":{"charts":0,"images":8,"macros":1,"external_links":0,"defined_names":0,"comments":0,"pivot_tables":0},"unopened":[],"bounds":{"document_bytes":16777216,"sheet_cells":100000,"rows_first":2000,"rows_last":500,"rows_between":2000,"halvings":0,"cell_chars":16384,"cell_head_chars":4096},"cells_cut":0,"cells_raw":0,"read":"whole","date_system":"1900"}

{"sheet":"手順","index":0,"n_rows":39,"n_cols":12,"rows_kept":39,"cut":false,"hidden":false,"merged":[]}
[null,null,null,null,null,null,null,null,null,null,null,"JAAFデータのダウンロード方法"]
[null,"①JAAFデータを貼り付けてください。",null,null,null,null,null,null,null,null,null,"1.JAAFｰSTARTにログイン"]
[null,"　※貼り付けだけです。",null,null,null,null,null,null,null,null,null,"2.会員管理ボタンを押す"]
[null,"②生年月日のデータを貼り付けてください。"]
[null,"　※データの貼り付け以外にいくつかの手順があります。"]
[null,"③フリガナのデータを貼り付けてください。"]
[null,"　※貼り付けだけです。"]
[null,"④NISHI貼り付けデータ完成。"]
[null,"　※完成データを値の貼り付けをしてください。"]
[null,"１.WEB登録サービスにログイン"]
[]
[]
[null,null,null,null,null,null,null,null,null,null,null,"3.【会員一覧CSV】ボタンを押し一覧をダウンロードする"]
[]
[]
[]
[]
[]
[]
[]
[]
[null,"2.競技者の登録・修正"]
[null,"3.一括登録ボタンを押す",null,null,null,null,null,null,null,null,null,"4.会員一覧CSVデータを使い左記の手順でデータを作成してください。"]
[]
[]
[]
[]
[]
[null,"4.競技者登録用シートをダウンロードする"]
[]
[]
[]
[]
[]
[]
[]
[null,"5.NISHI貼り付けデータを競技者登録シートに貼り付ける"]
[null,"　※完成データを値の貼り付けをしてください。"]
[null,"6.競技者登録用シートをアップロードする"]

{"sheet":"JAAFデータ貼り付け","index":1,"n_rows":1,"n_cols":43,"rows_kept":1,"cut":false,"hidden":false,"merged":[]}
["年度","JAAF ID","氏名（姓）","氏名（名）","登録番号","フリガナ（姓）","フリガナ（名）","英字（姓）","英字（名）","国籍","性別","登録都道府県番号","登録都道府県名","団体UID","団体ID","団体名","団体名略称1","団体名略称2","生年月日","旧団体コード","備考","学年","団体区分","承認団体名","郵便番号","住所","携帯電話番号","卒業高校名","卒業中学名","メールアドレス","E-mail配信希望","勤務先名","勤務先郵便番号","勤務先都道府県","勤務先市区町村 / 番地 / 建物名","在籍学校都道府県","障がいのクラス","実施している種目","興味がある種目","指導者チェック","役職名","管理者","状態"]

{"sheet":"生年月日貼り付け","index":2,"n_rows":190,"n_cols":10,"rows_kept":190,"cut":false,"hidden":false,"merged":[[21,9,22,16]]}
[null,null,null,null,null,null,null,"完成データ",null,"①JAAFデータ貼り付けシートのS列（生年月日）をコピーしてこのシートのA列に貼り付けてください。"]
[null,null,null,null,{"$f":"C2","v":0},{"$f":"IF(A2=1,\"01\",IF(A2=2,\"02\",IF(A2=3,\"03\",IF(A2=4,\"04\",IF(A2=5,\"05\",IF(A2=6,\"06\",IF(A2=7,\"07\",IF(A2=8,\"08\",IF(A2=9,\"09\",A2)))))))))","v":0},{"$f":"IF(B2=1,\"01\",IF(B2=2,\"02\",IF(B2=3,\"03\",IF(B2=4,\"04\",IF(B2=5,\"05\",IF(B2=6,\"06\",IF(B2=7,\"07\",IF(B2=8,\"08\",IF(B2=9,\"09\",B2)))))))))","v":0},{"$f":"E2&F2&G2","v":"000"},null,"②生年月日の貼り付けが終わったら下のボタンを１回だけ押す"]
[null,null,null,null,{"$f":"C3","v":0},{"$f":"IF(A3=1,\"01\",IF(A3=2,\"02\",IF(A3=3,\"03\",IF(A3=4,\"04\",IF(A3=5,\"05\",IF(A3=6,\"06\",IF(A3=7,\"07\",IF(A3=8,\"08\",IF(A3=9,\"09\",A3)))))))))","v":0},{"$f":"IF(B3=1,\"01\",IF(B3=2,\"02\",IF(B3=3,\"03\",IF(B3=4,\"04\",IF(B3=5,\"05\",IF(B3=6,\"06\",IF(B3=7,\"07\",IF(B3=8,\"08\",IF(B3=9,\"09\",B3)))))))))","v":0},{"$f":"E3&F3&G3","v":"000"}]
[null,null,null,null,0,0,0,"000"]
[null,null,null,null,0,0,0,"000"]
[null,null,null,null,0,0,0,"000"]
[null,null,null,null,0,0,0,"000"]
[null,null,null,null,0,0,0,"000",null,"③変換ボタンを押すとビックリマークを右クリックする"]
[null,null,null,null,0,0,0,"000"]
[null,null,null,null,0,0,0,"000"]
[null,null,null,null,0,0,0,"000"]
[null,null,null,null,0,0,0,"000"]
[null,null,null,null,0,0,0,"000"]
[null,null,null,null,0,0,0,"000"]
[null,null,null,null,0,0,0,"000"]
[null,null,null,null,0,0,0,"000"]
[null,null,null,null,0,0,0,"000"]
[null,null,null,null,0,0,0,"000"]
[null,null,null,null,0,0,0,"000"]
[null,null,null,null,0,0,0,"000",null,"④数値に変換する(C)を押す"]
[null,null,null,null,0,0,0,"000",null,"※H列に８桁の生年月日ができていれば生年月日は完成です。"]
[null,null,null,null,0,0,0,"000",null,"フリガナ貼り付けに進んでください。"]
[null,null,null,null,0,0,0,"000"]
[null,null,null,null,0,0,0,"000"]
[null,null,null,null,0,0,0,"000"]
[null,null,null,null,0,0,0,"000"]
[null,null,null,null,0,0,0,"000"]
[null,null,null,null,0,0,0,"000"]
[null,null,null,null,0,0,0,"000"]
[null,null,null,null,0,0,0,"000"]
[null,null,null,null,0,0,0,"000"]
[null,null,null,null,0,0,0,"000"]
[null,null,null,null,0,0,0,"000"]
[null,null,null,null,0,0,0,"000"]
[null,null,null,null,0,0,0,"000"]
[null,null,null,null,0,0,0,"000"]
[null,null,null,null,0,0,0,"000"]
[null,null,null,null,0,0,0,"000"]
[null,null,null,null,0,0,0,"000"]
[null,null,null,null,0,0,0,"000"]
[null,null,null,null,0,0,0,"000"]
[null,null,null,null,0,0,0,"000"]
[null,null,null,null,0,0,0,"000"]
[null,null,null,null,0,0,0,"000"]
[null,null,null,null,0,0,0,"000"]
[null,null,null,null,0,0,0,"000"]
[null,null,null,null,0,0,0,"000"]
[null,null,null,null,0,0,0,"000"]
[null,null,null,null,0,0,0,"000"]
[null,null,null,null,0,0,0,"000"]
[null,null,null,null,0,0,0,"000"]
[null,null,null,null,0,0,0,"000"]
[null,null,null,null,0,0,0,"000"]
[null,null,null,null,0,0,0,"000"]
[null,null,null,null,0,0,0,"000"]
[null,null,null,null,0,0,0,"000"]
[null,null,null,null,0,0,0,"000"]
[null,null,null,null,0,0,0,"000"]
[null,null,null,null,0,0,0,"000"]
[null,null,null,null,0,0,0,"000"]
[null,null,null,null,0,0,0,"000"]
[null,null,null,null,0,0,0,"000"]
[null,null,null,null,0,0,0,"000"]
[null,null,null,null,0,0,0,"000"]
[null,null,null,null,0,0,0,"000"]
[null,null,null,null,0,0,0,"000"]
[null,null,null,null,{"$f":"C67","v":0},{"$f":"IF(A67=1,\"01\",IF(A67=2,\"02\",IF(A67=3,\"03\",IF(A67=4,\"04\",IF(A67=5,\"05\",IF(A67=6,\"06\",IF(A67=7,\"07\",IF(A67=8,\"08\",IF(A67=9,\"09\",A67)))))))))","v":0},{"$f":"IF(B67=1,\"01\",IF(B67=2,\"02\",IF(B67=3,\"03\",IF(B67=4,\"04\",IF(B67=5,\"05\",IF(B67=6,\"06\",IF(B67=7,\"07\",IF(B67=8,\"08\",IF(B67=9,\"09\",B67)))))))))","v":0},{"$f":"E67&F67&G67","v":"000"}]
[null,null,null,null,0,0,0,"000"]
[null,null,null,null,0,0,0,"000"]
[null,null,null,null,0,0,0,"000"]
[null,null,null,null,0,0,0,"000"]
[null,null,null,null,0,0,0,"000"]
[null,null,null,null,0,0,0,"000"]
[null,null,null,null,0,0,0,"000"]
[null,null,null,null,0,0,0,"000"]
[null,null,null,null,0,0,0,"000"]
[null,null,null,null,0,0,0,"000"]
[null,null,null,null,0,0,0,"000"]
[null,null,null,null,0,0,0,"000"]
[null,null,null,null,0,0,0,"000"]
[null,null,null,null,0,0,0,"000"]
[null,null,null,null,0,0,0,"000"]
[null,null,null,null,0,0,0,"000"]
[null,null,null,null,0,0,0,"000"]
[null,null,null,null,0,0,0,"000"]
[null,null,null,null,0,0,0,"000"]
[null,null,null,null,0,0,0,"000"]
[null,null,null,null,0,0,0,"000"]
[null,null,null,null,0,0,0,"000"]
[null,null,null,null,0,0,0,"000"]
[null,null,null,null,0,0,0,"000"]
[null,null,null,null,0,0,0,"000"]
[null,null,null,null,0,0,0,"000"]
[null,null,null,null,0,0,0,"000"]
[null,null,null,null,0,0,0,"000"]
[null,null,null,null,0,0,0,"000"]
[null,null,null,null,0,0,0,"000"]
[null,null,null,null,0,0,0,"000"]
[null,null,null,null,0,0,0,"000"]
[null,null,null,null,0,0,0,"000"]
[null,null,null,null,0,0,0,"000"]
[null,null,null,null,0,0,0,"000"]
[null,null,null,null,{"$f":"C103","v":0},{"$f":"IF(A103=1,\"01\",IF(A103=2,\"02\",IF(A103=3,\"03\",IF(A103=4,\"04\",IF(A103=5,\"05\",IF(A103=6,\"06\",IF(A103=7,\"07\",IF(A103=8,\"08\",IF(A103=9,\"09\",A103)))))))))","v":0},{"$f":"IF(B103=1,\"01\",IF(B103=2,\"02\",IF(B103=3,\"03\",IF(B103=4,\"04\",IF(B103=5,\"05\",IF(B103=6,\"06\",IF(B103=7,\"07\",IF(B103=8,\"08\",IF(B103=9,\"09\",B103)))))))))","v":0},"000"]
[null,null,null,null,0,0,0,"000"]
[null,null,null,null,0,0,0,"000"]
[null,null,null,null,0,0,0,"000"]
[null,null,null,null,0,0,0,"000"]
[null,null,null,null,0,0,0,"000"]
[null,null,null,null,0,0,0,"000"]
[null,null,null,null,0,0,0,"000"]
[null,null,null,null,0,0,0,"000"]
[null,null,null,null,0,0,0,"000"]
[null,null,null,null,0,0,0,"000"]
[null,null,null,null,0,0,0,"000"]
[null,null,null,null,0,0,0,"000"]
[null,null,null,null,0,0,0,"000"]
[null,null,null,null,0,0,0,"000"]
[null,null,null,null,0,0,0,"000"]
[null,null,null,null,0,0,0,"000"]
[null,null,null,null,0,0,0,"000"]
[null,null,null,null,0,0,0,"000"]
[null,null,null,null,0,0,0,"000"]
[null,null,null,null,0,0,0,"000"]
[null,null,null,null,0,0,0,"000"]
[null,null,null,null,0,0,0,"000"]
[null,null,null,null,0,0,0,"000"]
[null,null,null,null,0,0,0,"000"]
[null,null,null,null,0,0,0,"000"]
[null,null,null,null,0,0,0,"000"]
[null,null,null,null,0,0,0,"000"]
[null,null,null,null,0,0,0,{"$f":"E131&F131&G131","v":"000"}]
[null,null,null,null,0,0,0,"000"]
[null,null,null,null,0,0,0,"000"]
[null,null,null,null,0,0,0,"000"]
[null,null,null,null,0,0,0,"000"]
[null,null,null,null,0,0,0,"000"]
[null,null,null,null,0,0,0,"000"]
[null,null,null,null,0,0,0,"000"]
[null,null,null,null,0,0,0,"000"]
[null,null,null,null,0,0,0,"000"]
[null,null,null,null,0,0,0,"000"]
[null,null,null,null,0,0,0,"000"]
[null,null,null,null,0,0,0,"000"]
[null,null,null,null,0,0,0,"000"]
[null,null,null,null,0,0,0,"000"]
[null,null,null,null,0,0,0,"000"]
[null,null,null,null,0,0,0,"000"]
[null,null,null,null,0,0,0,"000"]
[null,null,null,null,0,0,0,"000"]
[null,null,null,null,0,0,0,"000"]
[null,null,null,null,0,0,0,"000"]
[null,null,null,null,0,0,0,"000"]
[null,null,null,null,0,0,0,"000"]
[null,null,null,null,0,0,0,"000"]
[null,null,null,null,0,0,0,"000"]
[null,null,null,null,0,0,0,"000"]
[null,null,null,null,0,0,0,"000"]
[null,null,null,null,0,0,0,"000"]
[null,null,null,null,0,0,0,"000"]
[null,null,null,null,0,0,0,"000"]
[null,null,null,null,0,0,0,"000"]
[null,null,null,null,0,0,0,"000"]
[null,null,null,null,0,0,0,"000"]
[null,null,null,null,0,0,0,"000"]
[null,null,null,null,0,0,0,"000"]
[null,null,null,null,0,0,0,"000"]
[null,null,null,null,{"$f":"C167","v":0},{"$f":"IF(A167=1,\"01\",IF(A167=2,\"02\",IF(A167=3,\"03\",IF(A167=4,\"04\",IF(A167=5,\"05\",IF(A167=6,\"06\",IF(A167=7,\"07\",IF(A167=8,\"08\",IF(A167=9,\"09\",A167)))))))))","v":0},{"$f":"IF(B167=1,\"01\",IF(B167=2,\"02\",IF(B167=3,\"03\",IF(B167=4,\"04\",IF(B167=5,\"05\",IF(B167=6,\"06\",IF(B167=7,\"07\",IF(B167=8,\"08\",IF(B167=9,\"09\",B167)))))))))","v":0},"000"]
[null,null,null,null,0,0,0,"000"]
[null,null,null,null,0,0,0,"000"]
[null,null,null,null,0,0,0,"000"]
[null,null,null,null,0,0,0,"000"]
[null,null,null,null,0,0,0,"000"]
[null,null,null,null,0,0,0,"000"]
[null,null,null,null,0,0,0,"000"]
[null,null,null,null,0,0,0,"000"]
[null,null,null,null,0,0,0,"000"]
[null,null,null,null,0,0,0,"000"]
[null,null,null,null,0,0,0,"000"]
[null,null,null,null,0,0,0,"000"]
[null,null,null,null,0,0,0,"000"]
[null,null,null,null,0,0,0,"000"]
[null,null,null,null,0,0,0,"000"]
[null,null,null,null,0,0,0,"000"]
[null,null,null,null,0,0,0,"000"]
[null,null,null,null,0,0,0,"000"]
[null,null,null,null,0,0,0,"000"]
[null,null,null,null,0,0,0,"000"]
[null,null,null,null,0,0,0,"000"]
[null,null,null,null,0,0,0,"000"]
[null,null,null,null,0,0,0,"000"]

{"sheet":"Sheet5","index":3,"n_rows":190,"n_cols":2,"rows_kept":190,"cut":false,"hidden":true,"merged":[]}
["学年"]
[{"$f":"JAAFデータ貼り付け!V2","v":0},{"$f":"RIGHT(A2,1)","v":"0"}]
[{"$f":"JAAFデータ貼り付け!V3","v":0},{"$f":"RIGHT(A3,1)","v":"0"}]
[{"$f":"JAAFデータ貼り付け!V4","v":0},"0"]
[{"$f":"JAAFデータ貼り付け!V5","v":0},"0"]
[{"$f":"JAAFデータ貼り付け!V6","v":0},"0"]
[{"$f":"JAAFデータ貼り付け!V7","v":0},"0"]
[{"$f":"JAAFデータ貼り付け!V8","v":0},"0"]
[{"$f":"JAAFデータ貼り付け!V9","v":0},"0"]
[{"$f":"JAAFデータ貼り付け!V10","v":0},"0"]
[{"$f":"JAAFデータ貼り付け!V11","v":0},"0"]
[{"$f":"JAAFデータ貼り付け!V12","v":0},"0"]
[{"$f":"JAAFデータ貼り付け!V13","v":0},"0"]
[{"$f":"JAAFデータ貼り付け!V14","v":0},"0"]
[{"$f":"JAAFデータ貼り付け!V15","v":0},"0"]
[{"$f":"JAAFデータ貼り付け!V16","v":0},"0"]
[{"$f":"JAAFデータ貼り付け!V17","v":0},"0"]
[{"$f":"JAAFデータ貼り付け!V18","v":0},"0"]
[{"$f":"JAAFデータ貼り付け!V19","v":0},"0"]
[{"$f":"JAAFデータ貼り付け!V20","v":0},"0"]
[{"$f":"JAAFデータ貼り付け!V21","v":0},"0"]
[{"$f":"JAAFデータ貼り付け!V22","v":0},"0"]
[{"$f":"JAAFデータ貼り付け!V23","v":0},"0"]
[{"$f":"JAAFデータ貼り付け!V24","v":0},"0"]
[{"$f":"JAAFデータ貼り付け!V25","v":0},"0"]
[{"$f":"JAAFデータ貼り付け!V26","v":0},"0"]
[{"$f":"JAAFデータ貼り付け!V27","v":0},"0"]
[{"$f":"JAAFデータ貼り付け!V28","v":0},"0"]
[{"$f":"JAAFデータ貼り付け!V29","v":0},"0"]
[{"$f":"JAAFデータ貼り付け!V30","v":0},"0"]
[{"$f":"JAAFデータ貼り付け!V31","v":0},"0"]
[{"$f":"JAAFデータ貼り付け!V32","v":0},"0"]
[{"$f":"JAAFデータ貼り付け!V33","v":0},"0"]
[{"$f":"JAAFデータ貼り付け!V34","v":0},"0"]
[{"$f":"JAAFデータ貼り付け!V35","v":0},"0"]
[{"$f":"JAAFデータ貼り付け!V36","v":0},"0"]
[{"$f":"JAAFデータ貼り付け!V37","v":0},"0"]
[{"$f":"JAAFデータ貼り付け!V38","v":0},"0"]
[{"$f":"JAAFデータ貼り付け!V39","v":0},"0"]
[{"$f":"JAAFデータ貼り付け!V40","v":0},"0"]
[{"$f":"JAAFデータ貼り付け!V41","v":0},"0"]
[{"$f":"JAAFデータ貼り付け!V42","v":0},"0"]
[{"$f":"JAAFデータ貼り付け!V43","v":0},"0"]
[{"$f":"JAAFデータ貼り付け!V44","v":0},"0"]
[{"$f":"JAAFデータ貼り付け!V45","v":0},"0"]
[{"$f":"JAAFデータ貼り付け!V46","v":0},"0"]
[{"$f":"JAAFデータ貼り付け!V47","v":0},"0"]
[{"$f":"JAAFデータ貼り付け!V48","v":0},"0"]
[{"$f":"JAAFデータ貼り付け!V49","v":0},"0"]
[{"$f":"JAAFデータ貼り付け!V50","v":0},"0"]
[{"$f":"JAAFデータ貼り付け!V51","v":0},"0"]
[{"$f":"JAAFデータ貼り付け!V52","v":0},"0"]
[{"$f":"JAAFデータ貼り付け!V53","v":0},"0"]
[{"$f":"JAAFデータ貼り付け!V54","v":0},"0"]
[{"$f":"JAAFデータ貼り付け!V55","v":0},"0"]
[{"$f":"JAAFデータ貼り付け!V56","v":0},"0"]
[{"$f":"JAAFデータ貼り付け!V57","v":0},"0"]
[{"$f":"JAAFデータ貼り付け!V58","v":0},"0"]
[{"$f":"JAAFデータ貼り付け!V59","v":0},"0"]
[{"$f":"JAAFデータ貼り付け!V60","v":0},"0"]
[{"$f":"JAAFデータ貼り付け!V61","v":0},"0"]
[{"$f":"JAAFデータ貼り付け!V62","v":0},"0"]
[{"$f":"JAAFデータ貼り付け!V63","v":0},"0"]
[{"$f":"JAAFデータ貼り付け!V64","v":0},"0"]
[{"$f":"JAAFデータ貼り付け!V65","v":0},"0"]
[{"$f":"JAAFデータ貼り付け!V66","v":0},"0"]
[{"$f":"JAAFデータ貼り付け!V67","v":0},{"$f":"RIGHT(A67,1)","v":"0"}]
[{"$f":"JAAFデータ貼り付け!V68","v":0},"0"]
[{"$f":"JAAFデータ貼り付け!V69","v":0},"0"]
[{"$f":"JAAFデータ貼り付け!V70","v":0},"0"]
[{"$f":"JAAFデータ貼り付け!V71","v":0},"0"]
[{"$f":"JAAFデータ貼り付け!V72","v":0},"0"]
[{"$f":"JAAFデータ貼り付け!V73","v":0},"0"]
[{"$f":"JAAFデータ貼り付け!V74","v":0},"0"]
[{"$f":"JAAFデータ貼り付け!V75","v":0},"0"]
[{"$f":"JAAFデータ貼り付け!V76","v":0},"0"]
[{"$f":"JAAFデータ貼り付け!V77","v":0},"0"]
[{"$f":"JAAFデータ貼り付け!V78","v":0},"0"]
[{"$f":"JAAFデータ貼り付け!V79","v":0},"0"]
[{"$f":"JAAFデータ貼り付け!V80","v":0},"0"]
[{"$f":"JAAFデータ貼り付け!V81","v":0},"0"]
[{"$f":"JAAFデータ貼り付け!V82","v":0},"0"]
[{"$f":"JAAFデータ貼り付け!V83","v":0},"0"]
[{"$f":"JAAFデータ貼り付け!V84","v":0},"0"]
[{"$f":"JAAFデータ貼り付け!V85","v":0},"0"]
[{"$f":"JAAFデータ貼り付け!V86","v":0},"0"]
[{"$f":"JAAFデータ貼り付け!V87","v":0},"0"]
[{"$f":"JAAFデータ貼り付け!V88","v":0},"0"]
[{"$f":"JAAFデータ貼り付け!V89","v":0},"0"]
[{"$f":"JAAFデータ貼り付け!V90","v":0},"0"]
[{"$f":"JAAFデータ貼り付け!V91","v":0},"0"]
[{"$f":"JAAFデータ貼り付け!V92","v":0},"0"]
[{"$f":"JAAFデータ貼り付け!V93","v":0},"0"]
[{"$f":"JAAFデータ貼り付け!V94","v":0},"0"]
[{"$f":"JAAFデータ貼り付け!V95","v":0},"0"]
[{"$f":"JAAFデータ貼り付け!V96","v":0},"0"]
[{"$f":"JAAFデータ貼り付け!V97","v":0},"0"]
[{"$f":"JAAFデータ貼り付け!V98","v":0},"0"]
[{"$f":"JAAFデータ貼り付け!V99","v":0},"0"]
[{"$f":"JAAFデータ貼り付け!V100","v":0},"0"]
[{"$f":"JAAFデータ貼り付け!V101","v":0},"0"]
[{"$f":"JAAFデータ貼り付け!V102","v":0},"0"]
[{"$f":"JAAFデータ貼り付け!V103","v":0},"0"]
[{"$f":"JAAFデータ貼り付け!V104","v":0},"0"]
[{"$f":"JAAFデータ貼り付け!V105","v":0},"0"]
[{"$f":"JAAFデータ貼り付け!V106","v":0},"0"]
[{"$f":"JAAFデータ貼り付け!V107","v":0},"0"]
[{"$f":"JAAFデータ貼り付け!V108","v":0},"0"]
[{"$f":"JAAFデータ貼り付け!V109","v":0},"0"]
[{"$f":"JAAFデータ貼り付け!V110","v":0},"0"]
[{"$f":"JAAFデータ貼り付け!V111","v":0},"0"]
[{"$f":"JAAFデータ貼り付け!V112","v":0},"0"]
[{"$f":"JAAFデータ貼り付け!V113","v":0},"0"]
[{"$f":"JAAFデータ貼り付け!V114","v":0},"0"]
[{"$f":"JAAFデータ貼り付け!V115","v":0},"0"]
[{"$f":"JAAFデータ貼り付け!V116","v":0},"0"]
[{"$f":"JAAFデータ貼り付け!V117","v":0},"0"]
[{"$f":"JAAFデータ貼り付け!V118","v":0},"0"]
[{"$f":"JAAFデータ貼り付け!V119","v":0},"0"]
[{"$f":"JAAFデータ貼り付け!V120","v":0},"0"]
[{"$f":"JAAFデータ貼り付け!V121","v":0},"0"]
[{"$f":"JAAFデータ貼り付け!V122","v":0},"0"]
[{"$f":"JAAFデータ貼り付け!V123","v":0},"0"]
[{"$f":"JAAFデータ貼り付け!V124","v":0},"0"]
[{"$f":"JAAFデータ貼り付け!V125","v":0},"0"]
[{"$f":"JAAFデータ貼り付け!V126","v":0},"0"]
[{"$f":"JAAFデータ貼り付け!V127","v":0},"0"]
[{"$f":"JAAFデータ貼り付け!V128","v":0},"0"]
[{"$f":"JAAFデータ貼り付け!V129","v":0},"0"]
[{"$f":"JAAFデータ貼り付け!V130","v":0},"0"]
[{"$f":"JAAFデータ貼り付け!V131","v":0},{"$f":"RIGHT(A131,1)","v":"0"}]
[{"$f":"JAAFデータ貼り付け!V132","v":0},"0"]
[{"$f":"JAAFデータ貼り付け!V133","v":0},"0"]
[{"$f":"JAAFデータ貼り付け!V134","v":0},"0"]
[{"$f":"JAAFデータ貼り付け!V135","v":0},"0"]
[{"$f":"JAAFデータ貼り付け!V136","v":0},"0"]
[{"$f":"JAAFデータ貼り付け!V137","v":0},"0"]
[{"$f":"JAAFデータ貼り付け!V138","v":0},"0"]
[{"$f":"JAAFデータ貼り付け!V139","v":0},"0"]
[{"$f":"JAAFデータ貼り付け!V140","v":0},"0"]
[{"$f":"JAAFデータ貼り付け!V141","v":0},"0"]
[{"$f":"JAAFデータ貼り付け!V142","v":0},"0"]
[{"$f":"JAAFデータ貼り付け!V143","v":0},"0"]
[{"$f":"JAAFデータ貼り付け!V144","v":0},"0"]
[{"$f":"JAAFデータ貼り付け!V145","v":0},"0"]
[{"$f":"JAAFデータ貼り付け!V146","v":0},"0"]
[{"$f":"JAAFデータ貼り付け!V147","v":0},"0"]
[{"$f":"JAAFデータ貼り付け!V148","v":0},"0"]
[{"$f":"JAAFデータ貼り付け!V149","v":0},"0"]
[{"$f":"JAAFデータ貼り付け!V150","v":0},"0"]
[{"$f":"JAAFデータ貼り付け!V151","v":0},"0"]
[{"$f":"JAAFデータ貼り付け!V152","v":0},"0"]
[{"$f":"JAAFデータ貼り付け!V153","v":0},"0"]
[{"$f":"JAAFデータ貼り付け!V154","v":0},"0"]
[{"$f":"JAAFデータ貼り付け!V155","v":0},"0"]
[{"$f":"JAAFデータ貼り付け!V156","v":0},"0"]
[{"$f":"JAAFデータ貼り付け!V157","v":0},"0"]
[{"$f":"JAAFデータ貼り付け!V158","v":0},"0"]
[{"$f":"JAAFデータ貼り付け!V159","v":0},"0"]
[{"$f":"JAAFデータ貼り付け!V160","v":0},"0"]
[{"$f":"JAAFデータ貼り付け!V161","v":0},"0"]
[{"$f":"JAAFデータ貼り付け!V162","v":0},"0"]
[{"$f":"JAAFデータ貼り付け!V163","v":0},"0"]
[{"$f":"JAAFデータ貼り付け!V164","v":0},"0"]
[{"$f":"JAAFデータ貼り付け!V165","v":0},"0"]
[{"$f":"JAAFデータ貼り付け!V166","v":0},"0"]
[{"$f":"JAAFデータ貼り付け!V167","v":0},"0"]
[{"$f":"JAAFデータ貼り付け!V168","v":0},"0"]
[{"$f":"JAAFデータ貼り付け!V169","v":0},"0"]
[{"$f":"JAAFデータ貼り付け!V170","v":0},"0"]
[{"$f":"JAAFデータ貼り付け!V171","v":0},"0"]
[{"$f":"JAAFデータ貼り付け!V172","v":0},"0"]
[{"$f":"JAAFデータ貼り付け!V173","v":0},"0"]
[{"$f":"JAAFデータ貼り付け!V174","v":0},"0"]
[{"$f":"JAAFデータ貼り付け!V175","v":0},"0"]
[{"$f":"JAAFデータ貼り付け!V176","v":0},"0"]
[{"$f":"JAAFデータ貼り付け!V177","v":0},"0"]
[{"$f":"JAAFデータ貼り付け!V178","v":0},"0"]
[{"$f":"JAAFデータ貼り付け!V179","v":0},"0"]
[{"$f":"JAAFデータ貼り付け!V180","v":0},"0"]
[{"$f":"JAAFデータ貼り付け!V181","v":0},"0"]
[{"$f":"JAAFデータ貼り付け!V182","v":0},"0"]
[{"$f":"JAAFデータ貼り付け!V183","v":0},"0"]
[{"$f":"JAAFデータ貼り付け!V184","v":0},"0"]
[{"$f":"JAAFデータ貼り付け!V185","v":0},"0"]
[{"$f":"JAAFデータ貼り付け!V186","v":0},"0"]
[{"$f":"JAAFデータ貼り付け!V187","v":0},"0"]
[{"$f":"JAAFデータ貼り付け!V188","v":0},"0"]
[{"$f":"JAAFデータ貼り付け!V189","v":0},"0"]
[{"$f":"JAAFデータ貼り付け!V190","v":0},"0"]

{"sheet":"フリガナ貼り付け","index":4,"n_rows":190,"n_cols":8,"rows_kept":190,"cut":false,"hidden":false,"merged":[[17,7,18,14]]}
[null,null,null,{"$f":"ASC(A1)","v":""},{"$f":"ASC(B1)","v":""}]
[null,null,null,{"$f":"ASC(A2)","v":""},{"$f":"ASC(B2)","v":""},null,null,"①JAAFデータ貼り付けのFG列をコピーしてください。"]
[null,null,null,"",""]
[null,null,null,"",""]
[null,null,null,"",""]
[null,null,null,"",""]
[null,null,null,"",""]
[null,null,null,"",""]
[null,null,null,"",""]
[null,null,null,"",""]
[null,null,null,"",""]
[null,null,null,"",""]
[null,null,null,"",""]
[null,null,null,"",""]
[null,null,null,"",""]
[null,null,null,"","",null,null,"②このシートのAB列に貼り付けてください。"]
[null,null,null,"","",null,null,"※DE列に半角ｶﾀｶﾅができていればフリガナは完成です。"]
[null,null,null,"","",null,null,"NISHI貼り付け用に進んでください。"]
[null,null,null,"",""]
[null,null,null,"",""]
[null,null,null,"",""]
[null,null,null,"",""]
[null,null,null,"",""]
[null,null,null,"",""]
[null,null,null,"",""]
[null,null,null,"",""]
[null,null,null,"",""]
[null,null,null,"",""]
[null,null,null,"",""]
[null,null,null,"",""]
[null,null,null,"",""]
[null,null,null,"",""]
[null,null,null,"",""]
[null,null,null,"",""]
[null,null,null,"",""]
[null,null,null,"",""]
[null,null,null,"",""]
[null,null,null,"",""]
[null,null,null,"",""]
[null,null,null,"",""]
[null,null,null,"",""]
[null,null,null,"",""]
[null,null,null,"",""]
[null,null,null,"",""]
[null,null,null,"",""]
[null,null,null,"",""]
[null,null,null,"",""]
[null,null,null,"",""]
[null,null,null,"",""]
[null,null,null,"",""]
[null,null,null,"",""]
[null,null,null,"",""]
[null,null,null,"",""]
[null,null,null,"",""]
[null,null,null,"",""]
[null,null,null,"",""]
[null,null,null,"",""]
[null,null,null,"",""]
[null,null,null,"",""]
[null,null,null,"",""]
[null,null,null,"",""]
[null,null,null,"",""]
[null,null,null,"",""]
[null,null,null,"",""]
[null,null,null,"",""]
[null,null,null,{"$f":"ASC(A66)","v":""},{"$f":"ASC(B66)","v":""}]
[null,null,null,"",""]
[null,null,null,"",""]
[null,null,null,"",""]
[null,null,null,"",""]
[null,null,null,"",""]
[null,null,null,"",""]
[null,null,null,"",""]
[null,null,null,"",""]
[null,null,null,"",""]
[null,null,null,"",""]
[null,null,null,"",""]
[null,null,null,"",""]
[null,null,null,"",""]
[null,null,null,"",""]
[null,null,null,"",""]
[null,null,null,"",""]
[null,null,null,"",""]
[null,null,null,"",""]
[null,null,null,"",""]
[null,null,null,"",""]
[null,null,null,"",""]
[null,null,null,"",""]
[null,null,null,"",""]
[null,null,null,"",""]
[null,null,null,"",""]
[null,null,null,"",""]
[null,null,null,"",""]
[null,null,null,"",""]
[null,null,null,"",""]
[null,null,null,"",""]
[null,null,null,"",""]
[null,null,null,"",""]
[null,null,null,"",""]
[null,null,null,"",""]
[null,null,null,"",""]
[null,null,null,"",""]
[null,null,null,"",""]
[null,null,null,"",""]
[null,null,null,"",""]
[null,null,null,"",""]
[null,null,null,"",""]
[null,null,null,"",""]
[null,null,null,"",""]
[null,null,null,"",""]
[null,null,null,"",""]
[null,null,null,"",""]
[null,null,null,"",""]
[null,null,null,"",""]
[null,null,null,"",""]
[null,null,null,"",""]
[null,null,null,"",""]
[null,null,null,"",""]
[null,null,null,"",""]
[null,null,null,"",""]
[null,null,null,"",""]
[null,null,null,"",""]
[null,null,null,"",""]
[null,null,null,"",""]
[null,null,null,"",""]
[null,null,null,"",""]
[null,null,null,"",""]
[null,null,null,"",""]
[null,null,null,"",""]
[null,null,null,{"$f":"ASC(A130)","v":""},{"$f":"ASC(B130)","v":""}]
[null,null,null,"",""]
[null,null,null,"",""]
[null,null,null,"",""]
[null,null,null,"",""]
[null,null,null,"",""]
[null,null,null,"",""]
[null,null,null,"",""]
[null,null,null,"",""]
[null,null,null,"",""]
[null,null,null,"",""]
[null,null,null,"",""]
[null,null,null,"",""]
[null,null,null,"",""]
[null,null,null,"",""]
[null,null,null,"",""]
[null,null,null,"",""]
[null,null,null,"",""]
[null,null,null,"",""]
[null,null,null,"",""]
[null,null,null,"",""]
[null,null,null,"",""]
[null,null,null,"",""]
[null,null,null,"",""]
[null,null,null,"",""]
[null,null,null,"",""]
[null,null,null,"",""]
[null,null,null,"",""]
[null,null,null,"",""]
[null,null,null,"",""]
[null,null,null,"",""]
[null,null,null,"",""]
[null,null,null,"",""]
[null,null,null,"",""]
[null,null,null,"",""]
[null,null,null,"",""]
[null,null,null,"",""]
[null,null,null,"",""]
[null,null,null,"",""]
[null,null,null,"",""]
[null,null,null,"",""]
[null,null,null,"",""]
[null,null,null,"",""]
[null,null,null,"",""]
[null,null,null,"",""]
[null,null,null,"",""]
[null,null,null,"",""]
[null,null,null,"",""]
[null,null,null,"",""]
[null,null,null,"",""]
[null,null,null,"",""]
[null,null,null,"",""]
[null,null,null,"",""]
[null,null,null,"",""]
[null,null,null,"",""]
[null,null,null,"",""]
[null,null,null,"",""]
[null,null,null,"",""]
[null,null,null,"",""]
[null,null,null,"",""]
[null,null,null,"",""]

{"sheet":"NISHI貼り付け用","index":5,"n_rows":190,"n_cols":43,"rows_kept":190,"cut":false,"hidden":false,"merged":[]}
["ナンバー","JAAF ID","氏名（姓）","氏名（名）","登録番号","フリガナ（姓）","フリガナ（名）","英字（姓）","英字（名）","国籍","性別","登録都道府県番号","登録都道府県名","団体UID","団体ID","団体名","団体名略称1","団体名略称2","生年月日","旧団体コード","備考","学年","団体区分","承認団体名","郵便番号","住所","携帯電話番号","卒業高校名","卒業中学名","メールアドレス","E-mail配信希望","勤務先名","勤務先郵便番号","勤務先都道府県","勤務先市区町村 / 番地 / 建物名","在籍学校都道府県","障がいのクラス","実施している種目","興味がある種目","指導者チェック","役職名","管理者","状態"]
[{"$f":"IF(JAAFデータ貼り付け!E2=\"\",\"\",JAAFデータ貼り付け!E2)","v":""},{"$f":"IF(JAAFデータ貼り付け!B2=\"\",\"\",JAAFデータ貼り付け!B2)","v":""},{"$f":"IF(JAAFデータ貼り付け!C2=\"\",\"\",JAAFデータ貼り付け!C2)","v":""},{"$f":"IF(JAAFデータ貼り付け!D2=\"\",\"\",JAAFデータ貼り付け!D2)","v":""},null,{"$f":"IF(フリガナ貼り付け!D2=\"\",\"\",フリガナ貼り付け!D2)","v":""},{"$f":"IF(フリガナ貼り付け!E2=\"\",\"\",フリガナ貼り付け!E2)","v":""},{"$f":"IF(JAAFデータ貼り付け!H2=\"\",\"\",JAAFデータ貼り付け!H2)","v":""},{"$f":"IF(JAAFデータ貼り付け!I2=\"\",\"\",JAAFデータ貼り付け!I2)","v":""},{"$f":"IF(JAAFデータ貼り付け!J2=\"\",\"\",JAAFデータ貼り付け!J2)","v":""},{"$f":"IF(JAAFデータ貼り付け!K2=\"\",\"\",JAAFデータ貼り付け!K2)","v":""},{"$f":"IF(JAAFデータ貼り付け!L2=\"\",\"\",JAAFデータ貼り付け!L2)","v":""},{"$f":"IF(JAAFデータ貼り付け!M2=\"\",\"\",JAAFデータ貼り付け!M2)","v":""},{"$f":"IF(JAAFデータ貼り付け!N2=\"\",\"\",JAAFデータ貼り付け!N2)","v":""},{"$f":"IF(JAAFデータ貼り付け!O2=\"\",\"\",JAAFデータ貼り付け!O2)","v":""},{"$f":"IF(JAAFデータ貼り付け!P2=\"\",\"\",JAAFデータ貼り付け!P2)","v":""},{"$f":"IF(JAAFデータ貼り付け!Q2=\"\",\"\",JAAFデータ貼り付け!Q2)","v":""},{"$f":"IF(JAAFデータ貼り付け!R2=\"\",\"\",JAAFデータ貼り付け!R2)","v":""},{"$f":"生年月日貼り付け!E2&生年月日貼り付け!F2&生年月日貼り付け!G2","v":"000"},{"$f":"IF(JAAFデータ貼り付け!T2=\"\",\"\",JAAFデータ貼り付け!T2)","v":""},{"$f":"IF(JAAFデータ貼り付け!U2=\"\",\"\",JAAFデータ貼り付け!U2)","v":""},{"$f":"IF(Sheet5!B2=\"\",\"\",Sheet5!B2)","v":"0"},{"$f":"IF(JAAFデータ貼り付け!W2=\"\",\"\",JAAFデータ貼り付け!W2)","v":""},{"$f":"IF(JAAFデータ貼り付け!X2=\"\",\"\",JAAFデータ貼り付け!X2)","v":""},{"$f":"IF(JAAFデータ貼り付け!Y2=\"\",\"\",JAAFデータ貼り付け!Y2)","v":""},{"$f":"IF(JAAFデータ貼り付け!Z2=\"\",\"\",JAAFデータ貼り付け!Z2)","v":""},{"$f":"IF(JAAFデータ貼り付け!AA2=\"\",\"\",JAAFデータ貼り付け!AA2)","v":""},{"$f":"IF(JAAFデータ貼り付け!AB2=\"\",\"\",JAAFデータ貼り付け!AB2)","v":""},{"$f":"IF(JAAFデータ貼り付け!AC2=\"\",\"\",JAAFデータ貼り付け!AC2)","v":""},{"$f":"IF(JAAFデータ貼り付け!AD2=\"\",\"\",JAAFデータ貼り付け!AD2)","v":""},{"$f":"IF(JAAFデータ貼り付け!AE2=\"\",\"\",JAAFデータ貼り付け!AE2)","v":""},{"$f":"IF(JAAFデータ貼り付け!AF2=\"\",\"\",JAAFデータ貼り付け!AF2)","v":""},{"$f":"IF(JAAFデータ貼り付け!AG2=\"\",\"\",JAAFデータ貼り付け!AG2)","v":""},{"$f":"IF(JAAFデータ貼り付け!AH2=\"\",\"\",JAAFデータ貼り付け!AH2)","v":""},{"$f":"IF(JAAFデータ貼り付け!AI2=\"\",\"\",JAAFデータ貼り付け!AI2)","v":""},{"$f":"IF(JAAFデータ貼り付け!AJ2=\"\",\"\",JAAFデータ貼り付け!AJ2)","v":""},{"$f":"IF(JAAFデータ貼り付け!AK2=\"\",\"\",JAAFデータ貼り付け!AK2)","v":""},{"$f":"IF(JAAFデータ貼り付け!AL2=\"\",\"\",JAAFデータ貼り付け!AL2)","v":""},{"$f":"IF(JAAFデータ貼り付け!AM2=\"\",\"\",JAAFデータ貼り付け!AM2)","v":""},{"$f":"IF(JAAFデータ貼り付け!AN2=\"\",\"\",JAAFデータ貼り付け!AN2)","v":""},{"$f":"IF(JAAFデータ貼り付け!AO2=\"\",\"\",JAAFデータ貼り付け!AO2)","v":""},{"$f":"IF(JAAFデータ貼り付け!AP2=\"\",\"\",JAAFデータ貼り付け!AP2)","v":""},{"$f":"IF(JAAFデータ貼り付け!AQ2=\"\",\"\",JAAFデータ貼り付け!AQ2)","v":""}]
[{"$f":"IF(JAAFデータ貼り付け!E3=\"\",\"\",JAAFデータ貼り付け!E3)","v":""},{"$f":"IF(JAAFデータ貼り付け!B3=\"\",\"\",JAAFデータ貼り付け!B3)","v":""},{"$f":"IF(JAAFデータ貼り付け!C3=\"\",\"\",JAAFデータ貼り付け!C3)","v":""},{"$f":"IF(JAAFデータ貼り付け!D3=\"\",\"\",JAAFデータ貼り付け!D3)","v":""},null,{"$f":"IF(フリガナ貼り付け!D3=\"\",\"\",フリガナ貼り付け!D3)","v":""},{"$f":"IF(フリガナ貼り付け!E3=\"\",\"\",フリガナ貼り付け!E3)","v":""},{"$f":"IF(JAAFデータ貼り付け!H3=\"\",\"\",JAAFデータ貼り付け!H3)","v":""},{"$f":"IF(JAAFデータ貼り付け!I3=\"\",\"\",JAAFデータ貼り付け!I3)","v":""},{"$f":"IF(JAAFデータ貼り付け!J3=\"\",\"\",JAAFデータ貼り付け!J3)","v":""},{"$f":"IF(JAAFデータ貼り付け!K3=\"\",\"\",JAAFデータ貼り付け!K3)","v":""},{"$f":"IF(JAAFデータ貼り付け!L3=\"\",\"\",JAAFデータ貼り付け!L3)","v":""},{"$f":"IF(JAAFデータ貼り付け!M3=\"\",\"\",JAAFデータ貼り付け!M3)","v":""},{"$f":"IF(JAAFデータ貼り付け!N3=\"\",\"\",JAAFデータ貼り付け!N3)","v":""},{"$f":"IF(JAAFデータ貼り付け!O3=\"\",\"\",JAAFデータ貼り付け!O3)","v":""},{"$f":"IF(JAAFデータ貼り付け!P3=\"\",\"\",JAAFデータ貼り付け!P3)","v":""},{"$f":"IF(JAAFデータ貼り付け!Q3=\"\",\"\",JAAFデータ貼り付け!Q3)","v":""},{"$f":"IF(JAAFデータ貼り付け!R3=\"\",\"\",JAAFデータ貼り付け!R3)","v":""},{"$f":"生年月日貼り付け!E3&生年月日貼り付け!F3&生年月日貼り付け!G3","v":"000"},{"$f":"IF(JAAFデータ貼り付け!T3=\"\",\"\",JAAFデータ貼り付け!T3)","v":""},{"$f":"IF(JAAFデータ貼り付け!U3=\"\",\"\",JAAFデータ貼り付け!U3)","v":""},{"$f":"IF(Sheet5!B3=\"\",\"\",Sheet5!B3)","v":"0"},{"$f":"IF(JAAFデータ貼り付け!W3=\"\",\"\",JAAFデータ貼り付け!W3)","v":""},{"$f":"IF(JAAFデータ貼り付け!X3=\"\",\"\",JAAFデータ貼り付け!X3)","v":""},{"$f":"IF(JAAFデータ貼り付け!Y3=\"\",\"\",JAAFデータ貼り付け!Y3)","v":""},{"$f":"IF(JAAFデータ貼り付け!Z3=\"\",\"\",JAAFデータ貼り付け!Z3)","v":""},{"$f":"IF(JAAFデータ貼り付け!AA3=\"\",\"\",JAAFデータ貼り付け!AA3)","v":""},{"$f":"IF(JAAFデータ貼り付け!AB3=\"\",\"\",JAAFデータ貼り付け!AB3)","v":""},{"$f":"IF(JAAFデータ貼り付け!AC3=\"\",\"\",JAAFデータ貼り付け!AC3)","v":""},{"$f":"IF(JAAFデータ貼り付け!AD3=\"\",\"\",JAAFデータ貼り付け!AD3)","v":""},{"$f":"IF(JAAFデータ貼り付け!AE3=\"\",\"\",JAAFデータ貼り付け!AE3)","v":""},{"$f":"IF(JAAFデータ貼り付け!AF3=\"\",\"\",JAAFデータ貼り付け!AF3)","v":""},{"$f":"IF(JAAFデータ貼り付け!AG3=\"\",\"\",JAAFデータ貼り付け!AG3)","v":""},{"$f":"IF(JAAFデータ貼り付け!AH3=\"\",\"\",JAAFデータ貼り付け!AH3)","v":""},{"$f":"IF(JAAFデータ貼り付け!AI3=\"\",\"\",JAAFデータ貼り付け!AI3)","v":""},{"$f":"IF(JAAFデータ貼り付け!AJ3=\"\",\"\",JAAFデータ貼り付け!AJ3)","v":""},{"$f":"IF(JAAFデータ貼り付け!AK3=\"\",\"\",JAAFデータ貼り付け!AK3)","v":""},{"$f":"IF(JAAFデータ貼り付け!AL3=\"\",\"\",JAAFデータ貼り付け!AL3)","v":""},{"$f":"IF(JAAFデータ貼り付け!AM3=\"\",\"\",JAAFデータ貼り付け!AM3)","v":""},{"$f":"IF(JAAFデータ貼り付け!AN3=\"\",\"\",JAAFデータ貼り付け!AN3)","v":""},{"$f":"IF(JAAFデータ貼り付け!AO3=\"\",\"\",JAAFデータ貼り付け!AO3)","v":""},{"$f":"IF(JAAFデータ貼り付け!AP3=\"\",\"\",JAAFデータ貼り付け!AP3)","v":""},{"$f":"IF(JAAFデータ貼り付け!AQ3=\"\",\"\",JAAFデータ貼り付け!AQ3)","v":""}]
[{"$f":"IF(JAAFデータ貼り付け!E4=\"\",\"\",JAAFデータ貼り付け!E4)","v":""},{"$f":"IF(JAAFデータ貼り付け!B4=\"\",\"\",JAAFデータ貼り付け!B4)","v":""},{"$f":"IF(JAAFデータ貼り付け!C4=\"\",\"\",JAAFデータ貼り付け!C4)","v":""},{"$f":"IF(JAAFデータ貼り付け!D4=\"\",\"\",JAAFデータ貼り付け!D4)","v":""},null,{"$f":"IF(フリガナ貼り付け!D4=\"\",\"\",フリガナ貼り付け!D4)","v":""},{"$f":"IF(フリガナ貼り付け!E4=\"\",\"\",フリガナ貼り付け!E4)","v":""},{"$f":"IF(JAAFデータ貼り付け!H4=\"\",\"\",JAAFデータ貼り付け!H4)","v":""},{"$f":"IF(JAAFデータ貼り付け!I4=\"\",\"\",JAAFデータ貼り付け!I4)","v":""},{"$f":"IF(JAAFデータ貼り付け!J4=\"\",\"\",JAAFデータ貼り付け!J4)","v":""},{"$f":"IF(JAAFデータ貼り付け!K4=\"\",\"\",JAAFデータ貼り付け!K4)","v":""},{"$f":"IF(JAAFデータ貼り付け!L4=\"\",\"\",JAAFデータ貼り付け!L4)","v":""},{"$f":"IF(JAAFデータ貼り付け!M4=\"\",\"\",JAAFデータ貼り付け!M4)","v":""},{"$f":"IF(JAAFデータ貼り付け!N4=\"\",\"\",JAAFデータ貼り付け!N4)","v":""},{"$f":"IF(JAAFデータ貼り付け!O4=\"\",\"\",JAAFデータ貼り付け!O4)","v":""},{"$f":"IF(JAAFデータ貼り付け!P4=\"\",\"\",JAAFデータ貼り付け!P4)","v":""},{"$f":"IF(JAAFデータ貼り付け!Q4=\"\",\"\",JAAFデータ貼り付け!Q4)","v":""},{"$f":"IF(JAAFデータ貼り付け!R4=\"\",\"\",JAAFデータ貼り付け!R4)","v":""},{"$f":"生年月日貼り付け!E4&生年月日貼り付け!F4&生年月日貼り付け!G4","v":"000"},{"$f":"IF(JAAFデータ貼り付け!T4=\"\",\"\",JAAFデータ貼り付け!T4)","v":""},{"$f":"IF(JAAFデータ貼り付け!U4=\"\",\"\",JAAFデータ貼り付け!U4)","v":""},{"$f":"IF(Sheet5!B4=\"\",\"\",Sheet5!B4)","v":"0"},{"$f":"IF(JAAFデータ貼り付け!W4=\"\",\"\",JAAFデータ貼り付け!W4)","v":""},{"$f":"IF(JAAFデータ貼り付け!X4=\"\",\"\",JAAFデータ貼り付け!X4)","v":""},{"$f":"IF(JAAFデータ貼り付け!Y4=\"\",\"\",JAAFデータ貼り付け!Y4)","v":""},{"$f":"IF(JAAFデータ貼り付け!Z4=\"\",\"\",JAAFデータ貼り付け!Z4)","v":""},{"$f":"IF(JAAFデータ貼り付け!AA4=\"\",\"\",JAAFデータ貼り付け!AA4)","v":""},{"$f":"IF(JAAFデータ貼り付け!AB4=\"\",\"\",JAAFデータ貼り付け!AB4)","v":""},{"$f":"IF(JAAFデータ貼り付け!AC4=\"\",\"\",JAAFデータ貼り付け!AC4)","v":""},{"$f":"IF(JAAFデータ貼り付け!AD4=\"\",\"\",JAAFデータ貼り付け!AD4)","v":""},{"$f":"IF(JAAFデータ貼り付け!AE4=\"\",\"\",JAAFデータ貼り付け!AE4)","v":""},{"$f":"IF(JAAFデータ貼り付け!AF4=\"\",\"\",JAAFデータ貼り付け!AF4)","v":""},{"$f":"IF(JAAFデータ貼り付け!AG4=\"\",\"\",JAAFデータ貼り付け!AG4)","v":""},{"$f":"IF(JAAFデータ貼り付け!AH4=\"\",\"\",JAAFデータ貼り付け!AH4)","v":""},{"$f":"IF(JAAFデータ貼り付け!AI4=\"\",\"\",JAAFデータ貼り付け!AI4)","v":""},{"$f":"IF(JAAFデータ貼り付け!AJ4=\"\",\"\",JAAFデータ貼り付け!AJ4)","v":""},{"$f":"IF(JAAFデータ貼り付け!AK4=\"\",\"\",JAAFデータ貼り付け!AK4)","v":""},{"$f":"IF(JAAFデータ貼り付け!AL4=\"\",\"\",JAAFデータ貼り付け!AL4)","v":""},{"$f":"IF(JAAFデータ貼り付け!AM4=\"\",\"\",JAAFデータ貼り付け!AM4)","v":""},{"$f":"IF(JAAFデータ貼り付け!AN4=\"\",\"\",JAAFデータ貼り付け!AN4)","v":""},{"$f":"IF(JAAFデータ貼り付け!AO4=\"\",\"\",JAAFデータ貼り付け!AO4)","v":""},{"$f":"IF(JAAFデータ貼り付け!AP4=\"\",\"\",JAAFデータ貼り付け!AP4)","v":""},{"$f":"IF(JAAFデータ貼り付け!AQ4=\"\",\"\",JAAFデータ貼り付け!AQ4)","v":""}]
[{"$f":"IF(JAAFデータ貼り付け!E5=\"\",\"\",JAAFデータ貼り付け!E5)","v":""},{"$f":"IF(JAAFデータ貼り付け!B5=\"\",\"\",JAAFデータ貼り付け!B5)","v":""},{"$f":"IF(JAAFデータ貼り付け!C5=\"\",\"\",JAAFデータ貼り付け!C5)","v":""},{"$f":"IF(JAAFデータ貼り付け!D5=\"\",\"\",JAAFデータ貼り付け!D5)","v":""},null,{"$f":"IF(フリガナ貼り付け!D5=\"\",\"\",フリガナ貼り付け!D5)","v":""},{"$f":"IF(フリガナ貼り付け!E5=\"\",\"\",フリガナ貼り付け!E5)","v":""},{"$f":"IF(JAAFデータ貼り付け!H5=\"\",\"\",JAAFデータ貼り付け!H5)","v":""},{"$f":"IF(JAAFデータ貼り付け!I5=\"\",\"\",JAAFデータ貼り付け!I5)","v":""},{"$f":"IF(JAAFデータ貼り付け!J5=\"\",\"\",JAAFデータ貼り付け!J5)","v":""},{"$f":"IF(JAAFデータ貼り付け!K5=\"\",\"\",JAAFデータ貼り付け!K5)","v":""},{"$f":"IF(JAAFデータ貼り付け!L5=\"\",\"\",JAAFデータ貼り付け!L5)","v":""},{"$f":"IF(JAAFデータ貼り付け!M5=\"\",\"\",JAAFデータ貼り付け!M5)","v":""},{"$f":"IF(JAAFデータ貼り付け!N5=\"\",\"\",JAAFデータ貼り付け!N5)","v":""},{"$f":"IF(JAAFデータ貼り付け!O5=\"\",\"\",JAAFデータ貼り付け!O5)","v":""},{"$f":"IF(JAAFデータ貼り付け!P5=\"\",\"\",JAAFデータ貼り付け!P5)","v":""},{"$f":"IF(JAAFデータ貼り付け!Q5=\"\",\"\",JAAFデータ貼り付け!Q5)","v":""},{"$f":"IF(JAAFデータ貼り付け!R5=\"\",\"\",JAAFデータ貼り付け!R5)","v":""},{"$f":"生年月日貼り付け!E5&生年月日貼り付け!F5&生年月日貼り付け!G5","v":"000"},{"$f":"IF(JAAFデータ貼り付け!T5=\"\",\"\",JAAFデータ貼り付け!T5)","v":""},{"$f":"IF(JAAFデータ貼り付け!U5=\"\",\"\",JAAFデータ貼り付け!U5)","v":""},{"$f":"IF(Sheet5!B5=\"\",\"\",Sheet5!B5)","v":"0"},{"$f":"IF(JAAFデータ貼り付け!W5=\"\",\"\",JAAFデータ貼り付け!W5)","v":""},{"$f":"IF(JAAFデータ貼り付け!X5=\"\",\"\",JAAFデータ貼り付け!X5)","v":""},{"$f":"IF(JAAFデータ貼り付け!Y5=\"\",\"\",JAAFデータ貼り付け!Y5)","v":""},{"$f":"IF(JAAFデータ貼り付け!Z5=\"\",\"\",JAAFデータ貼り付け!Z5)","v":""},{"$f":"IF(JAAFデータ貼り付け!AA5=\"\",\"\",JAAFデータ貼り付け!AA5)","v":""},{"$f":"IF(JAAFデータ貼り付け!AB5=\"\",\"\",JAAFデータ貼り付け!AB5)","v":""},{"$f":"IF(JAAFデータ貼り付け!AC5=\"\",\"\",JAAFデータ貼り付け!AC5)","v":""},{"$f":"IF(JAAFデータ貼り付け!AD5=\"\",\"\",JAAFデータ貼り付け!AD5)","v":""},{"$f":"IF(JAAFデータ貼り付け!AE5=\"\",\"\",JAAFデータ貼り付け!AE5)","v":""},{"$f":"IF(JAAFデータ貼り付け!AF5=\"\",\"\",JAAFデータ貼り付け!AF5)","v":""},{"$f":"IF(JAAFデータ貼り付け!AG5=\"\",\"\",JAAFデータ貼り付け!AG5)","v":""},{"$f":"IF(JAAFデータ貼り付け!AH5=\"\",\"\",JAAFデータ貼り付け!AH5)","v":""},{"$f":"IF(JAAFデータ貼り付け!AI5=\"\",\"\",JAAFデータ貼り付け!AI5)","v":""},{"$f":"IF(JAAFデータ貼り付け!AJ5=\"\",\"\",JAAFデータ貼り付け!AJ5)","v":""},{"$f":"IF(JAAFデータ貼り付け!AK5=\"\",\"\",JAAFデータ貼り付け!AK5)","v":""},{"$f":"IF(JAAFデータ貼り付け!AL5=\"\",\"\",JAAFデータ貼り付け!AL5)","v":""},{"$f":"IF(JAAFデータ貼り付け!AM5=\"\",\"\",JAAFデータ貼り付け!AM5)","v":""},{"$f":"IF(JAAFデータ貼り付け!AN5=\"\",\"\",JAAFデータ貼り付け!AN5)","v":""},{"$f":"IF(JAAFデータ貼り付け!AO5=\"\",\"\",JAAFデータ貼り付け!AO5)","v":""},{"$f":"IF(JAAFデータ貼り付け!AP5=\"\",\"\",JAAFデータ貼り付け!AP5)","v":""},{"$f":"IF(JAAFデータ貼り付け!AQ5=\"\",\"\",JAAFデータ貼り付け!AQ5)","v":""}]
[{"$f":"IF(JAAFデータ貼り付け!E6=\"\",\"\",JAAFデータ貼り付け!E6)","v":""},{"$f":"IF(JAAFデータ貼り付け!B6=\"\",\"\",JAAFデータ貼り付け!B6)","v":""},{"$f":"IF(JAAFデータ貼り付け!C6=\"\",\"\",JAAFデータ貼り付け!C6)","v":""},{"$f":"IF(JAAFデータ貼り付け!D6=\"\",\"\",JAAFデータ貼り付け!D6)","v":""},null,{"$f":"IF(フリガナ貼り付け!D6=\"\",\"\",フリガナ貼り付け!D6)","v":""},{"$f":"IF(フリガナ貼り付け!E6=\"\",\"\",フリガナ貼り付け!E6)","v":""},{"$f":"IF(JAAFデータ貼り付け!H6=\"\",\"\",JAAFデータ貼り付け!H6)","v":""},{"$f":"IF(JAAFデータ貼り付け!I6=\"\",\"\",JAAFデータ貼り付け!I6)","v":""},{"$f":"IF(JAAFデータ貼り付け!J6=\"\",\"\",JAAFデータ貼り付け!J6)","v":""},{"$f":"IF(JAAFデータ貼り付け!K6=\"\",\"\",JAAFデータ貼り付け!K6)","v":""},{"$f":"IF(JAAFデータ貼り付け!L6=\"\",\"\",JAAFデータ貼り付け!L6)","v":""},{"$f":"IF(JAAFデータ貼り付け!M6=\"\",\"\",JAAFデータ貼り付け!M6)","v":""},{"$f":"IF(JAAFデータ貼り付け!N6=\"\",\"\",JAAFデータ貼り付け!N6)","v":""},{"$f":"IF(JAAFデータ貼り付け!O6=\"\",\"\",JAAFデータ貼り付け!O6)","v":""},{"$f":"IF(JAAFデータ貼り付け!P6=\"\",\"\",JAAFデータ貼り付け!P6)","v":""},{"$f":"IF(JAAFデータ貼り付け!Q6=\"\",\"\",JAAFデータ貼り付け!Q6)","v":""},{"$f":"IF(JAAFデータ貼り付け!R6=\"\",\"\",JAAFデータ貼り付け!R6)","v":""},{"$f":"生年月日貼り付け!E6&生年月日貼り付け!F6&生年月日貼り付け!G6","v":"000"},{"$f":"IF(JAAFデータ貼り付け!T6=\"\",\"\",JAAFデータ貼り付け!T6)","v":""},{"$f":"IF(JAAFデータ貼り付け!U6=\"\",\"\",JAAFデータ貼り付け!U6)","v":""},{"$f":"IF(Sheet5!B6=\"\",\"\",Sheet5!B6)","v":"0"},{"$f":"IF(JAAFデータ貼り付け!W6=\"\",\"\",JAAFデータ貼り付け!W6)","v":""},{"$f":"IF(JAAFデータ貼り付け!X6=\"\",\"\",JAAFデータ貼り付け!X6)","v":""},{"$f":"IF(JAAFデータ貼り付け!Y6=\"\",\"\",JAAFデータ貼り付け!Y6)","v":""},{"$f":"IF(JAAFデータ貼り付け!Z6=\"\",\"\",JAAFデータ貼り付け!Z6)","v":""},{"$f":"IF(JAAFデータ貼り付け!AA6=\"\",\"\",JAAFデータ貼り付け!AA6)","v":""},{"$f":"IF(JAAFデータ貼り付け!AB6=\"\",\"\",JAAFデータ貼り付け!AB6)","v":""},{"$f":"IF(JAAFデータ貼り付け!AC6=\"\",\"\",JAAFデータ貼り付け!AC6)","v":""},{"$f":"IF(JAAFデータ貼り付け!AD6=\"\",\"\",JAAFデータ貼り付け!AD6)","v":""},{"$f":"IF(JAAFデータ貼り付け!AE6=\"\",\"\",JAAFデータ貼り付け!AE6)","v":""},{"$f":"IF(JAAFデータ貼り付け!AF6=\"\",\"\",JAAFデータ貼り付け!AF6)","v":""},{"$f":"IF(JAAFデータ貼り付け!AG6=\"\",\"\",JAAFデータ貼り付け!AG6)","v":""},{"$f":"IF(JAAFデータ貼り付け!AH6=\"\",\"\",JAAFデータ貼り付け!AH6)","v":""},{"$f":"IF(JAAFデータ貼り付け!AI6=\"\",\"\",JAAFデータ貼り付け!AI6)","v":""},{"$f":"IF(JAAFデータ貼り付け!AJ6=\"\",\"\",JAAFデータ貼り付け!AJ6)","v":""},{"$f":"IF(JAAFデータ貼り付け!AK6=\"\",\"\",JAAFデータ貼り付け!AK6)","v":""},{"$f":"IF(JAAFデータ貼り付け!AL6=\"\",\"\",JAAFデータ貼り付け!AL6)","v":""},{"$f":"IF(JAAFデータ貼り付け!AM6=\"\",\"\",JAAFデータ貼り付け!AM6)","v":""},{"$f":"IF(JAAFデータ貼り付け!AN6=\"\",\"\",JAAFデータ貼り付け!AN6)","v":""},{"$f":"IF(JAAFデータ貼り付け!AO6=\"\",\"\",JAAFデータ貼り付け!AO6)","v":""},{"$f":"IF(JAAFデータ貼り付け!AP6=\"\",\"\",JAAFデータ貼り付け!AP6)","v":""},{"$f":"IF(JAAFデータ貼り付け!AQ6=\"\",\"\",JAAFデータ貼り付け!AQ6)","v":""}]
[{"$f":"IF(JAAFデータ貼り付け!E7=\"\",\"\",JAAFデータ貼り付け!E7)","v":""},{"$f":"IF(JAAFデータ貼り付け!B7=\"\",\"\",JAAFデータ貼り付け!B7)","v":""},{"$f":"IF(JAAFデータ貼り付け!C7=\"\",\"\",JAAFデータ貼り付け!C7)","v":""},{"$f":"IF(JAAFデータ貼り付け!D7=\"\",\"\",JAAFデータ貼り付け!D7)","v":""},null,{"$f":"IF(フリガナ貼り付け!D7=\"\",\"\",フリガナ貼り付け!D7)","v":""},{"$f":"IF(フリガナ貼り付け!E7=\"\",\"\",フリガナ貼り付け!E7)","v":""},{"$f":"IF(JAAFデータ貼り付け!H7=\"\",\"\",JAAFデータ貼り付け!H7)","v":""},{"$f":"IF(JAAFデータ貼り付け!I7=\"\",\"\",JAAFデータ貼り付け!I7)","v":""},{"$f":"IF(JAAFデータ貼り付け!J7=\"\",\"\",JAAFデータ貼り付け!J7)","v":""},{"$f":"IF(JAAFデータ貼り付け!K7=\"\",\"\",JAAFデータ貼り付け!K7)","v":""},{"$f":"IF(JAAFデータ貼り付け!L7=\"\",\"\",JAAFデータ貼り付け!L7)","v":""},{"$f":"IF(JAAFデータ貼り付け!M7=\"\",\"\",JAAFデータ貼り付け!M7)","v":""},{"$f":"IF(JAAFデータ貼り付け!N7=\"\",\"\",JAAFデータ貼り付け!N7)","v":""},{"$f":"IF(JAAFデータ貼り付け!O7=\"\",\"\",JAAFデータ貼り付け!O7)","v":""},{"$f":"IF(JAAFデータ貼り付け!P7=\"\",\"\",JAAFデータ貼り付け!P7)","v":""},{"$f":"IF(JAAFデータ貼り付け!Q7=\"\",\"\",JAAFデータ貼り付け!Q7)","v":""},{"$f":"IF(JAAFデータ貼り付け!R7=\"\",\"\",JAAFデータ貼り付け!R7)","v":""},{"$f":"生年月日貼り付け!E7&生年月日貼り付け!F7&生年月日貼り付け!G7","v":"000"},{"$f":"IF(JAAFデータ貼り付け!T7=\"\",\"\",JAAFデータ貼り付け!T7)","v":""},{"$f":"IF(JAAFデータ貼り付け!U7=\"\",\"\",JAAFデータ貼り付け!U7)","v":""},{"$f":"IF(Sheet5!B7=\"\",\"\",Sheet5!B7)","v":"0"},{"$f":"IF(JAAFデータ貼り付け!W7=\"\",\"\",JAAFデータ貼り付け!W7)","v":""},{"$f":"IF(JAAFデータ貼り付け!X7=\"\",\"\",JAAFデータ貼り付け!X7)","v":""},{"$f":"IF(JAAFデータ貼り付け!Y7=\"\",\"\",JAAFデータ貼り付け!Y7)","v":""},{"$f":"IF(JAAFデータ貼り付け!Z7=\"\",\"\",JAAFデータ貼り付け!Z7)","v":""},{"$f":"IF(JAAFデータ貼り付け!AA7=\"\",\"\",JAAFデータ貼り付け!AA7)","v":""},{"$f":"IF(JAAFデータ貼り付け!AB7=\"\",\"\",JAAFデータ貼り付け!AB7)","v":""},{"$f":"IF(JAAFデータ貼り付け!AC7=\"\",\"\",JAAFデータ貼り付け!AC7)","v":""},{"$f":"IF(JAAFデータ貼り付け!AD7=\"\",\"\",JAAFデータ貼り付け!AD7)","v":""},{"$f":"IF(JAAFデータ貼り付け!AE7=\"\",\"\",JAAFデータ貼り付け!AE7)","v":""},{"$f":"IF(JAAFデータ貼り付け!AF7=\"\",\"\",JAAFデータ貼り付け!AF7)","v":""},{"$f":"IF(JAAFデータ貼り付け!AG7=\"\",\"\",JAAFデータ貼り付け!AG7)","v":""},{"$f":"IF(JAAFデータ貼り付け!AH7=\"\",\"\",JAAFデータ貼り付け!AH7)","v":""},{"$f":"IF(JAAFデータ貼り付け!AI7=\"\",\"\",JAAFデータ貼り付け!AI7)","v":""},{"$f":"IF(JAAFデータ貼り付け!AJ7=\"\",\"\",JAAFデータ貼り付け!AJ7)","v":""},{"$f":"IF(JAAFデータ貼り付け!AK7=\"\",\"\",JAAFデータ貼り付け!AK7)","v":""},{"$f":"IF(JAAFデータ貼り付け!AL7=\"\",\"\",JAAFデータ貼り付け!AL7)","v":""},{"$f":"IF(JAAFデータ貼り付け!AM7=\"\",\"\",JAAFデータ貼り付け!AM7)","v":""},{"$f":"IF(JAAFデータ貼り付け!AN7=\"\",\"\",JAAFデータ貼り付け!AN7)","v":""},{"$f":"IF(JAAFデータ貼り付け!AO7=\"\",\"\",JAAFデータ貼り付け!AO7)","v":""},{"$f":"IF(JAAFデータ貼り付け!AP7=\"\",\"\",JAAFデータ貼り付け!AP7)","v":""},{"$f":"IF(JAAFデータ貼り付け!AQ7=\"\",\"\",JAAFデータ貼り付け!AQ7)","v":""}]
[{"$f":"IF(JAAFデータ貼り付け!E8=\"\",\"\",JAAFデータ貼り付け!E8)","v":""},{"$f":"IF(JAAFデータ貼り付け!B8=\"\",\"\",JAAFデータ貼り付け!B8)","v":""},{"$f":"IF(JAAFデータ貼り付け!C8=\"\",\"\",JAAFデータ貼り付け!C8)","v":""},{"$f":"IF(JAAFデータ貼り付け!D8=\"\",\"\",JAAFデータ貼り付け!D8)","v":""},null,{"$f":"IF(フリガナ貼り付け!D8=\"\",\"\",フリガナ貼り付け!D8)","v":""},{"$f":"IF(フリガナ貼り付け!E8=\"\",\"\",フリガナ貼り付け!E8)","v":""},{"$f":"IF(JAAFデータ貼り付け!H8=\"\",\"\",JAAFデータ貼り付け!H8)","v":""},{"$f":"IF(JAAFデータ貼り付け!I8=\"\",\"\",JAAFデータ貼り付け!I8)","v":""},{"$f":"IF(JAAFデータ貼り付け!J8=\"\",\"\",JAAFデータ貼り付け!J8)","v":""},{"$f":"IF(JAAFデータ貼り付け!K8=\"\",\"\",JAAFデータ貼り付け!K8)","v":""},{"$f":"IF(JAAFデータ貼り付け!L8=\"\",\"\",JAAFデータ貼り付け!L8)","v":""},{"$f":"IF(JAAFデータ貼り付け!M8=\"\",\"\",JAAFデータ貼り付け!M8)","v":""},{"$f":"IF(JAAFデータ貼り付け!N8=\"\",\"\",JAAFデータ貼り付け!N8)","v":""},{"$f":"IF(JAAFデータ貼り付け!O8=\"\",\"\",JAAFデータ貼り付け!O8)","v":""},{"$f":"IF(JAAFデータ貼り付け!P8=\"\",\"\",JAAFデータ貼り付け!P8)","v":""},{"$f":"IF(JAAFデータ貼り付け!Q8=\"\",\"\",JAAFデータ貼り付け!Q8)","v":""},{"$f":"IF(JAAFデータ貼り付け!R8=\"\",\"\",JAAFデータ貼り付け!R8)","v":""},{"$f":"生年月日貼り付け!E8&生年月日貼り付け!F8&生年月日貼り付け!G8","v":"000"},{"$f":"IF(JAAFデータ貼り付け!T8=\"\",\"\",JAAFデータ貼り付け!T8)","v":""},{"$f":"IF(JAAFデータ貼り付け!U8=\"\",\"\",JAAFデータ貼り付け!U8)","v":""},{"$f":"IF(Sheet5!B8=\"\",\"\",Sheet5!B8)","v":"0"},{"$f":"IF(JAAFデータ貼り付け!W8=\"\",\"\",JAAFデータ貼り付け!W8)","v":""},{"$f":"IF(JAAFデータ貼り付け!X8=\"\",\"\",JAAFデータ貼り付け!X8)","v":""},{"$f":"IF(JAAFデータ貼り付け!Y8=\"\",\"\",JAAFデータ貼り付け!Y8)","v":""},{"$f":"IF(JAAFデータ貼り付け!Z8=\"\",\"\",JAAFデータ貼り付け!Z8)","v":""},{"$f":"IF(JAAFデータ貼り付け!AA8=\"\",\"\",JAAFデータ貼り付け!AA8)","v":""},{"$f":"IF(JAAFデータ貼り付け!AB8=\"\",\"\",JAAFデータ貼り付け!AB8)","v":""},{"$f":"IF(JAAFデータ貼り付け!AC8=\"\",\"\",JAAFデータ貼り付け!AC8)","v":""},{"$f":"IF(JAAFデータ貼り付け!AD8=\"\",\"\",JAAFデータ貼り付け!AD8)","v":""},{"$f":"IF(JAAFデータ貼り付け!AE8=\"\",\"\",JAAFデータ貼り付け!AE8)","v":""},{"$f":"IF(JAAFデータ貼り付け!AF8=\"\",\"\",JAAFデータ貼り付け!AF8)","v":""},{"$f":"IF(JAAFデータ貼り付け!AG8=\"\",\"\",JAAFデータ貼り付け!AG8)","v":""},{"$f":"IF(JAAFデータ貼り付け!AH8=\"\",\"\",JAAFデータ貼り付け!AH8)","v":""},{"$f":"IF(JAAFデータ貼り付け!AI8=\"\",\"\",JAAFデータ貼り付け!AI8)","v":""},{"$f":"IF(JAAFデータ貼り付け!AJ8=\"\",\"\",JAAFデータ貼り付け!AJ8)","v":""},{"$f":"IF(JAAFデータ貼り付け!AK8=\"\",\"\",JAAFデータ貼り付け!AK8)","v":""},{"$f":"IF(JAAFデータ貼り付け!AL8=\"\",\"\",JAAFデータ貼り付け!AL8)","v":""},{"$f":"IF(JAAFデータ貼り付け!AM8=\"\",\"\",JAAFデータ貼り付け!AM8)","v":""},{"$f":"IF(JAAFデータ貼り付け!AN8=\"\",\"\",JAAFデータ貼り付け!AN8)","v":""},{"$f":"IF(JAAFデータ貼り付け!AO8=\"\",\"\",JAAFデータ貼り付け!AO8)","v":""},{"$f":"IF(JAAFデータ貼り付け!AP8=\"\",\"\",JAAFデータ貼り付け!AP8)","v":""},{"$f":"IF(JAAFデータ貼り付け!AQ8=\"\",\"\",JAAFデータ貼り付け!AQ8)","v":""}]
[{"$f":"IF(JAAFデータ貼り付け!E9=\"\",\"\",JAAFデータ貼り付け!E9)","v":""},{"$f":"IF(JAAFデータ貼り付け!B9=\"\",\"\",JAAFデータ貼り付け!B9)","v":""},{"$f":"IF(JAAFデータ貼り付け!C9=\"\",\"\",JAAFデータ貼り付け!C9)","v":""},{"$f":"IF(JAAFデータ貼り付け!D9=\"\",\"\",JAAFデータ貼り付け!D9)","v":""},null,{"$f":"IF(フリガナ貼り付け!D9=\"\",\"\",フリガナ貼り付け!D9)","v":""},{"$f":"IF(フリガナ貼り付け!E9=\"\",\"\",フリガナ貼り付け!E9)","v":""},{"$f":"IF(JAAFデータ貼り付け!H9=\"\",\"\",JAAFデータ貼り付け!H9)","v":""},{"$f":"IF(JAAFデータ貼り付け!I9=\"\",\"\",JAAFデータ貼り付け!I9)","v":""},{"$f":"IF(JAAFデータ貼り付け!J9=\"\",\"\",JAAFデータ貼り付け!J9)","v":""},{"$f":"IF(JAAFデータ貼り付け!K9=\"\",\"\",JAAFデータ貼り付け!K9)","v":""},{"$f":"IF(JAAFデータ貼り付け!L9=\"\",\"\",JAAFデータ貼り付け!L9)","v":""},{"$f":"IF(JAAFデータ貼り付け!M9=\"\",\"\",JAAFデータ貼り付け!M9)","v":""},{"$f":"IF(JAAFデータ貼り付け!N9=\"\",\"\",JAAFデータ貼り付け!N9)","v":""},{"$f":"IF(JAAFデータ貼り付け!O9=\"\",\"\",JAAFデータ貼り付け!O9)","v":""},{"$f":"IF(JAAFデータ貼り付け!P9=\"\",\"\",JAAFデータ貼り付け!P9)","v":""},{"$f":"IF(JAAFデータ貼り付け!Q9=\"\",\"\",JAAFデータ貼り付け!Q9)","v":""},{"$f":"IF(JAAFデータ貼り付け!R9=\"\",\"\",JAAFデータ貼り付け!R9)","v":""},{"$f":"生年月日貼り付け!E9&生年月日貼り付け!F9&生年月日貼り付け!G9","v":"000"},{"$f":"IF(JAAFデータ貼り付け!T9=\"\",\"\",JAAFデータ貼り付け!T9)","v":""},{"$f":"IF(JAAFデータ貼り付け!U9=\"\",\"\",JAAFデータ貼り付け!U9)","v":""},{"$f":"IF(Sheet5!B9=\"\",\"\",Sheet5!B9)","v":"0"},{"$f":"IF(JAAFデータ貼り付け!W9=\"\",\"\",JAAFデータ貼り付け!W9)","v":""},{"$f":"IF(JAAFデータ貼り付け!X9=\"\",\"\",JAAFデータ貼り付け!X9)","v":""},{"$f":"IF(JAAFデータ貼り付け!Y9=\"\",\"\",JAAFデータ貼り付け!Y9)","v":""},{"$f":"IF(JAAFデータ貼り付け!Z9=\"\",\"\",JAAFデータ貼り付け!Z9)","v":""},{"$f":"IF(JAAFデータ貼り付け!AA9=\"\",\"\",JAAFデータ貼り付け!AA9)","v":""},{"$f":"IF(JAAFデータ貼り付け!AB9=\"\",\"\",JAAFデータ貼り付け!AB9)","v":""},{"$f":"IF(JAAFデータ貼り付け!AC9=\"\",\"\",JAAFデータ貼り付け!AC9)","v":""},{"$f":"IF(JAAFデータ貼り付け!AD9=\"\",\"\",JAAFデータ貼り付け!AD9)","v":""},{"$f":"IF(JAAFデータ貼り付け!AE9=\"\",\"\",JAAFデータ貼り付け!AE9)","v":""},{"$f":"IF(JAAFデータ貼り付け!AF9=\"\",\"\",JAAFデータ貼り付け!AF9)","v":""},{"$f":"IF(JAAFデータ貼り付け!AG9=\"\",\"\",JAAFデータ貼り付け!AG9)","v":""},{"$f":"IF(JAAFデータ貼り付け!AH9=\"\",\"\",JAAFデータ貼り付け!AH9)","v":""},{"$f":"IF(JAAFデータ貼り付け!AI9=\"\",\"\",JAAFデータ貼り付け!AI9)","v":""},{"$f":"IF(JAAFデータ貼り付け!AJ9=\"\",\"\",JAAFデータ貼り付け!AJ9)","v":""},{"$f":"IF(JAAFデータ貼り付け!AK9=\"\",\"\",JAAFデータ貼り付け!AK9)","v":""},{"$f":"IF(JAAFデータ貼り付け!AL9=\"\",\"\",JAAFデータ貼り付け!AL9)","v":""},{"$f":"IF(JAAFデータ貼り付け!AM9=\"\",\"\",JAAFデータ貼り付け!AM9)","v":""},{"$f":"IF(JAAFデータ貼り付け!AN9=\"\",\"\",JAAFデータ貼り付け!AN9)","v":""},{"$f":"IF(JAAFデータ貼り付け!AO9=\"\",\"\",JAAFデータ貼り付け!AO9)","v":""},{"$f":"IF(JAAFデータ貼り付け!AP9=\"\",\"\",JAAFデータ貼り付け!AP9)","v":""},{"$f":"IF(JAAFデータ貼り付け!AQ9=\"\",\"\",JAAFデータ貼り付け!AQ9)","v":""}]
[{"$f":"IF(JAAFデータ貼り付け!E10=\"\",\"\",JAAFデータ貼り付け!E10)","v":""},{"$f":"IF(JAAFデータ貼り付け!B10=\"\",\"\",JAAFデータ貼り付け!B10)","v":""},{"$f":"IF(JAAFデータ貼り付け!C10=\"\",\"\",JAAFデータ貼り付け!C10)","v":""},{"$f":"IF(JAAFデータ貼り付け!D10=\"\",\"\",JAAFデータ貼り付け!D10)","v":""},null,{"$f":"IF(フリガナ貼り付け!D10=\"\",\"\",フリガナ貼り付け!D10)","v":""},{"$f":"IF(フリガナ貼り付け!E10=\"\",\"\",フリガナ貼り付け!E10)","v":""},{"$f":"IF(JAAFデータ貼り付け!H10=\"\",\"\",JAAFデータ貼り付け!H10)","v":""},{"$f":"IF(JAAFデータ貼り付け!I10=\"\",\"\",JAAFデータ貼り付け!I10)","v":""},{"$f":"IF(JAAFデータ貼り付け!J10=\"\",\"\",JAAFデータ貼り付け!J10)","v":""},{"$f":"IF(JAAFデータ貼り付け!K10=\"\",\"\",JAAFデータ貼り付け!K10)","v":""},{"$f":"IF(JAAFデータ貼り付け!L10=\"\",\"\",JAAFデータ貼り付け!L10)","v":""},{"$f":"IF(JAAFデータ貼り付け!M10=\"\",\"\",JAAFデータ貼り付け!M10)","v":""},{"$f":"IF(JAAFデータ貼り付け!N10=\"\",\"\",JAAFデータ貼り付け!N10)","v":""},{"$f":"IF(JAAFデータ貼り付け!O10=\"\",\"\",JAAFデータ貼り付け!O10)","v":""},{"$f":"IF(JAAFデータ貼り付け!P10=\"\",\"\",JAAFデータ貼り付け!P10)","v":""},{"$f":"IF(JAAFデータ貼り付け!Q10=\"\",\"\",JAAFデータ貼り付け!Q10)","v":""},{"$f":"IF(JAAFデータ貼り付け!R10=\"\",\"\",JAAFデータ貼り付け!R10)","v":""},{"$f":"生年月日貼り付け!E10&生年月日貼り付け!F10&生年月日貼り付け!G10","v":"000"},{"$f":"IF(JAAFデータ貼り付け!T10=\"\",\"\",JAAFデータ貼り付け!T10)","v":""},{"$f":"IF(JAAFデータ貼り付け!U10=\"\",\"\",JAAFデータ貼り付け!U10)","v":""},{"$f":"IF(Sheet5!B10=\"\",\"\",Sheet5!B10)","v":"0"},{"$f":"IF(JAAFデータ貼り付け!W10=\"\",\"\",JAAFデータ貼り付け!W10)","v":""},{"$f":"IF(JAAFデータ貼り付け!X10=\"\",\"\",JAAFデータ貼り付け!X10)","v":""},{"$f":"IF(JAAFデータ貼り付け!Y10=\"\",\"\",JAAFデータ貼り付け!Y10)","v":""},{"$f":"IF(JAAFデータ貼り付け!Z10=\"\",\"\",JAAFデータ貼り付け!Z10)","v":""},{"$f":"IF(JAAFデータ貼り付け!AA10=\"\",\"\",JAAFデータ貼り付け!AA10)","v":""},{"$f":"IF(JAAFデータ貼り付け!AB10=\"\",\"\",JAAFデータ貼り付け!AB10)","v":""},{"$f":"IF(JAAFデータ貼り付け!AC10=\"\",\"\",JAAFデータ貼り付け!AC10)","v":""},{"$f":"IF(JAAFデータ貼り付け!AD10=\"\",\"\",JAAFデータ貼り付け!AD10)","v":""},{"$f":"IF(JAAFデータ貼り付け!AE10=\"\",\"\",JAAFデータ貼り付け!AE10)","v":""},{"$f":"IF(JAAFデータ貼り付け!AF10=\"\",\"\",JAAFデータ貼り付け!AF10)","v":""},{"$f":"IF(JAAFデータ貼り付け!AG10=\"\",\"\",JAAFデータ貼り付け!AG10)","v":""},{"$f":"IF(JAAFデータ貼り付け!AH10=\"\",\"\",JAAFデータ貼り付け!AH10)","v":""},{"$f":"IF(JAAFデータ貼り付け!AI10=\"\",\"\",JAAFデータ貼り付け!AI10)","v":""},{"$f":"IF(JAAFデータ貼り付け!AJ10=\"\",\"\",JAAFデータ貼り付け!AJ10)","v":""},{"$f":"IF(JAAFデータ貼り付け!AK10=\"\",\"\",JAAFデータ貼り付け!AK10)","v":""},{"$f":"IF(JAAFデータ貼り付け!AL10=\"\",\"\",JAAFデータ貼り付け!AL10)","v":""},{"$f":"IF(JAAFデータ貼り付け!AM10=\"\",\"\",JAAFデータ貼り付け!AM10)","v":""},{"$f":"IF(JAAFデータ貼り付け!AN10=\"\",\"\",JAAFデータ貼り付け!AN10)","v":""},{"$f":"IF(JAAFデータ貼り付け!AO10=\"\",\"\",JAAFデータ貼り付け!AO10)","v":""},{"$f":"IF(JAAFデータ貼り付け!AP10=\"\",\"\",JAAFデータ貼り付け!AP10)","v":""},{"$f":"IF(JAAFデータ貼り付け!AQ10=\"\",\"\",JAAFデータ貼り付け!AQ10)","v":""}]
[{"$f":"IF(JAAFデータ貼り付け!E11=\"\",\"\",JAAFデータ貼り付け!E11)","v":""},{"$f":"IF(JAAFデータ貼り付け!B11=\"\",\"\",JAAFデータ貼り付け!B11)","v":""},{"$f":"IF(JAAFデータ貼り付け!C11=\"\",\"\",JAAFデータ貼り付け!C11)","v":""},{"$f":"IF(JAAFデータ貼り付け!D11=\"\",\"\",JAAFデータ貼り付け!D11)","v":""},null,{"$f":"IF(フリガナ貼り付け!D11=\"\",\"\",フリガナ貼り付け!D11)","v":""},{"$f":"IF(フリガナ貼り付け!E11=\"\",\"\",フリガナ貼り付け!E11)","v":""},{"$f":"IF(JAAFデータ貼り付け!H11=\"\",\"\",JAAFデータ貼り付け!H11)","v":""},{"$f":"IF(JAAFデータ貼り付け!I11=\"\",\"\",JAAFデータ貼り付け!I11)","v":""},{"$f":"IF(JAAFデータ貼り付け!J11=\"\",\"\",JAAFデータ貼り付け!J11)","v":""},{"$f":"IF(JAAFデータ貼り付け!K11=\"\",\"\",JAAFデータ貼り付け!K11)","v":""},{"$f":"IF(JAAFデータ貼り付け!L11=\"\",\"\",JAAFデータ貼り付け!L11)","v":""},{"$f":"IF(JAAFデータ貼り付け!M11=\"\",\"\",JAAFデータ貼り付け!M11)","v":""},{"$f":"IF(JAAFデータ貼り付け!N11=\"\",\"\",JAAFデータ貼り付け!N11)","v":""},{"$f":"IF(JAAFデータ貼り付け!O11=\"\",\"\",JAAFデータ貼り付け!O11)","v":""},{"$f":"IF(JAAFデータ貼り付け!P11=\"\",\"\",JAAFデータ貼り付け!P11)","v":""},{"$f":"IF(JAAFデータ貼り付け!Q11=\"\",\"\",JAAFデータ貼り付け!Q11)","v":""},{"$f":"IF(JAAFデータ貼り付け!R11=\"\",\"\",JAAFデータ貼り付け!R11)","v":""},{"$f":"生年月日貼り付け!E11&生年月日貼り付け!F11&生年月日貼り付け!G11","v":"000"},{"$f":"IF(JAAFデータ貼り付け!T11=\"\",\"\",JAAFデータ貼り付け!T11)","v":""},{"$f":"IF(JAAFデータ貼り付け!U11=\"\",\"\",JAAFデータ貼り付け!U11)","v":""},{"$f":"IF(Sheet5!B11=\"\",\"\",Sheet5!B11)","v":"0"},{"$f":"IF(JAAFデータ貼り付け!W11=\"\",\"\",JAAFデータ貼り付け!W11)","v":""},{"$f":"IF(JAAFデータ貼り付け!X11=\"\",\"\",JAAFデータ貼り付け!X11)","v":""},{"$f":"IF(JAAFデータ貼り付け!Y11=\"\",\"\",JAAFデータ貼り付け!Y11)","v":""},{"$f":"IF(JAAFデータ貼り付け!Z11=\"\",\"\",JAAFデータ貼り付け!Z11)","v":""},{"$f":"IF(JAAFデータ貼り付け!AA11=\"\",\"\",JAAFデータ貼り付け!AA11)","v":""},{"$f":"IF(JAAFデータ貼り付け!AB11=\"\",\"\",JAAFデータ貼り付け!AB11)","v":""},{"$f":"IF(JAAFデータ貼り付け!AC11=\"\",\"\",JAAFデータ貼り付け!AC11)","v":""},{"$f":"IF(JAAFデータ貼り付け!AD11=\"\",\"\",JAAFデータ貼り付け!AD11)","v":""},{"$f":"IF(JAAFデータ貼り付け!AE11=\"\",\"\",JAAFデータ貼り付け!AE11)","v":""},{"$f":"IF(JAAFデータ貼り付け!AF11=\"\",\"\",JAAFデータ貼り付け!AF11)","v":""},{"$f":"IF(JAAFデータ貼り付け!AG11=\"\",\"\",JAAFデータ貼り付け!AG11)","v":""},{"$f":"IF(JAAFデータ貼り付け!AH11=\"\",\"\",JAAFデータ貼り付け!AH11)","v":""},{"$f":"IF(JAAFデータ貼り付け!AI11=\"\",\"\",JAAFデータ貼り付け!AI11)","v":""},{"$f":"IF(JAAFデータ貼り付け!AJ11=\"\",\"\",JAAFデータ貼り付け!AJ11)","v":""},{"$f":"IF(JAAFデータ貼り付け!AK11=\"\",\"\",JAAFデータ貼り付け!AK11)","v":""},{"$f":"IF(JAAFデータ貼り付け!AL11=\"\",\"\",JAAFデータ貼り付け!AL11)","v":""},{"$f":"IF(JAAFデータ貼り付け!AM11=\"\",\"\",JAAFデータ貼り付け!AM11)","v":""},{"$f":"IF(JAAFデータ貼り付け!AN11=\"\",\"\",JAAFデータ貼り付け!AN11)","v":""},{"$f":"IF(JAAFデータ貼り付け!AO11=\"\",\"\",JAAFデータ貼り付け!AO11)","v":""},{"$f":"IF(JAAFデータ貼り付け!AP11=\"\",\"\",JAAFデータ貼り付け!AP11)","v":""},{"$f":"IF(JAAFデータ貼り付け!AQ11=\"\",\"\",JAAFデータ貼り付け!AQ11)","v":""}]
[{"$f":"IF(JAAFデータ貼り付け!E12=\"\",\"\",JAAFデータ貼り付け!E12)","v":""},{"$f":"IF(JAAFデータ貼り付け!B12=\"\",\"\",JAAFデータ貼り付け!B12)","v":""},{"$f":"IF(JAAFデータ貼り付け!C12=\"\",\"\",JAAFデータ貼り付け!C12)","v":""},{"$f":"IF(JAAFデータ貼り付け!D12=\"\",\"\",JAAFデータ貼り付け!D12)","v":""},null,{"$f":"IF(フリガナ貼り付け!D12=\"\",\"\",フリガナ貼り付け!D12)","v":""},{"$f":"IF(フリガナ貼り付け!E12=\"\",\"\",フリガナ貼り付け!E12)","v":""},{"$f":"IF(JAAFデータ貼り付け!H12=\"\",\"\",JAAFデータ貼り付け!H12)","v":""},{"$f":"IF(JAAFデータ貼り付け!I12=\"\",\"\",JAAFデータ貼り付け!I12)","v":""},{"$f":"IF(JAAFデータ貼り付け!J12=\"\",\"\",JAAFデータ貼り付け!J12)","v":""},{"$f":"IF(JAAFデータ貼り付け!K12=\"\",\"\",JAAFデータ貼り付け!K12)","v":""},{"$f":"IF(JAAFデータ貼り付け!L12=\"\",\"\",JAAFデータ貼り付け!L12)","v":""},{"$f":"IF(JAAFデータ貼り付け!M12=\"\",\"\",JAAFデータ貼り付け!M12)","v":""},{"$f":"IF(JAAFデータ貼り付け!N12=\"\",\"\",JAAFデータ貼り付け!N12)","v":""},{"$f":"IF(JAAFデータ貼り付け!O12=\"\",\"\",JAAFデータ貼り付け!O12)","v":""},{"$f":"IF(JAAFデータ貼り付け!P12=\"\",\"\",JAAFデータ貼り付け!P12)","v":""},{"$f":"IF(JAAFデータ貼り付け!Q12=\"\",\"\",JAAFデータ貼り付け!Q12)","v":""},{"$f":"IF(JAAFデータ貼り付け!R12=\"\",\"\",JAAFデータ貼り付け!R12)","v":""},{"$f":"生年月日貼り付け!E12&生年月日貼り付け!F12&生年月日貼り付け!G12","v":"000"},{"$f":"IF(JAAFデータ貼り付け!T12=\"\",\"\",JAAFデータ貼り付け!T12)","v":""},{"$f":"IF(JAAFデータ貼り付け!U12=\"\",\"\",JAAFデータ貼り付け!U12)","v":""},{"$f":"IF(Sheet5!B12=\"\",\"\",Sheet5!B12)","v":"0"},{"$f":"IF(JAAFデータ貼り付け!W12=\"\",\"\",JAAFデータ貼り付け!W12)","v":""},{"$f":"IF(JAAFデータ貼り付け!X12=\"\",\"\",JAAFデータ貼り付け!X12)","v":""},{"$f":"IF(JAAFデータ貼り付け!Y12=\"\",\"\",JAAFデータ貼り付け!Y12)","v":""},{"$f":"IF(JAAFデータ貼り付け!Z12=\"\",\"\",JAAFデータ貼り付け!Z12)","v":""},{"$f":"IF(JAAFデータ貼り付け!AA12=\"\",\"\",JAAFデータ貼り付け!AA12)","v":""},{"$f":"IF(JAAFデータ貼り付け!AB12=\"\",\"\",JAAFデータ貼り付け!AB12)","v":""},{"$f":"IF(JAAFデータ貼り付け!AC12=\"\",\"\",JAAFデータ貼り付け!AC12)","v":""},{"$f":"IF(JAAFデータ貼り付け!AD12=\"\",\"\",JAAFデータ貼り付け!AD12)","v":""},{"$f":"IF(JAAFデータ貼り付け!AE12=\"\",\"\",JAAFデータ貼り付け!AE12)","v":""},{"$f":"IF(JAAFデータ貼り付け!AF12=\"\",\"\",JAAFデータ貼り付け!AF12)","v":""},{"$f":"IF(JAAFデータ貼り付け!AG12=\"\",\"\",JAAFデータ貼り付け!AG12)","v":""},{"$f":"IF(JAAFデータ貼り付け!AH12=\"\",\"\",JAAFデータ貼り付け!AH12)","v":""},{"$f":"IF(JAAFデータ貼り付け!AI12=\"\",\"\",JAAFデータ貼り付け!AI12)","v":""},{"$f":"IF(JAAFデータ貼り付け!AJ12=\"\",\"\",JAAFデータ貼り付け!AJ12)","v":""},{"$f":"IF(JAAFデータ貼り付け!AK12=\"\",\"\",JAAFデータ貼り付け!AK12)","v":""},{"$f":"IF(JAAFデータ貼り付け!AL12=\"\",\"\",JAAFデータ貼り付け!AL12)","v":""},{"$f":"IF(JAAFデータ貼り付け!AM12=\"\",\"\",JAAFデータ貼り付け!AM12)","v":""},{"$f":"IF(JAAFデータ貼り付け!AN12=\"\",\"\",JAAFデータ貼り付け!AN12)","v":""},{"$f":"IF(JAAFデータ貼り付け!AO12=\"\",\"\",JAAFデータ貼り付け!AO12)","v":""},{"$f":"IF(JAAFデータ貼り付け!AP12=\"\",\"\",JAAFデータ貼り付け!AP12)","v":""},{"$f":"IF(JAAFデータ貼り付け!AQ12=\"\",\"\",JAAFデータ貼り付け!AQ12)","v":""}]
[{"$f":"IF(JAAFデータ貼り付け!E13=\"\",\"\",JAAFデータ貼り付け!E13)","v":""},{"$f":"IF(JAAFデータ貼り付け!B13=\"\",\"\",JAAFデータ貼り付け!B13)","v":""},{"$f":"IF(JAAFデータ貼り付け!C13=\"\",\"\",JAAFデータ貼り付け!C13)","v":""},{"$f":"IF(JAAFデータ貼り付け!D13=\"\",\"\",JAAFデータ貼り付け!D13)","v":""},null,{"$f":"IF(フリガナ貼り付け!D13=\"\",\"\",フリガナ貼り付け!D13)","v":""},{"$f":"IF(フリガナ貼り付け!E13=\"\",\"\",フリガナ貼り付け!E13)","v":""},{"$f":"IF(JAAFデータ貼り付け!H13=\"\",\"\",JAAFデータ貼り付け!H13)","v":""},{"$f":"IF(JAAFデータ貼り付け!I13=\"\",\"\",JAAFデータ貼り付け!I13)","v":""},{"$f":"IF(JAAFデータ貼り付け!J13=\"\",\"\",JAAFデータ貼り付け!J13)","v":""},{"$f":"IF(JAAFデータ貼り付け!K13=\"\",\"\",JAAFデータ貼り付け!K13)","v":""},{"$f":"IF(JAAFデータ貼り付け!L13=\"\",\"\",JAAFデータ貼り付け!L13)","v":""},{"$f":"IF(JAAFデータ貼り付け!M13=\"\",\"\",JAAFデータ貼り付け!M13)","v":""},{"$f":"IF(JAAFデータ貼り付け!N13=\"\",\"\",JAAFデータ貼り付け!N13)","v":""},{"$f":"IF(JAAFデータ貼り付け!O13=\"\",\"\",JAAFデータ貼り付け!O13)","v":""},{"$f":"IF(JAAFデータ貼り付け!P13=\"\",\"\",JAAFデータ貼り付け!P13)","v":""},{"$f":"IF(JAAFデータ貼り付け!Q13=\"\",\"\",JAAFデータ貼り付け!Q13)","v":""},{"$f":"IF(JAAFデータ貼り付け!R13=\"\",\"\",JAAFデータ貼り付け!R13)","v":""},{"$f":"生年月日貼り付け!E13&生年月日貼り付け!F13&生年月日貼り付け!G13","v":"000"},{"$f":"IF(JAAFデータ貼り付け!T13=\"\",\"\",JAAFデータ貼り付け!T13)","v":""},{"$f":"IF(JAAFデータ貼り付け!U13=\"\",\"\",JAAFデータ貼り付け!U13)","v":""},{"$f":"IF(Sheet5!B13=\"\",\"\",Sheet5!B13)","v":"0"},{"$f":"IF(JAAFデータ貼り付け!W13=\"\",\"\",JAAFデータ貼り付け!W13)","v":""},{"$f":"IF(JAAFデータ貼り付け!X13=\"\",\"\",JAAFデータ貼り付け!X13)","v":""},{"$f":"IF(JAAFデータ貼り付け!Y13=\"\",\"\",JAAFデータ貼り付け!Y13)","v":""},{"$f":"IF(JAAFデータ貼り付け!Z13=\"\",\"\",JAAFデータ貼り付け!Z13)","v":""},{"$f":"IF(JAAFデータ貼り付け!AA13=\"\",\"\",JAAFデータ貼り付け!AA13)","v":""},{"$f":"IF(JAAFデータ貼り付け!AB13=\"\",\"\",JAAFデータ貼り付け!AB13)","v":""},{"$f":"IF(JAAFデータ貼り付け!AC13=\"\",\"\",JAAFデータ貼り付け!AC13)","v":""},{"$f":"IF(JAAFデータ貼り付け!AD13=\"\",\"\",JAAFデータ貼り付け!AD13)","v":""},{"$f":"IF(JAAFデータ貼り付け!AE13=\"\",\"\",JAAFデータ貼り付け!AE13)","v":""},{"$f":"IF(JAAFデータ貼り付け!AF13=\"\",\"\",JAAFデータ貼り付け!AF13)","v":""},{"$f":"IF(JAAFデータ貼り付け!AG13=\"\",\"\",JAAFデータ貼り付け!AG13)","v":""},{"$f":"IF(JAAFデータ貼り付け!AH13=\"\",\"\",JAAFデータ貼り付け!AH13)","v":""},{"$f":"IF(JAAFデータ貼り付け!AI13=\"\",\"\",JAAFデータ貼り付け!AI13)","v":""},{"$f":"IF(JAAFデータ貼り付け!AJ13=\"\",\"\",JAAFデータ貼り付け!AJ13)","v":""},{"$f":"IF(JAAFデータ貼り付け!AK13=\"\",\"\",JAAFデータ貼り付け!AK13)","v":""},{"$f":"IF(JAAFデータ貼り付け!AL13=\"\",\"\",JAAFデータ貼り付け!AL13)","v":""},{"$f":"IF(JAAFデータ貼り付け!AM13=\"\",\"\",JAAFデータ貼り付け!AM13)","v":""},{"$f":"IF(JAAFデータ貼り付け!AN13=\"\",\"\",JAAFデータ貼り付け!AN13)","v":""},{"$f":"IF(JAAFデータ貼り付け!AO13=\"\",\"\",JAAFデータ貼り付け!AO13)","v":""},{"$f":"IF(JAAFデータ貼り付け!AP13=\"\",\"\",JAAFデータ貼り付け!AP13)","v":""},{"$f":"IF(JAAFデータ貼り付け!AQ13=\"\",\"\",JAAFデータ貼り付け!AQ13)","v":""}]
[{"$f":"IF(JAAFデータ貼り付け!E14=\"\",\"\",JAAFデータ貼り付け!E14)","v":""},{"$f":"IF(JAAFデータ貼り付け!B14=\"\",\"\",JAAFデータ貼り付け!B14)","v":""},{"$f":"IF(JAAFデータ貼り付け!C14=\"\",\"\",JAAFデータ貼り付け!C14)","v":""},{"$f":"IF(JAAFデータ貼り付け!D14=\"\",\"\",JAAFデータ貼り付け!D14)","v":""},null,{"$f":"IF(フリガナ貼り付け!D14=\"\",\"\",フリガナ貼り付け!D14)","v":""},{"$f":"IF(フリガナ貼り付け!E14=\"\",\"\",フリガナ貼り付け!E14)","v":""},{"$f":"IF(JAAFデータ貼り付け!H14=\"\",\"\",JAAFデータ貼り付け!H14)","v":""},{"$f":"IF(JAAFデータ貼り付け!I14=\"\",\"\",JAAFデータ貼り付け!I14)","v":""},{"$f":"IF(JAAFデータ貼り付け!J14=\"\",\"\",JAAFデータ貼り付け!J14)","v":""},{"$f":"IF(JAAFデータ貼り付け!K14=\"\",\"\",JAAFデータ貼り付け!K14)","v":""},{"$f":"IF(JAAFデータ貼り付け!L14=\"\",\"\",JAAFデータ貼り付け!L14)","v":""},{"$f":"IF(JAAFデータ貼り付け!M14=\"\",\"\",JAAFデータ貼り付け!M14)","v":""},{"$f":"IF(JAAFデータ貼り付け!N14=\"\",\"\",JAAFデータ貼り付け!N14)","v":""},{"$f":"IF(JAAFデータ貼り付け!O14=\"\",\"\",JAAFデータ貼り付け!O14)","v":""},{"$f":"IF(JAAFデータ貼り付け!P14=\"\",\"\",JAAFデータ貼り付け!P14)","v":""},{"$f":"IF(JAAFデータ貼り付け!Q14=\"\",\"\",JAAFデータ貼り付け!Q14)","v":""},{"$f":"IF(JAAFデータ貼り付け!R14=\"\",\"\",JAAFデータ貼り付け!R14)","v":""},{"$f":"生年月日貼り付け!E14&生年月日貼り付け!F14&生年月日貼り付け!G14","v":"000"},{"$f":"IF(JAAFデータ貼り付け!T14=\"\",\"\",JAAFデータ貼り付け!T14)","v":""},{"$f":"IF(JAAFデータ貼り付け!U14=\"\",\"\",JAAFデータ貼り付け!U14)","v":""},{"$f":"IF(Sheet5!B14=\"\",\"\",Sheet5!B14)","v":"0"},{"$f":"IF(JAAFデータ貼り付け!W14=\"\",\"\",JAAFデータ貼り付け!W14)","v":""},{"$f":"IF(JAAFデータ貼り付け!X14=\"\",\"\",JAAFデータ貼り付け!X14)","v":""},{"$f":"IF(JAAFデータ貼り付け!Y14=\"\",\"\",JAAFデータ貼り付け!Y14)","v":""},{"$f":"IF(JAAFデータ貼り付け!Z14=\"\",\"\",JAAFデータ貼り付け!Z14)","v":""},{"$f":"IF(JAAFデータ貼り付け!AA14=\"\",\"\",JAAFデータ貼り付け!AA14)","v":""},{"$f":"IF(JAAFデータ貼り付け!AB14=\"\",\"\",JAAFデータ貼り付け!AB14)","v":""},{"$f":"IF(JAAFデータ貼り付け!AC14=\"\",\"\",JAAFデータ貼り付け!AC14)","v":""},{"$f":"IF(JAAFデータ貼り付け!AD14=\"\",\"\",JAAFデータ貼り付け!AD14)","v":""},{"$f":"IF(JAAFデータ貼り付け!AE14=\"\",\"\",JAAFデータ貼り付け!AE14)","v":""},{"$f":"IF(JAAFデータ貼り付け!AF14=\"\",\"\",JAAFデータ貼り付け!AF14)","v":""},{"$f":"IF(JAAFデータ貼り付け!AG14=\"\",\"\",JAAFデータ貼り付け!AG14)","v":""},{"$f":"IF(JAAFデータ貼り付け!AH14=\"\",\"\",JAAFデータ貼り付け!AH14)","v":""},{"$f":"IF(JAAFデータ貼り付け!AI14=\"\",\"\",JAAFデータ貼り付け!AI14)","v":""},{"$f":"IF(JAAFデータ貼り付け!AJ14=\"\",\"\",JAAFデータ貼り付け!AJ14)","v":""},{"$f":"IF(JAAFデータ貼り付け!AK14=\"\",\"\",JAAFデータ貼り付け!AK14)","v":""},{"$f":"IF(JAAFデータ貼り付け!AL14=\"\",\"\",JAAFデータ貼り付け!AL14)","v":""},{"$f":"IF(JAAFデータ貼り付け!AM14=\"\",\"\",JAAFデータ貼り付け!AM14)","v":""},{"$f":"IF(JAAFデータ貼り付け!AN14=\"\",\"\",JAAFデータ貼り付け!AN14)","v":""},{"$f":"IF(JAAFデータ貼り付け!AO14=\"\",\"\",JAAFデータ貼り付け!AO14)","v":""},{"$f":"IF(JAAFデータ貼り付け!AP14=\"\",\"\",JAAFデータ貼り付け!AP14)","v":""},{"$f":"IF(JAAFデータ貼り付け!AQ14=\"\",\"\",JAAFデータ貼り付け!AQ14)","v":""}]
[{"$f":"IF(JAAFデータ貼り付け!E15=\"\",\"\",JAAFデータ貼り付け!E15)","v":""},{"$f":"IF(JAAFデータ貼り付け!B15=\"\",\"\",JAAFデータ貼り付け!B15)","v":""},{"$f":"IF(JAAFデータ貼り付け!C15=\"\",\"\",JAAFデータ貼り付け!C15)","v":""},{"$f":"IF(JAAFデータ貼り付け!D15=\"\",\"\",JAAFデータ貼り付け!D15)","v":""},null,{"$f":"IF(フリガナ貼り付け!D15=\"\",\"\",フリガナ貼り付け!D15)","v":""},{"$f":"IF(フリガナ貼り付け!E15=\"\",\"\",フリガナ貼り付け!E15)","v":""},{"$f":"IF(JAAFデータ貼り付け!H15=\"\",\"\",JAAFデータ貼り付け!H15)","v":""},{"$f":"IF(JAAFデータ貼り付け!I15=\"\",\"\",JAAFデータ貼り付け!I15)","v":""},{"$f":"IF(JAAFデータ貼り付け!J15=\"\",\"\",JAAFデータ貼り付け!J15)","v":""},{"$f":"IF(JAAFデータ貼り付け!K15=\"\",\"\",JAAFデータ貼り付け!K15)","v":""},{"$f":"IF(JAAFデータ貼り付け!L15=\"\",\"\",JAAFデータ貼り付け!L15)","v":""},{"$f":"IF(JAAFデータ貼り付け!M15=\"\",\"\",JAAFデータ貼り付け!M15)","v":""},{"$f":"IF(JAAFデータ貼り付け!N15=\"\",\"\",JAAFデータ貼り付け!N15)","v":""},{"$f":"IF(JAAFデータ貼り付け!O15=\"\",\"\",JAAFデータ貼り付け!O15)","v":""},{"$f":"IF(JAAFデータ貼り付け!P15=\"\",\"\",JAAFデータ貼り付け!P15)","v":""},{"$f":"IF(JAAFデータ貼り付け!Q15=\"\",\"\",JAAFデータ貼り付け!Q15)","v":""},{"$f":"IF(JAAFデータ貼り付け!R15=\"\",\"\",JAAFデータ貼り付け!R15)","v":""},{"$f":"生年月日貼り付け!E15&生年月日貼り付け!F15&生年月日貼り付け!G15","v":"000"},{"$f":"IF(JAAFデータ貼り付け!T15=\"\",\"\",JAAFデータ貼り付け!T15)","v":""},{"$f":"IF(JAAFデータ貼り付け!U15=\"\",\"\",JAAFデータ貼り付け!U15)","v":""},{"$f":"IF(Sheet5!B15=\"\",\"\",Sheet5!B15)","v":"0"},{"$f":"IF(JAAFデータ貼り付け!W15=\"\",\"\",JAAFデータ貼り付け!W15)","v":""},{"$f":"IF(JAAFデータ貼り付け!X15=\"\",\"\",JAAFデータ貼り付け!X15)","v":""},{"$f":"IF(JAAFデータ貼り付け!Y15=\"\",\"\",JAAFデータ貼り付け!Y15)","v":""},{"$f":"IF(JAAFデータ貼り付け!Z15=\"\",\"\",JAAFデータ貼り付け!Z15)","v":""},{"$f":"IF(JAAFデータ貼り付け!AA15=\"\",\"\",JAAFデータ貼り付け!AA15)","v":""},{"$f":"IF(JAAFデータ貼り付け!AB15=\"\",\"\",JAAFデータ貼り付け!AB15)","v":""},{"$f":"IF(JAAFデータ貼り付け!AC15=\"\",\"\",JAAFデータ貼り付け!AC15)","v":""},{"$f":"IF(JAAFデータ貼り付け!AD15=\"\",\"\",JAAFデータ貼り付け!AD15)","v":""},{"$f":"IF(JAAFデータ貼り付け!AE15=\"\",\"\",JAAFデータ貼り付け!AE15)","v":""},{"$f":"IF(JAAFデータ貼り付け!AF15=\"\",\"\",JAAFデータ貼り付け!AF15)","v":""},{"$f":"IF(JAAFデータ貼り付け!AG15=\"\",\"\",JAAFデータ貼り付け!AG15)","v":""},{"$f":"IF(JAAFデータ貼り付け!AH15=\"\",\"\",JAAFデータ貼り付け!AH15)","v":""},{"$f":"IF(JAAFデータ貼り付け!AI15=\"\",\"\",JAAFデータ貼り付け!AI15)","v":""},{"$f":"IF(JAAFデータ貼り付け!AJ15=\"\",\"\",JAAFデータ貼り付け!AJ15)","v":""},{"$f":"IF(JAAFデータ貼り付け!AK15=\"\",\"\",JAAFデータ貼り付け!AK15)","v":""},{"$f":"IF(JAAFデータ貼り付け!AL15=\"\",\"\",JAAFデータ貼り付け!AL15)","v":""},{"$f":"IF(JAAFデータ貼り付け!AM15=\"\",\"\",JAAFデータ貼り付け!AM15)","v":""},{"$f":"IF(JAAFデータ貼り付け!AN15=\"\",\"\",JAAFデータ貼り付け!AN15)","v":""},{"$f":"IF(JAAFデータ貼り付け!AO15=\"\",\"\",JAAFデータ貼り付け!AO15)","v":""},{"$f":"IF(JAAFデータ貼り付け!AP15=\"\",\"\",JAAFデータ貼り付け!AP15)","v":""},{"$f":"IF(JAAFデータ貼り付け!AQ15=\"\",\"\",JAAFデータ貼り付け!AQ15)","v":""}]
[{"$f":"IF(JAAFデータ貼り付け!E16=\"\",\"\",JAAFデータ貼り付け!E16)","v":""},{"$f":"IF(JAAFデータ貼り付け!B16=\"\",\"\",JAAFデータ貼り付け!B16)","v":""},{"$f":"IF(JAAFデータ貼り付け!C16=\"\",\"\",JAAFデータ貼り付け!C16)","v":""},{"$f":"IF(JAAFデータ貼り付け!D16=\"\",\"\",JAAFデータ貼り付け!D16)","v":""},null,{"$f":"IF(フリガナ貼り付け!D16=\"\",\"\",フリガナ貼り付け!D16)","v":""},{"$f":"IF(フリガナ貼り付け!E16=\"\",\"\",フリガナ貼り付け!E16)","v":""},{"$f":"IF(JAAFデータ貼り付け!H16=\"\",\"\",JAAFデータ貼り付け!H16)","v":""},{"$f":"IF(JAAFデータ貼り付け!I16=\"\",\"\",JAAFデータ貼り付け!I16)","v":""},{"$f":"IF(JAAFデータ貼り付け!J16=\"\",\"\",JAAFデータ貼り付け!J16)","v":""},{"$f":"IF(JAAFデータ貼り付け!K16=\"\",\"\",JAAFデータ貼り付け!K16)","v":""},{"$f":"IF(JAAFデータ貼り付け!L16=\"\",\"\",JAAFデータ貼り付け!L16)","v":""},{"$f":"IF(JAAFデータ貼り付け!M16=\"\",\"\",JAAFデータ貼り付け!M16)","v":""},{"$f":"IF(JAAFデータ貼り付け!N16=\"\",\"\",JAAFデータ貼り付け!N16)","v":""},{"$f":"IF(JAAFデータ貼り付け!O16=\"\",\"\",JAAFデータ貼り付け!O16)","v":""},{"$f":"IF(JAAFデータ貼り付け!P16=\"\",\"\",JAAFデータ貼り付け!P16)","v":""},{"$f":"IF(JAAFデータ貼り付け!Q16=\"\",\"\",JAAFデータ貼り付け!Q16)","v":""},{"$f":"IF(JAAFデータ貼り付け!R16=\"\",\"\",JAAFデータ貼り付け!R16)","v":""},{"$f":"生年月日貼り付け!E16&生年月日貼り付け!F16&生年月日貼り付け!G16","v":"000"},{"$f":"IF(JAAFデータ貼り付け!T16=\"\",\"\",JAAFデータ貼り付け!T16)","v":""},{"$f":"IF(JAAFデータ貼り付け!U16=\"\",\"\",JAAFデータ貼り付け!U16)","v":""},{"$f":"IF(Sheet5!B16=\"\",\"\",Sheet5!B16)","v":"0"},{"$f":"IF(JAAFデータ貼り付け!W16=\"\",\"\",JAAFデータ貼り付け!W16)","v":""},{"$f":"IF(JAAFデータ貼り付け!X16=\"\",\"\",JAAFデータ貼り付け!X16)","v":""},{"$f":"IF(JAAFデータ貼り付け!Y16=\"\",\"\",JAAFデータ貼り付け!Y16)","v":""},{"$f":"IF(JAAFデータ貼り付け!Z16=\"\",\"\",JAAFデータ貼り付け!Z16)","v":""},{"$f":"IF(JAAFデータ貼り付け!AA16=\"\",\"\",JAAFデータ貼り付け!AA16)","v":""},{"$f":"IF(JAAFデータ貼り付け!AB16=\"\",\"\",JAAFデータ貼り付け!AB16)","v":""},{"$f":"IF(JAAFデータ貼り付け!AC16=\"\",\"\",JAAFデータ貼り付け!AC16)","v":""},{"$f":"IF(JAAFデータ貼り付け!AD16=\"\",\"\",JAAFデータ貼り付け!AD16)","v":""},{"$f":"IF(JAAFデータ貼り付け!AE16=\"\",\"\",JAAFデータ貼り付け!AE16)","v":""},{"$f":"IF(JAAFデータ貼り付け!AF16=\"\",\"\",JAAFデータ貼り付け!AF16)","v":""},{"$f":"IF(JAAFデータ貼り付け!AG16=\"\",\"\",JAAFデータ貼り付け!AG16)","v":""},{"$f":"IF(JAAFデータ貼り付け!AH16=\"\",\"\",JAAFデータ貼り付け!AH16)","v":""},{"$f":"IF(JAAFデータ貼り付け!AI16=\"\",\"\",JAAFデータ貼り付け!AI16)","v":""},{"$f":"IF(JAAFデータ貼り付け!AJ16=\"\",\"\",JAAFデータ貼り付け!AJ16)","v":""},{"$f":"IF(JAAFデータ貼り付け!AK16=\"\",\"\",JAAFデータ貼り付け!AK16)","v":""},{"$f":"IF(JAAFデータ貼り付け!AL16=\"\",\"\",JAAFデータ貼り付け!AL16)","v":""},{"$f":"IF(JAAFデータ貼り付け!AM16=\"\",\"\",JAAFデータ貼り付け!AM16)","v":""},{"$f":"IF(JAAFデータ貼り付け!AN16=\"\",\"\",JAAFデータ貼り付け!AN16)","v":""},{"$f":"IF(JAAFデータ貼り付け!AO16=\"\",\"\",JAAFデータ貼り付け!AO16)","v":""},{"$f":"IF(JAAFデータ貼り付け!AP16=\"\",\"\",JAAFデータ貼り付け!AP16)","v":""},{"$f":"IF(JAAFデータ貼り付け!AQ16=\"\",\"\",JAAFデータ貼り付け!AQ16)","v":""}]
[{"$f":"IF(JAAFデータ貼り付け!E17=\"\",\"\",JAAFデータ貼り付け!E17)","v":""},{"$f":"IF(JAAFデータ貼り付け!B17=\"\",\"\",JAAFデータ貼り付け!B17)","v":""},{"$f":"IF(JAAFデータ貼り付け!C17=\"\",\"\",JAAFデータ貼り付け!C17)","v":""},{"$f":"IF(JAAFデータ貼り付け!D17=\"\",\"\",JAAFデータ貼り付け!D17)","v":""},null,{"$f":"IF(フリガナ貼り付け!D17=\"\",\"\",フリガナ貼り付け!D17)","v":""},{"$f":"IF(フリガナ貼り付け!E17=\"\",\"\",フリガナ貼り付け!E17)","v":""},{"$f":"IF(JAAFデータ貼り付け!H17=\"\",\"\",JAAFデータ貼り付け!H17)","v":""},{"$f":"IF(JAAFデータ貼り付け!I17=\"\",\"\",JAAFデータ貼り付け!I17)","v":""},{"$f":"IF(JAAFデータ貼り付け!J17=\"\",\"\",JAAFデータ貼り付け!J17)","v":""},{"$f":"IF(JAAFデータ貼り付け!K17=\"\",\"\",JAAFデータ貼り付け!K17)","v":""},{"$f":"IF(JAAFデータ貼り付け!L17=\"\",\"\",JAAFデータ貼り付け!L17)","v":""},{"$f":"IF(JAAFデータ貼り付け!M17=\"\",\"\",JAAFデータ貼り付け!M17)","v":""},{"$f":"IF(JAAFデータ貼り付け!N17=\"\",\"\",JAAFデータ貼り付け!N17)","v":""},{"$f":"IF(JAAFデータ貼り付け!O17=\"\",\"\",JAAFデータ貼り付け!O17)","v":""},{"$f":"IF(JAAFデータ貼り付け!P17=\"\",\"\",JAAFデータ貼り付け!P17)","v":""},{"$f":"IF(JAAFデータ貼り付け!Q17=\"\",\"\",JAAFデータ貼り付け!Q17)","v":""},{"$f":"IF(JAAFデータ貼り付け!R17=\"\",\"\",JAAFデータ貼り付け!R17)","v":""},{"$f":"生年月日貼り付け!E17&生年月日貼り付け!F17&生年月日貼り付け!G17","v":"000"},{"$f":"IF(JAAFデータ貼り付け!T17=\"\",\"\",JAAFデータ貼り付け!T17)","v":""},{"$f":"IF(JAAFデータ貼り付け!U17=\"\",\"\",JAAFデータ貼り付け!U17)","v":""},{"$f":"IF(Sheet5!B17=\"\",\"\",Sheet5!B17)","v":"0"},{"$f":"IF(JAAFデータ貼り付け!W17=\"\",\"\",JAAFデータ貼り付け!W17)","v":""},{"$f":"IF(JAAFデータ貼り付け!X17=\"\",\"\",JAAFデータ貼り付け!X17)","v":""},{"$f":"IF(JAAFデータ貼り付け!Y17=\"\",\"\",JAAFデータ貼り付け!Y17)","v":""},{"$f":"IF(JAAFデータ貼り付け!Z17=\"\",\"\",JAAFデータ貼り付け!Z17)","v":""},{"$f":"IF(JAAFデータ貼り付け!AA17=\"\",\"\",JAAFデータ貼り付け!AA17)","v":""},{"$f":"IF(JAAFデータ貼り付け!AB17=\"\",\"\",JAAFデータ貼り付け!AB17)","v":""},{"$f":"IF(JAAFデータ貼り付け!AC17=\"\",\"\",JAAFデータ貼り付け!AC17)","v":""},{"$f":"IF(JAAFデータ貼り付け!AD17=\"\",\"\",JAAFデータ貼り付け!AD17)","v":""},{"$f":"IF(JAAFデータ貼り付け!AE17=\"\",\"\",JAAFデータ貼り付け!AE17)","v":""},{"$f":"IF(JAAFデータ貼り付け!AF17=\"\",\"\",JAAFデータ貼り付け!AF17)","v":""},{"$f":"IF(JAAFデータ貼り付け!AG17=\"\",\"\",JAAFデータ貼り付け!AG17)","v":""},{"$f":"IF(JAAFデータ貼り付け!AH17=\"\",\"\",JAAFデータ貼り付け!AH17)","v":""},{"$f":"IF(JAAFデータ貼り付け!AI17=\"\",\"\",JAAFデータ貼り付け!AI17)","v":""},{"$f":"IF(JAAFデータ貼り付け!AJ17=\"\",\"\",JAAFデータ貼り付け!AJ17)","v":""},{"$f":"IF(JAAFデータ貼り付け!AK17=\"\",\"\",JAAFデータ貼り付け!AK17)","v":""},{"$f":"IF(JAAFデータ貼り付け!AL17=\"\",\"\",JAAFデータ貼り付け!AL17)","v":""},{"$f":"IF(JAAFデータ貼り付け!AM17=\"\",\"\",JAAFデータ貼り付け!AM17)","v":""},{"$f":"IF(JAAFデータ貼り付け!AN17=\"\",\"\",JAAFデータ貼り付け!AN17)","v":""},{"$f":"IF(JAAFデータ貼り付け!AO17=\"\",\"\",JAAFデータ貼り付け!AO17)","v":""},{"$f":"IF(JAAFデータ貼り付け!AP17=\"\",\"\",JAAFデータ貼り付け!AP17)","v":""},{"$f":"IF(JAAFデータ貼り付け!AQ17=\"\",\"\",JAAFデータ貼り付け!AQ17)","v":""}]
[{"$f":"IF(JAAFデータ貼り付け!E18=\"\",\"\",JAAFデータ貼り付け!E18)","v":""},{"$f":"IF(JAAFデータ貼り付け!B18=\"\",\"\",JAAFデータ貼り付け!B18)","v":""},{"$f":"IF(JAAFデータ貼り付け!C18=\"\",\"\",JAAFデータ貼り付け!C18)","v":""},{"$f":"IF(JAAFデータ貼り付け!D18=\"\",\"\",JAAFデータ貼り付け!D18)","v":""},null,{"$f":"IF(フリガナ貼り付け!D18=\"\",\"\",フリガナ貼り付け!D18)","v":""},{"$f":"IF(フリガナ貼り付け!E18=\"\",\"\",フリガナ貼り付け!E18)","v":""},{"$f":"IF(JAAFデータ貼り付け!H18=\"\",\"\",JAAFデータ貼り付け!H18)","v":""},{"$f":"IF(JAAFデータ貼り付け!I18=\"\",\"\",JAAFデータ貼り付け!I18)","v":""},{"$f":"IF(JAAFデータ貼り付け!J18=\"\",\"\",JAAFデータ貼り付け!J18)","v":""},{"$f":"IF(JAAFデータ貼り付け!K18=\"\",\"\",JAAFデータ貼り付け!K18)","v":""},{"$f":"IF(JAAFデータ貼り付け!L18=\"\",\"\",JAAFデータ貼り付け!L18)","v":""},{"$f":"IF(JAAFデータ貼り付け!M18=\"\",\"\",JAAFデータ貼り付け!M18)","v":""},{"$f":"IF(JAAFデータ貼り付け!N18=\"\",\"\",JAAFデータ貼り付け!N18)","v":""},{"$f":"IF(JAAFデータ貼り付け!O18=\"\",\"\",JAAFデータ貼り付け!O18)","v":""},{"$f":"IF(JAAFデータ貼り付け!P18=\"\",\"\",JAAFデータ貼り付け!P18)","v":""},{"$f":"IF(JAAFデータ貼り付け!Q18=\"\",\"\",JAAFデータ貼り付け!Q18)","v":""},{"$f":"IF(JAAFデータ貼り付け!R18=\"\",\"\",JAAFデータ貼り付け!R18)","v":""},{"$f":"生年月日貼り付け!E18&生年月日貼り付け!F18&生年月日貼り付け!G18","v":"000"},{"$f":"IF(JAAFデータ貼り付け!T18=\"\",\"\",JAAFデータ貼り付け!T18)","v":""},{"$f":"IF(JAAFデータ貼り付け!U18=\"\",\"\",JAAFデータ貼り付け!U18)","v":""},{"$f":"IF(Sheet5!B18=\"\",\"\",Sheet5!B18)","v":"0"},{"$f":"IF(JAAFデータ貼り付け!W18=\"\",\"\",JAAFデータ貼り付け!W18)","v":""},{"$f":"IF(JAAFデータ貼り付け!X18=\"\",\"\",JAAFデータ貼り付け!X18)","v":""},{"$f":"IF(JAAFデータ貼り付け!Y18=\"\",\"\",JAAFデータ貼り付け!Y18)","v":""},{"$f":"IF(JAAFデータ貼り付け!Z18=\"\",\"\",JAAFデータ貼り付け!Z18)","v":""},{"$f":"IF(JAAFデータ貼り付け!AA18=\"\",\"\",JAAFデータ貼り付け!AA18)","v":""},{"$f":"IF(JAAFデータ貼り付け!AB18=\"\",\"\",JAAFデータ貼り付け!AB18)","v":""},{"$f":"IF(JAAFデータ貼り付け!AC18=\"\",\"\",JAAFデータ貼り付け!AC18)","v":""},{"$f":"IF(JAAFデータ貼り付け!AD18=\"\",\"\",JAAFデータ貼り付け!AD18)","v":""},{"$f":"IF(JAAFデータ貼り付け!AE18=\"\",\"\",JAAFデータ貼り付け!AE18)","v":""},{"$f":"IF(JAAFデータ貼り付け!AF18=\"\",\"\",JAAFデータ貼り付け!AF18)","v":""},{"$f":"IF(JAAFデータ貼り付け!AG18=\"\",\"\",JAAFデータ貼り付け!AG18)","v":""},{"$f":"IF(JAAFデータ貼り付け!AH18=\"\",\"\",JAAFデータ貼り付け!AH18)","v":""},{"$f":"IF(JAAFデータ貼り付け!AI18=\"\",\"\",JAAFデータ貼り付け!AI18)","v":""},{"$f":"IF(JAAFデータ貼り付け!AJ18=\"\",\"\",JAAFデータ貼り付け!AJ18)","v":""},{"$f":"IF(JAAFデータ貼り付け!AK18=\"\",\"\",JAAFデータ貼り付け!AK18)","v":""},{"$f":"IF(JAAFデータ貼り付け!AL18=\"\",\"\",JAAFデータ貼り付け!AL18)","v":""},{"$f":"IF(JAAFデータ貼り付け!AM18=\"\",\"\",JAAFデータ貼り付け!AM18)","v":""},{"$f":"IF(JAAFデータ貼り付け!AN18=\"\",\"\",JAAFデータ貼り付け!AN18)","v":""},{"$f":"IF(JAAFデータ貼り付け!AO18=\"\",\"\",JAAFデータ貼り付け!AO18)","v":""},{"$f":"IF(JAAFデータ貼り付け!AP18=\"\",\"\",JAAFデータ貼り付け!AP18)","v":""},{"$f":"IF(JAAFデータ貼り付け!AQ18=\"\",\"\",JAAFデータ貼り付け!AQ18)","v":""}]
[{"$f":"IF(JAAFデータ貼り付け!E19=\"\",\"\",JAAFデータ貼り付け!E19)","v":""},{"$f":"IF(JAAFデータ貼り付け!B19=\"\",\"\",JAAFデータ貼り付け!B19)","v":""},{"$f":"IF(JAAFデータ貼り付け!C19=\"\",\"\",JAAFデータ貼り付け!C19)","v":""},{"$f":"IF(JAAFデータ貼り付け!D19=\"\",\"\",JAAFデータ貼り付け!D19)","v":""},null,{"$f":"IF(フリガナ貼り付け!D19=\"\",\"\",フリガナ貼り付け!D19)","v":""},{"$f":"IF(フリガナ貼り付け!E19=\"\",\"\",フリガナ貼り付け!E19)","v":""},{"$f":"IF(JAAFデータ貼り付け!H19=\"\",\"\",JAAFデータ貼り付け!H19)","v":""},{"$f":"IF(JAAFデータ貼り付け!I19=\"\",\"\",JAAFデータ貼り付け!I19)","v":""},{"$f":"IF(JAAFデータ貼り付け!J19=\"\",\"\",JAAFデータ貼り付け!J19)","v":""},{"$f":"IF(JAAFデータ貼り付け!K19=\"\",\"\",JAAFデータ貼り付け!K19)","v":""},{"$f":"IF(JAAFデータ貼り付け!L19=\"\",\"\",JAAFデータ貼り付け!L19)","v":""},{"$f":"IF(JAAFデータ貼り付け!M19=\"\",\"\",JAAFデータ貼り付け!M19)","v":""},{"$f":"IF(JAAFデータ貼り付け!N19=\"\",\"\",JAAFデータ貼り付け!N19)","v":""},{"$f":"IF(JAAFデータ貼り付け!O19=\"\",\"\",JAAFデータ貼り付け!O19)","v":""},{"$f":"IF(JAAFデータ貼り付け!P19=\"\",\"\",JAAFデータ貼り付け!P19)","v":""},{"$f":"IF(JAAFデータ貼り付け!Q19=\"\",\"\",JAAFデータ貼り付け!Q19)","v":""},{"$f":"IF(JAAFデータ貼り付け!R19=\"\",\"\",JAAFデータ貼り付け!R19)","v":""},{"$f":"生年月日貼り付け!E19&生年月日貼り付け!F19&生年月日貼り付け!G19","v":"000"},{"$f":"IF(JAAFデータ貼り付け!T19=\"\",\"\",JAAFデータ貼り付け!T19)","v":""},{"$f":"IF(JAAFデータ貼り付け!U19=\"\",\"\",JAAFデータ貼り付け!U19)","v":""},{"$f":"IF(Sheet5!B19=\"\",\"\",Sheet5!B19)","v":"0"},{"$f":"IF(JAAFデータ貼り付け!W19=\"\",\"\",JAAFデータ貼り付け!W19)","v":""},{"$f":"IF(JAAFデータ貼り付け!X19=\"\",\"\",JAAFデータ貼り付け!X19)","v":""},{"$f":"IF(JAAFデータ貼り付け!Y19=\"\",\"\",JAAFデータ貼り付け!Y19)","v":""},{"$f":"IF(JAAFデータ貼り付け!Z19=\"\",\"\",JAAFデータ貼り付け!Z19)","v":""},{"$f":"IF(JAAFデータ貼り付け!AA19=\"\",\"\",JAAFデータ貼り付け!AA19)","v":""},{"$f":"IF(JAAFデータ貼り付け!AB19=\"\",\"\",JAAFデータ貼り付け!AB19)","v":""},{"$f":"IF(JAAFデータ貼り付け!AC19=\"\",\"\",JAAFデータ貼り付け!AC19)","v":""},{"$f":"IF(JAAFデータ貼り付け!AD19=\"\",\"\",JAAFデータ貼り付け!AD19)","v":""},{"$f":"IF(JAAFデータ貼り付け!AE19=\"\",\"\",JAAFデータ貼り付け!AE19)","v":""},{"$f":"IF(JAAFデータ貼り付け!AF19=\"\",\"\",JAAFデータ貼り付け!AF19)","v":""},{"$f":"IF(JAAFデータ貼り付け!AG19=\"\",\"\",JAAFデータ貼り付け!AG19)","v":""},{"$f":"IF(JAAFデータ貼り付け!AH19=\"\",\"\",JAAFデータ貼り付け!AH19)","v":""},{"$f":"IF(JAAFデータ貼り付け!AI19=\"\",\"\",JAAFデータ貼り付け!AI19)","v":""},{"$f":"IF(JAAFデータ貼り付け!AJ19=\"\",\"\",JAAFデータ貼り付け!AJ19)","v":""},{"$f":"IF(JAAFデータ貼り付け!AK19=\"\",\"\",JAAFデータ貼り付け!AK19)","v":""},{"$f":"IF(JAAFデータ貼り付け!AL19=\"\",\"\",JAAFデータ貼り付け!AL19)","v":""},{"$f":"IF(JAAFデータ貼り付け!AM19=\"\",\"\",JAAFデータ貼り付け!AM19)","v":""},{"$f":"IF(JAAFデータ貼り付け!AN19=\"\",\"\",JAAFデータ貼り付け!AN19)","v":""},{"$f":"IF(JAAFデータ貼り付け!AO19=\"\",\"\",JAAFデータ貼り付け!AO19)","v":""},{"$f":"IF(JAAFデータ貼り付け!AP19=\"\",\"\",JAAFデータ貼り付け!AP19)","v":""},{"$f":"IF(JAAFデータ貼り付け!AQ19=\"\",\"\",JAAFデータ貼り付け!AQ19)","v":""}]
[{"$f":"IF(JAAFデータ貼り付け!E20=\"\",\"\",JAAFデータ貼り付け!E20)","v":""},{"$f":"IF(JAAFデータ貼り付け!B20=\"\",\"\",JAAFデータ貼り付け!B20)","v":""},{"$f":"IF(JAAFデータ貼り付け!C20=\"\",\"\",JAAFデータ貼り付け!C20)","v":""},{"$f":"IF(JAAFデータ貼り付け!D20=\"\",\"\",JAAFデータ貼り付け!D20)","v":""},null,{"$f":"IF(フリガナ貼り付け!D20=\"\",\"\",フリガナ貼り付け!D20)","v":""},{"$f":"IF(フリガナ貼り付け!E20=\"\",\"\",フリガナ貼り付け!E20)","v":""},{"$f":"IF(JAAFデータ貼り付け!H20=\"\",\"\",JAAFデータ貼り付け!H20)","v":""},{"$f":"IF(JAAFデータ貼り付け!I20=\"\",\"\",JAAFデータ貼り付け!I20)","v":""},{"$f":"IF(JAAFデータ貼り付け!J20=\"\",\"\",JAAFデータ貼り付け!J20)","v":""},{"$f":"IF(JAAFデータ貼り付け!K20=\"\",\"\",JAAFデータ貼り付け!K20)","v":""},{"$f":"IF(JAAFデータ貼り付け!L20=\"\",\"\",JAAFデータ貼り付け!L20)","v":""},{"$f":"IF(JAAFデータ貼り付け!M20=\"\",\"\",JAAFデータ貼り付け!M20)","v":""},{"$f":"IF(JAAFデータ貼り付け!N20=\"\",\"\",JAAFデータ貼り付け!N20)","v":""},{"$f":"IF(JAAFデータ貼り付け!O20=\"\",\"\",JAAFデータ貼り付け!O20)","v":""},{"$f":"IF(JAAFデータ貼り付け!P20=\"\",\"\",JAAFデータ貼り付け!P20)","v":""},{"$f":"IF(JAAFデータ貼り付け!Q20=\"\",\"\",JAAFデータ貼り付け!Q20)","v":""},{"$f":"IF(JAAFデータ貼り付け!R20=\"\",\"\",JAAFデータ貼り付け!R20)","v":""},{"$f":"生年月日貼り付け!E20&生年月日貼り付け!F20&生年月日貼り付け!G20","v":"000"},{"$f":"IF(JAAFデータ貼り付け!T20=\"\",\"\",JAAFデータ貼り付け!T20)","v":""},{"$f":"IF(JAAFデータ貼り付け!U20=\"\",\"\",JAAFデータ貼り付け!U20)","v":""},{"$f":"IF(Sheet5!B20=\"\",\"\",Sheet5!B20)","v":"0"},{"$f":"IF(JAAFデータ貼り付け!W20=\"\",\"\",JAAFデータ貼り付け!W20)","v":""},{"$f":"IF(JAAFデータ貼り付け!X20=\"\",\"\",JAAFデータ貼り付け!X20)","v":""},{"$f":"IF(JAAFデータ貼り付け!Y20=\"\",\"\",JAAFデータ貼り付け!Y20)","v":""},{"$f":"IF(JAAFデータ貼り付け!Z20=\"\",\"\",JAAFデータ貼り付け!Z20)","v":""},{"$f":"IF(JAAFデータ貼り付け!AA20=\"\",\"\",JAAFデータ貼り付け!AA20)","v":""},{"$f":"IF(JAAFデータ貼り付け!AB20=\"\",\"\",JAAFデータ貼り付け!AB20)","v":""},{"$f":"IF(JAAFデータ貼り付け!AC20=\"\",\"\",JAAFデータ貼り付け!AC20)","v":""},{"$f":"IF(JAAFデータ貼り付け!AD20=\"\",\"\",JAAFデータ貼り付け!AD20)","v":""},{"$f":"IF(JAAFデータ貼り付け!AE20=\"\",\"\",JAAFデータ貼り付け!AE20)","v":""},{"$f":"IF(JAAFデータ貼り付け!AF20=\"\",\"\",JAAFデータ貼り付け!AF20)","v":""},{"$f":"IF(JAAFデータ貼り付け!AG20=\"\",\"\",JAAFデータ貼り付け!AG20)","v":""},{"$f":"IF(JAAFデータ貼り付け!AH20=\"\",\"\",JAAFデータ貼り付け!AH20)","v":""},{"$f":"IF(JAAFデータ貼り付け!AI20=\"\",\"\",JAAFデータ貼り付け!AI20)","v":""},{"$f":"IF(JAAFデータ貼り付け!AJ20=\"\",\"\",JAAFデータ貼り付け!AJ20)","v":""},{"$f":"IF(JAAFデータ貼り付け!AK20=\"\",\"\",JAAFデータ貼り付け!AK20)","v":""},{"$f":"IF(JAAFデータ貼り付け!AL20=\"\",\"\",JAAFデータ貼り付け!AL20)","v":""},{"$f":"IF(JAAFデータ貼り付け!AM20=\"\",\"\",JAAFデータ貼り付け!AM20)","v":""},{"$f":"IF(JAAFデータ貼り付け!AN20=\"\",\"\",JAAFデータ貼り付け!AN20)","v":""},{"$f":"IF(JAAFデータ貼り付け!AO20=\"\",\"\",JAAFデータ貼り付け!AO20)","v":""},{"$f":"IF(JAAFデータ貼り付け!AP20=\"\",\"\",JAAFデータ貼り付け!AP20)","v":""},{"$f":"IF(JAAFデータ貼り付け!AQ20=\"\",\"\",JAAFデータ貼り付け!AQ20)","v":""}]
[{"$f":"IF(JAAFデータ貼り付け!E21=\"\",\"\",JAAFデータ貼り付け!E21)","v":""},{"$f":"IF(JAAFデータ貼り付け!B21=\"\",\"\",JAAFデータ貼り付け!B21)","v":""},{"$f":"IF(JAAFデータ貼り付け!C21=\"\",\"\",JAAFデータ貼り付け!C21)","v":""},{"$f":"IF(JAAFデータ貼り付け!D21=\"\",\"\",JAAFデータ貼り付け!D21)","v":""},null,{"$f":"IF(フリガナ貼り付け!D21=\"\",\"\",フリガナ貼り付け!D21)","v":""},{"$f":"IF(フリガナ貼り付け!E21=\"\",\"\",フリガナ貼り付け!E21)","v":""},{"$f":"IF(JAAFデータ貼り付け!H21=\"\",\"\",JAAFデータ貼り付け!H21)","v":""},{"$f":"IF(JAAFデータ貼り付け!I21=\"\",\"\",JAAFデータ貼り付け!I21)","v":""},{"$f":"IF(JAAFデータ貼り付け!J21=\"\",\"\",JAAFデータ貼り付け!J21)","v":""},{"$f":"IF(JAAFデータ貼り付け!K21=\"\",\"\",JAAFデータ貼り付け!K21)","v":""},{"$f":"IF(JAAFデータ貼り付け!L21=\"\",\"\",JAAFデータ貼り付け!L21)","v":""},{"$f":"IF(JAAFデータ貼り付け!M21=\"\",\"\",JAAFデータ貼り付け!M21)","v":""},{"$f":"IF(JAAFデータ貼り付け!N21=\"\",\"\",JAAFデータ貼り付け!N21)","v":""},{"$f":"IF(JAAFデータ貼り付け!O21=\"\",\"\",JAAFデータ貼り付け!O21)","v":""},{"$f":"IF(JAAFデータ貼り付け!P21=\"\",\"\",JAAFデータ貼り付け!P21)","v":""},{"$f":"IF(JAAFデータ貼り付け!Q21=\"\",\"\",JAAFデータ貼り付け!Q21)","v":""},{"$f":"IF(JAAFデータ貼り付け!R21=\"\",\"\",JAAFデータ貼り付け!R21)","v":""},{"$f":"生年月日貼り付け!E21&生年月日貼り付け!F21&生年月日貼り付け!G21","v":"000"},{"$f":"IF(JAAFデータ貼り付け!T21=\"\",\"\",JAAFデータ貼り付け!T21)","v":""},{"$f":"IF(JAAFデータ貼り付け!U21=\"\",\"\",JAAFデータ貼り付け!U21)","v":""},{"$f":"IF(Sheet5!B21=\"\",\"\",Sheet5!B21)","v":"0"},{"$f":"IF(JAAFデータ貼り付け!W21=\"\",\"\",JAAFデータ貼り付け!W21)","v":""},{"$f":"IF(JAAFデータ貼り付け!X21=\"\",\"\",JAAFデータ貼り付け!X21)","v":""},{"$f":"IF(JAAFデータ貼り付け!Y21=\"\",\"\",JAAFデータ貼り付け!Y21)","v":""},{"$f":"IF(JAAFデータ貼り付け!Z21=\"\",\"\",JAAFデータ貼り付け!Z21)","v":""},{"$f":"IF(JAAFデータ貼り付け!AA21=\"\",\"\",JAAFデータ貼り付け!AA21)","v":""},{"$f":"IF(JAAFデータ貼り付け!AB21=\"\",\"\",JAAFデータ貼り付け!AB21)","v":""},{"$f":"IF(JAAFデータ貼り付け!AC21=\"\",\"\",JAAFデータ貼り付け!AC21)","v":""},{"$f":"IF(JAAFデータ貼り付け!AD21=\"\",\"\",JAAFデータ貼り付け!AD21)","v":""},{"$f":"IF(JAAFデータ貼り付け!AE21=\"\",\"\",JAAFデータ貼り付け!AE21)","v":""},{"$f":"IF(JAAFデータ貼り付け!AF21=\"\",\"\",JAAFデータ貼り付け!AF21)","v":""},{"$f":"IF(JAAFデータ貼り付け!AG21=\"\",\"\",JAAFデータ貼り付け!AG21)","v":""},{"$f":"IF(JAAFデータ貼り付け!AH21=\"\",\"\",JAAFデータ貼り付け!AH21)","v":""},{"$f":"IF(JAAFデータ貼り付け!AI21=\"\",\"\",JAAFデータ貼り付け!AI21)","v":""},{"$f":"IF(JAAFデータ貼り付け!AJ21=\"\",\"\",JAAFデータ貼り付け!AJ21)","v":""},{"$f":"IF(JAAFデータ貼り付け!AK21=\"\",\"\",JAAFデータ貼り付け!AK21)","v":""},{"$f":"IF(JAAFデータ貼り付け!AL21=\"\",\"\",JAAFデータ貼り付け!AL21)","v":""},{"$f":"IF(JAAFデータ貼り付け!AM21=\"\",\"\",JAAFデータ貼り付け!AM21)","v":""},{"$f":"IF(JAAFデータ貼り付け!AN21=\"\",\"\",JAAFデータ貼り付け!AN21)","v":""},{"$f":"IF(JAAFデータ貼り付け!AO21=\"\",\"\",JAAFデータ貼り付け!AO21)","v":""},{"$f":"IF(JAAFデータ貼り付け!AP21=\"\",\"\",JAAFデータ貼り付け!AP21)","v":""},{"$f":"IF(JAAFデータ貼り付け!AQ21=\"\",\"\",JAAFデータ貼り付け!AQ21)","v":""}]
[{"$f":"IF(JAAFデータ貼り付け!E22=\"\",\"\",JAAFデータ貼り付け!E22)","v":""},{"$f":"IF(JAAFデータ貼り付け!B22=\"\",\"\",JAAFデータ貼り付け!B22)","v":""},{"$f":"IF(JAAFデータ貼り付け!C22=\"\",\"\",JAAFデータ貼り付け!C22)","v":""},{"$f":"IF(JAAFデータ貼り付け!D22=\"\",\"\",JAAFデータ貼り付け!D22)","v":""},null,{"$f":"IF(フリガナ貼り付け!D22=\"\",\"\",フリガナ貼り付け!D22)","v":""},{"$f":"IF(フリガナ貼り付け!E22=\"\",\"\",フリガナ貼り付け!E22)","v":""},{"$f":"IF(JAAFデータ貼り付け!H22=\"\",\"\",JAAFデータ貼り付け!H22)","v":""},{"$f":"IF(JAAFデータ貼り付け!I22=\"\",\"\",JAAFデータ貼り付け!I22)","v":""},{"$f":"IF(JAAFデータ貼り付け!J22=\"\",\"\",JAAFデータ貼り付け!J22)","v":""},{"$f":"IF(JAAFデータ貼り付け!K22=\"\",\"\",JAAFデータ貼り付け!K22)","v":""},{"$f":"IF(JAAFデータ貼り付け!L22=\"\",\"\",JAAFデータ貼り付け!L22)","v":""},{"$f":"IF(JAAFデータ貼り付け!M22=\"\",\"\",JAAFデータ貼り付け!M22)","v":""},{"$f":"IF(JAAFデータ貼り付け!N22=\"\",\"\",JAAFデータ貼り付け!N22)","v":""},{"$f":"IF(JAAFデータ貼り付け!O22=\"\",\"\",JAAFデータ貼り付け!O22)","v":""},{"$f":"IF(JAAFデータ貼り付け!P22=\"\",\"\",JAAFデータ貼り付け!P22)","v":""},{"$f":"IF(JAAFデータ貼り付け!Q22=\"\",\"\",JAAFデータ貼り付け!Q22)","v":""},{"$f":"IF(JAAFデータ貼り付け!R22=\"\",\"\",JAAFデータ貼り付け!R22)","v":""},{"$f":"生年月日貼り付け!E22&生年月日貼り付け!F22&生年月日貼り付け!G22","v":"000"},{"$f":"IF(JAAFデータ貼り付け!T22=\"\",\"\",JAAFデータ貼り付け!T22)","v":""},{"$f":"IF(JAAFデータ貼り付け!U22=\"\",\"\",JAAFデータ貼り付け!U22)","v":""},{"$f":"IF(Sheet5!B22=\"\",\"\",Sheet5!B22)","v":"0"},{"$f":"IF(JAAFデータ貼り付け!W22=\"\",\"\",JAAFデータ貼り付け!W22)","v":""},{"$f":"IF(JAAFデータ貼り付け!X22=\"\",\"\",JAAFデータ貼り付け!X22)","v":""},{"$f":"IF(JAAFデータ貼り付け!Y22=\"\",\"\",JAAFデータ貼り付け!Y22)","v":""},{"$f":"IF(JAAFデータ貼り付け!Z22=\"\",\"\",JAAFデータ貼り付け!Z22)","v":""},{"$f":"IF(JAAFデータ貼り付け!AA22=\"\",\"\",JAAFデータ貼り付け!AA22)","v":""},{"$f":"IF(JAAFデータ貼り付け!AB22=\"\",\"\",JAAFデータ貼り付け!AB22)","v":""},{"$f":"IF(JAAFデータ貼り付け!AC22=\"\",\"\",JAAFデータ貼り付け!AC22)","v":""},{"$f":"IF(JAAFデータ貼り付け!AD22=\"\",\"\",JAAFデータ貼り付け!AD22)","v":""},{"$f":"IF(JAAFデータ貼り付け!AE22=\"\",\"\",JAAFデータ貼り付け!AE22)","v":""},{"$f":"IF(JAAFデータ貼り付け!AF22=\"\",\"\",JAAFデータ貼り付け!AF22)","v":""},{"$f":"IF(JAAFデータ貼り付け!AG22=\"\",\"\",JAAFデータ貼り付け!AG22)","v":""},{"$f":"IF(JAAFデータ貼り付け!AH22=\"\",\"\",JAAFデータ貼り付け!AH22)","v":""},{"$f":"IF(JAAFデータ貼り付け!AI22=\"\",\"\",JAAFデータ貼り付け!AI22)","v":""},{"$f":"IF(JAAFデータ貼り付け!AJ22=\"\",\"\",JAAFデータ貼り付け!AJ22)","v":""},{"$f":"IF(JAAFデータ貼り付け!AK22=\"\",\"\",JAAFデータ貼り付け!AK22)","v":""},{"$f":"IF(JAAFデータ貼り付け!AL22=\"\",\"\",JAAFデータ貼り付け!AL22)","v":""},{"$f":"IF(JAAFデータ貼り付け!AM22=\"\",\"\",JAAFデータ貼り付け!AM22)","v":""},{"$f":"IF(JAAFデータ貼り付け!AN22=\"\",\"\",JAAFデータ貼り付け!AN22)","v":""},{"$f":"IF(JAAFデータ貼り付け!AO22=\"\",\"\",JAAFデータ貼り付け!AO22)","v":""},{"$f":"IF(JAAFデータ貼り付け!AP22=\"\",\"\",JAAFデータ貼り付け!AP22)","v":""},{"$f":"IF(JAAFデータ貼り付け!AQ22=\"\",\"\",JAAFデータ貼り付け!AQ22)","v":""}]
[{"$f":"IF(JAAFデータ貼り付け!E23=\"\",\"\",JAAFデータ貼り付け!E23)","v":""},{"$f":"IF(JAAFデータ貼り付け!B23=\"\",\"\",JAAFデータ貼り付け!B23)","v":""},{"$f":"IF(JAAFデータ貼り付け!C23=\"\",\"\",JAAFデータ貼り付け!C23)","v":""},{"$f":"IF(JAAFデータ貼り付け!D23=\"\",\"\",JAAFデータ貼り付け!D23)","v":""},null,{"$f":"IF(フリガナ貼り付け!D23=\"\",\"\",フリガナ貼り付け!D23)","v":""},{"$f":"IF(フリガナ貼り付け!E23=\"\",\"\",フリガナ貼り付け!E23)","v":""},{"$f":"IF(JAAFデータ貼り付け!H23=\"\",\"\",JAAFデータ貼り付け!H23)","v":""},{"$f":"IF(JAAFデータ貼り付け!I23=\"\",\"\",JAAFデータ貼り付け!I23)","v":""},{"$f":"IF(JAAFデータ貼り付け!J23=\"\",\"\",JAAFデータ貼り付け!J23)","v":""},{"$f":"IF(JAAFデータ貼り付け!K23=\"\",\"\",JAAFデータ貼り付け!K23)","v":""},{"$f":"IF(JAAFデータ貼り付け!L23=\"\",\"\",JAAFデータ貼り付け!L23)","v":""},{"$f":"IF(JAAFデータ貼り付け!M23=\"\",\"\",JAAFデータ貼り付け!M23)","v":""},{"$f":"IF(JAAFデータ貼り付け!N23=\"\",\"\",JAAFデータ貼り付け!N23)","v":""},{"$f":"IF(JAAFデータ貼り付け!O23=\"\",\"\",JAAFデータ貼り付け!O23)","v":""},{"$f":"IF(JAAFデータ貼り付け!P23=\"\",\"\",JAAFデータ貼り付け!P23)","v":""},{"$f":"IF(JAAFデータ貼り付け!Q23=\"\",\"\",JAAFデータ貼り付け!Q23)","v":""},{"$f":"IF(JAAFデータ貼り付け!R23=\"\",\"\",JAAFデータ貼り付け!R23)","v":""},{"$f":"生年月日貼り付け!E23&生年月日貼り付け!F23&生年月日貼り付け!G23","v":"000"},{"$f":"IF(JAAFデータ貼り付け!T23=\"\",\"\",JAAFデータ貼り付け!T23)","v":""},{"$f":"IF(JAAFデータ貼り付け!U23=\"\",\"\",JAAFデータ貼り付け!U23)","v":""},{"$f":"IF(Sheet5!B23=\"\",\"\",Sheet5!B23)","v":"0"},{"$f":"IF(JAAFデータ貼り付け!W23=\"\",\"\",JAAFデータ貼り付け!W23)","v":""},{"$f":"IF(JAAFデータ貼り付け!X23=\"\",\"\",JAAFデータ貼り付け!X23)","v":""},{"$f":"IF(JAAFデータ貼り付け!Y23=\"\",\"\",JAAFデータ貼り付け!Y23)","v":""},{"$f":"IF(JAAFデータ貼り付け!Z23=\"\",\"\",JAAFデータ貼り付け!Z23)","v":""},{"$f":"IF(JAAFデータ貼り付け!AA23=\"\",\"\",JAAFデータ貼り付け!AA23)","v":""},{"$f":"IF(JAAFデータ貼り付け!AB23=\"\",\"\",JAAFデータ貼り付け!AB23)","v":""},{"$f":"IF(JAAFデータ貼り付け!AC23=\"\",\"\",JAAFデータ貼り付け!AC23)","v":""},{"$f":"IF(JAAFデータ貼り付け!AD23=\"\",\"\",JAAFデータ貼り付け!AD23)","v":""},{"$f":"IF(JAAFデータ貼り付け!AE23=\"\",\"\",JAAFデータ貼り付け!AE23)","v":""},{"$f":"IF(JAAFデータ貼り付け!AF23=\"\",\"\",JAAFデータ貼り付け!AF23)","v":""},{"$f":"IF(JAAFデータ貼り付け!AG23=\"\",\"\",JAAFデータ貼り付け!AG23)","v":""},{"$f":"IF(JAAFデータ貼り付け!AH23=\"\",\"\",JAAFデータ貼り付け!AH23)","v":""},{"$f":"IF(JAAFデータ貼り付け!AI23=\"\",\"\",JAAFデータ貼り付け!AI23)","v":""},{"$f":"IF(JAAFデータ貼り付け!AJ23=\"\",\"\",JAAFデータ貼り付け!AJ23)","v":""},{"$f":"IF(JAAFデータ貼り付け!AK23=\"\",\"\",JAAFデータ貼り付け!AK23)","v":""},{"$f":"IF(JAAFデータ貼り付け!AL23=\"\",\"\",JAAFデータ貼り付け!AL23)","v":""},{"$f":"IF(JAAFデータ貼り付け!AM23=\"\",\"\",JAAFデータ貼り付け!AM23)","v":""},{"$f":"IF(JAAFデータ貼り付け!AN23=\"\",\"\",JAAFデータ貼り付け!AN23)","v":""},{"$f":"IF(JAAFデータ貼り付け!AO23=\"\",\"\",JAAFデータ貼り付け!AO23)","v":""},{"$f":"IF(JAAFデータ貼り付け!AP23=\"\",\"\",JAAFデータ貼り付け!AP23)","v":""},{"$f":"IF(JAAFデータ貼り付け!AQ23=\"\",\"\",JAAFデータ貼り付け!AQ23)","v":""}]
[{"$f":"IF(JAAFデータ貼り付け!E24=\"\",\"\",JAAFデータ貼り付け!E24)","v":""},{"$f":"IF(JAAFデータ貼り付け!B24=\"\",\"\",JAAFデータ貼り付け!B24)","v":""},{"$f":"IF(JAAFデータ貼り付け!C24=\"\",\"\",JAAFデータ貼り付け!C24)","v":""},{"$f":"IF(JAAFデータ貼り付け!D24=\"\",\"\",JAAFデータ貼り付け!D24)","v":""},null,{"$f":"IF(フリガナ貼り付け!D24=\"\",\"\",フリガナ貼り付け!D24)","v":""},{"$f":"IF(フリガナ貼り付け!E24=\"\",\"\",フリガナ貼り付け!E24)","v":""},{"$f":"IF(JAAFデータ貼り付け!H24=\"\",\"\",JAAFデータ貼り付け!H24)","v":""},{"$f":"IF(JAAFデータ貼り付け!I24=\"\",\"\",JAAFデータ貼り付け!I24)","v":""},{"$f":"IF(JAAFデータ貼り付け!J24=\"\",\"\",JAAFデータ貼り付け!J24)","v":""},{"$f":"IF(JAAFデータ貼り付け!K24=\"\",\"\",JAAFデータ貼り付け!K24)","v":""},{"$f":"IF(JAAFデータ貼り付け!L24=\"\",\"\",JAAFデータ貼り付け!L24)","v":""},{"$f":"IF(JAAFデータ貼り付け!M24=\"\",\"\",JAAFデータ貼り付け!M24)","v":""},{"$f":"IF(JAAFデータ貼り付け!N24=\"\",\"\",JAAFデータ貼り付け!N24)","v":""},{"$f":"IF(JAAFデータ貼り付け!O24=\"\",\"\",JAAFデータ貼り付け!O24)","v":""},{"$f":"IF(JAAFデータ貼り付け!P24=\"\",\"\",JAAFデータ貼り付け!P24)","v":""},{"$f":"IF(JAAFデータ貼り付け!Q24=\"\",\"\",JAAFデータ貼り付け!Q24)","v":""},{"$f":"IF(JAAFデータ貼り付け!R24=\"\",\"\",JAAFデータ貼り付け!R24)","v":""},{"$f":"生年月日貼り付け!E24&生年月日貼り付け!F24&生年月日貼り付け!G24","v":"000"},{"$f":"IF(JAAFデータ貼り付け!T24=\"\",\"\",JAAFデータ貼り付け!T24)","v":""},{"$f":"IF(JAAFデータ貼り付け!U24=\"\",\"\",JAAFデータ貼り付け!U24)","v":""},{"$f":"IF(Sheet5!B24=\"\",\"\",Sheet5!B24)","v":"0"},{"$f":"IF(JAAFデータ貼り付け!W24=\"\",\"\",JAAFデータ貼り付け!W24)","v":""},{"$f":"IF(JAAFデータ貼り付け!X24=\"\",\"\",JAAFデータ貼り付け!X24)","v":""},{"$f":"IF(JAAFデータ貼り付け!Y24=\"\",\"\",JAAFデータ貼り付け!Y24)","v":""},{"$f":"IF(JAAFデータ貼り付け!Z24=\"\",\"\",JAAFデータ貼り付け!Z24)","v":""},{"$f":"IF(JAAFデータ貼り付け!AA24=\"\",\"\",JAAFデータ貼り付け!AA24)","v":""},{"$f":"IF(JAAFデータ貼り付け!AB24=\"\",\"\",JAAFデータ貼り付け!AB24)","v":""},{"$f":"IF(JAAFデータ貼り付け!AC24=\"\",\"\",JAAFデータ貼り付け!AC24)","v":""},{"$f":"IF(JAAFデータ貼り付け!AD24=\"\",\"\",JAAFデータ貼り付け!AD24)","v":""},{"$f":"IF(JAAFデータ貼り付け!AE24=\"\",\"\",JAAFデータ貼り付け!AE24)","v":""},{"$f":"IF(JAAFデータ貼り付け!AF24=\"\",\"\",JAAFデータ貼り付け!AF24)","v":""},{"$f":"IF(JAAFデータ貼り付け!AG24=\"\",\"\",JAAFデータ貼り付け!AG24)","v":""},{"$f":"IF(JAAFデータ貼り付け!AH24=\"\",\"\",JAAFデータ貼り付け!AH24)","v":""},{"$f":"IF(JAAFデータ貼り付け!AI24=\"\",\"\",JAAFデータ貼り付け!AI24)","v":""},{"$f":"IF(JAAFデータ貼り付け!AJ24=\"\",\"\",JAAFデータ貼り付け!AJ24)","v":""},{"$f":"IF(JAAFデータ貼り付け!AK24=\"\",\"\",JAAFデータ貼り付け!AK24)","v":""},{"$f":"IF(JAAFデータ貼り付け!AL24=\"\",\"\",JAAFデータ貼り付け!AL24)","v":""},{"$f":"IF(JAAFデータ貼り付け!AM24=\"\",\"\",JAAFデータ貼り付け!AM24)","v":""},{"$f":"IF(JAAFデータ貼り付け!AN24=\"\",\"\",JAAFデータ貼り付け!AN24)","v":""},{"$f":"IF(JAAFデータ貼り付け!AO24=\"\",\"\",JAAFデータ貼り付け!AO24)","v":""},{"$f":"IF(JAAFデータ貼り付け!AP24=\"\",\"\",JAAFデータ貼り付け!AP24)","v":""},{"$f":"IF(JAAFデータ貼り付け!AQ24=\"\",\"\",JAAFデータ貼り付け!AQ24)","v":""}]
[{"$f":"IF(JAAFデータ貼り付け!E25=\"\",\"\",JAAFデータ貼り付け!E25)","v":""},{"$f":"IF(JAAFデータ貼り付け!B25=\"\",\"\",JAAFデータ貼り付け!B25)","v":""},{"$f":"IF(JAAFデータ貼り付け!C25=\"\",\"\",JAAFデータ貼り付け!C25)","v":""},{"$f":"IF(JAAFデータ貼り付け!D25=\"\",\"\",JAAFデータ貼り付け!D25)","v":""},null,{"$f":"IF(フリガナ貼り付け!D25=\"\",\"\",フリガナ貼り付け!D25)","v":""},{"$f":"IF(フリガナ貼り付け!E25=\"\",\"\",フリガナ貼り付け!E25)","v":""},{"$f":"IF(JAAFデータ貼り付け!H25=\"\",\"\",JAAFデータ貼り付け!H25)","v":""},{"$f":"IF(JAAFデータ貼り付け!I25=\"\",\"\",JAAFデータ貼り付け!I25)","v":""},{"$f":"IF(JAAFデータ貼り付け!J25=\"\",\"\",JAAFデータ貼り付け!J25)","v":""},{"$f":"IF(JAAFデータ貼り付け!K25=\"\",\"\",JAAFデータ貼り付け!K25)","v":""},{"$f":"IF(JAAFデータ貼り付け!L25=\"\",\"\",JAAFデータ貼り付け!L25)","v":""},{"$f":"IF(JAAFデータ貼り付け!M25=\"\",\"\",JAAFデータ貼り付け!M25)","v":""},{"$f":"IF(JAAFデータ貼り付け!N25=\"\",\"\",JAAFデータ貼り付け!N25)","v":""},{"$f":"IF(JAAFデータ貼り付け!O25=\"\",\"\",JAAFデータ貼り付け!O25)","v":""},{"$f":"IF(JAAFデータ貼り付け!P25=\"\",\"\",JAAFデータ貼り付け!P25)","v":""},{"$f":"IF(JAAFデータ貼り付け!Q25=\"\",\"\",JAAFデータ貼り付け!Q25)","v":""},{"$f":"IF(JAAFデータ貼り付け!R25=\"\",\"\",JAAFデータ貼り付け!R25)","v":""},{"$f":"生年月日貼り付け!E25&生年月日貼り付け!F25&生年月日貼り付け!G25","v":"000"},{"$f":"IF(JAAFデータ貼り付け!T25=\"\",\"\",JAAFデータ貼り付け!T25)","v":""},{"$f":"IF(JAAFデータ貼り付け!U25=\"\",\"\",JAAFデータ貼り付け!U25)","v":""},{"$f":"IF(Sheet5!B25=\"\",\"\",Sheet5!B25)","v":"0"},{"$f":"IF(JAAFデータ貼り付け!W25=\"\",\"\",JAAFデータ貼り付け!W25)","v":""},{"$f":"IF(JAAFデータ貼り付け!X25=\"\",\"\",JAAFデータ貼り付け!X25)","v":""},{"$f":"IF(JAAFデータ貼り付け!Y25=\"\",\"\",JAAFデータ貼り付け!Y25)","v":""},{"$f":"IF(JAAFデータ貼り付け!Z25=\"\",\"\",JAAFデータ貼り付け!Z25)","v":""},{"$f":"IF(JAAFデータ貼り付け!AA25=\"\",\"\",JAAFデータ貼り付け!AA25)","v":""},{"$f":"IF(JAAFデータ貼り付け!AB25=\"\",\"\",JAAFデータ貼り付け!AB25)","v":""},{"$f":"IF(JAAFデータ貼り付け!AC25=\"\",\"\",JAAFデータ貼り付け!AC25)","v":""},{"$f":"IF(JAAFデータ貼り付け!AD25=\"\",\"\",JAAFデータ貼り付け!AD25)","v":""},{"$f":"IF(JAAFデータ貼り付け!AE25=\"\",\"\",JAAFデータ貼り付け!AE25)","v":""},{"$f":"IF(JAAFデータ貼り付け!AF25=\"\",\"\",JAAFデータ貼り付け!AF25)","v":""},{"$f":"IF(JAAFデータ貼り付け!AG25=\"\",\"\",JAAFデータ貼り付け!AG25)","v":""},{"$f":"IF(JAAFデータ貼り付け!AH25=\"\",\"\",JAAFデータ貼り付け!AH25)","v":""},{"$f":"IF(JAAFデータ貼り付け!AI25=\"\",\"\",JAAFデータ貼り付け!AI25)","v":""},{"$f":"IF(JAAFデータ貼り付け!AJ25=\"\",\"\",JAAFデータ貼り付け!AJ25)","v":""},{"$f":"IF(JAAFデータ貼り付け!AK25=\"\",\"\",JAAFデータ貼り付け!AK25)","v":""},{"$f":"IF(JAAFデータ貼り付け!AL25=\"\",\"\",JAAFデータ貼り付け!AL25)","v":""},{"$f":"IF(JAAFデータ貼り付け!AM25=\"\",\"\",JAAFデータ貼り付け!AM25)","v":""},{"$f":"IF(JAAFデータ貼り付け!AN25=\"\",\"\",JAAFデータ貼り付け!AN25)","v":""},{"$f":"IF(JAAFデータ貼り付け!AO25=\"\",\"\",JAAFデータ貼り付け!AO25)","v":""},{"$f":"IF(JAAFデータ貼り付け!AP25=\"\",\"\",JAAFデータ貼り付け!AP25)","v":""},{"$f":"IF(JAAFデータ貼り付け!AQ25=\"\",\"\",JAAFデータ貼り付け!AQ25)","v":""}]
[{"$f":"IF(JAAFデータ貼り付け!E26=\"\",\"\",JAAFデータ貼り付け!E26)","v":""},{"$f":"IF(JAAFデータ貼り付け!B26=\"\",\"\",JAAFデータ貼り付け!B26)","v":""},{"$f":"IF(JAAFデータ貼り付け!C26=\"\",\"\",JAAFデータ貼り付け!C26)","v":""},{"$f":"IF(JAAFデータ貼り付け!D26=\"\",\"\",JAAFデータ貼り付け!D26)","v":""},null,{"$f":"IF(フリガナ貼り付け!D26=\"\",\"\",フリガナ貼り付け!D26)","v":""},{"$f":"IF(フリガナ貼り付け!E26=\"\",\"\",フリガナ貼り付け!E26)","v":""},{"$f":"IF(JAAFデータ貼り付け!H26=\"\",\"\",JAAFデータ貼り付け!H26)","v":""},{"$f":"IF(JAAFデータ貼り付け!I26=\"\",\"\",JAAFデータ貼り付け!I26)","v":""},{"$f":"IF(JAAFデータ貼り付け!J26=\"\",\"\",JAAFデータ貼り付け!J26)","v":""},{"$f":"IF(JAAFデータ貼り付け!K26=\"\",\"\",JAAFデータ貼り付け!K26)","v":""},{"$f":"IF(JAAFデータ貼り付け!L26=\"\",\"\",JAAFデータ貼り付け!L26)","v":""},{"$f":"IF(JAAFデータ貼り付け!M26=\"\",\"\",JAAFデータ貼り付け!M26)","v":""},{"$f":"IF(JAAFデータ貼り付け!N26=\"\",\"\",JAAFデータ貼り付け!N26)","v":""},{"$f":"IF(JAAFデータ貼り付け!O26=\"\",\"\",JAAFデータ貼り付け!O26)","v":""},{"$f":"IF(JAAFデータ貼り付け!P26=\"\",\"\",JAAFデータ貼り付け!P26)","v":""},{"$f":"IF(JAAFデータ貼り付け!Q26=\"\",\"\",JAAFデータ貼り付け!Q26)","v":""},{"$f":"IF(JAAFデータ貼り付け!R26=\"\",\"\",JAAFデータ貼り付け!R26)","v":""},{"$f":"生年月日貼り付け!E26&生年月日貼り付け!F26&生年月日貼り付け!G26","v":"000"},{"$f":"IF(JAAFデータ貼り付け!T26=\"\",\"\",JAAFデータ貼り付け!T26)","v":""},{"$f":"IF(JAAFデータ貼り付け!U26=\"\",\"\",JAAFデータ貼り付け!U26)","v":""},{"$f":"IF(Sheet5!B26=\"\",\"\",Sheet5!B26)","v":"0"},{"$f":"IF(JAAFデータ貼り付け!W26=\"\",\"\",JAAFデータ貼り付け!W26)","v":""},{"$f":"IF(JAAFデータ貼り付け!X26=\"\",\"\",JAAFデータ貼り付け!X26)","v":""},{"$f":"IF(JAAFデータ貼り付け!Y26=\"\",\"\",JAAFデータ貼り付け!Y26)","v":""},{"$f":"IF(JAAFデータ貼り付け!Z26=\"\",\"\",JAAFデータ貼り付け!Z26)","v":""},{"$f":"IF(JAAFデータ貼り付け!AA26=\"\",\"\",JAAFデータ貼り付け!AA26)","v":""},{"$f":"IF(JAAFデータ貼り付け!AB26=\"\",\"\",JAAFデータ貼り付け!AB26)","v":""},{"$f":"IF(JAAFデータ貼り付け!AC26=\"\",\"\",JAAFデータ貼り付け!AC26)","v":""},{"$f":"IF(JAAFデータ貼り付け!AD26=\"\",\"\",JAAFデータ貼り付け!AD26)","v":""},{"$f":"IF(JAAFデータ貼り付け!AE26=\"\",\"\",JAAFデータ貼り付け!AE26)","v":""},{"$f":"IF(JAAFデータ貼り付け!AF26=\"\",\"\",JAAFデータ貼り付け!AF26)","v":""},{"$f":"IF(JAAFデータ貼り付け!AG26=\"\",\"\",JAAFデータ貼り付け!AG26)","v":""},{"$f":"IF(JAAFデータ貼り付け!AH26=\"\",\"\",JAAFデータ貼り付け!AH26)","v":""},{"$f":"IF(JAAFデータ貼り付け!AI26=\"\",\"\",JAAFデータ貼り付け!AI26)","v":""},{"$f":"IF(JAAFデータ貼り付け!AJ26=\"\",\"\",JAAFデータ貼り付け!AJ26)","v":""},{"$f":"IF(JAAFデータ貼り付け!AK26=\"\",\"\",JAAFデータ貼り付け!AK26)","v":""},{"$f":"IF(JAAFデータ貼り付け!AL26=\"\",\"\",JAAFデータ貼り付け!AL26)","v":""},{"$f":"IF(JAAFデータ貼り付け!AM26=\"\",\"\",JAAFデータ貼り付け!AM26)","v":""},{"$f":"IF(JAAFデータ貼り付け!AN26=\"\",\"\",JAAFデータ貼り付け!AN26)","v":""},{"$f":"IF(JAAFデータ貼り付け!AO26=\"\",\"\",JAAFデータ貼り付け!AO26)","v":""},{"$f":"IF(JAAFデータ貼り付け!AP26=\"\",\"\",JAAFデータ貼り付け!AP26)","v":""},{"$f":"IF(JAAFデータ貼り付け!AQ26=\"\",\"\",JAAFデータ貼り付け!AQ26)","v":""}]
[{"$f":"IF(JAAFデータ貼り付け!E27=\"\",\"\",JAAFデータ貼り付け!E27)","v":""},{"$f":"IF(JAAFデータ貼り付け!B27=\"\",\"\",JAAFデータ貼り付け!B27)","v":""},{"$f":"IF(JAAFデータ貼り付け!C27=\"\",\"\",JAAFデータ貼り付け!C27)","v":""},{"$f":"IF(JAAFデータ貼り付け!D27=\"\",\"\",JAAFデータ貼り付け!D27)","v":""},null,{"$f":"IF(フリガナ貼り付け!D27=\"\",\"\",フリガナ貼り付け!D27)","v":""},{"$f":"IF(フリガナ貼り付け!E27=\"\",\"\",フリガナ貼り付け!E27)","v":""},{"$f":"IF(JAAFデータ貼り付け!H27=\"\",\"\",JAAFデータ貼り付け!H27)","v":""},{"$f":"IF(JAAFデータ貼り付け!I27=\"\",\"\",JAAFデータ貼り付け!I27)","v":""},{"$f":"IF(JAAFデータ貼り付け!J27=\"\",\"\",JAAFデータ貼り付け!J27)","v":""},{"$f":"IF(JAAFデータ貼り付け!K27=\"\",\"\",JAAFデータ貼り付け!K27)","v":""},{"$f":"IF(JAAFデータ貼り付け!L27=\"\",\"\",JAAFデータ貼り付け!L27)","v":""},{"$f":"IF(JAAFデータ貼り付け!M27=\"\",\"\",JAAFデータ貼り付け!M27)","v":""},{"$f":"IF(JAAFデータ貼り付け!N27=\"\",\"\",JAAFデータ貼り付け!N27)","v":""},{"$f":"IF(JAAFデータ貼り付け!O27=\"\",\"\",JAAFデータ貼り付け!O27)","v":""},{"$f":"IF(JAAFデータ貼り付け!P27=\"\",\"\",JAAFデータ貼り付け!P27)","v":""},{"$f":"IF(JAAFデータ貼り付け!Q27=\"\",\"\",JAAFデータ貼り付け!Q27)","v":""},{"$f":"IF(JAAFデータ貼り付け!R27=\"\",\"\",JAAFデータ貼り付け!R27)","v":""},{"$f":"生年月日貼り付け!E27&生年月日貼り付け!F27&生年月日貼り付け!G27","v":"000"},{"$f":"IF(JAAFデータ貼り付け!T27=\"\",\"\",JAAFデータ貼り付け!T27)","v":""},{"$f":"IF(JAAFデータ貼り付け!U27=\"\",\"\",JAAFデータ貼り付け!U27)","v":""},{"$f":"IF(Sheet5!B27=\"\",\"\",Sheet5!B27)","v":"0"},{"$f":"IF(JAAFデータ貼り付け!W27=\"\",\"\",JAAFデータ貼り付け!W27)","v":""},{"$f":"IF(JAAFデータ貼り付け!X27=\"\",\"\",JAAFデータ貼り付け!X27)","v":""},{"$f":"IF(JAAFデータ貼り付け!Y27=\"\",\"\",JAAFデータ貼り付け!Y27)","v":""},{"$f":"IF(JAAFデータ貼り付け!Z27=\"\",\"\",JAAFデータ貼り付け!Z27)","v":""},{"$f":"IF(JAAFデータ貼り付け!AA27=\"\",\"\",JAAFデータ貼り付け!AA27)","v":""},{"$f":"IF(JAAFデータ貼り付け!AB27=\"\",\"\",JAAFデータ貼り付け!AB27)","v":""},{"$f":"IF(JAAFデータ貼り付け!AC27=\"\",\"\",JAAFデータ貼り付け!AC27)","v":""},{"$f":"IF(JAAFデータ貼り付け!AD27=\"\",\"\",JAAFデータ貼り付け!AD27)","v":""},{"$f":"IF(JAAFデータ貼り付け!AE27=\"\",\"\",JAAFデータ貼り付け!AE27)","v":""},{"$f":"IF(JAAFデータ貼り付け!AF27=\"\",\"\",JAAFデータ貼り付け!AF27)","v":""},{"$f":"IF(JAAFデータ貼り付け!AG27=\"\",\"\",JAAFデータ貼り付け!AG27)","v":""},{"$f":"IF(JAAFデータ貼り付け!AH27=\"\",\"\",JAAFデータ貼り付け!AH27)","v":""},{"$f":"IF(JAAFデータ貼り付け!AI27=\"\",\"\",JAAFデータ貼り付け!AI27)","v":""},{"$f":"IF(JAAFデータ貼り付け!AJ27=\"\",\"\",JAAFデータ貼り付け!AJ27)","v":""},{"$f":"IF(JAAFデータ貼り付け!AK27=\"\",\"\",JAAFデータ貼り付け!AK27)","v":""},{"$f":"IF(JAAFデータ貼り付け!AL27=\"\",\"\",JAAFデータ貼り付け!AL27)","v":""},{"$f":"IF(JAAFデータ貼り付け!AM27=\"\",\"\",JAAFデータ貼り付け!AM27)","v":""},{"$f":"IF(JAAFデータ貼り付け!AN27=\"\",\"\",JAAFデータ貼り付け!AN27)","v":""},{"$f":"IF(JAAFデータ貼り付け!AO27=\"\",\"\",JAAFデータ貼り付け!AO27)","v":""},{"$f":"IF(JAAFデータ貼り付け!AP27=\"\",\"\",JAAFデータ貼り付け!AP27)","v":""},{"$f":"IF(JAAFデータ貼り付け!AQ27=\"\",\"\",JAAFデータ貼り付け!AQ27)","v":""}]
[{"$f":"IF(JAAFデータ貼り付け!E28=\"\",\"\",JAAFデータ貼り付け!E28)","v":""},{"$f":"IF(JAAFデータ貼り付け!B28=\"\",\"\",JAAFデータ貼り付け!B28)","v":""},{"$f":"IF(JAAFデータ貼り付け!C28=\"\",\"\",JAAFデータ貼り付け!C28)","v":""},{"$f":"IF(JAAFデータ貼り付け!D28=\"\",\"\",JAAFデータ貼り付け!D28)","v":""},null,{"$f":"IF(フリガナ貼り付け!D28=\"\",\"\",フリガナ貼り付け!D28)","v":""},{"$f":"IF(フリガナ貼り付け!E28=\"\",\"\",フリガナ貼り付け!E28)","v":""},{"$f":"IF(JAAFデータ貼り付け!H28=\"\",\"\",JAAFデータ貼り付け!H28)","v":""},{"$f":"IF(JAAFデータ貼り付け!I28=\"\",\"\",JAAFデータ貼り付け!I28)","v":""},{"$f":"IF(JAAFデータ貼り付け!J28=\"\",\"\",JAAFデータ貼り付け!J28)","v":""},{"$f":"IF(JAAFデータ貼り付け!K28=\"\",\"\",JAAFデータ貼り付け!K28)","v":""},{"$f":"IF(JAAFデータ貼り付け!L28=\"\",\"\",JAAFデータ貼り付け!L28)","v":""},{"$f":"IF(JAAFデータ貼り付け!M28=\"\",\"\",JAAFデータ貼り付け!M28)","v":""},{"$f":"IF(JAAFデータ貼り付け!N28=\"\",\"\",JAAFデータ貼り付け!N28)","v":""},{"$f":"IF(JAAFデータ貼り付け!O28=\"\",\"\",JAAFデータ貼り付け!O28)","v":""},{"$f":"IF(JAAFデータ貼り付け!P28=\"\",\"\",JAAFデータ貼り付け!P28)","v":""},{"$f":"IF(JAAFデータ貼り付け!Q28=\"\",\"\",JAAFデータ貼り付け!Q28)","v":""},{"$f":"IF(JAAFデータ貼り付け!R28=\"\",\"\",JAAFデータ貼り付け!R28)","v":""},{"$f":"生年月日貼り付け!E28&生年月日貼り付け!F28&生年月日貼り付け!G28","v":"000"},{"$f":"IF(JAAFデータ貼り付け!T28=\"\",\"\",JAAFデータ貼り付け!T28)","v":""},{"$f":"IF(JAAFデータ貼り付け!U28=\"\",\"\",JAAFデータ貼り付け!U28)","v":""},{"$f":"IF(Sheet5!B28=\"\",\"\",Sheet5!B28)","v":"0"},{"$f":"IF(JAAFデータ貼り付け!W28=\"\",\"\",JAAFデータ貼り付け!W28)","v":""},{"$f":"IF(JAAFデータ貼り付け!X28=\"\",\"\",JAAFデータ貼り付け!X28)","v":""},{"$f":"IF(JAAFデータ貼り付け!Y28=\"\",\"\",JAAFデータ貼り付け!Y28)","v":""},{"$f":"IF(JAAFデータ貼り付け!Z28=\"\",\"\",JAAFデータ貼り付け!Z28)","v":""},{"$f":"IF(JAAFデータ貼り付け!AA28=\"\",\"\",JAAFデータ貼り付け!AA28)","v":""},{"$f":"IF(JAAFデータ貼り付け!AB28=\"\",\"\",JAAFデータ貼り付け!AB28)","v":""},{"$f":"IF(JAAFデータ貼り付け!AC28=\"\",\"\",JAAFデータ貼り付け!AC28)","v":""},{"$f":"IF(JAAFデータ貼り付け!AD28=\"\",\"\",JAAFデータ貼り付け!AD28)","v":""},{"$f":"IF(JAAFデータ貼り付け!AE28=\"\",\"\",JAAFデータ貼り付け!AE28)","v":""},{"$f":"IF(JAAFデータ貼り付け!AF28=\"\",\"\",JAAFデータ貼り付け!AF28)","v":""},{"$f":"IF(JAAFデータ貼り付け!AG28=\"\",\"\",JAAFデータ貼り付け!AG28)","v":""},{"$f":"IF(JAAFデータ貼り付け!AH28=\"\",\"\",JAAFデータ貼り付け!AH28)","v":""},{"$f":"IF(JAAFデータ貼り付け!AI28=\"\",\"\",JAAFデータ貼り付け!AI28)","v":""},{"$f":"IF(JAAFデータ貼り付け!AJ28=\"\",\"\",JAAFデータ貼り付け!AJ28)","v":""},{"$f":"IF(JAAFデータ貼り付け!AK28=\"\",\"\",JAAFデータ貼り付け!AK28)","v":""},{"$f":"IF(JAAFデータ貼り付け!AL28=\"\",\"\",JAAFデータ貼り付け!AL28)","v":""},{"$f":"IF(JAAFデータ貼り付け!AM28=\"\",\"\",JAAFデータ貼り付け!AM28)","v":""},{"$f":"IF(JAAFデータ貼り付け!AN28=\"\",\"\",JAAFデータ貼り付け!AN28)","v":""},{"$f":"IF(JAAFデータ貼り付け!AO28=\"\",\"\",JAAFデータ貼り付け!AO28)","v":""},{"$f":"IF(JAAFデータ貼り付け!AP28=\"\",\"\",JAAFデータ貼り付け!AP28)","v":""},{"$f":"IF(JAAFデータ貼り付け!AQ28=\"\",\"\",JAAFデータ貼り付け!AQ28)","v":""}]
[{"$f":"IF(JAAFデータ貼り付け!E29=\"\",\"\",JAAFデータ貼り付け!E29)","v":""},{"$f":"IF(JAAFデータ貼り付け!B29=\"\",\"\",JAAFデータ貼り付け!B29)","v":""},{"$f":"IF(JAAFデータ貼り付け!C29=\"\",\"\",JAAFデータ貼り付け!C29)","v":""},{"$f":"IF(JAAFデータ貼り付け!D29=\"\",\"\",JAAFデータ貼り付け!D29)","v":""},null,{"$f":"IF(フリガナ貼り付け!D29=\"\",\"\",フリガナ貼り付け!D29)","v":""},{"$f":"IF(フリガナ貼り付け!E29=\"\",\"\",フリガナ貼り付け!E29)","v":""},{"$f":"IF(JAAFデータ貼り付け!H29=\"\",\"\",JAAFデータ貼り付け!H29)","v":""},{"$f":"IF(JAAFデータ貼り付け!I29=\"\",\"\",JAAFデータ貼り付け!I29)","v":""},{"$f":"IF(JAAFデータ貼り付け!J29=\"\",\"\",JAAFデータ貼り付け!J29)","v":""},{"$f":"IF(JAAFデータ貼り付け!K29=\"\",\"\",JAAFデータ貼り付け!K29)","v":""},{"$f":"IF(JAAFデータ貼り付け!L29=\"\",\"\",JAAFデータ貼り付け!L29)","v":""},{"$f":"IF(JAAFデータ貼り付け!M29=\"\",\"\",JAAFデータ貼り付け!M29)","v":""},{"$f":"IF(JAAFデータ貼り付け!N29=\"\",\"\",JAAFデータ貼り付け!N29)","v":""},{"$f":"IF(JAAFデータ貼り付け!O29=\"\",\"\",JAAFデータ貼り付け!O29)","v":""},{"$f":"IF(JAAFデータ貼り付け!P29=\"\",\"\",JAAFデータ貼り付け!P29)","v":""},{"$f":"IF(JAAFデータ貼り付け!Q29=\"\",\"\",JAAFデータ貼り付け!Q29)","v":""},{"$f":"IF(JAAFデータ貼り付け!R29=\"\",\"\",JAAFデータ貼り付け!R29)","v":""},{"$f":"生年月日貼り付け!E29&生年月日貼り付け!F29&生年月日貼り付け!G29","v":"000"},{"$f":"IF(JAAFデータ貼り付け!T29=\"\",\"\",JAAFデータ貼り付け!T29)","v":""},{"$f":"IF(JAAFデータ貼り付け!U29=\"\",\"\",JAAFデータ貼り付け!U29)","v":""},{"$f":"IF(Sheet5!B29=\"\",\"\",Sheet5!B29)","v":"0"},{"$f":"IF(JAAFデータ貼り付け!W29=\"\",\"\",JAAFデータ貼り付け!W29)","v":""},{"$f":"IF(JAAFデータ貼り付け!X29=\"\",\"\",JAAFデータ貼り付け!X29)","v":""},{"$f":"IF(JAAFデータ貼り付け!Y29=\"\",\"\",JAAFデータ貼り付け!Y29)","v":""},{"$f":"IF(JAAFデータ貼り付け!Z29=\"\",\"\",JAAFデータ貼り付け!Z29)","v":""},{"$f":"IF(JAAFデータ貼り付け!AA29=\"\",\"\",JAAFデータ貼り付け!AA29)","v":""},{"$f":"IF(JAAFデータ貼り付け!AB29=\"\",\"\",JAAFデータ貼り付け!AB29)","v":""},{"$f":"IF(JAAFデータ貼り付け!AC29=\"\",\"\",JAAFデータ貼り付け!AC29)","v":""},{"$f":"IF(JAAFデータ貼り付け!AD29=\"\",\"\",JAAFデータ貼り付け!AD29)","v":""},{"$f":"IF(JAAFデータ貼り付け!AE29=\"\",\"\",JAAFデータ貼り付け!AE29)","v":""},{"$f":"IF(JAAFデータ貼り付け!AF29=\"\",\"\",JAAFデータ貼り付け!AF29)","v":""},{"$f":"IF(JAAFデータ貼り付け!AG29=\"\",\"\",JAAFデータ貼り付け!AG29)","v":""},{"$f":"IF(JAAFデータ貼り付け!AH29=\"\",\"\",JAAFデータ貼り付け!AH29)","v":""},{"$f":"IF(JAAFデータ貼り付け!AI29=\"\",\"\",JAAFデータ貼り付け!AI29)","v":""},{"$f":"IF(JAAFデータ貼り付け!AJ29=\"\",\"\",JAAFデータ貼り付け!AJ29)","v":""},{"$f":"IF(JAAFデータ貼り付け!AK29=\"\",\"\",JAAFデータ貼り付け!AK29)","v":""},{"$f":"IF(JAAFデータ貼り付け!AL29=\"\",\"\",JAAFデータ貼り付け!AL29)","v":""},{"$f":"IF(JAAFデータ貼り付け!AM29=\"\",\"\",JAAFデータ貼り付け!AM29)","v":""},{"$f":"IF(JAAFデータ貼り付け!AN29=\"\",\"\",JAAFデータ貼り付け!AN29)","v":""},{"$f":"IF(JAAFデータ貼り付け!AO29=\"\",\"\",JAAFデータ貼り付け!AO29)","v":""},{"$f":"IF(JAAFデータ貼り付け!AP29=\"\",\"\",JAAFデータ貼り付け!AP29)","v":""},{"$f":"IF(JAAFデータ貼り付け!AQ29=\"\",\"\",JAAFデータ貼り付け!AQ29)","v":""}]
[{"$f":"IF(JAAFデータ貼り付け!E30=\"\",\"\",JAAFデータ貼り付け!E30)","v":""},{"$f":"IF(JAAFデータ貼り付け!B30=\"\",\"\",JAAFデータ貼り付け!B30)","v":""},{"$f":"IF(JAAFデータ貼り付け!C30=\"\",\"\",JAAFデータ貼り付け!C30)","v":""},{"$f":"IF(JAAFデータ貼り付け!D30=\"\",\"\",JAAFデータ貼り付け!D30)","v":""},null,{"$f":"IF(フリガナ貼り付け!D30=\"\",\"\",フリガナ貼り付け!D30)","v":""},{"$f":"IF(フリガナ貼り付け!E30=\"\",\"\",フリガナ貼り付け!E30)","v":""},{"$f":"IF(JAAFデータ貼り付け!H30=\"\",\"\",JAAFデータ貼り付け!H30)","v":""},{"$f":"IF(JAAFデータ貼り付け!I30=\"\",\"\",JAAFデータ貼り付け!I30)","v":""},{"$f":"IF(JAAFデータ貼り付け!J30=\"\",\"\",JAAFデータ貼り付け!J30)","v":""},{"$f":"IF(JAAFデータ貼り付け!K30=\"\",\"\",JAAFデータ貼り付け!K30)","v":""},{"$f":"IF(JAAFデータ貼り付け!L30=\"\",\"\",JAAFデータ貼り付け!L30)","v":""},{"$f":"IF(JAAFデータ貼り付け!M30=\"\",\"\",JAAFデータ貼り付け!M30)","v":""},{"$f":"IF(JAAFデータ貼り付け!N30=\"\",\"\",JAAFデータ貼り付け!N30)","v":""},{"$f":"IF(JAAFデータ貼り付け!O30=\"\",\"\",JAAFデータ貼り付け!O30)","v":""},{"$f":"IF(JAAFデータ貼り付け!P30=\"\",\"\",JAAFデータ貼り付け!P30)","v":""},{"$f":"IF(JAAFデータ貼り付け!Q30=\"\",\"\",JAAFデータ貼り付け!Q30)","v":""},{"$f":"IF(JAAFデータ貼り付け!R30=\"\",\"\",JAAFデータ貼り付け!R30)","v":""},{"$f":"生年月日貼り付け!E30&生年月日貼り付け!F30&生年月日貼り付け!G30","v":"000"},{"$f":"IF(JAAFデータ貼り付け!T30=\"\",\"\",JAAFデータ貼り付け!T30)","v":""},{"$f":"IF(JAAFデータ貼り付け!U30=\"\",\"\",JAAFデータ貼り付け!U30)","v":""},{"$f":"IF(Sheet5!B30=\"\",\"\",Sheet5!B30)","v":"0"},{"$f":"IF(JAAFデータ貼り付け!W30=\"\",\"\",JAAFデータ貼り付け!W30)","v":""},{"$f":"IF(JAAFデータ貼り付け!X30=\"\",\"\",JAAFデータ貼り付け!X30)","v":""},{"$f":"IF(JAAFデータ貼り付け!Y30=\"\",\"\",JAAFデータ貼り付け!Y30)","v":""},{"$f":"IF(JAAFデータ貼り付け!Z30=\"\",\"\",JAAFデータ貼り付け!Z30)","v":""},{"$f":"IF(JAAFデータ貼り付け!AA30=\"\",\"\",JAAFデータ貼り付け!AA30)","v":""},{"$f":"IF(JAAFデータ貼り付け!AB30=\"\",\"\",JAAFデータ貼り付け!AB30)","v":""},{"$f":"IF(JAAFデータ貼り付け!AC30=\"\",\"\",JAAFデータ貼り付け!AC30)","v":""},{"$f":"IF(JAAFデータ貼り付け!AD30=\"\",\"\",JAAFデータ貼り付け!AD30)","v":""},{"$f":"IF(JAAFデータ貼り付け!AE30=\"\",\"\",JAAFデータ貼り付け!AE30)","v":""},{"$f":"IF(JAAFデータ貼り付け!AF30=\"\",\"\",JAAFデータ貼り付け!AF30)","v":""},{"$f":"IF(JAAFデータ貼り付け!AG30=\"\",\"\",JAAFデータ貼り付け!AG30)","v":""},{"$f":"IF(JAAFデータ貼り付け!AH30=\"\",\"\",JAAFデータ貼り付け!AH30)","v":""},{"$f":"IF(JAAFデータ貼り付け!AI30=\"\",\"\",JAAFデータ貼り付け!AI30)","v":""},{"$f":"IF(JAAFデータ貼り付け!AJ30=\"\",\"\",JAAFデータ貼り付け!AJ30)","v":""},{"$f":"IF(JAAFデータ貼り付け!AK30=\"\",\"\",JAAFデータ貼り付け!AK30)","v":""},{"$f":"IF(JAAFデータ貼り付け!AL30=\"\",\"\",JAAFデータ貼り付け!AL30)","v":""},{"$f":"IF(JAAFデータ貼り付け!AM30=\"\",\"\",JAAFデータ貼り付け!AM30)","v":""},{"$f":"IF(JAAFデータ貼り付け!AN30=\"\",\"\",JAAFデータ貼り付け!AN30)","v":""},{"$f":"IF(JAAFデータ貼り付け!AO30=\"\",\"\",JAAFデータ貼り付け!AO30)","v":""},{"$f":"IF(JAAFデータ貼り付け!AP30=\"\",\"\",JAAFデータ貼り付け!AP30)","v":""},{"$f":"IF(JAAFデータ貼り付け!AQ30=\"\",\"\",JAAFデータ貼り付け!AQ30)","v":""}]
[{"$f":"IF(JAAFデータ貼り付け!E31=\"\",\"\",JAAFデータ貼り付け!E31)","v":""},{"$f":"IF(JAAFデータ貼り付け!B31=\"\",\"\",JAAFデータ貼り付け!B31)","v":""},{"$f":"IF(JAAFデータ貼り付け!C31=\"\",\"\",JAAFデータ貼り付け!C31)","v":""},{"$f":"IF(JAAFデータ貼り付け!D31=\"\",\"\",JAAFデータ貼り付け!D31)","v":""},null,{"$f":"IF(フリガナ貼り付け!D31=\"\",\"\",フリガナ貼り付け!D31)","v":""},{"$f":"IF(フリガナ貼り付け!E31=\"\",\"\",フリガナ貼り付け!E31)","v":""},{"$f":"IF(JAAFデータ貼り付け!H31=\"\",\"\",JAAFデータ貼り付け!H31)","v":""},{"$f":"IF(JAAFデータ貼り付け!I31=\"\",\"\",JAAFデータ貼り付け!I31)","v":""},{"$f":"IF(JAAFデータ貼り付け!J31=\"\",\"\",JAAFデータ貼り付け!J31)","v":""},{"$f":"IF(JAAFデータ貼り付け!K31=\"\",\"\",JAAFデータ貼り付け!K31)","v":""},{"$f":"IF(JAAFデータ貼り付け!L31=\"\",\"\",JAAFデータ貼り付け!L31)","v":""},{"$f":"IF(JAAFデータ貼り付け!M31=\"\",\"\",JAAFデータ貼り付け!M31)","v":""},{"$f":"IF(JAAFデータ貼り付け!N31=\"\",\"\",JAAFデータ貼り付け!N31)","v":""},{"$f":"IF(JAAFデータ貼り付け!O31=\"\",\"\",JAAFデータ貼り付け!O31)","v":""},{"$f":"IF(JAAFデータ貼り付け!P31=\"\",\"\",JAAFデータ貼り付け!P31)","v":""},{"$f":"IF(JAAFデータ貼り付け!Q31=\"\",\"\",JAAFデータ貼り付け!Q31)","v":""},{"$f":"IF(JAAFデータ貼り付け!R31=\"\",\"\",JAAFデータ貼り付け!R31)","v":""},{"$f":"生年月日貼り付け!E31&生年月日貼り付け!F31&生年月日貼り付け!G31","v":"000"},{"$f":"IF(JAAFデータ貼り付け!T31=\"\",\"\",JAAFデータ貼り付け!T31)","v":""},{"$f":"IF(JAAFデータ貼り付け!U31=\"\",\"\",JAAFデータ貼り付け!U31)","v":""},{"$f":"IF(Sheet5!B31=\"\",\"\",Sheet5!B31)","v":"0"},{"$f":"IF(JAAFデータ貼り付け!W31=\"\",\"\",JAAFデータ貼り付け!W31)","v":""},{"$f":"IF(JAAFデータ貼り付け!X31=\"\",\"\",JAAFデータ貼り付け!X31)","v":""},{"$f":"IF(JAAFデータ貼り付け!Y31=\"\",\"\",JAAFデータ貼り付け!Y31)","v":""},{"$f":"IF(JAAFデータ貼り付け!Z31=\"\",\"\",JAAFデータ貼り付け!Z31)","v":""},{"$f":"IF(JAAFデータ貼り付け!AA31=\"\",\"\",JAAFデータ貼り付け!AA31)","v":""},{"$f":"IF(JAAFデータ貼り付け!AB31=\"\",\"\",JAAFデータ貼り付け!AB31)","v":""},{"$f":"IF(JAAFデータ貼り付け!AC31=\"\",\"\",JAAFデータ貼り付け!AC31)","v":""},{"$f":"IF(JAAFデータ貼り付け!AD31=\"\",\"\",JAAFデータ貼り付け!AD31)","v":""},{"$f":"IF(JAAFデータ貼り付け!AE31=\"\",\"\",JAAFデータ貼り付け!AE31)","v":""},{"$f":"IF(JAAFデータ貼り付け!AF31=\"\",\"\",JAAFデータ貼り付け!AF31)","v":""},{"$f":"IF(JAAFデータ貼り付け!AG31=\"\",\"\",JAAFデータ貼り付け!AG31)","v":""},{"$f":"IF(JAAFデータ貼り付け!AH31=\"\",\"\",JAAFデータ貼り付け!AH31)","v":""},{"$f":"IF(JAAFデータ貼り付け!AI31=\"\",\"\",JAAFデータ貼り付け!AI31)","v":""},{"$f":"IF(JAAFデータ貼り付け!AJ31=\"\",\"\",JAAFデータ貼り付け!AJ31)","v":""},{"$f":"IF(JAAFデータ貼り付け!AK31=\"\",\"\",JAAFデータ貼り付け!AK31)","v":""},{"$f":"IF(JAAFデータ貼り付け!AL31=\"\",\"\",JAAFデータ貼り付け!AL31)","v":""},{"$f":"IF(JAAFデータ貼り付け!AM31=\"\",\"\",JAAFデータ貼り付け!AM31)","v":""},{"$f":"IF(JAAFデータ貼り付け!AN31=\"\",\"\",JAAFデータ貼り付け!AN31)","v":""},{"$f":"IF(JAAFデータ貼り付け!AO31=\"\",\"\",JAAFデータ貼り付け!AO31)","v":""},{"$f":"IF(JAAFデータ貼り付け!AP31=\"\",\"\",JAAFデータ貼り付け!AP31)","v":""},{"$f":"IF(JAAFデータ貼り付け!AQ31=\"\",\"\",JAAFデータ貼り付け!AQ31)","v":""}]
[{"$f":"IF(JAAFデータ貼り付け!E32=\"\",\"\",JAAFデータ貼り付け!E32)","v":""},{"$f":"IF(JAAFデータ貼り付け!B32=\"\",\"\",JAAFデータ貼り付け!B32)","v":""},{"$f":"IF(JAAFデータ貼り付け!C32=\"\",\"\",JAAFデータ貼り付け!C32)","v":""},{"$f":"IF(JAAFデータ貼り付け!D32=\"\",\"\",JAAFデータ貼り付け!D32)","v":""},null,{"$f":"IF(フリガナ貼り付け!D32=\"\",\"\",フリガナ貼り付け!D32)","v":""},{"$f":"IF(フリガナ貼り付け!E32=\"\",\"\",フリガナ貼り付け!E32)","v":""},{"$f":"IF(JAAFデータ貼り付け!H32=\"\",\"\",JAAFデータ貼り付け!H32)","v":""},{"$f":"IF(JAAFデータ貼り付け!I32=\"\",\"\",JAAFデータ貼り付け!I32)","v":""},{"$f":"IF(JAAFデータ貼り付け!J32=\"\",\"\",JAAFデータ貼り付け!J32)","v":""},{"$f":"IF(JAAFデータ貼り付け!K32=\"\",\"\",JAAFデータ貼り付け!K32)","v":""},{"$f":"IF(JAAFデータ貼り付け!L32=\"\",\"\",JAAFデータ貼り付け!L32)","v":""},{"$f":"IF(JAAFデータ貼り付け!M32=\"\",\"\",JAAFデータ貼り付け!M32)","v":""},{"$f":"IF(JAAFデータ貼り付け!N32=\"\",\"\",JAAFデータ貼り付け!N32)","v":""},{"$f":"IF(JAAFデータ貼り付け!O32=\"\",\"\",JAAFデータ貼り付け!O32)","v":""},{"$f":"IF(JAAFデータ貼り付け!P32=\"\",\"\",JAAFデータ貼り付け!P32)","v":""},{"$f":"IF(JAAFデータ貼り付け!Q32=\"\",\"\",JAAFデータ貼り付け!Q32)","v":""},{"$f":"IF(JAAFデータ貼り付け!R32=\"\",\"\",JAAFデータ貼り付け!R32)","v":""},{"$f":"生年月日貼り付け!E32&生年月日貼り付け!F32&生年月日貼り付け!G32","v":"000"},{"$f":"IF(JAAFデータ貼り付け!T32=\"\",\"\",JAAFデータ貼り付け!T32)","v":""},{"$f":"IF(JAAFデータ貼り付け!U32=\"\",\"\",JAAFデータ貼り付け!U32)","v":""},{"$f":"IF(Sheet5!B32=\"\",\"\",Sheet5!B32)","v":"0"},{"$f":"IF(JAAFデータ貼り付け!W32=\"\",\"\",JAAFデータ貼り付け!W32)","v":""},{"$f":"IF(JAAFデータ貼り付け!X32=\"\",\"\",JAAFデータ貼り付け!X32)","v":""},{"$f":"IF(JAAFデータ貼り付け!Y32=\"\",\"\",JAAFデータ貼り付け!Y32)","v":""},{"$f":"IF(JAAFデータ貼り付け!Z32=\"\",\"\",JAAFデータ貼り付け!Z32)","v":""},{"$f":"IF(JAAFデータ貼り付け!AA32=\"\",\"\",JAAFデータ貼り付け!AA32)","v":""},{"$f":"IF(JAAFデータ貼り付け!AB32=\"\",\"\",JAAFデータ貼り付け!AB32)","v":""},{"$f":"IF(JAAFデータ貼り付け!AC32=\"\",\"\",JAAFデータ貼り付け!AC32)","v":""},{"$f":"IF(JAAFデータ貼り付け!AD32=\"\",\"\",JAAFデータ貼り付け!AD32)","v":""},{"$f":"IF(JAAFデータ貼り付け!AE32=\"\",\"\",JAAFデータ貼り付け!AE32)","v":""},{"$f":"IF(JAAFデータ貼り付け!AF32=\"\",\"\",JAAFデータ貼り付け!AF32)","v":""},{"$f":"IF(JAAFデータ貼り付け!AG32=\"\",\"\",JAAFデータ貼り付け!AG32)","v":""},{"$f":"IF(JAAFデータ貼り付け!AH32=\"\",\"\",JAAFデータ貼り付け!AH32)","v":""},{"$f":"IF(JAAFデータ貼り付け!AI32=\"\",\"\",JAAFデータ貼り付け!AI32)","v":""},{"$f":"IF(JAAFデータ貼り付け!AJ32=\"\",\"\",JAAFデータ貼り付け!AJ32)","v":""},{"$f":"IF(JAAFデータ貼り付け!AK32=\"\",\"\",JAAFデータ貼り付け!AK32)","v":""},{"$f":"IF(JAAFデータ貼り付け!AL32=\"\",\"\",JAAFデータ貼り付け!AL32)","v":""},{"$f":"IF(JAAFデータ貼り付け!AM32=\"\",\"\",JAAFデータ貼り付け!AM32)","v":""},{"$f":"IF(JAAFデータ貼り付け!AN32=\"\",\"\",JAAFデータ貼り付け!AN32)","v":""},{"$f":"IF(JAAFデータ貼り付け!AO32=\"\",\"\",JAAFデータ貼り付け!AO32)","v":""},{"$f":"IF(JAAFデータ貼り付け!AP32=\"\",\"\",JAAFデータ貼り付け!AP32)","v":""},{"$f":"IF(JAAFデータ貼り付け!AQ32=\"\",\"\",JAAFデータ貼り付け!AQ32)","v":""}]
[{"$f":"IF(JAAFデータ貼り付け!E33=\"\",\"\",JAAFデータ貼り付け!E33)","v":""},{"$f":"IF(JAAFデータ貼り付け!B33=\"\",\"\",JAAFデータ貼り付け!B33)","v":""},{"$f":"IF(JAAFデータ貼り付け!C33=\"\",\"\",JAAFデータ貼り付け!C33)","v":""},{"$f":"IF(JAAFデータ貼り付け!D33=\"\",\"\",JAAFデータ貼り付け!D33)","v":""},null,{"$f":"IF(フリガナ貼り付け!D33=\"\",\"\",フリガナ貼り付け!D33)","v":""},{"$f":"IF(フリガナ貼り付け!E33=\"\",\"\",フリガナ貼り付け!E33)","v":""},{"$f":"IF(JAAFデータ貼り付け!H33=\"\",\"\",JAAFデータ貼り付け!H33)","v":""},{"$f":"IF(JAAFデータ貼り付け!I33=\"\",\"\",JAAFデータ貼り付け!I33)","v":""},{"$f":"IF(JAAFデータ貼り付け!J33=\"\",\"\",JAAFデータ貼り付け!J33)","v":""},{"$f":"IF(JAAFデータ貼り付け!K33=\"\",\"\",JAAFデータ貼り付け!K33)","v":""},{"$f":"IF(JAAFデータ貼り付け!L33=\"\",\"\",JAAFデータ貼り付け!L33)","v":""},{"$f":"IF(JAAFデータ貼り付け!M33=\"\",\"\",JAAFデータ貼り付け!M33)","v":""},{"$f":"IF(JAAFデータ貼り付け!N33=\"\",\"\",JAAFデータ貼り付け!N33)","v":""},{"$f":"IF(JAAFデータ貼り付け!O33=\"\",\"\",JAAFデータ貼り付け!O33)","v":""},{"$f":"IF(JAAFデータ貼り付け!P33=\"\",\"\",JAAFデータ貼り付け!P33)","v":""},{"$f":"IF(JAAFデータ貼り付け!Q33=\"\",\"\",JAAFデータ貼り付け!Q33)","v":""},{"$f":"IF(JAAFデータ貼り付け!R33=\"\",\"\",JAAFデータ貼り付け!R33)","v":""},{"$f":"生年月日貼り付け!E33&生年月日貼り付け!F33&生年月日貼り付け!G33","v":"000"},{"$f":"IF(JAAFデータ貼り付け!T33=\"\",\"\",JAAFデータ貼り付け!T33)","v":""},{"$f":"IF(JAAFデータ貼り付け!U33=\"\",\"\",JAAFデータ貼り付け!U33)","v":""},{"$f":"IF(Sheet5!B33=\"\",\"\",Sheet5!B33)","v":"0"},{"$f":"IF(JAAFデータ貼り付け!W33=\"\",\"\",JAAFデータ貼り付け!W33)","v":""},{"$f":"IF(JAAFデータ貼り付け!X33=\"\",\"\",JAAFデータ貼り付け!X33)","v":""},{"$f":"IF(JAAFデータ貼り付け!Y33=\"\",\"\",JAAFデータ貼り付け!Y33)","v":""},{"$f":"IF(JAAFデータ貼り付け!Z33=\"\",\"\",JAAFデータ貼り付け!Z33)","v":""},{"$f":"IF(JAAFデータ貼り付け!AA33=\"\",\"\",JAAFデータ貼り付け!AA33)","v":""},{"$f":"IF(JAAFデータ貼り付け!AB33=\"\",\"\",JAAFデータ貼り付け!AB33)","v":""},{"$f":"IF(JAAFデータ貼り付け!AC33=\"\",\"\",JAAFデータ貼り付け!AC33)","v":""},{"$f":"IF(JAAFデータ貼り付け!AD33=\"\",\"\",JAAFデータ貼り付け!AD33)","v":""},{"$f":"IF(JAAFデータ貼り付け!AE33=\"\",\"\",JAAFデータ貼り付け!AE33)","v":""},{"$f":"IF(JAAFデータ貼り付け!AF33=\"\",\"\",JAAFデータ貼り付け!AF33)","v":""},{"$f":"IF(JAAFデータ貼り付け!AG33=\"\",\"\",JAAFデータ貼り付け!AG33)","v":""},{"$f":"IF(JAAFデータ貼り付け!AH33=\"\",\"\",JAAFデータ貼り付け!AH33)","v":""},{"$f":"IF(JAAFデータ貼り付け!AI33=\"\",\"\",JAAFデータ貼り付け!AI33)","v":""},{"$f":"IF(JAAFデータ貼り付け!AJ33=\"\",\"\",JAAFデータ貼り付け!AJ33)","v":""},{"$f":"IF(JAAFデータ貼り付け!AK33=\"\",\"\",JAAFデータ貼り付け!AK33)","v":""},{"$f":"IF(JAAFデータ貼り付け!AL33=\"\",\"\",JAAFデータ貼り付け!AL33)","v":""},{"$f":"IF(JAAFデータ貼り付け!AM33=\"\",\"\",JAAFデータ貼り付け!AM33)","v":""},{"$f":"IF(JAAFデータ貼り付け!AN33=\"\",\"\",JAAFデータ貼り付け!AN33)","v":""},{"$f":"IF(JAAFデータ貼り付け!AO33=\"\",\"\",JAAFデータ貼り付け!AO33)","v":""},{"$f":"IF(JAAFデータ貼り付け!AP33=\"\",\"\",JAAFデータ貼り付け!AP33)","v":""},{"$f":"IF(JAAFデータ貼り付け!AQ33=\"\",\"\",JAAFデータ貼り付け!AQ33)","v":""}]
[{"$f":"IF(JAAFデータ貼り付け!E34=\"\",\"\",JAAFデータ貼り付け!E34)","v":""},{"$f":"IF(JAAFデータ貼り付け!B34=\"\",\"\",JAAFデータ貼り付け!B34)","v":""},{"$f":"IF(JAAFデータ貼り付け!C34=\"\",\"\",JAAFデータ貼り付け!C34)","v":""},{"$f":"IF(JAAFデータ貼り付け!D34=\"\",\"\",JAAFデータ貼り付け!D34)","v":""},null,{"$f":"IF(フリガナ貼り付け!D34=\"\",\"\",フリガナ貼り付け!D34)","v":""},{"$f":"IF(フリガナ貼り付け!E34=\"\",\"\",フリガナ貼り付け!E34)","v":""},{"$f":"IF(JAAFデータ貼り付け!H34=\"\",\"\",JAAFデータ貼り付け!H34)","v":""},{"$f":"IF(JAAFデータ貼り付け!I34=\"\",\"\",JAAFデータ貼り付け!I34)","v":""},{"$f":"IF(JAAFデータ貼り付け!J34=\"\",\"\",JAAFデータ貼り付け!J34)","v":""},{"$f":"IF(JAAFデータ貼り付け!K34=\"\",\"\",JAAFデータ貼り付け!K34)","v":""},{"$f":"IF(JAAFデータ貼り付け!L34=\"\",\"\",JAAFデータ貼り付け!L34)","v":""},{"$f":"IF(JAAFデータ貼り付け!M34=\"\",\"\",JAAFデータ貼り付け!M34)","v":""},{"$f":"IF(JAAFデータ貼り付け!N34=\"\",\"\",JAAFデータ貼り付け!N34)","v":""},{"$f":"IF(JAAFデータ貼り付け!O34=\"\",\"\",JAAFデータ貼り付け!O34)","v":""},{"$f":"IF(JAAFデータ貼り付け!P34=\"\",\"\",JAAFデータ貼り付け!P34)","v":""},{"$f":"IF(JAAFデータ貼り付け!Q34=\"\",\"\",JAAFデータ貼り付け!Q34)","v":""},{"$f":"IF(JAAFデータ貼り付け!R34=\"\",\"\",JAAFデータ貼り付け!R34)","v":""},{"$f":"生年月日貼り付け!E34&生年月日貼り付け!F34&生年月日貼り付け!G34","v":"000"},{"$f":"IF(JAAFデータ貼り付け!T34=\"\",\"\",JAAFデータ貼り付け!T34)","v":""},{"$f":"IF(JAAFデータ貼り付け!U34=\"\",\"\",JAAFデータ貼り付け!U34)","v":""},{"$f":"IF(Sheet5!B34=\"\",\"\",Sheet5!B34)","v":"0"},{"$f":"IF(JAAFデータ貼り付け!W34=\"\",\"\",JAAFデータ貼り付け!W34)","v":""},{"$f":"IF(JAAFデータ貼り付け!X34=\"\",\"\",JAAFデータ貼り付け!X34)","v":""},{"$f":"IF(JAAFデータ貼り付け!Y34=\"\",\"\",JAAFデータ貼り付け!Y34)","v":""},{"$f":"IF(JAAFデータ貼り付け!Z34=\"\",\"\",JAAFデータ貼り付け!Z34)","v":""},{"$f":"IF(JAAFデータ貼り付け!AA34=\"\",\"\",JAAFデータ貼り付け!AA34)","v":""},{"$f":"IF(JAAFデータ貼り付け!AB34=\"\",\"\",JAAFデータ貼り付け!AB34)","v":""},{"$f":"IF(JAAFデータ貼り付け!AC34=\"\",\"\",JAAFデータ貼り付け!AC34)","v":""},{"$f":"IF(JAAFデータ貼り付け!AD34=\"\",\"\",JAAFデータ貼り付け!AD34)","v":""},{"$f":"IF(JAAFデータ貼り付け!AE34=\"\",\"\",JAAFデータ貼り付け!AE34)","v":""},{"$f":"IF(JAAFデータ貼り付け!AF34=\"\",\"\",JAAFデータ貼り付け!AF34)","v":""},{"$f":"IF(JAAFデータ貼り付け!AG34=\"\",\"\",JAAFデータ貼り付け!AG34)","v":""},{"$f":"IF(JAAFデータ貼り付け!AH34=\"\",\"\",JAAFデータ貼り付け!AH34)","v":""},{"$f":"IF(JAAFデータ貼り付け!AI34=\"\",\"\",JAAFデータ貼り付け!AI34)","v":""},{"$f":"IF(JAAFデータ貼り付け!AJ34=\"\",\"\",JAAFデータ貼り付け!AJ34)","v":""},{"$f":"IF(JAAFデータ貼り付け!AK34=\"\",\"\",JAAFデータ貼り付け!AK34)","v":""},{"$f":"IF(JAAFデータ貼り付け!AL34=\"\",\"\",JAAFデータ貼り付け!AL34)","v":""},{"$f":"IF(JAAFデータ貼り付け!AM34=\"\",\"\",JAAFデータ貼り付け!AM34)","v":""},{"$f":"IF(JAAFデータ貼り付け!AN34=\"\",\"\",JAAFデータ貼り付け!AN34)","v":""},{"$f":"IF(JAAFデータ貼り付け!AO34=\"\",\"\",JAAFデータ貼り付け!AO34)","v":""},{"$f":"IF(JAAFデータ貼り付け!AP34=\"\",\"\",JAAFデータ貼り付け!AP34)","v":""},{"$f":"IF(JAAFデータ貼り付け!AQ34=\"\",\"\",JAAFデータ貼り付け!AQ34)","v":""}]
[{"$f":"IF(JAAFデータ貼り付け!E35=\"\",\"\",JAAFデータ貼り付け!E35)","v":""},{"$f":"IF(JAAFデータ貼り付け!B35=\"\",\"\",JAAFデータ貼り付け!B35)","v":""},{"$f":"IF(JAAFデータ貼り付け!C35=\"\",\"\",JAAFデータ貼り付け!C35)","v":""},{"$f":"IF(JAAFデータ貼り付け!D35=\"\",\"\",JAAFデータ貼り付け!D35)","v":""},null,{"$f":"IF(フリガナ貼り付け!D35=\"\",\"\",フリガナ貼り付け!D35)","v":""},{"$f":"IF(フリガナ貼り付け!E35=\"\",\"\",フリガナ貼り付け!E35)","v":""},{"$f":"IF(JAAFデータ貼り付け!H35=\"\",\"\",JAAFデータ貼り付け!H35)","v":""},{"$f":"IF(JAAFデータ貼り付け!I35=\"\",\"\",JAAFデータ貼り付け!I35)","v":""},{"$f":"IF(JAAFデータ貼り付け!J35=\"\",\"\",JAAFデータ貼り付け!J35)","v":""},{"$f":"IF(JAAFデータ貼り付け!K35=\"\",\"\",JAAFデータ貼り付け!K35)","v":""},{"$f":"IF(JAAFデータ貼り付け!L35=\"\",\"\",JAAFデータ貼り付け!L35)","v":""},{"$f":"IF(JAAFデータ貼り付け!M35=\"\",\"\",JAAFデータ貼り付け!M35)","v":""},{"$f":"IF(JAAFデータ貼り付け!N35=\"\",\"\",JAAFデータ貼り付け!N35)","v":""},{"$f":"IF(JAAFデータ貼り付け!O35=\"\",\"\",JAAFデータ貼り付け!O35)","v":""},{"$f":"IF(JAAFデータ貼り付け!P35=\"\",\"\",JAAFデータ貼り付け!P35)","v":""},{"$f":"IF(JAAFデータ貼り付け!Q35=\"\",\"\",JAAFデータ貼り付け!Q35)","v":""},{"$f":"IF(JAAFデータ貼り付け!R35=\"\",\"\",JAAFデータ貼り付け!R35)","v":""},{"$f":"生年月日貼り付け!E35&生年月日貼り付け!F35&生年月日貼り付け!G35","v":"000"},{"$f":"IF(JAAFデータ貼り付け!T35=\"\",\"\",JAAFデータ貼り付け!T35)","v":""},{"$f":"IF(JAAFデータ貼り付け!U35=\"\",\"\",JAAFデータ貼り付け!U35)","v":""},{"$f":"IF(Sheet5!B35=\"\",\"\",Sheet5!B35)","v":"0"},{"$f":"IF(JAAFデータ貼り付け!W35=\"\",\"\",JAAFデータ貼り付け!W35)","v":""},{"$f":"IF(JAAFデータ貼り付け!X35=\"\",\"\",JAAFデータ貼り付け!X35)","v":""},{"$f":"IF(JAAFデータ貼り付け!Y35=\"\",\"\",JAAFデータ貼り付け!Y35)","v":""},{"$f":"IF(JAAFデータ貼り付け!Z35=\"\",\"\",JAAFデータ貼り付け!Z35)","v":""},{"$f":"IF(JAAFデータ貼り付け!AA35=\"\",\"\",JAAFデータ貼り付け!AA35)","v":""},{"$f":"IF(JAAFデータ貼り付け!AB35=\"\",\"\",JAAFデータ貼り付け!AB35)","v":""},{"$f":"IF(JAAFデータ貼り付け!AC35=\"\",\"\",JAAFデータ貼り付け!AC35)","v":""},{"$f":"IF(JAAFデータ貼り付け!AD35=\"\",\"\",JAAFデータ貼り付け!AD35)","v":""},{"$f":"IF(JAAFデータ貼り付け!AE35=\"\",\"\",JAAFデータ貼り付け!AE35)","v":""},{"$f":"IF(JAAFデータ貼り付け!AF35=\"\",\"\",JAAFデータ貼り付け!AF35)","v":""},{"$f":"IF(JAAFデータ貼り付け!AG35=\"\",\"\",JAAFデータ貼り付け!AG35)","v":""},{"$f":"IF(JAAFデータ貼り付け!AH35=\"\",\"\",JAAFデータ貼り付け!AH35)","v":""},{"$f":"IF(JAAFデータ貼り付け!AI35=\"\",\"\",JAAFデータ貼り付け!AI35)","v":""},{"$f":"IF(JAAFデータ貼り付け!AJ35=\"\",\"\",JAAFデータ貼り付け!AJ35)","v":""},{"$f":"IF(JAAFデータ貼り付け!AK35=\"\",\"\",JAAFデータ貼り付け!AK35)","v":""},{"$f":"IF(JAAFデータ貼り付け!AL35=\"\",\"\",JAAFデータ貼り付け!AL35)","v":""},{"$f":"IF(JAAFデータ貼り付け!AM35=\"\",\"\",JAAFデータ貼り付け!AM35)","v":""},{"$f":"IF(JAAFデータ貼り付け!AN35=\"\",\"\",JAAFデータ貼り付け!AN35)","v":""},{"$f":"IF(JAAFデータ貼り付け!AO35=\"\",\"\",JAAFデータ貼り付け!AO35)","v":""},{"$f":"IF(JAAFデータ貼り付け!AP35=\"\",\"\",JAAFデータ貼り付け!AP35)","v":""},{"$f":"IF(JAAFデータ貼り付け!AQ35=\"\",\"\",JAAFデータ貼り付け!AQ35)","v":""}]
[{"$f":"IF(JAAFデータ貼り付け!E36=\"\",\"\",JAAFデータ貼り付け!E36)","v":""},{"$f":"IF(JAAFデータ貼り付け!B36=\"\",\"\",JAAFデータ貼り付け!B36)","v":""},{"$f":"IF(JAAFデータ貼り付け!C36=\"\",\"\",JAAFデータ貼り付け!C36)","v":""},{"$f":"IF(JAAFデータ貼り付け!D36=\"\",\"\",JAAFデータ貼り付け!D36)","v":""},null,{"$f":"IF(フリガナ貼り付け!D36=\"\",\"\",フリガナ貼り付け!D36)","v":""},{"$f":"IF(フリガナ貼り付け!E36=\"\",\"\",フリガナ貼り付け!E36)","v":""},{"$f":"IF(JAAFデータ貼り付け!H36=\"\",\"\",JAAFデータ貼り付け!H36)","v":""},{"$f":"IF(JAAFデータ貼り付け!I36=\"\",\"\",JAAFデータ貼り付け!I36)","v":""},{"$f":"IF(JAAFデータ貼り付け!J36=\"\",\"\",JAAFデータ貼り付け!J36)","v":""},{"$f":"IF(JAAFデータ貼り付け!K36=\"\",\"\",JAAFデータ貼り付け!K36)","v":""},{"$f":"IF(JAAFデータ貼り付け!L36=\"\",\"\",JAAFデータ貼り付け!L36)","v":""},{"$f":"IF(JAAFデータ貼り付け!M36=\"\",\"\",JAAFデータ貼り付け!M36)","v":""},{"$f":"IF(JAAFデータ貼り付け!N36=\"\",\"\",JAAFデータ貼り付け!N36)","v":""},{"$f":"IF(JAAFデータ貼り付け!O36=\"\",\"\",JAAFデータ貼り付け!O36)","v":""},{"$f":"IF(JAAFデータ貼り付け!P36=\"\",\"\",JAAFデータ貼り付け!P36)","v":""},{"$f":"IF(JAAFデータ貼り付け!Q36=\"\",\"\",JAAFデータ貼り付け!Q36)","v":""},{"$f":"IF(JAAFデータ貼り付け!R36=\"\",\"\",JAAFデータ貼り付け!R36)","v":""},{"$f":"生年月日貼り付け!E36&生年月日貼り付け!F36&生年月日貼り付け!G36","v":"000"},{"$f":"IF(JAAFデータ貼り付け!T36=\"\",\"\",JAAFデータ貼り付け!T36)","v":""},{"$f":"IF(JAAFデータ貼り付け!U36=\"\",\"\",JAAFデータ貼り付け!U36)","v":""},{"$f":"IF(Sheet5!B36=\"\",\"\",Sheet5!B36)","v":"0"},{"$f":"IF(JAAFデータ貼り付け!W36=\"\",\"\",JAAFデータ貼り付け!W36)","v":""},{"$f":"IF(JAAFデータ貼り付け!X36=\"\",\"\",JAAFデータ貼り付け!X36)","v":""},{"$f":"IF(JAAFデータ貼り付け!Y36=\"\",\"\",JAAFデータ貼り付け!Y36)","v":""},{"$f":"IF(JAAFデータ貼り付け!Z36=\"\",\"\",JAAFデータ貼り付け!Z36)","v":""},{"$f":"IF(JAAFデータ貼り付け!AA36=\"\",\"\",JAAFデータ貼り付け!AA36)","v":""},{"$f":"IF(JAAFデータ貼り付け!AB36=\"\",\"\",JAAFデータ貼り付け!AB36)","v":""},{"$f":"IF(JAAFデータ貼り付け!AC36=\"\",\"\",JAAFデータ貼り付け!AC36)","v":""},{"$f":"IF(JAAFデータ貼り付け!AD36=\"\",\"\",JAAFデータ貼り付け!AD36)","v":""},{"$f":"IF(JAAFデータ貼り付け!AE36=\"\",\"\",JAAFデータ貼り付け!AE36)","v":""},{"$f":"IF(JAAFデータ貼り付け!AF36=\"\",\"\",JAAFデータ貼り付け!AF36)","v":""},{"$f":"IF(JAAFデータ貼り付け!AG36=\"\",\"\",JAAFデータ貼り付け!AG36)","v":""},{"$f":"IF(JAAFデータ貼り付け!AH36=\"\",\"\",JAAFデータ貼り付け!AH36)","v":""},{"$f":"IF(JAAFデータ貼り付け!AI36=\"\",\"\",JAAFデータ貼り付け!AI36)","v":""},{"$f":"IF(JAAFデータ貼り付け!AJ36=\"\",\"\",JAAFデータ貼り付け!AJ36)","v":""},{"$f":"IF(JAAFデータ貼り付け!AK36=\"\",\"\",JAAFデータ貼り付け!AK36)","v":""},{"$f":"IF(JAAFデータ貼り付け!AL36=\"\",\"\",JAAFデータ貼り付け!AL36)","v":""},{"$f":"IF(JAAFデータ貼り付け!AM36=\"\",\"\",JAAFデータ貼り付け!AM36)","v":""},{"$f":"IF(JAAFデータ貼り付け!AN36=\"\",\"\",JAAFデータ貼り付け!AN36)","v":""},{"$f":"IF(JAAFデータ貼り付け!AO36=\"\",\"\",JAAFデータ貼り付け!AO36)","v":""},{"$f":"IF(JAAFデータ貼り付け!AP36=\"\",\"\",JAAFデータ貼り付け!AP36)","v":""},{"$f":"IF(JAAFデータ貼り付け!AQ36=\"\",\"\",JAAFデータ貼り付け!AQ36)","v":""}]
[{"$f":"IF(JAAFデータ貼り付け!E37=\"\",\"\",JAAFデータ貼り付け!E37)","v":""},{"$f":"IF(JAAFデータ貼り付け!B37=\"\",\"\",JAAFデータ貼り付け!B37)","v":""},{"$f":"IF(JAAFデータ貼り付け!C37=\"\",\"\",JAAFデータ貼り付け!C37)","v":""},{"$f":"IF(JAAFデータ貼り付け!D37=\"\",\"\",JAAFデータ貼り付け!D37)","v":""},null,{"$f":"IF(フリガナ貼り付け!D37=\"\",\"\",フリガナ貼り付け!D37)","v":""},{"$f":"IF(フリガナ貼り付け!E37=\"\",\"\",フリガナ貼り付け!E37)","v":""},{"$f":"IF(JAAFデータ貼り付け!H37=\"\",\"\",JAAFデータ貼り付け!H37)","v":""},{"$f":"IF(JAAFデータ貼り付け!I37=\"\",\"\",JAAFデータ貼り付け!I37)","v":""},{"$f":"IF(JAAFデータ貼り付け!J37=\"\",\"\",JAAFデータ貼り付け!J37)","v":""},{"$f":"IF(JAAFデータ貼り付け!K37=\"\",\"\",JAAFデータ貼り付け!K37)","v":""},{"$f":"IF(JAAFデータ貼り付け!L37=\"\",\"\",JAAFデータ貼り付け!L37)","v":""},{"$f":"IF(JAAFデータ貼り付け!M37=\"\",\"\",JAAFデータ貼り付け!M37)","v":""},{"$f":"IF(JAAFデータ貼り付け!N37=\"\",\"\",JAAFデータ貼り付け!N37)","v":""},{"$f":"IF(JAAFデータ貼り付け!O37=\"\",\"\",JAAFデータ貼り付け!O37)","v":""},{"$f":"IF(JAAFデータ貼り付け!P37=\"\",\"\",JAAFデータ貼り付け!P37)","v":""},{"$f":"IF(JAAFデータ貼り付け!Q37=\"\",\"\",JAAFデータ貼り付け!Q37)","v":""},{"$f":"IF(JAAFデータ貼り付け!R37=\"\",\"\",JAAFデータ貼り付け!R37)","v":""},{"$f":"生年月日貼り付け!E37&生年月日貼り付け!F37&生年月日貼り付け!G37","v":"000"},{"$f":"IF(JAAFデータ貼り付け!T37=\"\",\"\",JAAFデータ貼り付け!T37)","v":""},{"$f":"IF(JAAFデータ貼り付け!U37=\"\",\"\",JAAFデータ貼り付け!U37)","v":""},{"$f":"IF(Sheet5!B37=\"\",\"\",Sheet5!B37)","v":"0"},{"$f":"IF(JAAFデータ貼り付け!W37=\"\",\"\",JAAFデータ貼り付け!W37)","v":""},{"$f":"IF(JAAFデータ貼り付け!X37=\"\",\"\",JAAFデータ貼り付け!X37)","v":""},{"$f":"IF(JAAFデータ貼り付け!Y37=\"\",\"\",JAAFデータ貼り付け!Y37)","v":""},{"$f":"IF(JAAFデータ貼り付け!Z37=\"\",\"\",JAAFデータ貼り付け!Z37)","v":""},{"$f":"IF(JAAFデータ貼り付け!AA37=\"\",\"\",JAAFデータ貼り付け!AA37)","v":""},{"$f":"IF(JAAFデータ貼り付け!AB37=\"\",\"\",JAAFデータ貼り付け!AB37)","v":""},{"$f":"IF(JAAFデータ貼り付け!AC37=\"\",\"\",JAAFデータ貼り付け!AC37)","v":""},{"$f":"IF(JAAFデータ貼り付け!AD37=\"\",\"\",JAAFデータ貼り付け!AD37)","v":""},{"$f":"IF(JAAFデータ貼り付け!AE37=\"\",\"\",JAAFデータ貼り付け!AE37)","v":""},{"$f":"IF(JAAFデータ貼り付け!AF37=\"\",\"\",JAAFデータ貼り付け!AF37)","v":""},{"$f":"IF(JAAFデータ貼り付け!AG37=\"\",\"\",JAAFデータ貼り付け!AG37)","v":""},{"$f":"IF(JAAFデータ貼り付け!AH37=\"\",\"\",JAAFデータ貼り付け!AH37)","v":""},{"$f":"IF(JAAFデータ貼り付け!AI37=\"\",\"\",JAAFデータ貼り付け!AI37)","v":""},{"$f":"IF(JAAFデータ貼り付け!AJ37=\"\",\"\",JAAFデータ貼り付け!AJ37)","v":""},{"$f":"IF(JAAFデータ貼り付け!AK37=\"\",\"\",JAAFデータ貼り付け!AK37)","v":""},{"$f":"IF(JAAFデータ貼り付け!AL37=\"\",\"\",JAAFデータ貼り付け!AL37)","v":""},{"$f":"IF(JAAFデータ貼り付け!AM37=\"\",\"\",JAAFデータ貼り付け!AM37)","v":""},{"$f":"IF(JAAFデータ貼り付け!AN37=\"\",\"\",JAAFデータ貼り付け!AN37)","v":""},{"$f":"IF(JAAFデータ貼り付け!AO37=\"\",\"\",JAAFデータ貼り付け!AO37)","v":""},{"$f":"IF(JAAFデータ貼り付け!AP37=\"\",\"\",JAAFデータ貼り付け!AP37)","v":""},{"$f":"IF(JAAFデータ貼り付け!AQ37=\"\",\"\",JAAFデータ貼り付け!AQ37)","v":""}]
[{"$f":"IF(JAAFデータ貼り付け!E38=\"\",\"\",JAAFデータ貼り付け!E38)","v":""},{"$f":"IF(JAAFデータ貼り付け!B38=\"\",\"\",JAAFデータ貼り付け!B38)","v":""},{"$f":"IF(JAAFデータ貼り付け!C38=\"\",\"\",JAAFデータ貼り付け!C38)","v":""},{"$f":"IF(JAAFデータ貼り付け!D38=\"\",\"\",JAAFデータ貼り付け!D38)","v":""},null,{"$f":"IF(フリガナ貼り付け!D38=\"\",\"\",フリガナ貼り付け!D38)","v":""},{"$f":"IF(フリガナ貼り付け!E38=\"\",\"\",フリガナ貼り付け!E38)","v":""},{"$f":"IF(JAAFデータ貼り付け!H38=\"\",\"\",JAAFデータ貼り付け!H38)","v":""},{"$f":"IF(JAAFデータ貼り付け!I38=\"\",\"\",JAAFデータ貼り付け!I38)","v":""},{"$f":"IF(JAAFデータ貼り付け!J38=\"\",\"\",JAAFデータ貼り付け!J38)","v":""},{"$f":"IF(JAAFデータ貼り付け!K38=\"\",\"\",JAAFデータ貼り付け!K38)","v":""},{"$f":"IF(JAAFデータ貼り付け!L38=\"\",\"\",JAAFデータ貼り付け!L38)","v":""},{"$f":"IF(JAAFデータ貼り付け!M38=\"\",\"\",JAAFデータ貼り付け!M38)","v":""},{"$f":"IF(JAAFデータ貼り付け!N38=\"\",\"\",JAAFデータ貼り付け!N38)","v":""},{"$f":"IF(JAAFデータ貼り付け!O38=\"\",\"\",JAAFデータ貼り付け!O38)","v":""},{"$f":"IF(JAAFデータ貼り付け!P38=\"\",\"\",JAAFデータ貼り付け!P38)","v":""},{"$f":"IF(JAAFデータ貼り付け!Q38=\"\",\"\",JAAFデータ貼り付け!Q38)","v":""},{"$f":"IF(JAAFデータ貼り付け!R38=\"\",\"\",JAAFデータ貼り付け!R38)","v":""},{"$f":"生年月日貼り付け!E38&生年月日貼り付け!F38&生年月日貼り付け!G38","v":"000"},{"$f":"IF(JAAFデータ貼り付け!T38=\"\",\"\",JAAFデータ貼り付け!T38)","v":""},{"$f":"IF(JAAFデータ貼り付け!U38=\"\",\"\",JAAFデータ貼り付け!U38)","v":""},{"$f":"IF(Sheet5!B38=\"\",\"\",Sheet5!B38)","v":"0"},{"$f":"IF(JAAFデータ貼り付け!W38=\"\",\"\",JAAFデータ貼り付け!W38)","v":""},{"$f":"IF(JAAFデータ貼り付け!X38=\"\",\"\",JAAFデータ貼り付け!X38)","v":""},{"$f":"IF(JAAFデータ貼り付け!Y38=\"\",\"\",JAAFデータ貼り付け!Y38)","v":""},{"$f":"IF(JAAFデータ貼り付け!Z38=\"\",\"\",JAAFデータ貼り付け!Z38)","v":""},{"$f":"IF(JAAFデータ貼り付け!AA38=\"\",\"\",JAAFデータ貼り付け!AA38)","v":""},{"$f":"IF(JAAFデータ貼り付け!AB38=\"\",\"\",JAAFデータ貼り付け!AB38)","v":""},{"$f":"IF(JAAFデータ貼り付け!AC38=\"\",\"\",JAAFデータ貼り付け!AC38)","v":""},{"$f":"IF(JAAFデータ貼り付け!AD38=\"\",\"\",JAAFデータ貼り付け!AD38)","v":""},{"$f":"IF(JAAFデータ貼り付け!AE38=\"\",\"\",JAAFデータ貼り付け!AE38)","v":""},{"$f":"IF(JAAFデータ貼り付け!AF38=\"\",\"\",JAAFデータ貼り付け!AF38)","v":""},{"$f":"IF(JAAFデータ貼り付け!AG38=\"\",\"\",JAAFデータ貼り付け!AG38)","v":""},{"$f":"IF(JAAFデータ貼り付け!AH38=\"\",\"\",JAAFデータ貼り付け!AH38)","v":""},{"$f":"IF(JAAFデータ貼り付け!AI38=\"\",\"\",JAAFデータ貼り付け!AI38)","v":""},{"$f":"IF(JAAFデータ貼り付け!AJ38=\"\",\"\",JAAFデータ貼り付け!AJ38)","v":""},{"$f":"IF(JAAFデータ貼り付け!AK38=\"\",\"\",JAAFデータ貼り付け!AK38)","v":""},{"$f":"IF(JAAFデータ貼り付け!AL38=\"\",\"\",JAAFデータ貼り付け!AL38)","v":""},{"$f":"IF(JAAFデータ貼り付け!AM38=\"\",\"\",JAAFデータ貼り付け!AM38)","v":""},{"$f":"IF(JAAFデータ貼り付け!AN38=\"\",\"\",JAAFデータ貼り付け!AN38)","v":""},{"$f":"IF(JAAFデータ貼り付け!AO38=\"\",\"\",JAAFデータ貼り付け!AO38)","v":""},{"$f":"IF(JAAFデータ貼り付け!AP38=\"\",\"\",JAAFデータ貼り付け!AP38)","v":""},{"$f":"IF(JAAFデータ貼り付け!AQ38=\"\",\"\",JAAFデータ貼り付け!AQ38)","v":""}]
[{"$f":"IF(JAAFデータ貼り付け!E39=\"\",\"\",JAAFデータ貼り付け!E39)","v":""},{"$f":"IF(JAAFデータ貼り付け!B39=\"\",\"\",JAAFデータ貼り付け!B39)","v":""},{"$f":"IF(JAAFデータ貼り付け!C39=\"\",\"\",JAAFデータ貼り付け!C39)","v":""},{"$f":"IF(JAAFデータ貼り付け!D39=\"\",\"\",JAAFデータ貼り付け!D39)","v":""},null,{"$f":"IF(フリガナ貼り付け!D39=\"\",\"\",フリガナ貼り付け!D39)","v":""},{"$f":"IF(フリガナ貼り付け!E39=\"\",\"\",フリガナ貼り付け!E39)","v":""},{"$f":"IF(JAAFデータ貼り付け!H39=\"\",\"\",JAAFデータ貼り付け!H39)","v":""},{"$f":"IF(JAAFデータ貼り付け!I39=\"\",\"\",JAAFデータ貼り付け!I39)","v":""},{"$f":"IF(JAAFデータ貼り付け!J39=\"\",\"\",JAAFデータ貼り付け!J39)","v":""},{"$f":"IF(JAAFデータ貼り付け!K39=\"\",\"\",JAAFデータ貼り付け!K39)","v":""},{"$f":"IF(JAAFデータ貼り付け!L39=\"\",\"\",JAAFデータ貼り付け!L39)","v":""},{"$f":"IF(JAAFデータ貼り付け!M39=\"\",\"\",JAAFデータ貼り付け!M39)","v":""},{"$f":"IF(JAAFデータ貼り付け!N39=\"\",\"\",JAAFデータ貼り付け!N39)","v":""},{"$f":"IF(JAAFデータ貼り付け!O39=\"\",\"\",JAAFデータ貼り付け!O39)","v":""},{"$f":"IF(JAAFデータ貼り付け!P39=\"\",\"\",JAAFデータ貼り付け!P39)","v":""},{"$f":"IF(JAAFデータ貼り付け!Q39=\"\",\"\",JAAFデータ貼り付け!Q39)","v":""},{"$f":"IF(JAAFデータ貼り付け!R39=\"\",\"\",JAAFデータ貼り付け!R39)","v":""},{"$f":"生年月日貼り付け!E39&生年月日貼り付け!F39&生年月日貼り付け!G39","v":"000"},{"$f":"IF(JAAFデータ貼り付け!T39=\"\",\"\",JAAFデータ貼り付け!T39)","v":""},{"$f":"IF(JAAFデータ貼り付け!U39=\"\",\"\",JAAFデータ貼り付け!U39)","v":""},{"$f":"IF(Sheet5!B39=\"\",\"\",Sheet5!B39)","v":"0"},{"$f":"IF(JAAFデータ貼り付け!W39=\"\",\"\",JAAFデータ貼り付け!W39)","v":""},{"$f":"IF(JAAFデータ貼り付け!X39=\"\",\"\",JAAFデータ貼り付け!X39)","v":""},{"$f":"IF(JAAFデータ貼り付け!Y39=\"\",\"\",JAAFデータ貼り付け!Y39)","v":""},{"$f":"IF(JAAFデータ貼り付け!Z39=\"\",\"\",JAAFデータ貼り付け!Z39)","v":""},{"$f":"IF(JAAFデータ貼り付け!AA39=\"\",\"\",JAAFデータ貼り付け!AA39)","v":""},{"$f":"IF(JAAFデータ貼り付け!AB39=\"\",\"\",JAAFデータ貼り付け!AB39)","v":""},{"$f":"IF(JAAFデータ貼り付け!AC39=\"\",\"\",JAAFデータ貼り付け!AC39)","v":""},{"$f":"IF(JAAFデータ貼り付け!AD39=\"\",\"\",JAAFデータ貼り付け!AD39)","v":""},{"$f":"IF(JAAFデータ貼り付け!AE39=\"\",\"\",JAAFデータ貼り付け!AE39)","v":""},{"$f":"IF(JAAFデータ貼り付け!AF39=\"\",\"\",JAAFデータ貼り付け!AF39)","v":""},{"$f":"IF(JAAFデータ貼り付け!AG39=\"\",\"\",JAAFデータ貼り付け!AG39)","v":""},{"$f":"IF(JAAFデータ貼り付け!AH39=\"\",\"\",JAAFデータ貼り付け!AH39)","v":""},{"$f":"IF(JAAFデータ貼り付け!AI39=\"\",\"\",JAAFデータ貼り付け!AI39)","v":""},{"$f":"IF(JAAFデータ貼り付け!AJ39=\"\",\"\",JAAFデータ貼り付け!AJ39)","v":""},{"$f":"IF(JAAFデータ貼り付け!AK39=\"\",\"\",JAAFデータ貼り付け!AK39)","v":""},{"$f":"IF(JAAFデータ貼り付け!AL39=\"\",\"\",JAAFデータ貼り付け!AL39)","v":""},{"$f":"IF(JAAFデータ貼り付け!AM39=\"\",\"\",JAAFデータ貼り付け!AM39)","v":""},{"$f":"IF(JAAFデータ貼り付け!AN39=\"\",\"\",JAAFデータ貼り付け!AN39)","v":""},{"$f":"IF(JAAFデータ貼り付け!AO39=\"\",\"\",JAAFデータ貼り付け!AO39)","v":""},{"$f":"IF(JAAFデータ貼り付け!AP39=\"\",\"\",JAAFデータ貼り付け!AP39)","v":""},{"$f":"IF(JAAFデータ貼り付け!AQ39=\"\",\"\",JAAFデータ貼り付け!AQ39)","v":""}]
[{"$f":"IF(JAAFデータ貼り付け!E40=\"\",\"\",JAAFデータ貼り付け!E40)","v":""},{"$f":"IF(JAAFデータ貼り付け!B40=\"\",\"\",JAAFデータ貼り付け!B40)","v":""},{"$f":"IF(JAAFデータ貼り付け!C40=\"\",\"\",JAAFデータ貼り付け!C40)","v":""},{"$f":"IF(JAAFデータ貼り付け!D40=\"\",\"\",JAAFデータ貼り付け!D40)","v":""},null,{"$f":"IF(フリガナ貼り付け!D40=\"\",\"\",フリガナ貼り付け!D40)","v":""},{"$f":"IF(フリガナ貼り付け!E40=\"\",\"\",フリガナ貼り付け!E40)","v":""},{"$f":"IF(JAAFデータ貼り付け!H40=\"\",\"\",JAAFデータ貼り付け!H40)","v":""},{"$f":"IF(JAAFデータ貼り付け!I40=\"\",\"\",JAAFデータ貼り付け!I40)","v":""},{"$f":"IF(JAAFデータ貼り付け!J40=\"\",\"\",JAAFデータ貼り付け!J40)","v":""},{"$f":"IF(JAAFデータ貼り付け!K40=\"\",\"\",JAAFデータ貼り付け!K40)","v":""},{"$f":"IF(JAAFデータ貼り付け!L40=\"\",\"\",JAAFデータ貼り付け!L40)","v":""},{"$f":"IF(JAAFデータ貼り付け!M40=\"\",\"\",JAAFデータ貼り付け!M40)","v":""},{"$f":"IF(JAAFデータ貼り付け!N40=\"\",\"\",JAAFデータ貼り付け!N40)","v":""},{"$f":"IF(JAAFデータ貼り付け!O40=\"\",\"\",JAAFデータ貼り付け!O40)","v":""},{"$f":"IF(JAAFデータ貼り付け!P40=\"\",\"\",JAAFデータ貼り付け!P40)","v":""},{"$f":"IF(JAAFデータ貼り付け!Q40=\"\",\"\",JAAFデータ貼り付け!Q40)","v":""},{"$f":"IF(JAAFデータ貼り付け!R40=\"\",\"\",JAAFデータ貼り付け!R40)","v":""},{"$f":"生年月日貼り付け!E40&生年月日貼り付け!F40&生年月日貼り付け!G40","v":"000"},{"$f":"IF(JAAFデータ貼り付け!T40=\"\",\"\",JAAFデータ貼り付け!T40)","v":""},{"$f":"IF(JAAFデータ貼り付け!U40=\"\",\"\",JAAFデータ貼り付け!U40)","v":""},{"$f":"IF(Sheet5!B40=\"\",\"\",Sheet5!B40)","v":"0"},{"$f":"IF(JAAFデータ貼り付け!W40=\"\",\"\",JAAFデータ貼り付け!W40)","v":""},{"$f":"IF(JAAFデータ貼り付け!X40=\"\",\"\",JAAFデータ貼り付け!X40)","v":""},{"$f":"IF(JAAFデータ貼り付け!Y40=\"\",\"\",JAAFデータ貼り付け!Y40)","v":""},{"$f":"IF(JAAFデータ貼り付け!Z40=\"\",\"\",JAAFデータ貼り付け!Z40)","v":""},{"$f":"IF(JAAFデータ貼り付け!AA40=\"\",\"\",JAAFデータ貼り付け!AA40)","v":""},{"$f":"IF(JAAFデータ貼り付け!AB40=\"\",\"\",JAAFデータ貼り付け!AB40)","v":""},{"$f":"IF(JAAFデータ貼り付け!AC40=\"\",\"\",JAAFデータ貼り付け!AC40)","v":""},{"$f":"IF(JAAFデータ貼り付け!AD40=\"\",\"\",JAAFデータ貼り付け!AD40)","v":""},{"$f":"IF(JAAFデータ貼り付け!AE40=\"\",\"\",JAAFデータ貼り付け!AE40)","v":""},{"$f":"IF(JAAFデータ貼り付け!AF40=\"\",\"\",JAAFデータ貼り付け!AF40)","v":""},{"$f":"IF(JAAFデータ貼り付け!AG40=\"\",\"\",JAAFデータ貼り付け!AG40)","v":""},{"$f":"IF(JAAFデータ貼り付け!AH40=\"\",\"\",JAAFデータ貼り付け!AH40)","v":""},{"$f":"IF(JAAFデータ貼り付け!AI40=\"\",\"\",JAAFデータ貼り付け!AI40)","v":""},{"$f":"IF(JAAFデータ貼り付け!AJ40=\"\",\"\",JAAFデータ貼り付け!AJ40)","v":""},{"$f":"IF(JAAFデータ貼り付け!AK40=\"\",\"\",JAAFデータ貼り付け!AK40)","v":""},{"$f":"IF(JAAFデータ貼り付け!AL40=\"\",\"\",JAAFデータ貼り付け!AL40)","v":""},{"$f":"IF(JAAFデータ貼り付け!AM40=\"\",\"\",JAAFデータ貼り付け!AM40)","v":""},{"$f":"IF(JAAFデータ貼り付け!AN40=\"\",\"\",JAAFデータ貼り付け!AN40)","v":""},{"$f":"IF(JAAFデータ貼り付け!AO40=\"\",\"\",JAAFデータ貼り付け!AO40)","v":""},{"$f":"IF(JAAFデータ貼り付け!AP40=\"\",\"\",JAAFデータ貼り付け!AP40)","v":""},{"$f":"IF(JAAFデータ貼り付け!AQ40=\"\",\"\",JAAFデータ貼り付け!AQ40)","v":""}]
[{"$f":"IF(JAAFデータ貼り付け!E41=\"\",\"\",JAAFデータ貼り付け!E41)","v":""},{"$f":"IF(JAAFデータ貼り付け!B41=\"\",\"\",JAAFデータ貼り付け!B41)","v":""},{"$f":"IF(JAAFデータ貼り付け!C41=\"\",\"\",JAAFデータ貼り付け!C41)","v":""},{"$f":"IF(JAAFデータ貼り付け!D41=\"\",\"\",JAAFデータ貼り付け!D41)","v":""},null,{"$f":"IF(フリガナ貼り付け!D41=\"\",\"\",フリガナ貼り付け!D41)","v":""},{"$f":"IF(フリガナ貼り付け!E41=\"\",\"\",フリガナ貼り付け!E41)","v":""},{"$f":"IF(JAAFデータ貼り付け!H41=\"\",\"\",JAAFデータ貼り付け!H41)","v":""},{"$f":"IF(JAAFデータ貼り付け!I41=\"\",\"\",JAAFデータ貼り付け!I41)","v":""},{"$f":"IF(JAAFデータ貼り付け!J41=\"\",\"\",JAAFデータ貼り付け!J41)","v":""},{"$f":"IF(JAAFデータ貼り付け!K41=\"\",\"\",JAAFデータ貼り付け!K41)","v":""},{"$f":"IF(JAAFデータ貼り付け!L41=\"\",\"\",JAAFデータ貼り付け!L41)","v":""},{"$f":"IF(JAAFデータ貼り付け!M41=\"\",\"\",JAAFデータ貼り付け!M41)","v":""},{"$f":"IF(JAAFデータ貼り付け!N41=\"\",\"\",JAAFデータ貼り付け!N41)","v":""},{"$f":"IF(JAAFデータ貼り付け!O41=\"\",\"\",JAAFデータ貼り付け!O41)","v":""},{"$f":"IF(JAAFデータ貼り付け!P41=\"\",\"\",JAAFデータ貼り付け!P41)","v":""},{"$f":"IF(JAAFデータ貼り付け!Q41=\"\",\"\",JAAFデータ貼り付け!Q41)","v":""},{"$f":"IF(JAAFデータ貼り付け!R41=\"\",\"\",JAAFデータ貼り付け!R41)","v":""},{"$f":"生年月日貼り付け!E41&生年月日貼り付け!F41&生年月日貼り付け!G41","v":"000"},{"$f":"IF(JAAFデータ貼り付け!T41=\"\",\"\",JAAFデータ貼り付け!T41)","v":""},{"$f":"IF(JAAFデータ貼り付け!U41=\"\",\"\",JAAFデータ貼り付け!U41)","v":""},{"$f":"IF(Sheet5!B41=\"\",\"\",Sheet5!B41)","v":"0"},{"$f":"IF(JAAFデータ貼り付け!W41=\"\",\"\",JAAFデータ貼り付け!W41)","v":""},{"$f":"IF(JAAFデータ貼り付け!X41=\"\",\"\",JAAFデータ貼り付け!X41)","v":""},{"$f":"IF(JAAFデータ貼り付け!Y41=\"\",\"\",JAAFデータ貼り付け!Y41)","v":""},{"$f":"IF(JAAFデータ貼り付け!Z41=\"\",\"\",JAAFデータ貼り付け!Z41)","v":""},{"$f":"IF(JAAFデータ貼り付け!AA41=\"\",\"\",JAAFデータ貼り付け!AA41)","v":""},{"$f":"IF(JAAFデータ貼り付け!AB41=\"\",\"\",JAAFデータ貼り付け!AB41)","v":""},{"$f":"IF(JAAFデータ貼り付け!AC41=\"\",\"\",JAAFデータ貼り付け!AC41)","v":""},{"$f":"IF(JAAFデータ貼り付け!AD41=\"\",\"\",JAAFデータ貼り付け!AD41)","v":""},{"$f":"IF(JAAFデータ貼り付け!AE41=\"\",\"\",JAAFデータ貼り付け!AE41)","v":""},{"$f":"IF(JAAFデータ貼り付け!AF41=\"\",\"\",JAAFデータ貼り付け!AF41)","v":""},{"$f":"IF(JAAFデータ貼り付け!AG41=\"\",\"\",JAAFデータ貼り付け!AG41)","v":""},{"$f":"IF(JAAFデータ貼り付け!AH41=\"\",\"\",JAAFデータ貼り付け!AH41)","v":""},{"$f":"IF(JAAFデータ貼り付け!AI41=\"\",\"\",JAAFデータ貼り付け!AI41)","v":""},{"$f":"IF(JAAFデータ貼り付け!AJ41=\"\",\"\",JAAFデータ貼り付け!AJ41)","v":""},{"$f":"IF(JAAFデータ貼り付け!AK41=\"\",\"\",JAAFデータ貼り付け!AK41)","v":""},{"$f":"IF(JAAFデータ貼り付け!AL41=\"\",\"\",JAAFデータ貼り付け!AL41)","v":""},{"$f":"IF(JAAFデータ貼り付け!AM41=\"\",\"\",JAAFデータ貼り付け!AM41)","v":""},{"$f":"IF(JAAFデータ貼り付け!AN41=\"\",\"\",JAAFデータ貼り付け!AN41)","v":""},{"$f":"IF(JAAFデータ貼り付け!AO41=\"\",\"\",JAAFデータ貼り付け!AO41)","v":""},{"$f":"IF(JAAFデータ貼り付け!AP41=\"\",\"\",JAAFデータ貼り付け!AP41)","v":""},{"$f":"IF(JAAFデータ貼り付け!AQ41=\"\",\"\",JAAFデータ貼り付け!AQ41)","v":""}]
[{"$f":"IF(JAAFデータ貼り付け!E42=\"\",\"\",JAAFデータ貼り付け!E42)","v":""},{"$f":"IF(JAAFデータ貼り付け!B42=\"\",\"\",JAAFデータ貼り付け!B42)","v":""},{"$f":"IF(JAAFデータ貼り付け!C42=\"\",\"\",JAAFデータ貼り付け!C42)","v":""},{"$f":"IF(JAAFデータ貼り付け!D42=\"\",\"\",JAAFデータ貼り付け!D42)","v":""},null,{"$f":"IF(フリガナ貼り付け!D42=\"\",\"\",フリガナ貼り付け!D42)","v":""},{"$f":"IF(フリガナ貼り付け!E42=\"\",\"\",フリガナ貼り付け!E42)","v":""},{"$f":"IF(JAAFデータ貼り付け!H42=\"\",\"\",JAAFデータ貼り付け!H42)","v":""},{"$f":"IF(JAAFデータ貼り付け!I42=\"\",\"\",JAAFデータ貼り付け!I42)","v":""},{"$f":"IF(JAAFデータ貼り付け!J42=\"\",\"\",JAAFデータ貼り付け!J42)","v":""},{"$f":"IF(JAAFデータ貼り付け!K42=\"\",\"\",JAAFデータ貼り付け!K42)","v":""},{"$f":"IF(JAAFデータ貼り付け!L42=\"\",\"\",JAAFデータ貼り付け!L42)","v":""},{"$f":"IF(JAAFデータ貼り付け!M42=\"\",\"\",JAAFデータ貼り付け!M42)","v":""},{"$f":"IF(JAAFデータ貼り付け!N42=\"\",\"\",JAAFデータ貼り付け!N42)","v":""},{"$f":"IF(JAAFデータ貼り付け!O42=\"\",\"\",JAAFデータ貼り付け!O42)","v":""},{"$f":"IF(JAAFデータ貼り付け!P42=\"\",\"\",JAAFデータ貼り付け!P42)","v":""},{"$f":"IF(JAAFデータ貼り付け!Q42=\"\",\"\",JAAFデータ貼り付け!Q42)","v":""},{"$f":"IF(JAAFデータ貼り付け!R42=\"\",\"\",JAAFデータ貼り付け!R42)","v":""},{"$f":"生年月日貼り付け!E42&生年月日貼り付け!F42&生年月日貼り付け!G42","v":"000"},{"$f":"IF(JAAFデータ貼り付け!T42=\"\",\"\",JAAFデータ貼り付け!T42)","v":""},{"$f":"IF(JAAFデータ貼り付け!U42=\"\",\"\",JAAFデータ貼り付け!U42)","v":""},{"$f":"IF(Sheet5!B42=\"\",\"\",Sheet5!B42)","v":"0"},{"$f":"IF(JAAFデータ貼り付け!W42=\"\",\"\",JAAFデータ貼り付け!W42)","v":""},{"$f":"IF(JAAFデータ貼り付け!X42=\"\",\"\",JAAFデータ貼り付け!X42)","v":""},{"$f":"IF(JAAFデータ貼り付け!Y42=\"\",\"\",JAAFデータ貼り付け!Y42)","v":""},{"$f":"IF(JAAFデータ貼り付け!Z42=\"\",\"\",JAAFデータ貼り付け!Z42)","v":""},{"$f":"IF(JAAFデータ貼り付け!AA42=\"\",\"\",JAAFデータ貼り付け!AA42)","v":""},{"$f":"IF(JAAFデータ貼り付け!AB42=\"\",\"\",JAAFデータ貼り付け!AB42)","v":""},{"$f":"IF(JAAFデータ貼り付け!AC42=\"\",\"\",JAAFデータ貼り付け!AC42)","v":""},{"$f":"IF(JAAFデータ貼り付け!AD42=\"\",\"\",JAAFデータ貼り付け!AD42)","v":""},{"$f":"IF(JAAFデータ貼り付け!AE42=\"\",\"\",JAAFデータ貼り付け!AE42)","v":""},{"$f":"IF(JAAFデータ貼り付け!AF42=\"\",\"\",JAAFデータ貼り付け!AF42)","v":""},{"$f":"IF(JAAFデータ貼り付け!AG42=\"\",\"\",JAAFデータ貼り付け!AG42)","v":""},{"$f":"IF(JAAFデータ貼り付け!AH42=\"\",\"\",JAAFデータ貼り付け!AH42)","v":""},{"$f":"IF(JAAFデータ貼り付け!AI42=\"\",\"\",JAAFデータ貼り付け!AI42)","v":""},{"$f":"IF(JAAFデータ貼り付け!AJ42=\"\",\"\",JAAFデータ貼り付け!AJ42)","v":""},{"$f":"IF(JAAFデータ貼り付け!AK42=\"\",\"\",JAAFデータ貼り付け!AK42)","v":""},{"$f":"IF(JAAFデータ貼り付け!AL42=\"\",\"\",JAAFデータ貼り付け!AL42)","v":""},{"$f":"IF(JAAFデータ貼り付け!AM42=\"\",\"\",JAAFデータ貼り付け!AM42)","v":""},{"$f":"IF(JAAFデータ貼り付け!AN42=\"\",\"\",JAAFデータ貼り付け!AN42)","v":""},{"$f":"IF(JAAFデータ貼り付け!AO42=\"\",\"\",JAAFデータ貼り付け!AO42)","v":""},{"$f":"IF(JAAFデータ貼り付け!AP42=\"\",\"\",JAAFデータ貼り付け!AP42)","v":""},{"$f":"IF(JAAFデータ貼り付け!AQ42=\"\",\"\",JAAFデータ貼り付け!AQ42)","v":""}]
[{"$f":"IF(JAAFデータ貼り付け!E43=\"\",\"\",JAAFデータ貼り付け!E43)","v":""},{"$f":"IF(JAAFデータ貼り付け!B43=\"\",\"\",JAAFデータ貼り付け!B43)","v":""},{"$f":"IF(JAAFデータ貼り付け!C43=\"\",\"\",JAAFデータ貼り付け!C43)","v":""},{"$f":"IF(JAAFデータ貼り付け!D43=\"\",\"\",JAAFデータ貼り付け!D43)","v":""},null,{"$f":"IF(フリガナ貼り付け!D43=\"\",\"\",フリガナ貼り付け!D43)","v":""},{"$f":"IF(フリガナ貼り付け!E43=\"\",\"\",フリガナ貼り付け!E43)","v":""},{"$f":"IF(JAAFデータ貼り付け!H43=\"\",\"\",JAAFデータ貼り付け!H43)","v":""},{"$f":"IF(JAAFデータ貼り付け!I43=\"\",\"\",JAAFデータ貼り付け!I43)","v":""},{"$f":"IF(JAAFデータ貼り付け!J43=\"\",\"\",JAAFデータ貼り付け!J43)","v":""},{"$f":"IF(JAAFデータ貼り付け!K43=\"\",\"\",JAAFデータ貼り付け!K43)","v":""},{"$f":"IF(JAAFデータ貼り付け!L43=\"\",\"\",JAAFデータ貼り付け!L43)","v":""},{"$f":"IF(JAAFデータ貼り付け!M43=\"\",\"\",JAAFデータ貼り付け!M43)","v":""},{"$f":"IF(JAAFデータ貼り付け!N43=\"\",\"\",JAAFデータ貼り付け!N43)","v":""},{"$f":"IF(JAAFデータ貼り付け!O43=\"\",\"\",JAAFデータ貼り付け!O43)","v":""},{"$f":"IF(JAAFデータ貼り付け!P43=\"\",\"\",JAAFデータ貼り付け!P43)","v":""},{"$f":"IF(JAAFデータ貼り付け!Q43=\"\",\"\",JAAFデータ貼り付け!Q43)","v":""},{"$f":"IF(JAAFデータ貼り付け!R43=\"\",\"\",JAAFデータ貼り付け!R43)","v":""},{"$f":"生年月日貼り付け!E43&生年月日貼り付け!F43&生年月日貼り付け!G43","v":"000"},{"$f":"IF(JAAFデータ貼り付け!T43=\"\",\"\",JAAFデータ貼り付け!T43)","v":""},{"$f":"IF(JAAFデータ貼り付け!U43=\"\",\"\",JAAFデータ貼り付け!U43)","v":""},{"$f":"IF(Sheet5!B43=\"\",\"\",Sheet5!B43)","v":"0"},{"$f":"IF(JAAFデータ貼り付け!W43=\"\",\"\",JAAFデータ貼り付け!W43)","v":""},{"$f":"IF(JAAFデータ貼り付け!X43=\"\",\"\",JAAFデータ貼り付け!X43)","v":""},{"$f":"IF(JAAFデータ貼り付け!Y43=\"\",\"\",JAAFデータ貼り付け!Y43)","v":""},{"$f":"IF(JAAFデータ貼り付け!Z43=\"\",\"\",JAAFデータ貼り付け!Z43)","v":""},{"$f":"IF(JAAFデータ貼り付け!AA43=\"\",\"\",JAAFデータ貼り付け!AA43)","v":""},{"$f":"IF(JAAFデータ貼り付け!AB43=\"\",\"\",JAAFデータ貼り付け!AB43)","v":""},{"$f":"IF(JAAFデータ貼り付け!AC43=\"\",\"\",JAAFデータ貼り付け!AC43)","v":""},{"$f":"IF(JAAFデータ貼り付け!AD43=\"\",\"\",JAAFデータ貼り付け!AD43)","v":""},{"$f":"IF(JAAFデータ貼り付け!AE43=\"\",\"\",JAAFデータ貼り付け!AE43)","v":""},{"$f":"IF(JAAFデータ貼り付け!AF43=\"\",\"\",JAAFデータ貼り付け!AF43)","v":""},{"$f":"IF(JAAFデータ貼り付け!AG43=\"\",\"\",JAAFデータ貼り付け!AG43)","v":""},{"$f":"IF(JAAFデータ貼り付け!AH43=\"\",\"\",JAAFデータ貼り付け!AH43)","v":""},{"$f":"IF(JAAFデータ貼り付け!AI43=\"\",\"\",JAAFデータ貼り付け!AI43)","v":""},{"$f":"IF(JAAFデータ貼り付け!AJ43=\"\",\"\",JAAFデータ貼り付け!AJ43)","v":""},{"$f":"IF(JAAFデータ貼り付け!AK43=\"\",\"\",JAAFデータ貼り付け!AK43)","v":""},{"$f":"IF(JAAFデータ貼り付け!AL43=\"\",\"\",JAAFデータ貼り付け!AL43)","v":""},{"$f":"IF(JAAFデータ貼り付け!AM43=\"\",\"\",JAAFデータ貼り付け!AM43)","v":""},{"$f":"IF(JAAFデータ貼り付け!AN43=\"\",\"\",JAAFデータ貼り付け!AN43)","v":""},{"$f":"IF(JAAFデータ貼り付け!AO43=\"\",\"\",JAAFデータ貼り付け!AO43)","v":""},{"$f":"IF(JAAFデータ貼り付け!AP43=\"\",\"\",JAAFデータ貼り付け!AP43)","v":""},{"$f":"IF(JAAFデータ貼り付け!AQ43=\"\",\"\",JAAFデータ貼り付け!AQ43)","v":""}]
[{"$f":"IF(JAAFデータ貼り付け!E44=\"\",\"\",JAAFデータ貼り付け!E44)","v":""},{"$f":"IF(JAAFデータ貼り付け!B44=\"\",\"\",JAAFデータ貼り付け!B44)","v":""},{"$f":"IF(JAAFデータ貼り付け!C44=\"\",\"\",JAAFデータ貼り付け!C44)","v":""},{"$f":"IF(JAAFデータ貼り付け!D44=\"\",\"\",JAAFデータ貼り付け!D44)","v":""},null,{"$f":"IF(フリガナ貼り付け!D44=\"\",\"\",フリガナ貼り付け!D44)","v":""},{"$f":"IF(フリガナ貼り付け!E44=\"\",\"\",フリガナ貼り付け!E44)","v":""},{"$f":"IF(JAAFデータ貼り付け!H44=\"\",\"\",JAAFデータ貼り付け!H44)","v":""},{"$f":"IF(JAAFデータ貼り付け!I44=\"\",\"\",JAAFデータ貼り付け!I44)","v":""},{"$f":"IF(JAAFデータ貼り付け!J44=\"\",\"\",JAAFデータ貼り付け!J44)","v":""},{"$f":"IF(JAAFデータ貼り付け!K44=\"\",\"\",JAAFデータ貼り付け!K44)","v":""},{"$f":"IF(JAAFデータ貼り付け!L44=\"\",\"\",JAAFデータ貼り付け!L44)","v":""},{"$f":"IF(JAAFデータ貼り付け!M44=\"\",\"\",JAAFデータ貼り付け!M44)","v":""},{"$f":"IF(JAAFデータ貼り付け!N44=\"\",\"\",JAAFデータ貼り付け!N44)","v":""},{"$f":"IF(JAAFデータ貼り付け!O44=\"\",\"\",JAAFデータ貼り付け!O44)","v":""},{"$f":"IF(JAAFデータ貼り付け!P44=\"\",\"\",JAAFデータ貼り付け!P44)","v":""},{"$f":"IF(JAAFデータ貼り付け!Q44=\"\",\"\",JAAFデータ貼り付け!Q44)","v":""},{"$f":"IF(JAAFデータ貼り付け!R44=\"\",\"\",JAAFデータ貼り付け!R44)","v":""},{"$f":"生年月日貼り付け!E44&生年月日貼り付け!F44&生年月日貼り付け!G44","v":"000"},{"$f":"IF(JAAFデータ貼り付け!T44=\"\",\"\",JAAFデータ貼り付け!T44)","v":""},{"$f":"IF(JAAFデータ貼り付け!U44=\"\",\"\",JAAFデータ貼り付け!U44)","v":""},{"$f":"IF(Sheet5!B44=\"\",\"\",Sheet5!B44)","v":"0"},{"$f":"IF(JAAFデータ貼り付け!W44=\"\",\"\",JAAFデータ貼り付け!W44)","v":""},{"$f":"IF(JAAFデータ貼り付け!X44=\"\",\"\",JAAFデータ貼り付け!X44)","v":""},{"$f":"IF(JAAFデータ貼り付け!Y44=\"\",\"\",JAAFデータ貼り付け!Y44)","v":""},{"$f":"IF(JAAFデータ貼り付け!Z44=\"\",\"\",JAAFデータ貼り付け!Z44)","v":""},{"$f":"IF(JAAFデータ貼り付け!AA44=\"\",\"\",JAAFデータ貼り付け!AA44)","v":""},{"$f":"IF(JAAFデータ貼り付け!AB44=\"\",\"\",JAAFデータ貼り付け!AB44)","v":""},{"$f":"IF(JAAFデータ貼り付け!AC44=\"\",\"\",JAAFデータ貼り付け!AC44)","v":""},{"$f":"IF(JAAFデータ貼り付け!AD44=\"\",\"\",JAAFデータ貼り付け!AD44)","v":""},{"$f":"IF(JAAFデータ貼り付け!AE44=\"\",\"\",JAAFデータ貼り付け!AE44)","v":""},{"$f":"IF(JAAFデータ貼り付け!AF44=\"\",\"\",JAAFデータ貼り付け!AF44)","v":""},{"$f":"IF(JAAFデータ貼り付け!AG44=\"\",\"\",JAAFデータ貼り付け!AG44)","v":""},{"$f":"IF(JAAFデータ貼り付け!AH44=\"\",\"\",JAAFデータ貼り付け!AH44)","v":""},{"$f":"IF(JAAFデータ貼り付け!AI44=\"\",\"\",JAAFデータ貼り付け!AI44)","v":""},{"$f":"IF(JAAFデータ貼り付け!AJ44=\"\",\"\",JAAFデータ貼り付け!AJ44)","v":""},{"$f":"IF(JAAFデータ貼り付け!AK44=\"\",\"\",JAAFデータ貼り付け!AK44)","v":""},{"$f":"IF(JAAFデータ貼り付け!AL44=\"\",\"\",JAAFデータ貼り付け!AL44)","v":""},{"$f":"IF(JAAFデータ貼り付け!AM44=\"\",\"\",JAAFデータ貼り付け!AM44)","v":""},{"$f":"IF(JAAFデータ貼り付け!AN44=\"\",\"\",JAAFデータ貼り付け!AN44)","v":""},{"$f":"IF(JAAFデータ貼り付け!AO44=\"\",\"\",JAAFデータ貼り付け!AO44)","v":""},{"$f":"IF(JAAFデータ貼り付け!AP44=\"\",\"\",JAAFデータ貼り付け!AP44)","v":""},{"$f":"IF(JAAFデータ貼り付け!AQ44=\"\",\"\",JAAFデータ貼り付け!AQ44)","v":""}]
[{"$f":"IF(JAAFデータ貼り付け!E45=\"\",\"\",JAAFデータ貼り付け!E45)","v":""},{"$f":"IF(JAAFデータ貼り付け!B45=\"\",\"\",JAAFデータ貼り付け!B45)","v":""},{"$f":"IF(JAAFデータ貼り付け!C45=\"\",\"\",JAAFデータ貼り付け!C45)","v":""},{"$f":"IF(JAAFデータ貼り付け!D45=\"\",\"\",JAAFデータ貼り付け!D45)","v":""},null,{"$f":"IF(フリガナ貼り付け!D45=\"\",\"\",フリガナ貼り付け!D45)","v":""},{"$f":"IF(フリガナ貼り付け!E45=\"\",\"\",フリガナ貼り付け!E45)","v":""},{"$f":"IF(JAAFデータ貼り付け!H45=\"\",\"\",JAAFデータ貼り付け!H45)","v":""},{"$f":"IF(JAAFデータ貼り付け!I45=\"\",\"\",JAAFデータ貼り付け!I45)","v":""},{"$f":"IF(JAAFデータ貼り付け!J45=\"\",\"\",JAAFデータ貼り付け!J45)","v":""},{"$f":"IF(JAAFデータ貼り付け!K45=\"\",\"\",JAAFデータ貼り付け!K45)","v":""},{"$f":"IF(JAAFデータ貼り付け!L45=\"\",\"\",JAAFデータ貼り付け!L45)","v":""},{"$f":"IF(JAAFデータ貼り付け!M45=\"\",\"\",JAAFデータ貼り付け!M45)","v":""},{"$f":"IF(JAAFデータ貼り付け!N45=\"\",\"\",JAAFデータ貼り付け!N45)","v":""},{"$f":"IF(JAAFデータ貼り付け!O45=\"\",\"\",JAAFデータ貼り付け!O45)","v":""},{"$f":"IF(JAAFデータ貼り付け!P45=\"\",\"\",JAAFデータ貼り付け!P45)","v":""},{"$f":"IF(JAAFデータ貼り付け!Q45=\"\",\"\",JAAFデータ貼り付け!Q45)","v":""},{"$f":"IF(JAAFデータ貼り付け!R45=\"\",\"\",JAAFデータ貼り付け!R45)","v":""},{"$f":"生年月日貼り付け!E45&生年月日貼り付け!F45&生年月日貼り付け!G45","v":"000"},{"$f":"IF(JAAFデータ貼り付け!T45=\"\",\"\",JAAFデータ貼り付け!T45)","v":""},{"$f":"IF(JAAFデータ貼り付け!U45=\"\",\"\",JAAFデータ貼り付け!U45)","v":""},{"$f":"IF(Sheet5!B45=\"\",\"\",Sheet5!B45)","v":"0"},{"$f":"IF(JAAFデータ貼り付け!W45=\"\",\"\",JAAFデータ貼り付け!W45)","v":""},{"$f":"IF(JAAFデータ貼り付け!X45=\"\",\"\",JAAFデータ貼り付け!X45)","v":""},{"$f":"IF(JAAFデータ貼り付け!Y45=\"\",\"\",JAAFデータ貼り付け!Y45)","v":""},{"$f":"IF(JAAFデータ貼り付け!Z45=\"\",\"\",JAAFデータ貼り付け!Z45)","v":""},{"$f":"IF(JAAFデータ貼り付け!AA45=\"\",\"\",JAAFデータ貼り付け!AA45)","v":""},{"$f":"IF(JAAFデータ貼り付け!AB45=\"\",\"\",JAAFデータ貼り付け!AB45)","v":""},{"$f":"IF(JAAFデータ貼り付け!AC45=\"\",\"\",JAAFデータ貼り付け!AC45)","v":""},{"$f":"IF(JAAFデータ貼り付け!AD45=\"\",\"\",JAAFデータ貼り付け!AD45)","v":""},{"$f":"IF(JAAFデータ貼り付け!AE45=\"\",\"\",JAAFデータ貼り付け!AE45)","v":""},{"$f":"IF(JAAFデータ貼り付け!AF45=\"\",\"\",JAAFデータ貼り付け!AF45)","v":""},{"$f":"IF(JAAFデータ貼り付け!AG45=\"\",\"\",JAAFデータ貼り付け!AG45)","v":""},{"$f":"IF(JAAFデータ貼り付け!AH45=\"\",\"\",JAAFデータ貼り付け!AH45)","v":""},{"$f":"IF(JAAFデータ貼り付け!AI45=\"\",\"\",JAAFデータ貼り付け!AI45)","v":""},{"$f":"IF(JAAFデータ貼り付け!AJ45=\"\",\"\",JAAFデータ貼り付け!AJ45)","v":""},{"$f":"IF(JAAFデータ貼り付け!AK45=\"\",\"\",JAAFデータ貼り付け!AK45)","v":""},{"$f":"IF(JAAFデータ貼り付け!AL45=\"\",\"\",JAAFデータ貼り付け!AL45)","v":""},{"$f":"IF(JAAFデータ貼り付け!AM45=\"\",\"\",JAAFデータ貼り付け!AM45)","v":""},{"$f":"IF(JAAFデータ貼り付け!AN45=\"\",\"\",JAAFデータ貼り付け!AN45)","v":""},{"$f":"IF(JAAFデータ貼り付け!AO45=\"\",\"\",JAAFデータ貼り付け!AO45)","v":""},{"$f":"IF(JAAFデータ貼り付け!AP45=\"\",\"\",JAAFデータ貼り付け!AP45)","v":""},{"$f":"IF(JAAFデータ貼り付け!AQ45=\"\",\"\",JAAFデータ貼り付け!AQ45)","v":""}]
[{"$f":"IF(JAAFデータ貼り付け!E46=\"\",\"\",JAAFデータ貼り付け!E46)","v":""},{"$f":"IF(JAAFデータ貼り付け!B46=\"\",\"\",JAAFデータ貼り付け!B46)","v":""},{"$f":"IF(JAAFデータ貼り付け!C46=\"\",\"\",JAAFデータ貼り付け!C46)","v":""},{"$f":"IF(JAAFデータ貼り付け!D46=\"\",\"\",JAAFデータ貼り付け!D46)","v":""},null,{"$f":"IF(フリガナ貼り付け!D46=\"\",\"\",フリガナ貼り付け!D46)","v":""},{"$f":"IF(フリガナ貼り付け!E46=\"\",\"\",フリガナ貼り付け!E46)","v":""},{"$f":"IF(JAAFデータ貼り付け!H46=\"\",\"\",JAAFデータ貼り付け!H46)","v":""},{"$f":"IF(JAAFデータ貼り付け!I46=\"\",\"\",JAAFデータ貼り付け!I46)","v":""},{"$f":"IF(JAAFデータ貼り付け!J46=\"\",\"\",JAAFデータ貼り付け!J46)","v":""},{"$f":"IF(JAAFデータ貼り付け!K46=\"\",\"\",JAAFデータ貼り付け!K46)","v":""},{"$f":"IF(JAAFデータ貼り付け!L46=\"\",\"\",JAAFデータ貼り付け!L46)","v":""},{"$f":"IF(JAAFデータ貼り付け!M46=\"\",\"\",JAAFデータ貼り付け!M46)","v":""},{"$f":"IF(JAAFデータ貼り付け!N46=\"\",\"\",JAAFデータ貼り付け!N46)","v":""},{"$f":"IF(JAAFデータ貼り付け!O46=\"\",\"\",JAAFデータ貼り付け!O46)","v":""},{"$f":"IF(JAAFデータ貼り付け!P46=\"\",\"\",JAAFデータ貼り付け!P46)","v":""},{"$f":"IF(JAAFデータ貼り付け!Q46=\"\",\"\",JAAFデータ貼り付け!Q46)","v":""},{"$f":"IF(JAAFデータ貼り付け!R46=\"\",\"\",JAAFデータ貼り付け!R46)","v":""},{"$f":"生年月日貼り付け!E46&生年月日貼り付け!F46&生年月日貼り付け!G46","v":"000"},{"$f":"IF(JAAFデータ貼り付け!T46=\"\",\"\",JAAFデータ貼り付け!T46)","v":""},{"$f":"IF(JAAFデータ貼り付け!U46=\"\",\"\",JAAFデータ貼り付け!U46)","v":""},{"$f":"IF(Sheet5!B46=\"\",\"\",Sheet5!B46)","v":"0"},{"$f":"IF(JAAFデータ貼り付け!W46=\"\",\"\",JAAFデータ貼り付け!W46)","v":""},{"$f":"IF(JAAFデータ貼り付け!X46=\"\",\"\",JAAFデータ貼り付け!X46)","v":""},{"$f":"IF(JAAFデータ貼り付け!Y46=\"\",\"\",JAAFデータ貼り付け!Y46)","v":""},{"$f":"IF(JAAFデータ貼り付け!Z46=\"\",\"\",JAAFデータ貼り付け!Z46)","v":""},{"$f":"IF(JAAFデータ貼り付け!AA46=\"\",\"\",JAAFデータ貼り付け!AA46)","v":""},{"$f":"IF(JAAFデータ貼り付け!AB46=\"\",\"\",JAAFデータ貼り付け!AB46)","v":""},{"$f":"IF(JAAFデータ貼り付け!AC46=\"\",\"\",JAAFデータ貼り付け!AC46)","v":""},{"$f":"IF(JAAFデータ貼り付け!AD46=\"\",\"\",JAAFデータ貼り付け!AD46)","v":""},{"$f":"IF(JAAFデータ貼り付け!AE46=\"\",\"\",JAAFデータ貼り付け!AE46)","v":""},{"$f":"IF(JAAFデータ貼り付け!AF46=\"\",\"\",JAAFデータ貼り付け!AF46)","v":""},{"$f":"IF(JAAFデータ貼り付け!AG46=\"\",\"\",JAAFデータ貼り付け!AG46)","v":""},{"$f":"IF(JAAFデータ貼り付け!AH46=\"\",\"\",JAAFデータ貼り付け!AH46)","v":""},{"$f":"IF(JAAFデータ貼り付け!AI46=\"\",\"\",JAAFデータ貼り付け!AI46)","v":""},{"$f":"IF(JAAFデータ貼り付け!AJ46=\"\",\"\",JAAFデータ貼り付け!AJ46)","v":""},{"$f":"IF(JAAFデータ貼り付け!AK46=\"\",\"\",JAAFデータ貼り付け!AK46)","v":""},{"$f":"IF(JAAFデータ貼り付け!AL46=\"\",\"\",JAAFデータ貼り付け!AL46)","v":""},{"$f":"IF(JAAFデータ貼り付け!AM46=\"\",\"\",JAAFデータ貼り付け!AM46)","v":""},{"$f":"IF(JAAFデータ貼り付け!AN46=\"\",\"\",JAAFデータ貼り付け!AN46)","v":""},{"$f":"IF(JAAFデータ貼り付け!AO46=\"\",\"\",JAAFデータ貼り付け!AO46)","v":""},{"$f":"IF(JAAFデータ貼り付け!AP46=\"\",\"\",JAAFデータ貼り付け!AP46)","v":""},{"$f":"IF(JAAFデータ貼り付け!AQ46=\"\",\"\",JAAFデータ貼り付け!AQ46)","v":""}]
[{"$f":"IF(JAAFデータ貼り付け!E47=\"\",\"\",JAAFデータ貼り付け!E47)","v":""},{"$f":"IF(JAAFデータ貼り付け!B47=\"\",\"\",JAAFデータ貼り付け!B47)","v":""},{"$f":"IF(JAAFデータ貼り付け!C47=\"\",\"\",JAAFデータ貼り付け!C47)","v":""},{"$f":"IF(JAAFデータ貼り付け!D47=\"\",\"\",JAAFデータ貼り付け!D47)","v":""},null,{"$f":"IF(フリガナ貼り付け!D47=\"\",\"\",フリガナ貼り付け!D47)","v":""},{"$f":"IF(フリガナ貼り付け!E47=\"\",\"\",フリガナ貼り付け!E47)","v":""},{"$f":"IF(JAAFデータ貼り付け!H47=\"\",\"\",JAAFデータ貼り付け!H47)","v":""},{"$f":"IF(JAAFデータ貼り付け!I47=\"\",\"\",JAAFデータ貼り付け!I47)","v":""},{"$f":"IF(JAAFデータ貼り付け!J47=\"\",\"\",JAAFデータ貼り付け!J47)","v":""},{"$f":"IF(JAAFデータ貼り付け!K47=\"\",\"\",JAAFデータ貼り付け!K47)","v":""},{"$f":"IF(JAAFデータ貼り付け!L47=\"\",\"\",JAAFデータ貼り付け!L47)","v":""},{"$f":"IF(JAAFデータ貼り付け!M47=\"\",\"\",JAAFデータ貼り付け!M47)","v":""},{"$f":"IF(JAAFデータ貼り付け!N47=\"\",\"\",JAAFデータ貼り付け!N47)","v":""},{"$f":"IF(JAAFデータ貼り付け!O47=\"\",\"\",JAAFデータ貼り付け!O47)","v":""},{"$f":"IF(JAAFデータ貼り付け!P47=\"\",\"\",JAAFデータ貼り付け!P47)","v":""},{"$f":"IF(JAAFデータ貼り付け!Q47=\"\",\"\",JAAFデータ貼り付け!Q47)","v":""},{"$f":"IF(JAAFデータ貼り付け!R47=\"\",\"\",JAAFデータ貼り付け!R47)","v":""},{"$f":"生年月日貼り付け!E47&生年月日貼り付け!F47&生年月日貼り付け!G47","v":"000"},{"$f":"IF(JAAFデータ貼り付け!T47=\"\",\"\",JAAFデータ貼り付け!T47)","v":""},{"$f":"IF(JAAFデータ貼り付け!U47=\"\",\"\",JAAFデータ貼り付け!U47)","v":""},{"$f":"IF(Sheet5!B47=\"\",\"\",Sheet5!B47)","v":"0"},{"$f":"IF(JAAFデータ貼り付け!W47=\"\",\"\",JAAFデータ貼り付け!W47)","v":""},{"$f":"IF(JAAFデータ貼り付け!X47=\"\",\"\",JAAFデータ貼り付け!X47)","v":""},{"$f":"IF(JAAFデータ貼り付け!Y47=\"\",\"\",JAAFデータ貼り付け!Y47)","v":""},{"$f":"IF(JAAFデータ貼り付け!Z47=\"\",\"\",JAAFデータ貼り付け!Z47)","v":""},{"$f":"IF(JAAFデータ貼り付け!AA47=\"\",\"\",JAAFデータ貼り付け!AA47)","v":""},{"$f":"IF(JAAFデータ貼り付け!AB47=\"\",\"\",JAAFデータ貼り付け!AB47)","v":""},{"$f":"IF(JAAFデータ貼り付け!AC47=\"\",\"\",JAAFデータ貼り付け!AC47)","v":""},{"$f":"IF(JAAFデータ貼り付け!AD47=\"\",\"\",JAAFデータ貼り付け!AD47)","v":""},{"$f":"IF(JAAFデータ貼り付け!AE47=\"\",\"\",JAAFデータ貼り付け!AE47)","v":""},{"$f":"IF(JAAFデータ貼り付け!AF47=\"\",\"\",JAAFデータ貼り付け!AF47)","v":""},{"$f":"IF(JAAFデータ貼り付け!AG47=\"\",\"\",JAAFデータ貼り付け!AG47)","v":""},{"$f":"IF(JAAFデータ貼り付け!AH47=\"\",\"\",JAAFデータ貼り付け!AH47)","v":""},{"$f":"IF(JAAFデータ貼り付け!AI47=\"\",\"\",JAAFデータ貼り付け!AI47)","v":""},{"$f":"IF(JAAFデータ貼り付け!AJ47=\"\",\"\",JAAFデータ貼り付け!AJ47)","v":""},{"$f":"IF(JAAFデータ貼り付け!AK47=\"\",\"\",JAAFデータ貼り付け!AK47)","v":""},{"$f":"IF(JAAFデータ貼り付け!AL47=\"\",\"\",JAAFデータ貼り付け!AL47)","v":""},{"$f":"IF(JAAFデータ貼り付け!AM47=\"\",\"\",JAAFデータ貼り付け!AM47)","v":""},{"$f":"IF(JAAFデータ貼り付け!AN47=\"\",\"\",JAAFデータ貼り付け!AN47)","v":""},{"$f":"IF(JAAFデータ貼り付け!AO47=\"\",\"\",JAAFデータ貼り付け!AO47)","v":""},{"$f":"IF(JAAFデータ貼り付け!AP47=\"\",\"\",JAAFデータ貼り付け!AP47)","v":""},{"$f":"IF(JAAFデータ貼り付け!AQ47=\"\",\"\",JAAFデータ貼り付け!AQ47)","v":""}]
[{"$f":"IF(JAAFデータ貼り付け!E48=\"\",\"\",JAAFデータ貼り付け!E48)","v":""},{"$f":"IF(JAAFデータ貼り付け!B48=\"\",\"\",JAAFデータ貼り付け!B48)","v":""},{"$f":"IF(JAAFデータ貼り付け!C48=\"\",\"\",JAAFデータ貼り付け!C48)","v":""},{"$f":"IF(JAAFデータ貼り付け!D48=\"\",\"\",JAAFデータ貼り付け!D48)","v":""},null,{"$f":"IF(フリガナ貼り付け!D48=\"\",\"\",フリガナ貼り付け!D48)","v":""},{"$f":"IF(フリガナ貼り付け!E48=\"\",\"\",フリガナ貼り付け!E48)","v":""},{"$f":"IF(JAAFデータ貼り付け!H48=\"\",\"\",JAAFデータ貼り付け!H48)","v":""},{"$f":"IF(JAAFデータ貼り付け!I48=\"\",\"\",JAAFデータ貼り付け!I48)","v":""},{"$f":"IF(JAAFデータ貼り付け!J48=\"\",\"\",JAAFデータ貼り付け!J48)","v":""},{"$f":"IF(JAAFデータ貼り付け!K48=\"\",\"\",JAAFデータ貼り付け!K48)","v":""},{"$f":"IF(JAAFデータ貼り付け!L48=\"\",\"\",JAAFデータ貼り付け!L48)","v":""},{"$f":"IF(JAAFデータ貼り付け!M48=\"\",\"\",JAAFデータ貼り付け!M48)","v":""},{"$f":"IF(JAAFデータ貼り付け!N48=\"\",\"\",JAAFデータ貼り付け!N48)","v":""},{"$f":"IF(JAAFデータ貼り付け!O48=\"\",\"\",JAAFデータ貼り付け!O48)","v":""},{"$f":"IF(JAAFデータ貼り付け!P48=\"\",\"\",JAAFデータ貼り付け!P48)","v":""},{"$f":"IF(JAAFデータ貼り付け!Q48=\"\",\"\",JAAFデータ貼り付け!Q48)","v":""},{"$f":"IF(JAAFデータ貼り付け!R48=\"\",\"\",JAAFデータ貼り付け!R48)","v":""},{"$f":"生年月日貼り付け!E48&生年月日貼り付け!F48&生年月日貼り付け!G48","v":"000"},{"$f":"IF(JAAFデータ貼り付け!T48=\"\",\"\",JAAFデータ貼り付け!T48)","v":""},{"$f":"IF(JAAFデータ貼り付け!U48=\"\",\"\",JAAFデータ貼り付け!U48)","v":""},{"$f":"IF(Sheet5!B48=\"\",\"\",Sheet5!B48)","v":"0"},{"$f":"IF(JAAFデータ貼り付け!W48=\"\",\"\",JAAFデータ貼り付け!W48)","v":""},{"$f":"IF(JAAFデータ貼り付け!X48=\"\",\"\",JAAFデータ貼り付け!X48)","v":""},{"$f":"IF(JAAFデータ貼り付け!Y48=\"\",\"\",JAAFデータ貼り付け!Y48)","v":""},{"$f":"IF(JAAFデータ貼り付け!Z48=\"\",\"\",JAAFデータ貼り付け!Z48)","v":""},{"$f":"IF(JAAFデータ貼り付け!AA48=\"\",\"\",JAAFデータ貼り付け!AA48)","v":""},{"$f":"IF(JAAFデータ貼り付け!AB48=\"\",\"\",JAAFデータ貼り付け!AB48)","v":""},{"$f":"IF(JAAFデータ貼り付け!AC48=\"\",\"\",JAAFデータ貼り付け!AC48)","v":""},{"$f":"IF(JAAFデータ貼り付け!AD48=\"\",\"\",JAAFデータ貼り付け!AD48)","v":""},{"$f":"IF(JAAFデータ貼り付け!AE48=\"\",\"\",JAAFデータ貼り付け!AE48)","v":""},{"$f":"IF(JAAFデータ貼り付け!AF48=\"\",\"\",JAAFデータ貼り付け!AF48)","v":""},{"$f":"IF(JAAFデータ貼り付け!AG48=\"\",\"\",JAAFデータ貼り付け!AG48)","v":""},{"$f":"IF(JAAFデータ貼り付け!AH48=\"\",\"\",JAAFデータ貼り付け!AH48)","v":""},{"$f":"IF(JAAFデータ貼り付け!AI48=\"\",\"\",JAAFデータ貼り付け!AI48)","v":""},{"$f":"IF(JAAFデータ貼り付け!AJ48=\"\",\"\",JAAFデータ貼り付け!AJ48)","v":""},{"$f":"IF(JAAFデータ貼り付け!AK48=\"\",\"\",JAAFデータ貼り付け!AK48)","v":""},{"$f":"IF(JAAFデータ貼り付け!AL48=\"\",\"\",JAAFデータ貼り付け!AL48)","v":""},{"$f":"IF(JAAFデータ貼り付け!AM48=\"\",\"\",JAAFデータ貼り付け!AM48)","v":""},{"$f":"IF(JAAFデータ貼り付け!AN48=\"\",\"\",JAAFデータ貼り付け!AN48)","v":""},{"$f":"IF(JAAFデータ貼り付け!AO48=\"\",\"\",JAAFデータ貼り付け!AO48)","v":""},{"$f":"IF(JAAFデータ貼り付け!AP48=\"\",\"\",JAAFデータ貼り付け!AP48)","v":""},{"$f":"IF(JAAFデータ貼り付け!AQ48=\"\",\"\",JAAFデータ貼り付け!AQ48)","v":""}]
[{"$f":"IF(JAAFデータ貼り付け!E49=\"\",\"\",JAAFデータ貼り付け!E49)","v":""},{"$f":"IF(JAAFデータ貼り付け!B49=\"\",\"\",JAAFデータ貼り付け!B49)","v":""},{"$f":"IF(JAAFデータ貼り付け!C49=\"\",\"\",JAAFデータ貼り付け!C49)","v":""},{"$f":"IF(JAAFデータ貼り付け!D49=\"\",\"\",JAAFデータ貼り付け!D49)","v":""},null,{"$f":"IF(フリガナ貼り付け!D49=\"\",\"\",フリガナ貼り付け!D49)","v":""},{"$f":"IF(フリガナ貼り付け!E49=\"\",\"\",フリガナ貼り付け!E49)","v":""},{"$f":"IF(JAAFデータ貼り付け!H49=\"\",\"\",JAAFデータ貼り付け!H49)","v":""},{"$f":"IF(JAAFデータ貼り付け!I49=\"\",\"\",JAAFデータ貼り付け!I49)","v":""},{"$f":"IF(JAAFデータ貼り付け!J49=\"\",\"\",JAAFデータ貼り付け!J49)","v":""},{"$f":"IF(JAAFデータ貼り付け!K49=\"\",\"\",JAAFデータ貼り付け!K49)","v":""},{"$f":"IF(JAAFデータ貼り付け!L49=\"\",\"\",JAAFデータ貼り付け!L49)","v":""},{"$f":"IF(JAAFデータ貼り付け!M49=\"\",\"\",JAAFデータ貼り付け!M49)","v":""},{"$f":"IF(JAAFデータ貼り付け!N49=\"\",\"\",JAAFデータ貼り付け!N49)","v":""},{"$f":"IF(JAAFデータ貼り付け!O49=\"\",\"\",JAAFデータ貼り付け!O49)","v":""},{"$f":"IF(JAAFデータ貼り付け!P49=\"\",\"\",JAAFデータ貼り付け!P49)","v":""},{"$f":"IF(JAAFデータ貼り付け!Q49=\"\",\"\",JAAFデータ貼り付け!Q49)","v":""},{"$f":"IF(JAAFデータ貼り付け!R49=\"\",\"\",JAAFデータ貼り付け!R49)","v":""},{"$f":"生年月日貼り付け!E49&生年月日貼り付け!F49&生年月日貼り付け!G49","v":"000"},{"$f":"IF(JAAFデータ貼り付け!T49=\"\",\"\",JAAFデータ貼り付け!T49)","v":""},{"$f":"IF(JAAFデータ貼り付け!U49=\"\",\"\",JAAFデータ貼り付け!U49)","v":""},{"$f":"IF(Sheet5!B49=\"\",\"\",Sheet5!B49)","v":"0"},{"$f":"IF(JAAFデータ貼り付け!W49=\"\",\"\",JAAFデータ貼り付け!W49)","v":""},{"$f":"IF(JAAFデータ貼り付け!X49=\"\",\"\",JAAFデータ貼り付け!X49)","v":""},{"$f":"IF(JAAFデータ貼り付け!Y49=\"\",\"\",JAAFデータ貼り付け!Y49)","v":""},{"$f":"IF(JAAFデータ貼り付け!Z49=\"\",\"\",JAAFデータ貼り付け!Z49)","v":""},{"$f":"IF(JAAFデータ貼り付け!AA49=\"\",\"\",JAAFデータ貼り付け!AA49)","v":""},{"$f":"IF(JAAFデータ貼り付け!AB49=\"\",\"\",JAAFデータ貼り付け!AB49)","v":""},{"$f":"IF(JAAFデータ貼り付け!AC49=\"\",\"\",JAAFデータ貼り付け!AC49)","v":""},{"$f":"IF(JAAFデータ貼り付け!AD49=\"\",\"\",JAAFデータ貼り付け!AD49)","v":""},{"$f":"IF(JAAFデータ貼り付け!AE49=\"\",\"\",JAAFデータ貼り付け!AE49)","v":""},{"$f":"IF(JAAFデータ貼り付け!AF49=\"\",\"\",JAAFデータ貼り付け!AF49)","v":""},{"$f":"IF(JAAFデータ貼り付け!AG49=\"\",\"\",JAAFデータ貼り付け!AG49)","v":""},{"$f":"IF(JAAFデータ貼り付け!AH49=\"\",\"\",JAAFデータ貼り付け!AH49)","v":""},{"$f":"IF(JAAFデータ貼り付け!AI49=\"\",\"\",JAAFデータ貼り付け!AI49)","v":""},{"$f":"IF(JAAFデータ貼り付け!AJ49=\"\",\"\",JAAFデータ貼り付け!AJ49)","v":""},{"$f":"IF(JAAFデータ貼り付け!AK49=\"\",\"\",JAAFデータ貼り付け!AK49)","v":""},{"$f":"IF(JAAFデータ貼り付け!AL49=\"\",\"\",JAAFデータ貼り付け!AL49)","v":""},{"$f":"IF(JAAFデータ貼り付け!AM49=\"\",\"\",JAAFデータ貼り付け!AM49)","v":""},{"$f":"IF(JAAFデータ貼り付け!AN49=\"\",\"\",JAAFデータ貼り付け!AN49)","v":""},{"$f":"IF(JAAFデータ貼り付け!AO49=\"\",\"\",JAAFデータ貼り付け!AO49)","v":""},{"$f":"IF(JAAFデータ貼り付け!AP49=\"\",\"\",JAAFデータ貼り付け!AP49)","v":""},{"$f":"IF(JAAFデータ貼り付け!AQ49=\"\",\"\",JAAFデータ貼り付け!AQ49)","v":""}]
[{"$f":"IF(JAAFデータ貼り付け!E50=\"\",\"\",JAAFデータ貼り付け!E50)","v":""},{"$f":"IF(JAAFデータ貼り付け!B50=\"\",\"\",JAAFデータ貼り付け!B50)","v":""},{"$f":"IF(JAAFデータ貼り付け!C50=\"\",\"\",JAAFデータ貼り付け!C50)","v":""},{"$f":"IF(JAAFデータ貼り付け!D50=\"\",\"\",JAAFデータ貼り付け!D50)","v":""},null,{"$f":"IF(フリガナ貼り付け!D50=\"\",\"\",フリガナ貼り付け!D50)","v":""},{"$f":"IF(フリガナ貼り付け!E50=\"\",\"\",フリガナ貼り付け!E50)","v":""},{"$f":"IF(JAAFデータ貼り付け!H50=\"\",\"\",JAAFデータ貼り付け!H50)","v":""},{"$f":"IF(JAAFデータ貼り付け!I50=\"\",\"\",JAAFデータ貼り付け!I50)","v":""},{"$f":"IF(JAAFデータ貼り付け!J50=\"\",\"\",JAAFデータ貼り付け!J50)","v":""},{"$f":"IF(JAAFデータ貼り付け!K50=\"\",\"\",JAAFデータ貼り付け!K50)","v":""},{"$f":"IF(JAAFデータ貼り付け!L50=\"\",\"\",JAAFデータ貼り付け!L50)","v":""},{"$f":"IF(JAAFデータ貼り付け!M50=\"\",\"\",JAAFデータ貼り付け!M50)","v":""},{"$f":"IF(JAAFデータ貼り付け!N50=\"\",\"\",JAAFデータ貼り付け!N50)","v":""},{"$f":"IF(JAAFデータ貼り付け!O50=\"\",\"\",JAAFデータ貼り付け!O50)","v":""},{"$f":"IF(JAAFデータ貼り付け!P50=\"\",\"\",JAAFデータ貼り付け!P50)","v":""},{"$f":"IF(JAAFデータ貼り付け!Q50=\"\",\"\",JAAFデータ貼り付け!Q50)","v":""},{"$f":"IF(JAAFデータ貼り付け!R50=\"\",\"\",JAAFデータ貼り付け!R50)","v":""},{"$f":"生年月日貼り付け!E50&生年月日貼り付け!F50&生年月日貼り付け!G50","v":"000"},{"$f":"IF(JAAFデータ貼り付け!T50=\"\",\"\",JAAFデータ貼り付け!T50)","v":""},{"$f":"IF(JAAFデータ貼り付け!U50=\"\",\"\",JAAFデータ貼り付け!U50)","v":""},{"$f":"IF(Sheet5!B50=\"\",\"\",Sheet5!B50)","v":"0"},{"$f":"IF(JAAFデータ貼り付け!W50=\"\",\"\",JAAFデータ貼り付け!W50)","v":""},{"$f":"IF(JAAFデータ貼り付け!X50=\"\",\"\",JAAFデータ貼り付け!X50)","v":""},{"$f":"IF(JAAFデータ貼り付け!Y50=\"\",\"\",JAAFデータ貼り付け!Y50)","v":""},{"$f":"IF(JAAFデータ貼り付け!Z50=\"\",\"\",JAAFデータ貼り付け!Z50)","v":""},{"$f":"IF(JAAFデータ貼り付け!AA50=\"\",\"\",JAAFデータ貼り付け!AA50)","v":""},{"$f":"IF(JAAFデータ貼り付け!AB50=\"\",\"\",JAAFデータ貼り付け!AB50)","v":""},{"$f":"IF(JAAFデータ貼り付け!AC50=\"\",\"\",JAAFデータ貼り付け!AC50)","v":""},{"$f":"IF(JAAFデータ貼り付け!AD50=\"\",\"\",JAAFデータ貼り付け!AD50)","v":""},{"$f":"IF(JAAFデータ貼り付け!AE50=\"\",\"\",JAAFデータ貼り付け!AE50)","v":""},{"$f":"IF(JAAFデータ貼り付け!AF50=\"\",\"\",JAAFデータ貼り付け!AF50)","v":""},{"$f":"IF(JAAFデータ貼り付け!AG50=\"\",\"\",JAAFデータ貼り付け!AG50)","v":""},{"$f":"IF(JAAFデータ貼り付け!AH50=\"\",\"\",JAAFデータ貼り付け!AH50)","v":""},{"$f":"IF(JAAFデータ貼り付け!AI50=\"\",\"\",JAAFデータ貼り付け!AI50)","v":""},{"$f":"IF(JAAFデータ貼り付け!AJ50=\"\",\"\",JAAFデータ貼り付け!AJ50)","v":""},{"$f":"IF(JAAFデータ貼り付け!AK50=\"\",\"\",JAAFデータ貼り付け!AK50)","v":""},{"$f":"IF(JAAFデータ貼り付け!AL50=\"\",\"\",JAAFデータ貼り付け!AL50)","v":""},{"$f":"IF(JAAFデータ貼り付け!AM50=\"\",\"\",JAAFデータ貼り付け!AM50)","v":""},{"$f":"IF(JAAFデータ貼り付け!AN50=\"\",\"\",JAAFデータ貼り付け!AN50)","v":""},{"$f":"IF(JAAFデータ貼り付け!AO50=\"\",\"\",JAAFデータ貼り付け!AO50)","v":""},{"$f":"IF(JAAFデータ貼り付け!AP50=\"\",\"\",JAAFデータ貼り付け!AP50)","v":""},{"$f":"IF(JAAFデータ貼り付け!AQ50=\"\",\"\",JAAFデータ貼り付け!AQ50)","v":""}]
[{"$f":"IF(JAAFデータ貼り付け!E51=\"\",\"\",JAAFデータ貼り付け!E51)","v":""},{"$f":"IF(JAAFデータ貼り付け!B51=\"\",\"\",JAAFデータ貼り付け!B51)","v":""},{"$f":"IF(JAAFデータ貼り付け!C51=\"\",\"\",JAAFデータ貼り付け!C51)","v":""},{"$f":"IF(JAAFデータ貼り付け!D51=\"\",\"\",JAAFデータ貼り付け!D51)","v":""},null,{"$f":"IF(フリガナ貼り付け!D51=\"\",\"\",フリガナ貼り付け!D51)","v":""},{"$f":"IF(フリガナ貼り付け!E51=\"\",\"\",フリガナ貼り付け!E51)","v":""},{"$f":"IF(JAAFデータ貼り付け!H51=\"\",\"\",JAAFデータ貼り付け!H51)","v":""},{"$f":"IF(JAAFデータ貼り付け!I51=\"\",\"\",JAAFデータ貼り付け!I51)","v":""},{"$f":"IF(JAAFデータ貼り付け!J51=\"\",\"\",JAAFデータ貼り付け!J51)","v":""},{"$f":"IF(JAAFデータ貼り付け!K51=\"\",\"\",JAAFデータ貼り付け!K51)","v":""},{"$f":"IF(JAAFデータ貼り付け!L51=\"\",\"\",JAAFデータ貼り付け!L51)","v":""},{"$f":"IF(JAAFデータ貼り付け!M51=\"\",\"\",JAAFデータ貼り付け!M51)","v":""},{"$f":"IF(JAAFデータ貼り付け!N51=\"\",\"\",JAAFデータ貼り付け!N51)","v":""},{"$f":"IF(JAAFデータ貼り付け!O51=\"\",\"\",JAAFデータ貼り付け!O51)","v":""},{"$f":"IF(JAAFデータ貼り付け!P51=\"\",\"\",JAAFデータ貼り付け!P51)","v":""},{"$f":"IF(JAAFデータ貼り付け!Q51=\"\",\"\",JAAFデータ貼り付け!Q51)","v":""},{"$f":"IF(JAAFデータ貼り付け!R51=\"\",\"\",JAAFデータ貼り付け!R51)","v":""},{"$f":"生年月日貼り付け!E51&生年月日貼り付け!F51&生年月日貼り付け!G51","v":"000"},{"$f":"IF(JAAFデータ貼り付け!T51=\"\",\"\",JAAFデータ貼り付け!T51)","v":""},{"$f":"IF(JAAFデータ貼り付け!U51=\"\",\"\",JAAFデータ貼り付け!U51)","v":""},{"$f":"IF(Sheet5!B51=\"\",\"\",Sheet5!B51)","v":"0"},{"$f":"IF(JAAFデータ貼り付け!W51=\"\",\"\",JAAFデータ貼り付け!W51)","v":""},{"$f":"IF(JAAFデータ貼り付け!X51=\"\",\"\",JAAFデータ貼り付け!X51)","v":""},{"$f":"IF(JAAFデータ貼り付け!Y51=\"\",\"\",JAAFデータ貼り付け!Y51)","v":""},{"$f":"IF(JAAFデータ貼り付け!Z51=\"\",\"\",JAAFデータ貼り付け!Z51)","v":""},{"$f":"IF(JAAFデータ貼り付け!AA51=\"\",\"\",JAAFデータ貼り付け!AA51)","v":""},{"$f":"IF(JAAFデータ貼り付け!AB51=\"\",\"\",JAAFデータ貼り付け!AB51)","v":""},{"$f":"IF(JAAFデータ貼り付け!AC51=\"\",\"\",JAAFデータ貼り付け!AC51)","v":""},{"$f":"IF(JAAFデータ貼り付け!AD51=\"\",\"\",JAAFデータ貼り付け!AD51)","v":""},{"$f":"IF(JAAFデータ貼り付け!AE51=\"\",\"\",JAAFデータ貼り付け!AE51)","v":""},{"$f":"IF(JAAFデータ貼り付け!AF51=\"\",\"\",JAAFデータ貼り付け!AF51)","v":""},{"$f":"IF(JAAFデータ貼り付け!AG51=\"\",\"\",JAAFデータ貼り付け!AG51)","v":""},{"$f":"IF(JAAFデータ貼り付け!AH51=\"\",\"\",JAAFデータ貼り付け!AH51)","v":""},{"$f":"IF(JAAFデータ貼り付け!AI51=\"\",\"\",JAAFデータ貼り付け!AI51)","v":""},{"$f":"IF(JAAFデータ貼り付け!AJ51=\"\",\"\",JAAFデータ貼り付け!AJ51)","v":""},{"$f":"IF(JAAFデータ貼り付け!AK51=\"\",\"\",JAAFデータ貼り付け!AK51)","v":""},{"$f":"IF(JAAFデータ貼り付け!AL51=\"\",\"\",JAAFデータ貼り付け!AL51)","v":""},{"$f":"IF(JAAFデータ貼り付け!AM51=\"\",\"\",JAAFデータ貼り付け!AM51)","v":""},{"$f":"IF(JAAFデータ貼り付け!AN51=\"\",\"\",JAAFデータ貼り付け!AN51)","v":""},{"$f":"IF(JAAFデータ貼り付け!AO51=\"\",\"\",JAAFデータ貼り付け!AO51)","v":""},{"$f":"IF(JAAFデータ貼り付け!AP51=\"\",\"\",JAAFデータ貼り付け!AP51)","v":""},{"$f":"IF(JAAFデータ貼り付け!AQ51=\"\",\"\",JAAFデータ貼り付け!AQ51)","v":""}]
[{"$f":"IF(JAAFデータ貼り付け!E52=\"\",\"\",JAAFデータ貼り付け!E52)","v":""},{"$f":"IF(JAAFデータ貼り付け!B52=\"\",\"\",JAAFデータ貼り付け!B52)","v":""},{"$f":"IF(JAAFデータ貼り付け!C52=\"\",\"\",JAAFデータ貼り付け!C52)","v":""},{"$f":"IF(JAAFデータ貼り付け!D52=\"\",\"\",JAAFデータ貼り付け!D52)","v":""},null,{"$f":"IF(フリガナ貼り付け!D52=\"\",\"\",フリガナ貼り付け!D52)","v":""},{"$f":"IF(フリガナ貼り付け!E52=\"\",\"\",フリガナ貼り付け!E52)","v":""},{"$f":"IF(JAAFデータ貼り付け!H52=\"\",\"\",JAAFデータ貼り付け!H52)","v":""},{"$f":"IF(JAAFデータ貼り付け!I52=\"\",\"\",JAAFデータ貼り付け!I52)","v":""},{"$f":"IF(JAAFデータ貼り付け!J52=\"\",\"\",JAAFデータ貼り付け!J52)","v":""},{"$f":"IF(JAAFデータ貼り付け!K52=\"\",\"\",JAAFデータ貼り付け!K52)","v":""},{"$f":"IF(JAAFデータ貼り付け!L52=\"\",\"\",JAAFデータ貼り付け!L52)","v":""},{"$f":"IF(JAAFデータ貼り付け!M52=\"\",\"\",JAAFデータ貼り付け!M52)","v":""},{"$f":"IF(JAAFデータ貼り付け!N52=\"\",\"\",JAAFデータ貼り付け!N52)","v":""},{"$f":"IF(JAAFデータ貼り付け!O52=\"\",\"\",JAAFデータ貼り付け!O52)","v":""},{"$f":"IF(JAAFデータ貼り付け!P52=\"\",\"\",JAAFデータ貼り付け!P52)","v":""},{"$f":"IF(JAAFデータ貼り付け!Q52=\"\",\"\",JAAFデータ貼り付け!Q52)","v":""},{"$f":"IF(JAAFデータ貼り付け!R52=\"\",\"\",JAAFデータ貼り付け!R52)","v":""},{"$f":"生年月日貼り付け!E52&生年月日貼り付け!F52&生年月日貼り付け!G52","v":"000"},{"$f":"IF(JAAFデータ貼り付け!T52=\"\",\"\",JAAFデータ貼り付け!T52)","v":""},{"$f":"IF(JAAFデータ貼り付け!U52=\"\",\"\",JAAFデータ貼り付け!U52)","v":""},{"$f":"IF(Sheet5!B52=\"\",\"\",Sheet5!B52)","v":"0"},{"$f":"IF(JAAFデータ貼り付け!W52=\"\",\"\",JAAFデータ貼り付け!W52)","v":""},{"$f":"IF(JAAFデータ貼り付け!X52=\"\",\"\",JAAFデータ貼り付け!X52)","v":""},{"$f":"IF(JAAFデータ貼り付け!Y52=\"\",\"\",JAAFデータ貼り付け!Y52)","v":""},{"$f":"IF(JAAFデータ貼り付け!Z52=\"\",\"\",JAAFデータ貼り付け!Z52)","v":""},{"$f":"IF(JAAFデータ貼り付け!AA52=\"\",\"\",JAAFデータ貼り付け!AA52)","v":""},{"$f":"IF(JAAFデータ貼り付け!AB52=\"\",\"\",JAAFデータ貼り付け!AB52)","v":""},{"$f":"IF(JAAFデータ貼り付け!AC52=\"\",\"\",JAAFデータ貼り付け!AC52)","v":""},{"$f":"IF(JAAFデータ貼り付け!AD52=\"\",\"\",JAAFデータ貼り付け!AD52)","v":""},{"$f":"IF(JAAFデータ貼り付け!AE52=\"\",\"\",JAAFデータ貼り付け!AE52)","v":""},{"$f":"IF(JAAFデータ貼り付け!AF52=\"\",\"\",JAAFデータ貼り付け!AF52)","v":""},{"$f":"IF(JAAFデータ貼り付け!AG52=\"\",\"\",JAAFデータ貼り付け!AG52)","v":""},{"$f":"IF(JAAFデータ貼り付け!AH52=\"\",\"\",JAAFデータ貼り付け!AH52)","v":""},{"$f":"IF(JAAFデータ貼り付け!AI52=\"\",\"\",JAAFデータ貼り付け!AI52)","v":""},{"$f":"IF(JAAFデータ貼り付け!AJ52=\"\",\"\",JAAFデータ貼り付け!AJ52)","v":""},{"$f":"IF(JAAFデータ貼り付け!AK52=\"\",\"\",JAAFデータ貼り付け!AK52)","v":""},{"$f":"IF(JAAFデータ貼り付け!AL52=\"\",\"\",JAAFデータ貼り付け!AL52)","v":""},{"$f":"IF(JAAFデータ貼り付け!AM52=\"\",\"\",JAAFデータ貼り付け!AM52)","v":""},{"$f":"IF(JAAFデータ貼り付け!AN52=\"\",\"\",JAAFデータ貼り付け!AN52)","v":""},{"$f":"IF(JAAFデータ貼り付け!AO52=\"\",\"\",JAAFデータ貼り付け!AO52)","v":""},{"$f":"IF(JAAFデータ貼り付け!AP52=\"\",\"\",JAAFデータ貼り付け!AP52)","v":""},{"$f":"IF(JAAFデータ貼り付け!AQ52=\"\",\"\",JAAFデータ貼り付け!AQ52)","v":""}]
[{"$f":"IF(JAAFデータ貼り付け!E53=\"\",\"\",JAAFデータ貼り付け!E53)","v":""},{"$f":"IF(JAAFデータ貼り付け!B53=\"\",\"\",JAAFデータ貼り付け!B53)","v":""},{"$f":"IF(JAAFデータ貼り付け!C53=\"\",\"\",JAAFデータ貼り付け!C53)","v":""},{"$f":"IF(JAAFデータ貼り付け!D53=\"\",\"\",JAAFデータ貼り付け!D53)","v":""},null,{"$f":"IF(フリガナ貼り付け!D53=\"\",\"\",フリガナ貼り付け!D53)","v":""},{"$f":"IF(フリガナ貼り付け!E53=\"\",\"\",フリガナ貼り付け!E53)","v":""},{"$f":"IF(JAAFデータ貼り付け!H53=\"\",\"\",JAAFデータ貼り付け!H53)","v":""},{"$f":"IF(JAAFデータ貼り付け!I53=\"\",\"\",JAAFデータ貼り付け!I53)","v":""},{"$f":"IF(JAAFデータ貼り付け!J53=\"\",\"\",JAAFデータ貼り付け!J53)","v":""},{"$f":"IF(JAAFデータ貼り付け!K53=\"\",\"\",JAAFデータ貼り付け!K53)","v":""},{"$f":"IF(JAAFデータ貼り付け!L53=\"\",\"\",JAAFデータ貼り付け!L53)","v":""},{"$f":"IF(JAAFデータ貼り付け!M53=\"\",\"\",JAAFデータ貼り付け!M53)","v":""},{"$f":"IF(JAAFデータ貼り付け!N53=\"\",\"\",JAAFデータ貼り付け!N53)","v":""},{"$f":"IF(JAAFデータ貼り付け!O53=\"\",\"\",JAAFデータ貼り付け!O53)","v":""},{"$f":"IF(JAAFデータ貼り付け!P53=\"\",\"\",JAAFデータ貼り付け!P53)","v":""},{"$f":"IF(JAAFデータ貼り付け!Q53=\"\",\"\",JAAFデータ貼り付け!Q53)","v":""},{"$f":"IF(JAAFデータ貼り付け!R53=\"\",\"\",JAAFデータ貼り付け!R53)","v":""},{"$f":"生年月日貼り付け!E53&生年月日貼り付け!F53&生年月日貼り付け!G53","v":"000"},{"$f":"IF(JAAFデータ貼り付け!T53=\"\",\"\",JAAFデータ貼り付け!T53)","v":""},{"$f":"IF(JAAFデータ貼り付け!U53=\"\",\"\",JAAFデータ貼り付け!U53)","v":""},{"$f":"IF(Sheet5!B53=\"\",\"\",Sheet5!B53)","v":"0"},{"$f":"IF(JAAFデータ貼り付け!W53=\"\",\"\",JAAFデータ貼り付け!W53)","v":""},{"$f":"IF(JAAFデータ貼り付け!X53=\"\",\"\",JAAFデータ貼り付け!X53)","v":""},{"$f":"IF(JAAFデータ貼り付け!Y53=\"\",\"\",JAAFデータ貼り付け!Y53)","v":""},{"$f":"IF(JAAFデータ貼り付け!Z53=\"\",\"\",JAAFデータ貼り付け!Z53)","v":""},{"$f":"IF(JAAFデータ貼り付け!AA53=\"\",\"\",JAAFデータ貼り付け!AA53)","v":""},{"$f":"IF(JAAFデータ貼り付け!AB53=\"\",\"\",JAAFデータ貼り付け!AB53)","v":""},{"$f":"IF(JAAFデータ貼り付け!AC53=\"\",\"\",JAAFデータ貼り付け!AC53)","v":""},{"$f":"IF(JAAFデータ貼り付け!AD53=\"\",\"\",JAAFデータ貼り付け!AD53)","v":""},{"$f":"IF(JAAFデータ貼り付け!AE53=\"\",\"\",JAAFデータ貼り付け!AE53)","v":""},{"$f":"IF(JAAFデータ貼り付け!AF53=\"\",\"\",JAAFデータ貼り付け!AF53)","v":""},{"$f":"IF(JAAFデータ貼り付け!AG53=\"\",\"\",JAAFデータ貼り付け!AG53)","v":""},{"$f":"IF(JAAFデータ貼り付け!AH53=\"\",\"\",JAAFデータ貼り付け!AH53)","v":""},{"$f":"IF(JAAFデータ貼り付け!AI53=\"\",\"\",JAAFデータ貼り付け!AI53)","v":""},{"$f":"IF(JAAFデータ貼り付け!AJ53=\"\",\"\",JAAFデータ貼り付け!AJ53)","v":""},{"$f":"IF(JAAFデータ貼り付け!AK53=\"\",\"\",JAAFデータ貼り付け!AK53)","v":""},{"$f":"IF(JAAFデータ貼り付け!AL53=\"\",\"\",JAAFデータ貼り付け!AL53)","v":""},{"$f":"IF(JAAFデータ貼り付け!AM53=\"\",\"\",JAAFデータ貼り付け!AM53)","v":""},{"$f":"IF(JAAFデータ貼り付け!AN53=\"\",\"\",JAAFデータ貼り付け!AN53)","v":""},{"$f":"IF(JAAFデータ貼り付け!AO53=\"\",\"\",JAAFデータ貼り付け!AO53)","v":""},{"$f":"IF(JAAFデータ貼り付け!AP53=\"\",\"\",JAAFデータ貼り付け!AP53)","v":""},{"$f":"IF(JAAFデータ貼り付け!AQ53=\"\",\"\",JAAFデータ貼り付け!AQ53)","v":""}]
[{"$f":"IF(JAAFデータ貼り付け!E54=\"\",\"\",JAAFデータ貼り付け!E54)","v":""},{"$f":"IF(JAAFデータ貼り付け!B54=\"\",\"\",JAAFデータ貼り付け!B54)","v":""},{"$f":"IF(JAAFデータ貼り付け!C54=\"\",\"\",JAAFデータ貼り付け!C54)","v":""},{"$f":"IF(JAAFデータ貼り付け!D54=\"\",\"\",JAAFデータ貼り付け!D54)","v":""},null,{"$f":"IF(フリガナ貼り付け!D54=\"\",\"\",フリガナ貼り付け!D54)","v":""},{"$f":"IF(フリガナ貼り付け!E54=\"\",\"\",フリガナ貼り付け!E54)","v":""},{"$f":"IF(JAAFデータ貼り付け!H54=\"\",\"\",JAAFデータ貼り付け!H54)","v":""},{"$f":"IF(JAAFデータ貼り付け!I54=\"\",\"\",JAAFデータ貼り付け!I54)","v":""},{"$f":"IF(JAAFデータ貼り付け!J54=\"\",\"\",JAAFデータ貼り付け!J54)","v":""},{"$f":"IF(JAAFデータ貼り付け!K54=\"\",\"\",JAAFデータ貼り付け!K54)","v":""},{"$f":"IF(JAAFデータ貼り付け!L54=\"\",\"\",JAAFデータ貼り付け!L54)","v":""},{"$f":"IF(JAAFデータ貼り付け!M54=\"\",\"\",JAAFデータ貼り付け!M54)","v":""},{"$f":"IF(JAAFデータ貼り付け!N54=\"\",\"\",JAAFデータ貼り付け!N54)","v":""},{"$f":"IF(JAAFデータ貼り付け!O54=\"\",\"\",JAAFデータ貼り付け!O54)","v":""},{"$f":"IF(JAAFデータ貼り付け!P54=\"\",\"\",JAAFデータ貼り付け!P54)","v":""},{"$f":"IF(JAAFデータ貼り付け!Q54=\"\",\"\",JAAFデータ貼り付け!Q54)","v":""},{"$f":"IF(JAAFデータ貼り付け!R54=\"\",\"\",JAAFデータ貼り付け!R54)","v":""},{"$f":"生年月日貼り付け!E54&生年月日貼り付け!F54&生年月日貼り付け!G54","v":"000"},{"$f":"IF(JAAFデータ貼り付け!T54=\"\",\"\",JAAFデータ貼り付け!T54)","v":""},{"$f":"IF(JAAFデータ貼り付け!U54=\"\",\"\",JAAFデータ貼り付け!U54)","v":""},{"$f":"IF(Sheet5!B54=\"\",\"\",Sheet5!B54)","v":"0"},{"$f":"IF(JAAFデータ貼り付け!W54=\"\",\"\",JAAFデータ貼り付け!W54)","v":""},{"$f":"IF(JAAFデータ貼り付け!X54=\"\",\"\",JAAFデータ貼り付け!X54)","v":""},{"$f":"IF(JAAFデータ貼り付け!Y54=\"\",\"\",JAAFデータ貼り付け!Y54)","v":""},{"$f":"IF(JAAFデータ貼り付け!Z54=\"\",\"\",JAAFデータ貼り付け!Z54)","v":""},{"$f":"IF(JAAFデータ貼り付け!AA54=\"\",\"\",JAAFデータ貼り付け!AA54)","v":""},{"$f":"IF(JAAFデータ貼り付け!AB54=\"\",\"\",JAAFデータ貼り付け!AB54)","v":""},{"$f":"IF(JAAFデータ貼り付け!AC54=\"\",\"\",JAAFデータ貼り付け!AC54)","v":""},{"$f":"IF(JAAFデータ貼り付け!AD54=\"\",\"\",JAAFデータ貼り付け!AD54)","v":""},{"$f":"IF(JAAFデータ貼り付け!AE54=\"\",\"\",JAAFデータ貼り付け!AE54)","v":""},{"$f":"IF(JAAFデータ貼り付け!AF54=\"\",\"\",JAAFデータ貼り付け!AF54)","v":""},{"$f":"IF(JAAFデータ貼り付け!AG54=\"\",\"\",JAAFデータ貼り付け!AG54)","v":""},{"$f":"IF(JAAFデータ貼り付け!AH54=\"\",\"\",JAAFデータ貼り付け!AH54)","v":""},{"$f":"IF(JAAFデータ貼り付け!AI54=\"\",\"\",JAAFデータ貼り付け!AI54)","v":""},{"$f":"IF(JAAFデータ貼り付け!AJ54=\"\",\"\",JAAFデータ貼り付け!AJ54)","v":""},{"$f":"IF(JAAFデータ貼り付け!AK54=\"\",\"\",JAAFデータ貼り付け!AK54)","v":""},{"$f":"IF(JAAFデータ貼り付け!AL54=\"\",\"\",JAAFデータ貼り付け!AL54)","v":""},{"$f":"IF(JAAFデータ貼り付け!AM54=\"\",\"\",JAAFデータ貼り付け!AM54)","v":""},{"$f":"IF(JAAFデータ貼り付け!AN54=\"\",\"\",JAAFデータ貼り付け!AN54)","v":""},{"$f":"IF(JAAFデータ貼り付け!AO54=\"\",\"\",JAAFデータ貼り付け!AO54)","v":""},{"$f":"IF(JAAFデータ貼り付け!AP54=\"\",\"\",JAAFデータ貼り付け!AP54)","v":""},{"$f":"IF(JAAFデータ貼り付け!AQ54=\"\",\"\",JAAFデータ貼り付け!AQ54)","v":""}]
[{"$f":"IF(JAAFデータ貼り付け!E55=\"\",\"\",JAAFデータ貼り付け!E55)","v":""},{"$f":"IF(JAAFデータ貼り付け!B55=\"\",\"\",JAAFデータ貼り付け!B55)","v":""},{"$f":"IF(JAAFデータ貼り付け!C55=\"\",\"\",JAAFデータ貼り付け!C55)","v":""},{"$f":"IF(JAAFデータ貼り付け!D55=\"\",\"\",JAAFデータ貼り付け!D55)","v":""},null,{"$f":"IF(フリガナ貼り付け!D55=\"\",\"\",フリガナ貼り付け!D55)","v":""},{"$f":"IF(フリガナ貼り付け!E55=\"\",\"\",フリガナ貼り付け!E55)","v":""},{"$f":"IF(JAAFデータ貼り付け!H55=\"\",\"\",JAAFデータ貼り付け!H55)","v":""},{"$f":"IF(JAAFデータ貼り付け!I55=\"\",\"\",JAAFデータ貼り付け!I55)","v":""},{"$f":"IF(JAAFデータ貼り付け!J55=\"\",\"\",JAAFデータ貼り付け!J55)","v":""},{"$f":"IF(JAAFデータ貼り付け!K55=\"\",\"\",JAAFデータ貼り付け!K55)","v":""},{"$f":"IF(JAAFデータ貼り付け!L55=\"\",\"\",JAAFデータ貼り付け!L55)","v":""},{"$f":"IF(JAAFデータ貼り付け!M55=\"\",\"\",JAAFデータ貼り付け!M55)","v":""},{"$f":"IF(JAAFデータ貼り付け!N55=\"\",\"\",JAAFデータ貼り付け!N55)","v":""},{"$f":"IF(JAAFデータ貼り付け!O55=\"\",\"\",JAAFデータ貼り付け!O55)","v":""},{"$f":"IF(JAAFデータ貼り付け!P55=\"\",\"\",JAAFデータ貼り付け!P55)","v":""},{"$f":"IF(JAAFデータ貼り付け!Q55=\"\",\"\",JAAFデータ貼り付け!Q55)","v":""},{"$f":"IF(JAAFデータ貼り付け!R55=\"\",\"\",JAAFデータ貼り付け!R55)","v":""},{"$f":"生年月日貼り付け!E55&生年月日貼り付け!F55&生年月日貼り付け!G55","v":"000"},{"$f":"IF(JAAFデータ貼り付け!T55=\"\",\"\",JAAFデータ貼り付け!T55)","v":""},{"$f":"IF(JAAFデータ貼り付け!U55=\"\",\"\",JAAFデータ貼り付け!U55)","v":""},{"$f":"IF(Sheet5!B55=\"\",\"\",Sheet5!B55)","v":"0"},{"$f":"IF(JAAFデータ貼り付け!W55=\"\",\"\",JAAFデータ貼り付け!W55)","v":""},{"$f":"IF(JAAFデータ貼り付け!X55=\"\",\"\",JAAFデータ貼り付け!X55)","v":""},{"$f":"IF(JAAFデータ貼り付け!Y55=\"\",\"\",JAAFデータ貼り付け!Y55)","v":""},{"$f":"IF(JAAFデータ貼り付け!Z55=\"\",\"\",JAAFデータ貼り付け!Z55)","v":""},{"$f":"IF(JAAFデータ貼り付け!AA55=\"\",\"\",JAAFデータ貼り付け!AA55)","v":""},{"$f":"IF(JAAFデータ貼り付け!AB55=\"\",\"\",JAAFデータ貼り付け!AB55)","v":""},{"$f":"IF(JAAFデータ貼り付け!AC55=\"\",\"\",JAAFデータ貼り付け!AC55)","v":""},{"$f":"IF(JAAFデータ貼り付け!AD55=\"\",\"\",JAAFデータ貼り付け!AD55)","v":""},{"$f":"IF(JAAFデータ貼り付け!AE55=\"\",\"\",JAAFデータ貼り付け!AE55)","v":""},{"$f":"IF(JAAFデータ貼り付け!AF55=\"\",\"\",JAAFデータ貼り付け!AF55)","v":""},{"$f":"IF(JAAFデータ貼り付け!AG55=\"\",\"\",JAAFデータ貼り付け!AG55)","v":""},{"$f":"IF(JAAFデータ貼り付け!AH55=\"\",\"\",JAAFデータ貼り付け!AH55)","v":""},{"$f":"IF(JAAFデータ貼り付け!AI55=\"\",\"\",JAAFデータ貼り付け!AI55)","v":""},{"$f":"IF(JAAFデータ貼り付け!AJ55=\"\",\"\",JAAFデータ貼り付け!AJ55)","v":""},{"$f":"IF(JAAFデータ貼り付け!AK55=\"\",\"\",JAAFデータ貼り付け!AK55)","v":""},{"$f":"IF(JAAFデータ貼り付け!AL55=\"\",\"\",JAAFデータ貼り付け!AL55)","v":""},{"$f":"IF(JAAFデータ貼り付け!AM55=\"\",\"\",JAAFデータ貼り付け!AM55)","v":""},{"$f":"IF(JAAFデータ貼り付け!AN55=\"\",\"\",JAAFデータ貼り付け!AN55)","v":""},{"$f":"IF(JAAFデータ貼り付け!AO55=\"\",\"\",JAAFデータ貼り付け!AO55)","v":""},{"$f":"IF(JAAFデータ貼り付け!AP55=\"\",\"\",JAAFデータ貼り付け!AP55)","v":""},{"$f":"IF(JAAFデータ貼り付け!AQ55=\"\",\"\",JAAFデータ貼り付け!AQ55)","v":""}]
[{"$f":"IF(JAAFデータ貼り付け!E56=\"\",\"\",JAAFデータ貼り付け!E56)","v":""},{"$f":"IF(JAAFデータ貼り付け!B56=\"\",\"\",JAAFデータ貼り付け!B56)","v":""},{"$f":"IF(JAAFデータ貼り付け!C56=\"\",\"\",JAAFデータ貼り付け!C56)","v":""},{"$f":"IF(JAAFデータ貼り付け!D56=\"\",\"\",JAAFデータ貼り付け!D56)","v":""},null,{"$f":"IF(フリガナ貼り付け!D56=\"\",\"\",フリガナ貼り付け!D56)","v":""},{"$f":"IF(フリガナ貼り付け!E56=\"\",\"\",フリガナ貼り付け!E56)","v":""},{"$f":"IF(JAAFデータ貼り付け!H56=\"\",\"\",JAAFデータ貼り付け!H56)","v":""},{"$f":"IF(JAAFデータ貼り付け!I56=\"\",\"\",JAAFデータ貼り付け!I56)","v":""},{"$f":"IF(JAAFデータ貼り付け!J56=\"\",\"\",JAAFデータ貼り付け!J56)","v":""},{"$f":"IF(JAAFデータ貼り付け!K56=\"\",\"\",JAAFデータ貼り付け!K56)","v":""},{"$f":"IF(JAAFデータ貼り付け!L56=\"\",\"\",JAAFデータ貼り付け!L56)","v":""},{"$f":"IF(JAAFデータ貼り付け!M56=\"\",\"\",JAAFデータ貼り付け!M56)","v":""},{"$f":"IF(JAAFデータ貼り付け!N56=\"\",\"\",JAAFデータ貼り付け!N56)","v":""},{"$f":"IF(JAAFデータ貼り付け!O56=\"\",\"\",JAAFデータ貼り付け!O56)","v":""},{"$f":"IF(JAAFデータ貼り付け!P56=\"\",\"\",JAAFデータ貼り付け!P56)","v":""},{"$f":"IF(JAAFデータ貼り付け!Q56=\"\",\"\",JAAFデータ貼り付け!Q56)","v":""},{"$f":"IF(JAAFデータ貼り付け!R56=\"\",\"\",JAAFデータ貼り付け!R56)","v":""},{"$f":"生年月日貼り付け!E56&生年月日貼り付け!F56&生年月日貼り付け!G56","v":"000"},{"$f":"IF(JAAFデータ貼り付け!T56=\"\",\"\",JAAFデータ貼り付け!T56)","v":""},{"$f":"IF(JAAFデータ貼り付け!U56=\"\",\"\",JAAFデータ貼り付け!U56)","v":""},{"$f":"IF(Sheet5!B56=\"\",\"\",Sheet5!B56)","v":"0"},{"$f":"IF(JAAFデータ貼り付け!W56=\"\",\"\",JAAFデータ貼り付け!W56)","v":""},{"$f":"IF(JAAFデータ貼り付け!X56=\"\",\"\",JAAFデータ貼り付け!X56)","v":""},{"$f":"IF(JAAFデータ貼り付け!Y56=\"\",\"\",JAAFデータ貼り付け!Y56)","v":""},{"$f":"IF(JAAFデータ貼り付け!Z56=\"\",\"\",JAAFデータ貼り付け!Z56)","v":""},{"$f":"IF(JAAFデータ貼り付け!AA56=\"\",\"\",JAAFデータ貼り付け!AA56)","v":""},{"$f":"IF(JAAFデータ貼り付け!AB56=\"\",\"\",JAAFデータ貼り付け!AB56)","v":""},{"$f":"IF(JAAFデータ貼り付け!AC56=\"\",\"\",JAAFデータ貼り付け!AC56)","v":""},{"$f":"IF(JAAFデータ貼り付け!AD56=\"\",\"\",JAAFデータ貼り付け!AD56)","v":""},{"$f":"IF(JAAFデータ貼り付け!AE56=\"\",\"\",JAAFデータ貼り付け!AE56)","v":""},{"$f":"IF(JAAFデータ貼り付け!AF56=\"\",\"\",JAAFデータ貼り付け!AF56)","v":""},{"$f":"IF(JAAFデータ貼り付け!AG56=\"\",\"\",JAAFデータ貼り付け!AG56)","v":""},{"$f":"IF(JAAFデータ貼り付け!AH56=\"\",\"\",JAAFデータ貼り付け!AH56)","v":""},{"$f":"IF(JAAFデータ貼り付け!AI56=\"\",\"\",JAAFデータ貼り付け!AI56)","v":""},{"$f":"IF(JAAFデータ貼り付け!AJ56=\"\",\"\",JAAFデータ貼り付け!AJ56)","v":""},{"$f":"IF(JAAFデータ貼り付け!AK56=\"\",\"\",JAAFデータ貼り付け!AK56)","v":""},{"$f":"IF(JAAFデータ貼り付け!AL56=\"\",\"\",JAAFデータ貼り付け!AL56)","v":""},{"$f":"IF(JAAFデータ貼り付け!AM56=\"\",\"\",JAAFデータ貼り付け!AM56)","v":""},{"$f":"IF(JAAFデータ貼り付け!AN56=\"\",\"\",JAAFデータ貼り付け!AN56)","v":""},{"$f":"IF(JAAFデータ貼り付け!AO56=\"\",\"\",JAAFデータ貼り付け!AO56)","v":""},{"$f":"IF(JAAFデータ貼り付け!AP56=\"\",\"\",JAAFデータ貼り付け!AP56)","v":""},{"$f":"IF(JAAFデータ貼り付け!AQ56=\"\",\"\",JAAFデータ貼り付け!AQ56)","v":""}]
[{"$f":"IF(JAAFデータ貼り付け!E57=\"\",\"\",JAAFデータ貼り付け!E57)","v":""},{"$f":"IF(JAAFデータ貼り付け!B57=\"\",\"\",JAAFデータ貼り付け!B57)","v":""},{"$f":"IF(JAAFデータ貼り付け!C57=\"\",\"\",JAAFデータ貼り付け!C57)","v":""},{"$f":"IF(JAAFデータ貼り付け!D57=\"\",\"\",JAAFデータ貼り付け!D57)","v":""},null,{"$f":"IF(フリガナ貼り付け!D57=\"\",\"\",フリガナ貼り付け!D57)","v":""},{"$f":"IF(フリガナ貼り付け!E57=\"\",\"\",フリガナ貼り付け!E57)","v":""},{"$f":"IF(JAAFデータ貼り付け!H57=\"\",\"\",JAAFデータ貼り付け!H57)","v":""},{"$f":"IF(JAAFデータ貼り付け!I57=\"\",\"\",JAAFデータ貼り付け!I57)","v":""},{"$f":"IF(JAAFデータ貼り付け!J57=\"\",\"\",JAAFデータ貼り付け!J57)","v":""},{"$f":"IF(JAAFデータ貼り付け!K57=\"\",\"\",JAAFデータ貼り付け!K57)","v":""},{"$f":"IF(JAAFデータ貼り付け!L57=\"\",\"\",JAAFデータ貼り付け!L57)","v":""},{"$f":"IF(JAAFデータ貼り付け!M57=\"\",\"\",JAAFデータ貼り付け!M57)","v":""},{"$f":"IF(JAAFデータ貼り付け!N57=\"\",\"\",JAAFデータ貼り付け!N57)","v":""},{"$f":"IF(JAAFデータ貼り付け!O57=\"\",\"\",JAAFデータ貼り付け!O57)","v":""},{"$f":"IF(JAAFデータ貼り付け!P57=\"\",\"\",JAAFデータ貼り付け!P57)","v":""},{"$f":"IF(JAAFデータ貼り付け!Q57=\"\",\"\",JAAFデータ貼り付け!Q57)","v":""},{"$f":"IF(JAAFデータ貼り付け!R57=\"\",\"\",JAAFデータ貼り付け!R57)","v":""},{"$f":"生年月日貼り付け!E57&生年月日貼り付け!F57&生年月日貼り付け!G57","v":"000"},{"$f":"IF(JAAFデータ貼り付け!T57=\"\",\"\",JAAFデータ貼り付け!T57)","v":""},{"$f":"IF(JAAFデータ貼り付け!U57=\"\",\"\",JAAFデータ貼り付け!U57)","v":""},{"$f":"IF(Sheet5!B57=\"\",\"\",Sheet5!B57)","v":"0"},{"$f":"IF(JAAFデータ貼り付け!W57=\"\",\"\",JAAFデータ貼り付け!W57)","v":""},{"$f":"IF(JAAFデータ貼り付け!X57=\"\",\"\",JAAFデータ貼り付け!X57)","v":""},{"$f":"IF(JAAFデータ貼り付け!Y57=\"\",\"\",JAAFデータ貼り付け!Y57)","v":""},{"$f":"IF(JAAFデータ貼り付け!Z57=\"\",\"\",JAAFデータ貼り付け!Z57)","v":""},{"$f":"IF(JAAFデータ貼り付け!AA57=\"\",\"\",JAAFデータ貼り付け!AA57)","v":""},{"$f":"IF(JAAFデータ貼り付け!AB57=\"\",\"\",JAAFデータ貼り付け!AB57)","v":""},{"$f":"IF(JAAFデータ貼り付け!AC57=\"\",\"\",JAAFデータ貼り付け!AC57)","v":""},{"$f":"IF(JAAFデータ貼り付け!AD57=\"\",\"\",JAAFデータ貼り付け!AD57)","v":""},{"$f":"IF(JAAFデータ貼り付け!AE57=\"\",\"\",JAAFデータ貼り付け!AE57)","v":""},{"$f":"IF(JAAFデータ貼り付け!AF57=\"\",\"\",JAAFデータ貼り付け!AF57)","v":""},{"$f":"IF(JAAFデータ貼り付け!AG57=\"\",\"\",JAAFデータ貼り付け!AG57)","v":""},{"$f":"IF(JAAFデータ貼り付け!AH57=\"\",\"\",JAAFデータ貼り付け!AH57)","v":""},{"$f":"IF(JAAFデータ貼り付け!AI57=\"\",\"\",JAAFデータ貼り付け!AI57)","v":""},{"$f":"IF(JAAFデータ貼り付け!AJ57=\"\",\"\",JAAFデータ貼り付け!AJ57)","v":""},{"$f":"IF(JAAFデータ貼り付け!AK57=\"\",\"\",JAAFデータ貼り付け!AK57)","v":""},{"$f":"IF(JAAFデータ貼り付け!AL57=\"\",\"\",JAAFデータ貼り付け!AL57)","v":""},{"$f":"IF(JAAFデータ貼り付け!AM57=\"\",\"\",JAAFデータ貼り付け!AM57)","v":""},{"$f":"IF(JAAFデータ貼り付け!AN57=\"\",\"\",JAAFデータ貼り付け!AN57)","v":""},{"$f":"IF(JAAFデータ貼り付け!AO57=\"\",\"\",JAAFデータ貼り付け!AO57)","v":""},{"$f":"IF(JAAFデータ貼り付け!AP57=\"\",\"\",JAAFデータ貼り付け!AP57)","v":""},{"$f":"IF(JAAFデータ貼り付け!AQ57=\"\",\"\",JAAFデータ貼り付け!AQ57)","v":""}]
[{"$f":"IF(JAAFデータ貼り付け!E58=\"\",\"\",JAAFデータ貼り付け!E58)","v":""},{"$f":"IF(JAAFデータ貼り付け!B58=\"\",\"\",JAAFデータ貼り付け!B58)","v":""},{"$f":"IF(JAAFデータ貼り付け!C58=\"\",\"\",JAAFデータ貼り付け!C58)","v":""},{"$f":"IF(JAAFデータ貼り付け!D58=\"\",\"\",JAAFデータ貼り付け!D58)","v":""},null,{"$f":"IF(フリガナ貼り付け!D58=\"\",\"\",フリガナ貼り付け!D58)","v":""},{"$f":"IF(フリガナ貼り付け!E58=\"\",\"\",フリガナ貼り付け!E58)","v":""},{"$f":"IF(JAAFデータ貼り付け!H58=\"\",\"\",JAAFデータ貼り付け!H58)","v":""},{"$f":"IF(JAAFデータ貼り付け!I58=\"\",\"\",JAAFデータ貼り付け!I58)","v":""},{"$f":"IF(JAAFデータ貼り付け!J58=\"\",\"\",JAAFデータ貼り付け!J58)","v":""},{"$f":"IF(JAAFデータ貼り付け!K58=\"\",\"\",JAAFデータ貼り付け!K58)","v":""},{"$f":"IF(JAAFデータ貼り付け!L58=\"\",\"\",JAAFデータ貼り付け!L58)","v":""},{"$f":"IF(JAAFデータ貼り付け!M58=\"\",\"\",JAAFデータ貼り付け!M58)","v":""},{"$f":"IF(JAAFデータ貼り付け!N58=\"\",\"\",JAAFデータ貼り付け!N58)","v":""},{"$f":"IF(JAAFデータ貼り付け!O58=\"\",\"\",JAAFデータ貼り付け!O58)","v":""},{"$f":"IF(JAAFデータ貼り付け!P58=\"\",\"\",JAAFデータ貼り付け!P58)","v":""},{"$f":"IF(JAAFデータ貼り付け!Q58=\"\",\"\",JAAFデータ貼り付け!Q58)","v":""},{"$f":"IF(JAAFデータ貼り付け!R58=\"\",\"\",JAAFデータ貼り付け!R58)","v":""},{"$f":"生年月日貼り付け!E58&生年月日貼り付け!F58&生年月日貼り付け!G58","v":"000"},{"$f":"IF(JAAFデータ貼り付け!T58=\"\",\"\",JAAFデータ貼り付け!T58)","v":""},{"$f":"IF(JAAFデータ貼り付け!U58=\"\",\"\",JAAFデータ貼り付け!U58)","v":""},{"$f":"IF(Sheet5!B58=\"\",\"\",Sheet5!B58)","v":"0"},{"$f":"IF(JAAFデータ貼り付け!W58=\"\",\"\",JAAFデータ貼り付け!W58)","v":""},{"$f":"IF(JAAFデータ貼り付け!X58=\"\",\"\",JAAFデータ貼り付け!X58)","v":""},{"$f":"IF(JAAFデータ貼り付け!Y58=\"\",\"\",JAAFデータ貼り付け!Y58)","v":""},{"$f":"IF(JAAFデータ貼り付け!Z58=\"\",\"\",JAAFデータ貼り付け!Z58)","v":""},{"$f":"IF(JAAFデータ貼り付け!AA58=\"\",\"\",JAAFデータ貼り付け!AA58)","v":""},{"$f":"IF(JAAFデータ貼り付け!AB58=\"\",\"\",JAAFデータ貼り付け!AB58)","v":""},{"$f":"IF(JAAFデータ貼り付け!AC58=\"\",\"\",JAAFデータ貼り付け!AC58)","v":""},{"$f":"IF(JAAFデータ貼り付け!AD58=\"\",\"\",JAAFデータ貼り付け!AD58)","v":""},{"$f":"IF(JAAFデータ貼り付け!AE58=\"\",\"\",JAAFデータ貼り付け!AE58)","v":""},{"$f":"IF(JAAFデータ貼り付け!AF58=\"\",\"\",JAAFデータ貼り付け!AF58)","v":""},{"$f":"IF(JAAFデータ貼り付け!AG58=\"\",\"\",JAAFデータ貼り付け!AG58)","v":""},{"$f":"IF(JAAFデータ貼り付け!AH58=\"\",\"\",JAAFデータ貼り付け!AH58)","v":""},{"$f":"IF(JAAFデータ貼り付け!AI58=\"\",\"\",JAAFデータ貼り付け!AI58)","v":""},{"$f":"IF(JAAFデータ貼り付け!AJ58=\"\",\"\",JAAFデータ貼り付け!AJ58)","v":""},{"$f":"IF(JAAFデータ貼り付け!AK58=\"\",\"\",JAAFデータ貼り付け!AK58)","v":""},{"$f":"IF(JAAFデータ貼り付け!AL58=\"\",\"\",JAAFデータ貼り付け!AL58)","v":""},{"$f":"IF(JAAFデータ貼り付け!AM58=\"\",\"\",JAAFデータ貼り付け!AM58)","v":""},{"$f":"IF(JAAFデータ貼り付け!AN58=\"\",\"\",JAAFデータ貼り付け!AN58)","v":""},{"$f":"IF(JAAFデータ貼り付け!AO58=\"\",\"\",JAAFデータ貼り付け!AO58)","v":""},{"$f":"IF(JAAFデータ貼り付け!AP58=\"\",\"\",JAAFデータ貼り付け!AP58)","v":""},{"$f":"IF(JAAFデータ貼り付け!AQ58=\"\",\"\",JAAFデータ貼り付け!AQ58)","v":""}]
[{"$f":"IF(JAAFデータ貼り付け!E59=\"\",\"\",JAAFデータ貼り付け!E59)","v":""},{"$f":"IF(JAAFデータ貼り付け!B59=\"\",\"\",JAAFデータ貼り付け!B59)","v":""},{"$f":"IF(JAAFデータ貼り付け!C59=\"\",\"\",JAAFデータ貼り付け!C59)","v":""},{"$f":"IF(JAAFデータ貼り付け!D59=\"\",\"\",JAAFデータ貼り付け!D59)","v":""},null,{"$f":"IF(フリガナ貼り付け!D59=\"\",\"\",フリガナ貼り付け!D59)","v":""},{"$f":"IF(フリガナ貼り付け!E59=\"\",\"\",フリガナ貼り付け!E59)","v":""},{"$f":"IF(JAAFデータ貼り付け!H59=\"\",\"\",JAAFデータ貼り付け!H59)","v":""},{"$f":"IF(JAAFデータ貼り付け!I59=\"\",\"\",JAAFデータ貼り付け!I59)","v":""},{"$f":"IF(JAAFデータ貼り付け!J59=\"\",\"\",JAAFデータ貼り付け!J59)","v":""},{"$f":"IF(JAAFデータ貼り付け!K59=\"\",\"\",JAAFデータ貼り付け!K59)","v":""},{"$f":"IF(JAAFデータ貼り付け!L59=\"\",\"\",JAAFデータ貼り付け!L59)","v":""},{"$f":"IF(JAAFデータ貼り付け!M59=\"\",\"\",JAAFデータ貼り付け!M59)","v":""},{"$f":"IF(JAAFデータ貼り付け!N59=\"\",\"\",JAAFデータ貼り付け!N59)","v":""},{"$f":"IF(JAAFデータ貼り付け!O59=\"\",\"\",JAAFデータ貼り付け!O59)","v":""},{"$f":"IF(JAAFデータ貼り付け!P59=\"\",\"\",JAAFデータ貼り付け!P59)","v":""},{"$f":"IF(JAAFデータ貼り付け!Q59=\"\",\"\",JAAFデータ貼り付け!Q59)","v":""},{"$f":"IF(JAAFデータ貼り付け!R59=\"\",\"\",JAAFデータ貼り付け!R59)","v":""},{"$f":"生年月日貼り付け!E59&生年月日貼り付け!F59&生年月日貼り付け!G59","v":"000"},{"$f":"IF(JAAFデータ貼り付け!T59=\"\",\"\",JAAFデータ貼り付け!T59)","v":""},{"$f":"IF(JAAFデータ貼り付け!U59=\"\",\"\",JAAFデータ貼り付け!U59)","v":""},{"$f":"IF(Sheet5!B59=\"\",\"\",Sheet5!B59)","v":"0"},{"$f":"IF(JAAFデータ貼り付け!W59=\"\",\"\",JAAFデータ貼り付け!W59)","v":""},{"$f":"IF(JAAFデータ貼り付け!X59=\"\",\"\",JAAFデータ貼り付け!X59)","v":""},{"$f":"IF(JAAFデータ貼り付け!Y59=\"\",\"\",JAAFデータ貼り付け!Y59)","v":""},{"$f":"IF(JAAFデータ貼り付け!Z59=\"\",\"\",JAAFデータ貼り付け!Z59)","v":""},{"$f":"IF(JAAFデータ貼り付け!AA59=\"\",\"\",JAAFデータ貼り付け!AA59)","v":""},{"$f":"IF(JAAFデータ貼り付け!AB59=\"\",\"\",JAAFデータ貼り付け!AB59)","v":""},{"$f":"IF(JAAFデータ貼り付け!AC59=\"\",\"\",JAAFデータ貼り付け!AC59)","v":""},{"$f":"IF(JAAFデータ貼り付け!AD59=\"\",\"\",JAAFデータ貼り付け!AD59)","v":""},{"$f":"IF(JAAFデータ貼り付け!AE59=\"\",\"\",JAAFデータ貼り付け!AE59)","v":""},{"$f":"IF(JAAFデータ貼り付け!AF59=\"\",\"\",JAAFデータ貼り付け!AF59)","v":""},{"$f":"IF(JAAFデータ貼り付け!AG59=\"\",\"\",JAAFデータ貼り付け!AG59)","v":""},{"$f":"IF(JAAFデータ貼り付け!AH59=\"\",\"\",JAAFデータ貼り付け!AH59)","v":""},{"$f":"IF(JAAFデータ貼り付け!AI59=\"\",\"\",JAAFデータ貼り付け!AI59)","v":""},{"$f":"IF(JAAFデータ貼り付け!AJ59=\"\",\"\",JAAFデータ貼り付け!AJ59)","v":""},{"$f":"IF(JAAFデータ貼り付け!AK59=\"\",\"\",JAAFデータ貼り付け!AK59)","v":""},{"$f":"IF(JAAFデータ貼り付け!AL59=\"\",\"\",JAAFデータ貼り付け!AL59)","v":""},{"$f":"IF(JAAFデータ貼り付け!AM59=\"\",\"\",JAAFデータ貼り付け!AM59)","v":""},{"$f":"IF(JAAFデータ貼り付け!AN59=\"\",\"\",JAAFデータ貼り付け!AN59)","v":""},{"$f":"IF(JAAFデータ貼り付け!AO59=\"\",\"\",JAAFデータ貼り付け!AO59)","v":""},{"$f":"IF(JAAFデータ貼り付け!AP59=\"\",\"\",JAAFデータ貼り付け!AP59)","v":""},{"$f":"IF(JAAFデータ貼り付け!AQ59=\"\",\"\",JAAFデータ貼り付け!AQ59)","v":""}]
[{"$f":"IF(JAAFデータ貼り付け!E60=\"\",\"\",JAAFデータ貼り付け!E60)","v":""},{"$f":"IF(JAAFデータ貼り付け!B60=\"\",\"\",JAAFデータ貼り付け!B60)","v":""},{"$f":"IF(JAAFデータ貼り付け!C60=\"\",\"\",JAAFデータ貼り付け!C60)","v":""},{"$f":"IF(JAAFデータ貼り付け!D60=\"\",\"\",JAAFデータ貼り付け!D60)","v":""},null,{"$f":"IF(フリガナ貼り付け!D60=\"\",\"\",フリガナ貼り付け!D60)","v":""},{"$f":"IF(フリガナ貼り付け!E60=\"\",\"\",フリガナ貼り付け!E60)","v":""},{"$f":"IF(JAAFデータ貼り付け!H60=\"\",\"\",JAAFデータ貼り付け!H60)","v":""},{"$f":"IF(JAAFデータ貼り付け!I60=\"\",\"\",JAAFデータ貼り付け!I60)","v":""},{"$f":"IF(JAAFデータ貼り付け!J60=\"\",\"\",JAAFデータ貼り付け!J60)","v":""},{"$f":"IF(JAAFデータ貼り付け!K60=\"\",\"\",JAAFデータ貼り付け!K60)","v":""},{"$f":"IF(JAAFデータ貼り付け!L60=\"\",\"\",JAAFデータ貼り付け!L60)","v":""},{"$f":"IF(JAAFデータ貼り付け!M60=\"\",\"\",JAAFデータ貼り付け!M60)","v":""},{"$f":"IF(JAAFデータ貼り付け!N60=\"\",\"\",JAAFデータ貼り付け!N60)","v":""},{"$f":"IF(JAAFデータ貼り付け!O60=\"\",\"\",JAAFデータ貼り付け!O60)","v":""},{"$f":"IF(JAAFデータ貼り付け!P60=\"\",\"\",JAAFデータ貼り付け!P60)","v":""},{"$f":"IF(JAAFデータ貼り付け!Q60=\"\",\"\",JAAFデータ貼り付け!Q60)","v":""},{"$f":"IF(JAAFデータ貼り付け!R60=\"\",\"\",JAAFデータ貼り付け!R60)","v":""},{"$f":"生年月日貼り付け!E60&生年月日貼り付け!F60&生年月日貼り付け!G60","v":"000"},{"$f":"IF(JAAFデータ貼り付け!T60=\"\",\"\",JAAFデータ貼り付け!T60)","v":""},{"$f":"IF(JAAFデータ貼り付け!U60=\"\",\"\",JAAFデータ貼り付け!U60)","v":""},{"$f":"IF(Sheet5!B60=\"\",\"\",Sheet5!B60)","v":"0"},{"$f":"IF(JAAFデータ貼り付け!W60=\"\",\"\",JAAFデータ貼り付け!W60)","v":""},{"$f":"IF(JAAFデータ貼り付け!X60=\"\",\"\",JAAFデータ貼り付け!X60)","v":""},{"$f":"IF(JAAFデータ貼り付け!Y60=\"\",\"\",JAAFデータ貼り付け!Y60)","v":""},{"$f":"IF(JAAFデータ貼り付け!Z60=\"\",\"\",JAAFデータ貼り付け!Z60)","v":""},{"$f":"IF(JAAFデータ貼り付け!AA60=\"\",\"\",JAAFデータ貼り付け!AA60)","v":""},{"$f":"IF(JAAFデータ貼り付け!AB60=\"\",\"\",JAAFデータ貼り付け!AB60)","v":""},{"$f":"IF(JAAFデータ貼り付け!AC60=\"\",\"\",JAAFデータ貼り付け!AC60)","v":""},{"$f":"IF(JAAFデータ貼り付け!AD60=\"\",\"\",JAAFデータ貼り付け!AD60)","v":""},{"$f":"IF(JAAFデータ貼り付け!AE60=\"\",\"\",JAAFデータ貼り付け!AE60)","v":""},{"$f":"IF(JAAFデータ貼り付け!AF60=\"\",\"\",JAAFデータ貼り付け!AF60)","v":""},{"$f":"IF(JAAFデータ貼り付け!AG60=\"\",\"\",JAAFデータ貼り付け!AG60)","v":""},{"$f":"IF(JAAFデータ貼り付け!AH60=\"\",\"\",JAAFデータ貼り付け!AH60)","v":""},{"$f":"IF(JAAFデータ貼り付け!AI60=\"\",\"\",JAAFデータ貼り付け!AI60)","v":""},{"$f":"IF(JAAFデータ貼り付け!AJ60=\"\",\"\",JAAFデータ貼り付け!AJ60)","v":""},{"$f":"IF(JAAFデータ貼り付け!AK60=\"\",\"\",JAAFデータ貼り付け!AK60)","v":""},{"$f":"IF(JAAFデータ貼り付け!AL60=\"\",\"\",JAAFデータ貼り付け!AL60)","v":""},{"$f":"IF(JAAFデータ貼り付け!AM60=\"\",\"\",JAAFデータ貼り付け!AM60)","v":""},{"$f":"IF(JAAFデータ貼り付け!AN60=\"\",\"\",JAAFデータ貼り付け!AN60)","v":""},{"$f":"IF(JAAFデータ貼り付け!AO60=\"\",\"\",JAAFデータ貼り付け!AO60)","v":""},{"$f":"IF(JAAFデータ貼り付け!AP60=\"\",\"\",JAAFデータ貼り付け!AP60)","v":""},{"$f":"IF(JAAFデータ貼り付け!AQ60=\"\",\"\",JAAFデータ貼り付け!AQ60)","v":""}]
[{"$f":"IF(JAAFデータ貼り付け!E61=\"\",\"\",JAAFデータ貼り付け!E61)","v":""},{"$f":"IF(JAAFデータ貼り付け!B61=\"\",\"\",JAAFデータ貼り付け!B61)","v":""},{"$f":"IF(JAAFデータ貼り付け!C61=\"\",\"\",JAAFデータ貼り付け!C61)","v":""},{"$f":"IF(JAAFデータ貼り付け!D61=\"\",\"\",JAAFデータ貼り付け!D61)","v":""},null,{"$f":"IF(フリガナ貼り付け!D61=\"\",\"\",フリガナ貼り付け!D61)","v":""},{"$f":"IF(フリガナ貼り付け!E61=\"\",\"\",フリガナ貼り付け!E61)","v":""},{"$f":"IF(JAAFデータ貼り付け!H61=\"\",\"\",JAAFデータ貼り付け!H61)","v":""},{"$f":"IF(JAAFデータ貼り付け!I61=\"\",\"\",JAAFデータ貼り付け!I61)","v":""},{"$f":"IF(JAAFデータ貼り付け!J61=\"\",\"\",JAAFデータ貼り付け!J61)","v":""},{"$f":"IF(JAAFデータ貼り付け!K61=\"\",\"\",JAAFデータ貼り付け!K61)","v":""},{"$f":"IF(JAAFデータ貼り付け!L61=\"\",\"\",JAAFデータ貼り付け!L61)","v":""},{"$f":"IF(JAAFデータ貼り付け!M61=\"\",\"\",JAAFデータ貼り付け!M61)","v":""},{"$f":"IF(JAAFデータ貼り付け!N61=\"\",\"\",JAAFデータ貼り付け!N61)","v":""},{"$f":"IF(JAAFデータ貼り付け!O61=\"\",\"\",JAAFデータ貼り付け!O61)","v":""},{"$f":"IF(JAAFデータ貼り付け!P61=\"\",\"\",JAAFデータ貼り付け!P61)","v":""},{"$f":"IF(JAAFデータ貼り付け!Q61=\"\",\"\",JAAFデータ貼り付け!Q61)","v":""},{"$f":"IF(JAAFデータ貼り付け!R61=\"\",\"\",JAAFデータ貼り付け!R61)","v":""},{"$f":"生年月日貼り付け!E61&生年月日貼り付け!F61&生年月日貼り付け!G61","v":"000"},{"$f":"IF(JAAFデータ貼り付け!T61=\"\",\"\",JAAFデータ貼り付け!T61)","v":""},{"$f":"IF(JAAFデータ貼り付け!U61=\"\",\"\",JAAFデータ貼り付け!U61)","v":""},{"$f":"IF(Sheet5!B61=\"\",\"\",Sheet5!B61)","v":"0"},{"$f":"IF(JAAFデータ貼り付け!W61=\"\",\"\",JAAFデータ貼り付け!W61)","v":""},{"$f":"IF(JAAFデータ貼り付け!X61=\"\",\"\",JAAFデータ貼り付け!X61)","v":""},{"$f":"IF(JAAFデータ貼り付け!Y61=\"\",\"\",JAAFデータ貼り付け!Y61)","v":""},{"$f":"IF(JAAFデータ貼り付け!Z61=\"\",\"\",JAAFデータ貼り付け!Z61)","v":""},{"$f":"IF(JAAFデータ貼り付け!AA61=\"\",\"\",JAAFデータ貼り付け!AA61)","v":""},{"$f":"IF(JAAFデータ貼り付け!AB61=\"\",\"\",JAAFデータ貼り付け!AB61)","v":""},{"$f":"IF(JAAFデータ貼り付け!AC61=\"\",\"\",JAAFデータ貼り付け!AC61)","v":""},{"$f":"IF(JAAFデータ貼り付け!AD61=\"\",\"\",JAAFデータ貼り付け!AD61)","v":""},{"$f":"IF(JAAFデータ貼り付け!AE61=\"\",\"\",JAAFデータ貼り付け!AE61)","v":""},{"$f":"IF(JAAFデータ貼り付け!AF61=\"\",\"\",JAAFデータ貼り付け!AF61)","v":""},{"$f":"IF(JAAFデータ貼り付け!AG61=\"\",\"\",JAAFデータ貼り付け!AG61)","v":""},{"$f":"IF(JAAFデータ貼り付け!AH61=\"\",\"\",JAAFデータ貼り付け!AH61)","v":""},{"$f":"IF(JAAFデータ貼り付け!AI61=\"\",\"\",JAAFデータ貼り付け!AI61)","v":""},{"$f":"IF(JAAFデータ貼り付け!AJ61=\"\",\"\",JAAFデータ貼り付け!AJ61)","v":""},{"$f":"IF(JAAFデータ貼り付け!AK61=\"\",\"\",JAAFデータ貼り付け!AK61)","v":""},{"$f":"IF(JAAFデータ貼り付け!AL61=\"\",\"\",JAAFデータ貼り付け!AL61)","v":""},{"$f":"IF(JAAFデータ貼り付け!AM61=\"\",\"\",JAAFデータ貼り付け!AM61)","v":""},{"$f":"IF(JAAFデータ貼り付け!AN61=\"\",\"\",JAAFデータ貼り付け!AN61)","v":""},{"$f":"IF(JAAFデータ貼り付け!AO61=\"\",\"\",JAAFデータ貼り付け!AO61)","v":""},{"$f":"IF(JAAFデータ貼り付け!AP61=\"\",\"\",JAAFデータ貼り付け!AP61)","v":""},{"$f":"IF(JAAFデータ貼り付け!AQ61=\"\",\"\",JAAFデータ貼り付け!AQ61)","v":""}]
[{"$f":"IF(JAAFデータ貼り付け!E62=\"\",\"\",JAAFデータ貼り付け!E62)","v":""},{"$f":"IF(JAAFデータ貼り付け!B62=\"\",\"\",JAAFデータ貼り付け!B62)","v":""},{"$f":"IF(JAAFデータ貼り付け!C62=\"\",\"\",JAAFデータ貼り付け!C62)","v":""},{"$f":"IF(JAAFデータ貼り付け!D62=\"\",\"\",JAAFデータ貼り付け!D62)","v":""},null,{"$f":"IF(フリガナ貼り付け!D62=\"\",\"\",フリガナ貼り付け!D62)","v":""},{"$f":"IF(フリガナ貼り付け!E62=\"\",\"\",フリガナ貼り付け!E62)","v":""},{"$f":"IF(JAAFデータ貼り付け!H62=\"\",\"\",JAAFデータ貼り付け!H62)","v":""},{"$f":"IF(JAAFデータ貼り付け!I62=\"\",\"\",JAAFデータ貼り付け!I62)","v":""},{"$f":"IF(JAAFデータ貼り付け!J62=\"\",\"\",JAAFデータ貼り付け!J62)","v":""},{"$f":"IF(JAAFデータ貼り付け!K62=\"\",\"\",JAAFデータ貼り付け!K62)","v":""},{"$f":"IF(JAAFデータ貼り付け!L62=\"\",\"\",JAAFデータ貼り付け!L62)","v":""},{"$f":"IF(JAAFデータ貼り付け!M62=\"\",\"\",JAAFデータ貼り付け!M62)","v":""},{"$f":"IF(JAAFデータ貼り付け!N62=\"\",\"\",JAAFデータ貼り付け!N62)","v":""},{"$f":"IF(JAAFデータ貼り付け!O62=\"\",\"\",JAAFデータ貼り付け!O62)","v":""},{"$f":"IF(JAAFデータ貼り付け!P62=\"\",\"\",JAAFデータ貼り付け!P62)","v":""},{"$f":"IF(JAAFデータ貼り付け!Q62=\"\",\"\",JAAFデータ貼り付け!Q62)","v":""},{"$f":"IF(JAAFデータ貼り付け!R62=\"\",\"\",JAAFデータ貼り付け!R62)","v":""},{"$f":"生年月日貼り付け!E62&生年月日貼り付け!F62&生年月日貼り付け!G62","v":"000"},{"$f":"IF(JAAFデータ貼り付け!T62=\"\",\"\",JAAFデータ貼り付け!T62)","v":""},{"$f":"IF(JAAFデータ貼り付け!U62=\"\",\"\",JAAFデータ貼り付け!U62)","v":""},{"$f":"IF(Sheet5!B62=\"\",\"\",Sheet5!B62)","v":"0"},{"$f":"IF(JAAFデータ貼り付け!W62=\"\",\"\",JAAFデータ貼り付け!W62)","v":""},{"$f":"IF(JAAFデータ貼り付け!X62=\"\",\"\",JAAFデータ貼り付け!X62)","v":""},{"$f":"IF(JAAFデータ貼り付け!Y62=\"\",\"\",JAAFデータ貼り付け!Y62)","v":""},{"$f":"IF(JAAFデータ貼り付け!Z62=\"\",\"\",JAAFデータ貼り付け!Z62)","v":""},{"$f":"IF(JAAFデータ貼り付け!AA62=\"\",\"\",JAAFデータ貼り付け!AA62)","v":""},{"$f":"IF(JAAFデータ貼り付け!AB62=\"\",\"\",JAAFデータ貼り付け!AB62)","v":""},{"$f":"IF(JAAFデータ貼り付け!AC62=\"\",\"\",JAAFデータ貼り付け!AC62)","v":""},{"$f":"IF(JAAFデータ貼り付け!AD62=\"\",\"\",JAAFデータ貼り付け!AD62)","v":""},{"$f":"IF(JAAFデータ貼り付け!AE62=\"\",\"\",JAAFデータ貼り付け!AE62)","v":""},{"$f":"IF(JAAFデータ貼り付け!AF62=\"\",\"\",JAAFデータ貼り付け!AF62)","v":""},{"$f":"IF(JAAFデータ貼り付け!AG62=\"\",\"\",JAAFデータ貼り付け!AG62)","v":""},{"$f":"IF(JAAFデータ貼り付け!AH62=\"\",\"\",JAAFデータ貼り付け!AH62)","v":""},{"$f":"IF(JAAFデータ貼り付け!AI62=\"\",\"\",JAAFデータ貼り付け!AI62)","v":""},{"$f":"IF(JAAFデータ貼り付け!AJ62=\"\",\"\",JAAFデータ貼り付け!AJ62)","v":""},{"$f":"IF(JAAFデータ貼り付け!AK62=\"\",\"\",JAAFデータ貼り付け!AK62)","v":""},{"$f":"IF(JAAFデータ貼り付け!AL62=\"\",\"\",JAAFデータ貼り付け!AL62)","v":""},{"$f":"IF(JAAFデータ貼り付け!AM62=\"\",\"\",JAAFデータ貼り付け!AM62)","v":""},{"$f":"IF(JAAFデータ貼り付け!AN62=\"\",\"\",JAAFデータ貼り付け!AN62)","v":""},{"$f":"IF(JAAFデータ貼り付け!AO62=\"\",\"\",JAAFデータ貼り付け!AO62)","v":""},{"$f":"IF(JAAFデータ貼り付け!AP62=\"\",\"\",JAAFデータ貼り付け!AP62)","v":""},{"$f":"IF(JAAFデータ貼り付け!AQ62=\"\",\"\",JAAFデータ貼り付け!AQ62)","v":""}]
[{"$f":"IF(JAAFデータ貼り付け!E63=\"\",\"\",JAAFデータ貼り付け!E63)","v":""},{"$f":"IF(JAAFデータ貼り付け!B63=\"\",\"\",JAAFデータ貼り付け!B63)","v":""},{"$f":"IF(JAAFデータ貼り付け!C63=\"\",\"\",JAAFデータ貼り付け!C63)","v":""},{"$f":"IF(JAAFデータ貼り付け!D63=\"\",\"\",JAAFデータ貼り付け!D63)","v":""},null,{"$f":"IF(フリガナ貼り付け!D63=\"\",\"\",フリガナ貼り付け!D63)","v":""},{"$f":"IF(フリガナ貼り付け!E63=\"\",\"\",フリガナ貼り付け!E63)","v":""},{"$f":"IF(JAAFデータ貼り付け!H63=\"\",\"\",JAAFデータ貼り付け!H63)","v":""},{"$f":"IF(JAAFデータ貼り付け!I63=\"\",\"\",JAAFデータ貼り付け!I63)","v":""},{"$f":"IF(JAAFデータ貼り付け!J63=\"\",\"\",JAAFデータ貼り付け!J63)","v":""},{"$f":"IF(JAAFデータ貼り付け!K63=\"\",\"\",JAAFデータ貼り付け!K63)","v":""},{"$f":"IF(JAAFデータ貼り付け!L63=\"\",\"\",JAAFデータ貼り付け!L63)","v":""},{"$f":"IF(JAAFデータ貼り付け!M63=\"\",\"\",JAAFデータ貼り付け!M63)","v":""},{"$f":"IF(JAAFデータ貼り付け!N63=\"\",\"\",JAAFデータ貼り付け!N63)","v":""},{"$f":"IF(JAAFデータ貼り付け!O63=\"\",\"\",JAAFデータ貼り付け!O63)","v":""},{"$f":"IF(JAAFデータ貼り付け!P63=\"\",\"\",JAAFデータ貼り付け!P63)","v":""},{"$f":"IF(JAAFデータ貼り付け!Q63=\"\",\"\",JAAFデータ貼り付け!Q63)","v":""},{"$f":"IF(JAAFデータ貼り付け!R63=\"\",\"\",JAAFデータ貼り付け!R63)","v":""},{"$f":"生年月日貼り付け!E63&生年月日貼り付け!F63&生年月日貼り付け!G63","v":"000"},{"$f":"IF(JAAFデータ貼り付け!T63=\"\",\"\",JAAFデータ貼り付け!T63)","v":""},{"$f":"IF(JAAFデータ貼り付け!U63=\"\",\"\",JAAFデータ貼り付け!U63)","v":""},{"$f":"IF(Sheet5!B63=\"\",\"\",Sheet5!B63)","v":"0"},{"$f":"IF(JAAFデータ貼り付け!W63=\"\",\"\",JAAFデータ貼り付け!W63)","v":""},{"$f":"IF(JAAFデータ貼り付け!X63=\"\",\"\",JAAFデータ貼り付け!X63)","v":""},{"$f":"IF(JAAFデータ貼り付け!Y63=\"\",\"\",JAAFデータ貼り付け!Y63)","v":""},{"$f":"IF(JAAFデータ貼り付け!Z63=\"\",\"\",JAAFデータ貼り付け!Z63)","v":""},{"$f":"IF(JAAFデータ貼り付け!AA63=\"\",\"\",JAAFデータ貼り付け!AA63)","v":""},{"$f":"IF(JAAFデータ貼り付け!AB63=\"\",\"\",JAAFデータ貼り付け!AB63)","v":""},{"$f":"IF(JAAFデータ貼り付け!AC63=\"\",\"\",JAAFデータ貼り付け!AC63)","v":""},{"$f":"IF(JAAFデータ貼り付け!AD63=\"\",\"\",JAAFデータ貼り付け!AD63)","v":""},{"$f":"IF(JAAFデータ貼り付け!AE63=\"\",\"\",JAAFデータ貼り付け!AE63)","v":""},{"$f":"IF(JAAFデータ貼り付け!AF63=\"\",\"\",JAAFデータ貼り付け!AF63)","v":""},{"$f":"IF(JAAFデータ貼り付け!AG63=\"\",\"\",JAAFデータ貼り付け!AG63)","v":""},{"$f":"IF(JAAFデータ貼り付け!AH63=\"\",\"\",JAAFデータ貼り付け!AH63)","v":""},{"$f":"IF(JAAFデータ貼り付け!AI63=\"\",\"\",JAAFデータ貼り付け!AI63)","v":""},{"$f":"IF(JAAFデータ貼り付け!AJ63=\"\",\"\",JAAFデータ貼り付け!AJ63)","v":""},{"$f":"IF(JAAFデータ貼り付け!AK63=\"\",\"\",JAAFデータ貼り付け!AK63)","v":""},{"$f":"IF(JAAFデータ貼り付け!AL63=\"\",\"\",JAAFデータ貼り付け!AL63)","v":""},{"$f":"IF(JAAFデータ貼り付け!AM63=\"\",\"\",JAAFデータ貼り付け!AM63)","v":""},{"$f":"IF(JAAFデータ貼り付け!AN63=\"\",\"\",JAAFデータ貼り付け!AN63)","v":""},{"$f":"IF(JAAFデータ貼り付け!AO63=\"\",\"\",JAAFデータ貼り付け!AO63)","v":""},{"$f":"IF(JAAFデータ貼り付け!AP63=\"\",\"\",JAAFデータ貼り付け!AP63)","v":""},{"$f":"IF(JAAFデータ貼り付け!AQ63=\"\",\"\",JAAFデータ貼り付け!AQ63)","v":""}]
[{"$f":"IF(JAAFデータ貼り付け!E64=\"\",\"\",JAAFデータ貼り付け!E64)","v":""},{"$f":"IF(JAAFデータ貼り付け!B64=\"\",\"\",JAAFデータ貼り付け!B64)","v":""},{"$f":"IF(JAAFデータ貼り付け!C64=\"\",\"\",JAAFデータ貼り付け!C64)","v":""},{"$f":"IF(JAAFデータ貼り付け!D64=\"\",\"\",JAAFデータ貼り付け!D64)","v":""},null,{"$f":"IF(フリガナ貼り付け!D64=\"\",\"\",フリガナ貼り付け!D64)","v":""},{"$f":"IF(フリガナ貼り付け!E64=\"\",\"\",フリガナ貼り付け!E64)","v":""},{"$f":"IF(JAAFデータ貼り付け!H64=\"\",\"\",JAAFデータ貼り付け!H64)","v":""},{"$f":"IF(JAAFデータ貼り付け!I64=\"\",\"\",JAAFデータ貼り付け!I64)","v":""},{"$f":"IF(JAAFデータ貼り付け!J64=\"\",\"\",JAAFデータ貼り付け!J64)","v":""},{"$f":"IF(JAAFデータ貼り付け!K64=\"\",\"\",JAAFデータ貼り付け!K64)","v":""},{"$f":"IF(JAAFデータ貼り付け!L64=\"\",\"\",JAAFデータ貼り付け!L64)","v":""},{"$f":"IF(JAAFデータ貼り付け!M64=\"\",\"\",JAAFデータ貼り付け!M64)","v":""},{"$f":"IF(JAAFデータ貼り付け!N64=\"\",\"\",JAAFデータ貼り付け!N64)","v":""},{"$f":"IF(JAAFデータ貼り付け!O64=\"\",\"\",JAAFデータ貼り付け!O64)","v":""},{"$f":"IF(JAAFデータ貼り付け!P64=\"\",\"\",JAAFデータ貼り付け!P64)","v":""},{"$f":"IF(JAAFデータ貼り付け!Q64=\"\",\"\",JAAFデータ貼り付け!Q64)","v":""},{"$f":"IF(JAAFデータ貼り付け!R64=\"\",\"\",JAAFデータ貼り付け!R64)","v":""},{"$f":"生年月日貼り付け!E64&生年月日貼り付け!F64&生年月日貼り付け!G64","v":"000"},{"$f":"IF(JAAFデータ貼り付け!T64=\"\",\"\",JAAFデータ貼り付け!T64)","v":""},{"$f":"IF(JAAFデータ貼り付け!U64=\"\",\"\",JAAFデータ貼り付け!U64)","v":""},{"$f":"IF(Sheet5!B64=\"\",\"\",Sheet5!B64)","v":"0"},{"$f":"IF(JAAFデータ貼り付け!W64=\"\",\"\",JAAFデータ貼り付け!W64)","v":""},{"$f":"IF(JAAFデータ貼り付け!X64=\"\",\"\",JAAFデータ貼り付け!X64)","v":""},{"$f":"IF(JAAFデータ貼り付け!Y64=\"\",\"\",JAAFデータ貼り付け!Y64)","v":""},{"$f":"IF(JAAFデータ貼り付け!Z64=\"\",\"\",JAAFデータ貼り付け!Z64)","v":""},{"$f":"IF(JAAFデータ貼り付け!AA64=\"\",\"\",JAAFデータ貼り付け!AA64)","v":""},{"$f":"IF(JAAFデータ貼り付け!AB64=\"\",\"\",JAAFデータ貼り付け!AB64)","v":""},{"$f":"IF(JAAFデータ貼り付け!AC64=\"\",\"\",JAAFデータ貼り付け!AC64)","v":""},{"$f":"IF(JAAFデータ貼り付け!AD64=\"\",\"\",JAAFデータ貼り付け!AD64)","v":""},{"$f":"IF(JAAFデータ貼り付け!AE64=\"\",\"\",JAAFデータ貼り付け!AE64)","v":""},{"$f":"IF(JAAFデータ貼り付け!AF64=\"\",\"\",JAAFデータ貼り付け!AF64)","v":""},{"$f":"IF(JAAFデータ貼り付け!AG64=\"\",\"\",JAAFデータ貼り付け!AG64)","v":""},{"$f":"IF(JAAFデータ貼り付け!AH64=\"\",\"\",JAAFデータ貼り付け!AH64)","v":""},{"$f":"IF(JAAFデータ貼り付け!AI64=\"\",\"\",JAAFデータ貼り付け!AI64)","v":""},{"$f":"IF(JAAFデータ貼り付け!AJ64=\"\",\"\",JAAFデータ貼り付け!AJ64)","v":""},{"$f":"IF(JAAFデータ貼り付け!AK64=\"\",\"\",JAAFデータ貼り付け!AK64)","v":""},{"$f":"IF(JAAFデータ貼り付け!AL64=\"\",\"\",JAAFデータ貼り付け!AL64)","v":""},{"$f":"IF(JAAFデータ貼り付け!AM64=\"\",\"\",JAAFデータ貼り付け!AM64)","v":""},{"$f":"IF(JAAFデータ貼り付け!AN64=\"\",\"\",JAAFデータ貼り付け!AN64)","v":""},{"$f":"IF(JAAFデータ貼り付け!AO64=\"\",\"\",JAAFデータ貼り付け!AO64)","v":""},{"$f":"IF(JAAFデータ貼り付け!AP64=\"\",\"\",JAAFデータ貼り付け!AP64)","v":""},{"$f":"IF(JAAFデータ貼り付け!AQ64=\"\",\"\",JAAFデータ貼り付け!AQ64)","v":""}]
[{"$f":"IF(JAAFデータ貼り付け!E65=\"\",\"\",JAAFデータ貼り付け!E65)","v":""},{"$f":"IF(JAAFデータ貼り付け!B65=\"\",\"\",JAAFデータ貼り付け!B65)","v":""},{"$f":"IF(JAAFデータ貼り付け!C65=\"\",\"\",JAAFデータ貼り付け!C65)","v":""},{"$f":"IF(JAAFデータ貼り付け!D65=\"\",\"\",JAAFデータ貼り付け!D65)","v":""},null,{"$f":"IF(フリガナ貼り付け!D65=\"\",\"\",フリガナ貼り付け!D65)","v":""},{"$f":"IF(フリガナ貼り付け!E65=\"\",\"\",フリガナ貼り付け!E65)","v":""},{"$f":"IF(JAAFデータ貼り付け!H65=\"\",\"\",JAAFデータ貼り付け!H65)","v":""},{"$f":"IF(JAAFデータ貼り付け!I65=\"\",\"\",JAAFデータ貼り付け!I65)","v":""},{"$f":"IF(JAAFデータ貼り付け!J65=\"\",\"\",JAAFデータ貼り付け!J65)","v":""},{"$f":"IF(JAAFデータ貼り付け!K65=\"\",\"\",JAAFデータ貼り付け!K65)","v":""},{"$f":"IF(JAAFデータ貼り付け!L65=\"\",\"\",JAAFデータ貼り付け!L65)","v":""},{"$f":"IF(JAAFデータ貼り付け!M65=\"\",\"\",JAAFデータ貼り付け!M65)","v":""},{"$f":"IF(JAAFデータ貼り付け!N65=\"\",\"\",JAAFデータ貼り付け!N65)","v":""},{"$f":"IF(JAAFデータ貼り付け!O65=\"\",\"\",JAAFデータ貼り付け!O65)","v":""},{"$f":"IF(JAAFデータ貼り付け!P65=\"\",\"\",JAAFデータ貼り付け!P65)","v":""},{"$f":"IF(JAAFデータ貼り付け!Q65=\"\",\"\",JAAFデータ貼り付け!Q65)","v":""},{"$f":"IF(JAAFデータ貼り付け!R65=\"\",\"\",JAAFデータ貼り付け!R65)","v":""},{"$f":"生年月日貼り付け!E65&生年月日貼り付け!F65&生年月日貼り付け!G65","v":"000"},{"$f":"IF(JAAFデータ貼り付け!T65=\"\",\"\",JAAFデータ貼り付け!T65)","v":""},{"$f":"IF(JAAFデータ貼り付け!U65=\"\",\"\",JAAFデータ貼り付け!U65)","v":""},{"$f":"IF(Sheet5!B65=\"\",\"\",Sheet5!B65)","v":"0"},{"$f":"IF(JAAFデータ貼り付け!W65=\"\",\"\",JAAFデータ貼り付け!W65)","v":""},{"$f":"IF(JAAFデータ貼り付け!X65=\"\",\"\",JAAFデータ貼り付け!X65)","v":""},{"$f":"IF(JAAFデータ貼り付け!Y65=\"\",\"\",JAAFデータ貼り付け!Y65)","v":""},{"$f":"IF(JAAFデータ貼り付け!Z65=\"\",\"\",JAAFデータ貼り付け!Z65)","v":""},{"$f":"IF(JAAFデータ貼り付け!AA65=\"\",\"\",JAAFデータ貼り付け!AA65)","v":""},{"$f":"IF(JAAFデータ貼り付け!AB65=\"\",\"\",JAAFデータ貼り付け!AB65)","v":""},{"$f":"IF(JAAFデータ貼り付け!AC65=\"\",\"\",JAAFデータ貼り付け!AC65)","v":""},{"$f":"IF(JAAFデータ貼り付け!AD65=\"\",\"\",JAAFデータ貼り付け!AD65)","v":""},{"$f":"IF(JAAFデータ貼り付け!AE65=\"\",\"\",JAAFデータ貼り付け!AE65)","v":""},{"$f":"IF(JAAFデータ貼り付け!AF65=\"\",\"\",JAAFデータ貼り付け!AF65)","v":""},{"$f":"IF(JAAFデータ貼り付け!AG65=\"\",\"\",JAAFデータ貼り付け!AG65)","v":""},{"$f":"IF(JAAFデータ貼り付け!AH65=\"\",\"\",JAAFデータ貼り付け!AH65)","v":""},{"$f":"IF(JAAFデータ貼り付け!AI65=\"\",\"\",JAAFデータ貼り付け!AI65)","v":""},{"$f":"IF(JAAFデータ貼り付け!AJ65=\"\",\"\",JAAFデータ貼り付け!AJ65)","v":""},{"$f":"IF(JAAFデータ貼り付け!AK65=\"\",\"\",JAAFデータ貼り付け!AK65)","v":""},{"$f":"IF(JAAFデータ貼り付け!AL65=\"\",\"\",JAAFデータ貼り付け!AL65)","v":""},{"$f":"IF(JAAFデータ貼り付け!AM65=\"\",\"\",JAAFデータ貼り付け!AM65)","v":""},{"$f":"IF(JAAFデータ貼り付け!AN65=\"\",\"\",JAAFデータ貼り付け!AN65)","v":""},{"$f":"IF(JAAFデータ貼り付け!AO65=\"\",\"\",JAAFデータ貼り付け!AO65)","v":""},{"$f":"IF(JAAFデータ貼り付け!AP65=\"\",\"\",JAAFデータ貼り付け!AP65)","v":""},{"$f":"IF(JAAFデータ貼り付け!AQ65=\"\",\"\",JAAFデータ貼り付け!AQ65)","v":""}]
[{"$f":"IF(JAAFデータ貼り付け!E66=\"\",\"\",JAAFデータ貼り付け!E66)","v":""},{"$f":"IF(JAAFデータ貼り付け!B66=\"\",\"\",JAAFデータ貼り付け!B66)","v":""},{"$f":"IF(JAAFデータ貼り付け!C66=\"\",\"\",JAAFデータ貼り付け!C66)","v":""},{"$f":"IF(JAAFデータ貼り付け!D66=\"\",\"\",JAAFデータ貼り付け!D66)","v":""},null,{"$f":"IF(フリガナ貼り付け!D66=\"\",\"\",フリガナ貼り付け!D66)","v":""},{"$f":"IF(フリガナ貼り付け!E66=\"\",\"\",フリガナ貼り付け!E66)","v":""},{"$f":"IF(JAAFデータ貼り付け!H66=\"\",\"\",JAAFデータ貼り付け!H66)","v":""},{"$f":"IF(JAAFデータ貼り付け!I66=\"\",\"\",JAAFデータ貼り付け!I66)","v":""},{"$f":"IF(JAAFデータ貼り付け!J66=\"\",\"\",JAAFデータ貼り付け!J66)","v":""},{"$f":"IF(JAAFデータ貼り付け!K66=\"\",\"\",JAAFデータ貼り付け!K66)","v":""},{"$f":"IF(JAAFデータ貼り付け!L66=\"\",\"\",JAAFデータ貼り付け!L66)","v":""},{"$f":"IF(JAAFデータ貼り付け!M66=\"\",\"\",JAAFデータ貼り付け!M66)","v":""},{"$f":"IF(JAAFデータ貼り付け!N66=\"\",\"\",JAAFデータ貼り付け!N66)","v":""},{"$f":"IF(JAAFデータ貼り付け!O66=\"\",\"\",JAAFデータ貼り付け!O66)","v":""},{"$f":"IF(JAAFデータ貼り付け!P66=\"\",\"\",JAAFデータ貼り付け!P66)","v":""},{"$f":"IF(JAAFデータ貼り付け!Q66=\"\",\"\",JAAFデータ貼り付け!Q66)","v":""},{"$f":"IF(JAAFデータ貼り付け!R66=\"\",\"\",JAAFデータ貼り付け!R66)","v":""},{"$f":"生年月日貼り付け!E66&生年月日貼り付け!F66&生年月日貼り付け!G66","v":"000"},{"$f":"IF(JAAFデータ貼り付け!T66=\"\",\"\",JAAFデータ貼り付け!T66)","v":""},{"$f":"IF(JAAFデータ貼り付け!U66=\"\",\"\",JAAFデータ貼り付け!U66)","v":""},{"$f":"IF(Sheet5!B66=\"\",\"\",Sheet5!B66)","v":"0"},{"$f":"IF(JAAFデータ貼り付け!W66=\"\",\"\",JAAFデータ貼り付け!W66)","v":""},{"$f":"IF(JAAFデータ貼り付け!X66=\"\",\"\",JAAFデータ貼り付け!X66)","v":""},{"$f":"IF(JAAFデータ貼り付け!Y66=\"\",\"\",JAAFデータ貼り付け!Y66)","v":""},{"$f":"IF(JAAFデータ貼り付け!Z66=\"\",\"\",JAAFデータ貼り付け!Z66)","v":""},{"$f":"IF(JAAFデータ貼り付け!AA66=\"\",\"\",JAAFデータ貼り付け!AA66)","v":""},{"$f":"IF(JAAFデータ貼り付け!AB66=\"\",\"\",JAAFデータ貼り付け!AB66)","v":""},{"$f":"IF(JAAFデータ貼り付け!AC66=\"\",\"\",JAAFデータ貼り付け!AC66)","v":""},{"$f":"IF(JAAFデータ貼り付け!AD66=\"\",\"\",JAAFデータ貼り付け!AD66)","v":""},{"$f":"IF(JAAFデータ貼り付け!AE66=\"\",\"\",JAAFデータ貼り付け!AE66)","v":""},{"$f":"IF(JAAFデータ貼り付け!AF66=\"\",\"\",JAAFデータ貼り付け!AF66)","v":""},{"$f":"IF(JAAFデータ貼り付け!AG66=\"\",\"\",JAAFデータ貼り付け!AG66)","v":""},{"$f":"IF(JAAFデータ貼り付け!AH66=\"\",\"\",JAAFデータ貼り付け!AH66)","v":""},{"$f":"IF(JAAFデータ貼り付け!AI66=\"\",\"\",JAAFデータ貼り付け!AI66)","v":""},{"$f":"IF(JAAFデータ貼り付け!AJ66=\"\",\"\",JAAFデータ貼り付け!AJ66)","v":""},{"$f":"IF(JAAFデータ貼り付け!AK66=\"\",\"\",JAAFデータ貼り付け!AK66)","v":""},{"$f":"IF(JAAFデータ貼り付け!AL66=\"\",\"\",JAAFデータ貼り付け!AL66)","v":""},{"$f":"IF(JAAFデータ貼り付け!AM66=\"\",\"\",JAAFデータ貼り付け!AM66)","v":""},{"$f":"IF(JAAFデータ貼り付け!AN66=\"\",\"\",JAAFデータ貼り付け!AN66)","v":""},{"$f":"IF(JAAFデータ貼り付け!AO66=\"\",\"\",JAAFデータ貼り付け!AO66)","v":""},{"$f":"IF(JAAFデータ貼り付け!AP66=\"\",\"\",JAAFデータ貼り付け!AP66)","v":""},{"$f":"IF(JAAFデータ貼り付け!AQ66=\"\",\"\",JAAFデータ貼り付け!AQ66)","v":""}]
[{"$f":"IF(JAAFデータ貼り付け!E67=\"\",\"\",JAAFデータ貼り付け!E67)","v":""},{"$f":"IF(JAAFデータ貼り付け!B67=\"\",\"\",JAAFデータ貼り付け!B67)","v":""},{"$f":"IF(JAAFデータ貼り付け!C67=\"\",\"\",JAAFデータ貼り付け!C67)","v":""},{"$f":"IF(JAAFデータ貼り付け!D67=\"\",\"\",JAAFデータ貼り付け!D67)","v":""},null,{"$f":"IF(フリガナ貼り付け!D67=\"\",\"\",フリガナ貼り付け!D67)","v":""},{"$f":"IF(フリガナ貼り付け!E67=\"\",\"\",フリガナ貼り付け!E67)","v":""},{"$f":"IF(JAAFデータ貼り付け!H67=\"\",\"\",JAAFデータ貼り付け!H67)","v":""},{"$f":"IF(JAAFデータ貼り付け!I67=\"\",\"\",JAAFデータ貼り付け!I67)","v":""},{"$f":"IF(JAAFデータ貼り付け!J67=\"\",\"\",JAAFデータ貼り付け!J67)","v":""},{"$f":"IF(JAAFデータ貼り付け!K67=\"\",\"\",JAAFデータ貼り付け!K67)","v":""},{"$f":"IF(JAAFデータ貼り付け!L67=\"\",\"\",JAAFデータ貼り付け!L67)","v":""},{"$f":"IF(JAAFデータ貼り付け!M67=\"\",\"\",JAAFデータ貼り付け!M67)","v":""},{"$f":"IF(JAAFデータ貼り付け!N67=\"\",\"\",JAAFデータ貼り付け!N67)","v":""},{"$f":"IF(JAAFデータ貼り付け!O67=\"\",\"\",JAAFデータ貼り付け!O67)","v":""},{"$f":"IF(JAAFデータ貼り付け!P67=\"\",\"\",JAAFデータ貼り付け!P67)","v":""},{"$f":"IF(JAAFデータ貼り付け!Q67=\"\",\"\",JAAFデータ貼り付け!Q67)","v":""},{"$f":"IF(JAAFデータ貼り付け!R67=\"\",\"\",JAAFデータ貼り付け!R67)","v":""},{"$f":"生年月日貼り付け!E67&生年月日貼り付け!F67&生年月日貼り付け!G67","v":"000"},{"$f":"IF(JAAFデータ貼り付け!T67=\"\",\"\",JAAFデータ貼り付け!T67)","v":""},{"$f":"IF(JAAFデータ貼り付け!U67=\"\",\"\",JAAFデータ貼り付け!U67)","v":""},{"$f":"IF(Sheet5!B67=\"\",\"\",Sheet5!B67)","v":"0"},{"$f":"IF(JAAFデータ貼り付け!W67=\"\",\"\",JAAFデータ貼り付け!W67)","v":""},{"$f":"IF(JAAFデータ貼り付け!X67=\"\",\"\",JAAFデータ貼り付け!X67)","v":""},{"$f":"IF(JAAFデータ貼り付け!Y67=\"\",\"\",JAAFデータ貼り付け!Y67)","v":""},{"$f":"IF(JAAFデータ貼り付け!Z67=\"\",\"\",JAAFデータ貼り付け!Z67)","v":""},{"$f":"IF(JAAFデータ貼り付け!AA67=\"\",\"\",JAAFデータ貼り付け!AA67)","v":""},{"$f":"IF(JAAFデータ貼り付け!AB67=\"\",\"\",JAAFデータ貼り付け!AB67)","v":""},{"$f":"IF(JAAFデータ貼り付け!AC67=\"\",\"\",JAAFデータ貼り付け!AC67)","v":""},{"$f":"IF(JAAFデータ貼り付け!AD67=\"\",\"\",JAAFデータ貼り付け!AD67)","v":""},{"$f":"IF(JAAFデータ貼り付け!AE67=\"\",\"\",JAAFデータ貼り付け!AE67)","v":""},{"$f":"IF(JAAFデータ貼り付け!AF67=\"\",\"\",JAAFデータ貼り付け!AF67)","v":""},{"$f":"IF(JAAFデータ貼り付け!AG67=\"\",\"\",JAAFデータ貼り付け!AG67)","v":""},{"$f":"IF(JAAFデータ貼り付け!AH67=\"\",\"\",JAAFデータ貼り付け!AH67)","v":""},{"$f":"IF(JAAFデータ貼り付け!AI67=\"\",\"\",JAAFデータ貼り付け!AI67)","v":""},{"$f":"IF(JAAFデータ貼り付け!AJ67=\"\",\"\",JAAFデータ貼り付け!AJ67)","v":""},{"$f":"IF(JAAFデータ貼り付け!AK67=\"\",\"\",JAAFデータ貼り付け!AK67)","v":""},{"$f":"IF(JAAFデータ貼り付け!AL67=\"\",\"\",JAAFデータ貼り付け!AL67)","v":""},{"$f":"IF(JAAFデータ貼り付け!AM67=\"\",\"\",JAAFデータ貼り付け!AM67)","v":""},{"$f":"IF(JAAFデータ貼り付け!AN67=\"\",\"\",JAAFデータ貼り付け!AN67)","v":""},{"$f":"IF(JAAFデータ貼り付け!AO67=\"\",\"\",JAAFデータ貼り付け!AO67)","v":""},{"$f":"IF(JAAFデータ貼り付け!AP67=\"\",\"\",JAAFデータ貼り付け!AP67)","v":""},{"$f":"IF(JAAFデータ貼り付け!AQ67=\"\",\"\",JAAFデータ貼り付け!AQ67)","v":""}]
[{"$f":"IF(JAAFデータ貼り付け!E68=\"\",\"\",JAAFデータ貼り付け!E68)","v":""},{"$f":"IF(JAAFデータ貼り付け!B68=\"\",\"\",JAAFデータ貼り付け!B68)","v":""},{"$f":"IF(JAAFデータ貼り付け!C68=\"\",\"\",JAAFデータ貼り付け!C68)","v":""},{"$f":"IF(JAAFデータ貼り付け!D68=\"\",\"\",JAAFデータ貼り付け!D68)","v":""},null,{"$f":"IF(フリガナ貼り付け!D68=\"\",\"\",フリガナ貼り付け!D68)","v":""},{"$f":"IF(フリガナ貼り付け!E68=\"\",\"\",フリガナ貼り付け!E68)","v":""},{"$f":"IF(JAAFデータ貼り付け!H68=\"\",\"\",JAAFデータ貼り付け!H68)","v":""},{"$f":"IF(JAAFデータ貼り付け!I68=\"\",\"\",JAAFデータ貼り付け!I68)","v":""},{"$f":"IF(JAAFデータ貼り付け!J68=\"\",\"\",JAAFデータ貼り付け!J68)","v":""},{"$f":"IF(JAAFデータ貼り付け!K68=\"\",\"\",JAAFデータ貼り付け!K68)","v":""},{"$f":"IF(JAAFデータ貼り付け!L68=\"\",\"\",JAAFデータ貼り付け!L68)","v":""},{"$f":"IF(JAAFデータ貼り付け!M68=\"\",\"\",JAAFデータ貼り付け!M68)","v":""},{"$f":"IF(JAAFデータ貼り付け!N68=\"\",\"\",JAAFデータ貼り付け!N68)","v":""},{"$f":"IF(JAAFデータ貼り付け!O68=\"\",\"\",JAAFデータ貼り付け!O68)","v":""},{"$f":"IF(JAAFデータ貼り付け!P68=\"\",\"\",JAAFデータ貼り付け!P68)","v":""},{"$f":"IF(JAAFデータ貼り付け!Q68=\"\",\"\",JAAFデータ貼り付け!Q68)","v":""},{"$f":"IF(JAAFデータ貼り付け!R68=\"\",\"\",JAAFデータ貼り付け!R68)","v":""},{"$f":"生年月日貼り付け!E68&生年月日貼り付け!F68&生年月日貼り付け!G68","v":"000"},{"$f":"IF(JAAFデータ貼り付け!T68=\"\",\"\",JAAFデータ貼り付け!T68)","v":""},{"$f":"IF(JAAFデータ貼り付け!U68=\"\",\"\",JAAFデータ貼り付け!U68)","v":""},{"$f":"IF(Sheet5!B68=\"\",\"\",Sheet5!B68)","v":"0"},{"$f":"IF(JAAFデータ貼り付け!W68=\"\",\"\",JAAFデータ貼り付け!W68)","v":""},{"$f":"IF(JAAFデータ貼り付け!X68=\"\",\"\",JAAFデータ貼り付け!X68)","v":""},{"$f":"IF(JAAFデータ貼り付け!Y68=\"\",\"\",JAAFデータ貼り付け!Y68)","v":""},{"$f":"IF(JAAFデータ貼り付け!Z68=\"\",\"\",JAAFデータ貼り付け!Z68)","v":""},{"$f":"IF(JAAFデータ貼り付け!AA68=\"\",\"\",JAAFデータ貼り付け!AA68)","v":""},{"$f":"IF(JAAFデータ貼り付け!AB68=\"\",\"\",JAAFデータ貼り付け!AB68)","v":""},{"$f":"IF(JAAFデータ貼り付け!AC68=\"\",\"\",JAAFデータ貼り付け!AC68)","v":""},{"$f":"IF(JAAFデータ貼り付け!AD68=\"\",\"\",JAAFデータ貼り付け!AD68)","v":""},{"$f":"IF(JAAFデータ貼り付け!AE68=\"\",\"\",JAAFデータ貼り付け!AE68)","v":""},{"$f":"IF(JAAFデータ貼り付け!AF68=\"\",\"\",JAAFデータ貼り付け!AF68)","v":""},{"$f":"IF(JAAFデータ貼り付け!AG68=\"\",\"\",JAAFデータ貼り付け!AG68)","v":""},{"$f":"IF(JAAFデータ貼り付け!AH68=\"\",\"\",JAAFデータ貼り付け!AH68)","v":""},{"$f":"IF(JAAFデータ貼り付け!AI68=\"\",\"\",JAAFデータ貼り付け!AI68)","v":""},{"$f":"IF(JAAFデータ貼り付け!AJ68=\"\",\"\",JAAFデータ貼り付け!AJ68)","v":""},{"$f":"IF(JAAFデータ貼り付け!AK68=\"\",\"\",JAAFデータ貼り付け!AK68)","v":""},{"$f":"IF(JAAFデータ貼り付け!AL68=\"\",\"\",JAAFデータ貼り付け!AL68)","v":""},{"$f":"IF(JAAFデータ貼り付け!AM68=\"\",\"\",JAAFデータ貼り付け!AM68)","v":""},{"$f":"IF(JAAFデータ貼り付け!AN68=\"\",\"\",JAAFデータ貼り付け!AN68)","v":""},{"$f":"IF(JAAFデータ貼り付け!AO68=\"\",\"\",JAAFデータ貼り付け!AO68)","v":""},{"$f":"IF(JAAFデータ貼り付け!AP68=\"\",\"\",JAAFデータ貼り付け!AP68)","v":""},{"$f":"IF(JAAFデータ貼り付け!AQ68=\"\",\"\",JAAFデータ貼り付け!AQ68)","v":""}]
[{"$f":"IF(JAAFデータ貼り付け!E69=\"\",\"\",JAAFデータ貼り付け!E69)","v":""},{"$f":"IF(JAAFデータ貼り付け!B69=\"\",\"\",JAAFデータ貼り付け!B69)","v":""},{"$f":"IF(JAAFデータ貼り付け!C69=\"\",\"\",JAAFデータ貼り付け!C69)","v":""},{"$f":"IF(JAAFデータ貼り付け!D69=\"\",\"\",JAAFデータ貼り付け!D69)","v":""},null,{"$f":"IF(フリガナ貼り付け!D69=\"\",\"\",フリガナ貼り付け!D69)","v":""},{"$f":"IF(フリガナ貼り付け!E69=\"\",\"\",フリガナ貼り付け!E69)","v":""},{"$f":"IF(JAAFデータ貼り付け!H69=\"\",\"\",JAAFデータ貼り付け!H69)","v":""},{"$f":"IF(JAAFデータ貼り付け!I69=\"\",\"\",JAAFデータ貼り付け!I69)","v":""},{"$f":"IF(JAAFデータ貼り付け!J69=\"\",\"\",JAAFデータ貼り付け!J69)","v":""},{"$f":"IF(JAAFデータ貼り付け!K69=\"\",\"\",JAAFデータ貼り付け!K69)","v":""},{"$f":"IF(JAAFデータ貼り付け!L69=\"\",\"\",JAAFデータ貼り付け!L69)","v":""},{"$f":"IF(JAAFデータ貼り付け!M69=\"\",\"\",JAAFデータ貼り付け!M69)","v":""},{"$f":"IF(JAAFデータ貼り付け!N69=\"\",\"\",JAAFデータ貼り付け!N69)","v":""},{"$f":"IF(JAAFデータ貼り付け!O69=\"\",\"\",JAAFデータ貼り付け!O69)","v":""},{"$f":"IF(JAAFデータ貼り付け!P69=\"\",\"\",JAAFデータ貼り付け!P69)","v":""},{"$f":"IF(JAAFデータ貼り付け!Q69=\"\",\"\",JAAFデータ貼り付け!Q69)","v":""},{"$f":"IF(JAAFデータ貼り付け!R69=\"\",\"\",JAAFデータ貼り付け!R69)","v":""},{"$f":"生年月日貼り付け!E69&生年月日貼り付け!F69&生年月日貼り付け!G69","v":"000"},{"$f":"IF(JAAFデータ貼り付け!T69=\"\",\"\",JAAFデータ貼り付け!T69)","v":""},{"$f":"IF(JAAFデータ貼り付け!U69=\"\",\"\",JAAFデータ貼り付け!U69)","v":""},{"$f":"IF(Sheet5!B69=\"\",\"\",Sheet5!B69)","v":"0"},{"$f":"IF(JAAFデータ貼り付け!W69=\"\",\"\",JAAFデータ貼り付け!W69)","v":""},{"$f":"IF(JAAFデータ貼り付け!X69=\"\",\"\",JAAFデータ貼り付け!X69)","v":""},{"$f":"IF(JAAFデータ貼り付け!Y69=\"\",\"\",JAAFデータ貼り付け!Y69)","v":""},{"$f":"IF(JAAFデータ貼り付け!Z69=\"\",\"\",JAAFデータ貼り付け!Z69)","v":""},{"$f":"IF(JAAFデータ貼り付け!AA69=\"\",\"\",JAAFデータ貼り付け!AA69)","v":""},{"$f":"IF(JAAFデータ貼り付け!AB69=\"\",\"\",JAAFデータ貼り付け!AB69)","v":""},{"$f":"IF(JAAFデータ貼り付け!AC69=\"\",\"\",JAAFデータ貼り付け!AC69)","v":""},{"$f":"IF(JAAFデータ貼り付け!AD69=\"\",\"\",JAAFデータ貼り付け!AD69)","v":""},{"$f":"IF(JAAFデータ貼り付け!AE69=\"\",\"\",JAAFデータ貼り付け!AE69)","v":""},{"$f":"IF(JAAFデータ貼り付け!AF69=\"\",\"\",JAAFデータ貼り付け!AF69)","v":""},{"$f":"IF(JAAFデータ貼り付け!AG69=\"\",\"\",JAAFデータ貼り付け!AG69)","v":""},{"$f":"IF(JAAFデータ貼り付け!AH69=\"\",\"\",JAAFデータ貼り付け!AH69)","v":""},{"$f":"IF(JAAFデータ貼り付け!AI69=\"\",\"\",JAAFデータ貼り付け!AI69)","v":""},{"$f":"IF(JAAFデータ貼り付け!AJ69=\"\",\"\",JAAFデータ貼り付け!AJ69)","v":""},{"$f":"IF(JAAFデータ貼り付け!AK69=\"\",\"\",JAAFデータ貼り付け!AK69)","v":""},{"$f":"IF(JAAFデータ貼り付け!AL69=\"\",\"\",JAAFデータ貼り付け!AL69)","v":""},{"$f":"IF(JAAFデータ貼り付け!AM69=\"\",\"\",JAAFデータ貼り付け!AM69)","v":""},{"$f":"IF(JAAFデータ貼り付け!AN69=\"\",\"\",JAAFデータ貼り付け!AN69)","v":""},{"$f":"IF(JAAFデータ貼り付け!AO69=\"\",\"\",JAAFデータ貼り付け!AO69)","v":""},{"$f":"IF(JAAFデータ貼り付け!AP69=\"\",\"\",JAAFデータ貼り付け!AP69)","v":""},{"$f":"IF(JAAFデータ貼り付け!AQ69=\"\",\"\",JAAFデータ貼り付け!AQ69)","v":""}]
[{"$f":"IF(JAAFデータ貼り付け!E70=\"\",\"\",JAAFデータ貼り付け!E70)","v":""},{"$f":"IF(JAAFデータ貼り付け!B70=\"\",\"\",JAAFデータ貼り付け!B70)","v":""},{"$f":"IF(JAAFデータ貼り付け!C70=\"\",\"\",JAAFデータ貼り付け!C70)","v":""},{"$f":"IF(JAAFデータ貼り付け!D70=\"\",\"\",JAAFデータ貼り付け!D70)","v":""},null,{"$f":"IF(フリガナ貼り付け!D70=\"\",\"\",フリガナ貼り付け!D70)","v":""},{"$f":"IF(フリガナ貼り付け!E70=\"\",\"\",フリガナ貼り付け!E70)","v":""},{"$f":"IF(JAAFデータ貼り付け!H70=\"\",\"\",JAAFデータ貼り付け!H70)","v":""},{"$f":"IF(JAAFデータ貼り付け!I70=\"\",\"\",JAAFデータ貼り付け!I70)","v":""},{"$f":"IF(JAAFデータ貼り付け!J70=\"\",\"\",JAAFデータ貼り付け!J70)","v":""},{"$f":"IF(JAAFデータ貼り付け!K70=\"\",\"\",JAAFデータ貼り付け!K70)","v":""},{"$f":"IF(JAAFデータ貼り付け!L70=\"\",\"\",JAAFデータ貼り付け!L70)","v":""},{"$f":"IF(JAAFデータ貼り付け!M70=\"\",\"\",JAAFデータ貼り付け!M70)","v":""},{"$f":"IF(JAAFデータ貼り付け!N70=\"\",\"\",JAAFデータ貼り付け!N70)","v":""},{"$f":"IF(JAAFデータ貼り付け!O70=\"\",\"\",JAAFデータ貼り付け!O70)","v":""},{"$f":"IF(JAAFデータ貼り付け!P70=\"\",\"\",JAAFデータ貼り付け!P70)","v":""},{"$f":"IF(JAAFデータ貼り付け!Q70=\"\",\"\",JAAFデータ貼り付け!Q70)","v":""},{"$f":"IF(JAAFデータ貼り付け!R70=\"\",\"\",JAAFデータ貼り付け!R70)","v":""},{"$f":"生年月日貼り付け!E70&生年月日貼り付け!F70&生年月日貼り付け!G70","v":"000"},{"$f":"IF(JAAFデータ貼り付け!T70=\"\",\"\",JAAFデータ貼り付け!T70)","v":""},{"$f":"IF(JAAFデータ貼り付け!U70=\"\",\"\",JAAFデータ貼り付け!U70)","v":""},{"$f":"IF(Sheet5!B70=\"\",\"\",Sheet5!B70)","v":"0"},{"$f":"IF(JAAFデータ貼り付け!W70=\"\",\"\",JAAFデータ貼り付け!W70)","v":""},{"$f":"IF(JAAFデータ貼り付け!X70=\"\",\"\",JAAFデータ貼り付け!X70)","v":""},{"$f":"IF(JAAFデータ貼り付け!Y70=\"\",\"\",JAAFデータ貼り付け!Y70)","v":""},{"$f":"IF(JAAFデータ貼り付け!Z70=\"\",\"\",JAAFデータ貼り付け!Z70)","v":""},{"$f":"IF(JAAFデータ貼り付け!AA70=\"\",\"\",JAAFデータ貼り付け!AA70)","v":""},{"$f":"IF(JAAFデータ貼り付け!AB70=\"\",\"\",JAAFデータ貼り付け!AB70)","v":""},{"$f":"IF(JAAFデータ貼り付け!AC70=\"\",\"\",JAAFデータ貼り付け!AC70)","v":""},{"$f":"IF(JAAFデータ貼り付け!AD70=\"\",\"\",JAAFデータ貼り付け!AD70)","v":""},{"$f":"IF(JAAFデータ貼り付け!AE70=\"\",\"\",JAAFデータ貼り付け!AE70)","v":""},{"$f":"IF(JAAFデータ貼り付け!AF70=\"\",\"\",JAAFデータ貼り付け!AF70)","v":""},{"$f":"IF(JAAFデータ貼り付け!AG70=\"\",\"\",JAAFデータ貼り付け!AG70)","v":""},{"$f":"IF(JAAFデータ貼り付け!AH70=\"\",\"\",JAAFデータ貼り付け!AH70)","v":""},{"$f":"IF(JAAFデータ貼り付け!AI70=\"\",\"\",JAAFデータ貼り付け!AI70)","v":""},{"$f":"IF(JAAFデータ貼り付け!AJ70=\"\",\"\",JAAFデータ貼り付け!AJ70)","v":""},{"$f":"IF(JAAFデータ貼り付け!AK70=\"\",\"\",JAAFデータ貼り付け!AK70)","v":""},{"$f":"IF(JAAFデータ貼り付け!AL70=\"\",\"\",JAAFデータ貼り付け!AL70)","v":""},{"$f":"IF(JAAFデータ貼り付け!AM70=\"\",\"\",JAAFデータ貼り付け!AM70)","v":""},{"$f":"IF(JAAFデータ貼り付け!AN70=\"\",\"\",JAAFデータ貼り付け!AN70)","v":""},{"$f":"IF(JAAFデータ貼り付け!AO70=\"\",\"\",JAAFデータ貼り付け!AO70)","v":""},{"$f":"IF(JAAFデータ貼り付け!AP70=\"\",\"\",JAAFデータ貼り付け!AP70)","v":""},{"$f":"IF(JAAFデータ貼り付け!AQ70=\"\",\"\",JAAFデータ貼り付け!AQ70)","v":""}]
[{"$f":"IF(JAAFデータ貼り付け!E71=\"\",\"\",JAAFデータ貼り付け!E71)","v":""},{"$f":"IF(JAAFデータ貼り付け!B71=\"\",\"\",JAAFデータ貼り付け!B71)","v":""},{"$f":"IF(JAAFデータ貼り付け!C71=\"\",\"\",JAAFデータ貼り付け!C71)","v":""},{"$f":"IF(JAAFデータ貼り付け!D71=\"\",\"\",JAAFデータ貼り付け!D71)","v":""},null,{"$f":"IF(フリガナ貼り付け!D71=\"\",\"\",フリガナ貼り付け!D71)","v":""},{"$f":"IF(フリガナ貼り付け!E71=\"\",\"\",フリガナ貼り付け!E71)","v":""},{"$f":"IF(JAAFデータ貼り付け!H71=\"\",\"\",JAAFデータ貼り付け!H71)","v":""},{"$f":"IF(JAAFデータ貼り付け!I71=\"\",\"\",JAAFデータ貼り付け!I71)","v":""},{"$f":"IF(JAAFデータ貼り付け!J71=\"\",\"\",JAAFデータ貼り付け!J71)","v":""},{"$f":"IF(JAAFデータ貼り付け!K71=\"\",\"\",JAAFデータ貼り付け!K71)","v":""},{"$f":"IF(JAAFデータ貼り付け!L71=\"\",\"\",JAAFデータ貼り付け!L71)","v":""},{"$f":"IF(JAAFデータ貼り付け!M71=\"\",\"\",JAAFデータ貼り付け!M71)","v":""},{"$f":"IF(JAAFデータ貼り付け!N71=\"\",\"\",JAAFデータ貼り付け!N71)","v":""},{"$f":"IF(JAAFデータ貼り付け!O71=\"\",\"\",JAAFデータ貼り付け!O71)","v":""},{"$f":"IF(JAAFデータ貼り付け!P71=\"\",\"\",JAAFデータ貼り付け!P71)","v":""},{"$f":"IF(JAAFデータ貼り付け!Q71=\"\",\"\",JAAFデータ貼り付け!Q71)","v":""},{"$f":"IF(JAAFデータ貼り付け!R71=\"\",\"\",JAAFデータ貼り付け!R71)","v":""},{"$f":"生年月日貼り付け!E71&生年月日貼り付け!F71&生年月日貼り付け!G71","v":"000"},{"$f":"IF(JAAFデータ貼り付け!T71=\"\",\"\",JAAFデータ貼り付け!T71)","v":""},{"$f":"IF(JAAFデータ貼り付け!U71=\"\",\"\",JAAFデータ貼り付け!U71)","v":""},{"$f":"IF(Sheet5!B71=\"\",\"\",Sheet5!B71)","v":"0"},{"$f":"IF(JAAFデータ貼り付け!W71=\"\",\"\",JAAFデータ貼り付け!W71)","v":""},{"$f":"IF(JAAFデータ貼り付け!X71=\"\",\"\",JAAFデータ貼り付け!X71)","v":""},{"$f":"IF(JAAFデータ貼り付け!Y71=\"\",\"\",JAAFデータ貼り付け!Y71)","v":""},{"$f":"IF(JAAFデータ貼り付け!Z71=\"\",\"\",JAAFデータ貼り付け!Z71)","v":""},{"$f":"IF(JAAFデータ貼り付け!AA71=\"\",\"\",JAAFデータ貼り付け!AA71)","v":""},{"$f":"IF(JAAFデータ貼り付け!AB71=\"\",\"\",JAAFデータ貼り付け!AB71)","v":""},{"$f":"IF(JAAFデータ貼り付け!AC71=\"\",\"\",JAAFデータ貼り付け!AC71)","v":""},{"$f":"IF(JAAFデータ貼り付け!AD71=\"\",\"\",JAAFデータ貼り付け!AD71)","v":""},{"$f":"IF(JAAFデータ貼り付け!AE71=\"\",\"\",JAAFデータ貼り付け!AE71)","v":""},{"$f":"IF(JAAFデータ貼り付け!AF71=\"\",\"\",JAAFデータ貼り付け!AF71)","v":""},{"$f":"IF(JAAFデータ貼り付け!AG71=\"\",\"\",JAAFデータ貼り付け!AG71)","v":""},{"$f":"IF(JAAFデータ貼り付け!AH71=\"\",\"\",JAAFデータ貼り付け!AH71)","v":""},{"$f":"IF(JAAFデータ貼り付け!AI71=\"\",\"\",JAAFデータ貼り付け!AI71)","v":""},{"$f":"IF(JAAFデータ貼り付け!AJ71=\"\",\"\",JAAFデータ貼り付け!AJ71)","v":""},{"$f":"IF(JAAFデータ貼り付け!AK71=\"\",\"\",JAAFデータ貼り付け!AK71)","v":""},{"$f":"IF(JAAFデータ貼り付け!AL71=\"\",\"\",JAAFデータ貼り付け!AL71)","v":""},{"$f":"IF(JAAFデータ貼り付け!AM71=\"\",\"\",JAAFデータ貼り付け!AM71)","v":""},{"$f":"IF(JAAFデータ貼り付け!AN71=\"\",\"\",JAAFデータ貼り付け!AN71)","v":""},{"$f":"IF(JAAFデータ貼り付け!AO71=\"\",\"\",JAAFデータ貼り付け!AO71)","v":""},{"$f":"IF(JAAFデータ貼り付け!AP71=\"\",\"\",JAAFデータ貼り付け!AP71)","v":""},{"$f":"IF(JAAFデータ貼り付け!AQ71=\"\",\"\",JAAFデータ貼り付け!AQ71)","v":""}]
[{"$f":"IF(JAAFデータ貼り付け!E72=\"\",\"\",JAAFデータ貼り付け!E72)","v":""},{"$f":"IF(JAAFデータ貼り付け!B72=\"\",\"\",JAAFデータ貼り付け!B72)","v":""},{"$f":"IF(JAAFデータ貼り付け!C72=\"\",\"\",JAAFデータ貼り付け!C72)","v":""},{"$f":"IF(JAAFデータ貼り付け!D72=\"\",\"\",JAAFデータ貼り付け!D72)","v":""},null,{"$f":"IF(フリガナ貼り付け!D72=\"\",\"\",フリガナ貼り付け!D72)","v":""},{"$f":"IF(フリガナ貼り付け!E72=\"\",\"\",フリガナ貼り付け!E72)","v":""},{"$f":"IF(JAAFデータ貼り付け!H72=\"\",\"\",JAAFデータ貼り付け!H72)","v":""},{"$f":"IF(JAAFデータ貼り付け!I72=\"\",\"\",JAAFデータ貼り付け!I72)","v":""},{"$f":"IF(JAAFデータ貼り付け!J72=\"\",\"\",JAAFデータ貼り付け!J72)","v":""},{"$f":"IF(JAAFデータ貼り付け!K72=\"\",\"\",JAAFデータ貼り付け!K72)","v":""},{"$f":"IF(JAAFデータ貼り付け!L72=\"\",\"\",JAAFデータ貼り付け!L72)","v":""},{"$f":"IF(JAAFデータ貼り付け!M72=\"\",\"\",JAAFデータ貼り付け!M72)","v":""},{"$f":"IF(JAAFデータ貼り付け!N72=\"\",\"\",JAAFデータ貼り付け!N72)","v":""},{"$f":"IF(JAAFデータ貼り付け!O72=\"\",\"\",JAAFデータ貼り付け!O72)","v":""},{"$f":"IF(JAAFデータ貼り付け!P72=\"\",\"\",JAAFデータ貼り付け!P72)","v":""},{"$f":"IF(JAAFデータ貼り付け!Q72=\"\",\"\",JAAFデータ貼り付け!Q72)","v":""},{"$f":"IF(JAAFデータ貼り付け!R72=\"\",\"\",JAAFデータ貼り付け!R72)","v":""},{"$f":"生年月日貼り付け!E72&生年月日貼り付け!F72&生年月日貼り付け!G72","v":"000"},{"$f":"IF(JAAFデータ貼り付け!T72=\"\",\"\",JAAFデータ貼り付け!T72)","v":""},{"$f":"IF(JAAFデータ貼り付け!U72=\"\",\"\",JAAFデータ貼り付け!U72)","v":""},{"$f":"IF(Sheet5!B72=\"\",\"\",Sheet5!B72)","v":"0"},{"$f":"IF(JAAFデータ貼り付け!W72=\"\",\"\",JAAFデータ貼り付け!W72)","v":""},{"$f":"IF(JAAFデータ貼り付け!X72=\"\",\"\",JAAFデータ貼り付け!X72)","v":""},{"$f":"IF(JAAFデータ貼り付け!Y72=\"\",\"\",JAAFデータ貼り付け!Y72)","v":""},{"$f":"IF(JAAFデータ貼り付け!Z72=\"\",\"\",JAAFデータ貼り付け!Z72)","v":""},{"$f":"IF(JAAFデータ貼り付け!AA72=\"\",\"\",JAAFデータ貼り付け!AA72)","v":""},{"$f":"IF(JAAFデータ貼り付け!AB72=\"\",\"\",JAAFデータ貼り付け!AB72)","v":""},{"$f":"IF(JAAFデータ貼り付け!AC72=\"\",\"\",JAAFデータ貼り付け!AC72)","v":""},{"$f":"IF(JAAFデータ貼り付け!AD72=\"\",\"\",JAAFデータ貼り付け!AD72)","v":""},{"$f":"IF(JAAFデータ貼り付け!AE72=\"\",\"\",JAAFデータ貼り付け!AE72)","v":""},{"$f":"IF(JAAFデータ貼り付け!AF72=\"\",\"\",JAAFデータ貼り付け!AF72)","v":""},{"$f":"IF(JAAFデータ貼り付け!AG72=\"\",\"\",JAAFデータ貼り付け!AG72)","v":""},{"$f":"IF(JAAFデータ貼り付け!AH72=\"\",\"\",JAAFデータ貼り付け!AH72)","v":""},{"$f":"IF(JAAFデータ貼り付け!AI72=\"\",\"\",JAAFデータ貼り付け!AI72)","v":""},{"$f":"IF(JAAFデータ貼り付け!AJ72=\"\",\"\",JAAFデータ貼り付け!AJ72)","v":""},{"$f":"IF(JAAFデータ貼り付け!AK72=\"\",\"\",JAAFデータ貼り付け!AK72)","v":""},{"$f":"IF(JAAFデータ貼り付け!AL72=\"\",\"\",JAAFデータ貼り付け!AL72)","v":""},{"$f":"IF(JAAFデータ貼り付け!AM72=\"\",\"\",JAAFデータ貼り付け!AM72)","v":""},{"$f":"IF(JAAFデータ貼り付け!AN72=\"\",\"\",JAAFデータ貼り付け!AN72)","v":""},{"$f":"IF(JAAFデータ貼り付け!AO72=\"\",\"\",JAAFデータ貼り付け!AO72)","v":""},{"$f":"IF(JAAFデータ貼り付け!AP72=\"\",\"\",JAAFデータ貼り付け!AP72)","v":""},{"$f":"IF(JAAFデータ貼り付け!AQ72=\"\",\"\",JAAFデータ貼り付け!AQ72)","v":""}]
[{"$f":"IF(JAAFデータ貼り付け!E73=\"\",\"\",JAAFデータ貼り付け!E73)","v":""},{"$f":"IF(JAAFデータ貼り付け!B73=\"\",\"\",JAAFデータ貼り付け!B73)","v":""},{"$f":"IF(JAAFデータ貼り付け!C73=\"\",\"\",JAAFデータ貼り付け!C73)","v":""},{"$f":"IF(JAAFデータ貼り付け!D73=\"\",\"\",JAAFデータ貼り付け!D73)","v":""},null,{"$f":"IF(フリガナ貼り付け!D73=\"\",\"\",フリガナ貼り付け!D73)","v":""},{"$f":"IF(フリガナ貼り付け!E73=\"\",\"\",フリガナ貼り付け!E73)","v":""},{"$f":"IF(JAAFデータ貼り付け!H73=\"\",\"\",JAAFデータ貼り付け!H73)","v":""},{"$f":"IF(JAAFデータ貼り付け!I73=\"\",\"\",JAAFデータ貼り付け!I73)","v":""},{"$f":"IF(JAAFデータ貼り付け!J73=\"\",\"\",JAAFデータ貼り付け!J73)","v":""},{"$f":"IF(JAAFデータ貼り付け!K73=\"\",\"\",JAAFデータ貼り付け!K73)","v":""},{"$f":"IF(JAAFデータ貼り付け!L73=\"\",\"\",JAAFデータ貼り付け!L73)","v":""},{"$f":"IF(JAAFデータ貼り付け!M73=\"\",\"\",JAAFデータ貼り付け!M73)","v":""},{"$f":"IF(JAAFデータ貼り付け!N73=\"\",\"\",JAAFデータ貼り付け!N73)","v":""},{"$f":"IF(JAAFデータ貼り付け!O73=\"\",\"\",JAAFデータ貼り付け!O73)","v":""},{"$f":"IF(JAAFデータ貼り付け!P73=\"\",\"\",JAAFデータ貼り付け!P73)","v":""},{"$f":"IF(JAAFデータ貼り付け!Q73=\"\",\"\",JAAFデータ貼り付け!Q73)","v":""},{"$f":"IF(JAAFデータ貼り付け!R73=\"\",\"\",JAAFデータ貼り付け!R73)","v":""},{"$f":"生年月日貼り付け!E73&生年月日貼り付け!F73&生年月日貼り付け!G73","v":"000"},{"$f":"IF(JAAFデータ貼り付け!T73=\"\",\"\",JAAFデータ貼り付け!T73)","v":""},{"$f":"IF(JAAFデータ貼り付け!U73=\"\",\"\",JAAFデータ貼り付け!U73)","v":""},{"$f":"IF(Sheet5!B73=\"\",\"\",Sheet5!B73)","v":"0"},{"$f":"IF(JAAFデータ貼り付け!W73=\"\",\"\",JAAFデータ貼り付け!W73)","v":""},{"$f":"IF(JAAFデータ貼り付け!X73=\"\",\"\",JAAFデータ貼り付け!X73)","v":""},{"$f":"IF(JAAFデータ貼り付け!Y73=\"\",\"\",JAAFデータ貼り付け!Y73)","v":""},{"$f":"IF(JAAFデータ貼り付け!Z73=\"\",\"\",JAAFデータ貼り付け!Z73)","v":""},{"$f":"IF(JAAFデータ貼り付け!AA73=\"\",\"\",JAAFデータ貼り付け!AA73)","v":""},{"$f":"IF(JAAFデータ貼り付け!AB73=\"\",\"\",JAAFデータ貼り付け!AB73)","v":""},{"$f":"IF(JAAFデータ貼り付け!AC73=\"\",\"\",JAAFデータ貼り付け!AC73)","v":""},{"$f":"IF(JAAFデータ貼り付け!AD73=\"\",\"\",JAAFデータ貼り付け!AD73)","v":""},{"$f":"IF(JAAFデータ貼り付け!AE73=\"\",\"\",JAAFデータ貼り付け!AE73)","v":""},{"$f":"IF(JAAFデータ貼り付け!AF73=\"\",\"\",JAAFデータ貼り付け!AF73)","v":""},{"$f":"IF(JAAFデータ貼り付け!AG73=\"\",\"\",JAAFデータ貼り付け!AG73)","v":""},{"$f":"IF(JAAFデータ貼り付け!AH73=\"\",\"\",JAAFデータ貼り付け!AH73)","v":""},{"$f":"IF(JAAFデータ貼り付け!AI73=\"\",\"\",JAAFデータ貼り付け!AI73)","v":""},{"$f":"IF(JAAFデータ貼り付け!AJ73=\"\",\"\",JAAFデータ貼り付け!AJ73)","v":""},{"$f":"IF(JAAFデータ貼り付け!AK73=\"\",\"\",JAAFデータ貼り付け!AK73)","v":""},{"$f":"IF(JAAFデータ貼り付け!AL73=\"\",\"\",JAAFデータ貼り付け!AL73)","v":""},{"$f":"IF(JAAFデータ貼り付け!AM73=\"\",\"\",JAAFデータ貼り付け!AM73)","v":""},{"$f":"IF(JAAFデータ貼り付け!AN73=\"\",\"\",JAAFデータ貼り付け!AN73)","v":""},{"$f":"IF(JAAFデータ貼り付け!AO73=\"\",\"\",JAAFデータ貼り付け!AO73)","v":""},{"$f":"IF(JAAFデータ貼り付け!AP73=\"\",\"\",JAAFデータ貼り付け!AP73)","v":""},{"$f":"IF(JAAFデータ貼り付け!AQ73=\"\",\"\",JAAFデータ貼り付け!AQ73)","v":""}]
[{"$f":"IF(JAAFデータ貼り付け!E74=\"\",\"\",JAAFデータ貼り付け!E74)","v":""},{"$f":"IF(JAAFデータ貼り付け!B74=\"\",\"\",JAAFデータ貼り付け!B74)","v":""},{"$f":"IF(JAAFデータ貼り付け!C74=\"\",\"\",JAAFデータ貼り付け!C74)","v":""},{"$f":"IF(JAAFデータ貼り付け!D74=\"\",\"\",JAAFデータ貼り付け!D74)","v":""},null,{"$f":"IF(フリガナ貼り付け!D74=\"\",\"\",フリガナ貼り付け!D74)","v":""},{"$f":"IF(フリガナ貼り付け!E74=\"\",\"\",フリガナ貼り付け!E74)","v":""},{"$f":"IF(JAAFデータ貼り付け!H74=\"\",\"\",JAAFデータ貼り付け!H74)","v":""},{"$f":"IF(JAAFデータ貼り付け!I74=\"\",\"\",JAAFデータ貼り付け!I74)","v":""},{"$f":"IF(JAAFデータ貼り付け!J74=\"\",\"\",JAAFデータ貼り付け!J74)","v":""},{"$f":"IF(JAAFデータ貼り付け!K74=\"\",\"\",JAAFデータ貼り付け!K74)","v":""},{"$f":"IF(JAAFデータ貼り付け!L74=\"\",\"\",JAAFデータ貼り付け!L74)","v":""},{"$f":"IF(JAAFデータ貼り付け!M74=\"\",\"\",JAAFデータ貼り付け!M74)","v":""},{"$f":"IF(JAAFデータ貼り付け!N74=\"\",\"\",JAAFデータ貼り付け!N74)","v":""},{"$f":"IF(JAAFデータ貼り付け!O74=\"\",\"\",JAAFデータ貼り付け!O74)","v":""},{"$f":"IF(JAAFデータ貼り付け!P74=\"\",\"\",JAAFデータ貼り付け!P74)","v":""},{"$f":"IF(JAAFデータ貼り付け!Q74=\"\",\"\",JAAFデータ貼り付け!Q74)","v":""},{"$f":"IF(JAAFデータ貼り付け!R74=\"\",\"\",JAAFデータ貼り付け!R74)","v":""},{"$f":"生年月日貼り付け!E74&生年月日貼り付け!F74&生年月日貼り付け!G74","v":"000"},{"$f":"IF(JAAFデータ貼り付け!T74=\"\",\"\",JAAFデータ貼り付け!T74)","v":""},{"$f":"IF(JAAFデータ貼り付け!U74=\"\",\"\",JAAFデータ貼り付け!U74)","v":""},{"$f":"IF(Sheet5!B74=\"\",\"\",Sheet5!B74)","v":"0"},{"$f":"IF(JAAFデータ貼り付け!W74=\"\",\"\",JAAFデータ貼り付け!W74)","v":""},{"$f":"IF(JAAFデータ貼り付け!X74=\"\",\"\",JAAFデータ貼り付け!X74)","v":""},{"$f":"IF(JAAFデータ貼り付け!Y74=\"\",\"\",JAAFデータ貼り付け!Y74)","v":""},{"$f":"IF(JAAFデータ貼り付け!Z74=\"\",\"\",JAAFデータ貼り付け!Z74)","v":""},{"$f":"IF(JAAFデータ貼り付け!AA74=\"\",\"\",JAAFデータ貼り付け!AA74)","v":""},{"$f":"IF(JAAFデータ貼り付け!AB74=\"\",\"\",JAAFデータ貼り付け!AB74)","v":""},{"$f":"IF(JAAFデータ貼り付け!AC74=\"\",\"\",JAAFデータ貼り付け!AC74)","v":""},{"$f":"IF(JAAFデータ貼り付け!AD74=\"\",\"\",JAAFデータ貼り付け!AD74)","v":""},{"$f":"IF(JAAFデータ貼り付け!AE74=\"\",\"\",JAAFデータ貼り付け!AE74)","v":""},{"$f":"IF(JAAFデータ貼り付け!AF74=\"\",\"\",JAAFデータ貼り付け!AF74)","v":""},{"$f":"IF(JAAFデータ貼り付け!AG74=\"\",\"\",JAAFデータ貼り付け!AG74)","v":""},{"$f":"IF(JAAFデータ貼り付け!AH74=\"\",\"\",JAAFデータ貼り付け!AH74)","v":""},{"$f":"IF(JAAFデータ貼り付け!AI74=\"\",\"\",JAAFデータ貼り付け!AI74)","v":""},{"$f":"IF(JAAFデータ貼り付け!AJ74=\"\",\"\",JAAFデータ貼り付け!AJ74)","v":""},{"$f":"IF(JAAFデータ貼り付け!AK74=\"\",\"\",JAAFデータ貼り付け!AK74)","v":""},{"$f":"IF(JAAFデータ貼り付け!AL74=\"\",\"\",JAAFデータ貼り付け!AL74)","v":""},{"$f":"IF(JAAFデータ貼り付け!AM74=\"\",\"\",JAAFデータ貼り付け!AM74)","v":""},{"$f":"IF(JAAFデータ貼り付け!AN74=\"\",\"\",JAAFデータ貼り付け!AN74)","v":""},{"$f":"IF(JAAFデータ貼り付け!AO74=\"\",\"\",JAAFデータ貼り付け!AO74)","v":""},{"$f":"IF(JAAFデータ貼り付け!AP74=\"\",\"\",JAAFデータ貼り付け!AP74)","v":""},{"$f":"IF(JAAFデータ貼り付け!AQ74=\"\",\"\",JAAFデータ貼り付け!AQ74)","v":""}]
[{"$f":"IF(JAAFデータ貼り付け!E75=\"\",\"\",JAAFデータ貼り付け!E75)","v":""},{"$f":"IF(JAAFデータ貼り付け!B75=\"\",\"\",JAAFデータ貼り付け!B75)","v":""},{"$f":"IF(JAAFデータ貼り付け!C75=\"\",\"\",JAAFデータ貼り付け!C75)","v":""},{"$f":"IF(JAAFデータ貼り付け!D75=\"\",\"\",JAAFデータ貼り付け!D75)","v":""},null,{"$f":"IF(フリガナ貼り付け!D75=\"\",\"\",フリガナ貼り付け!D75)","v":""},{"$f":"IF(フリガナ貼り付け!E75=\"\",\"\",フリガナ貼り付け!E75)","v":""},{"$f":"IF(JAAFデータ貼り付け!H75=\"\",\"\",JAAFデータ貼り付け!H75)","v":""},{"$f":"IF(JAAFデータ貼り付け!I75=\"\",\"\",JAAFデータ貼り付け!I75)","v":""},{"$f":"IF(JAAFデータ貼り付け!J75=\"\",\"\",JAAFデータ貼り付け!J75)","v":""},{"$f":"IF(JAAFデータ貼り付け!K75=\"\",\"\",JAAFデータ貼り付け!K75)","v":""},{"$f":"IF(JAAFデータ貼り付け!L75=\"\",\"\",JAAFデータ貼り付け!L75)","v":""},{"$f":"IF(JAAFデータ貼り付け!M75=\"\",\"\",JAAFデータ貼り付け!M75)","v":""},{"$f":"IF(JAAFデータ貼り付け!N75=\"\",\"\",JAAFデータ貼り付け!N75)","v":""},{"$f":"IF(JAAFデータ貼り付け!O75=\"\",\"\",JAAFデータ貼り付け!O75)","v":""},{"$f":"IF(JAAFデータ貼り付け!P75=\"\",\"\",JAAFデータ貼り付け!P75)","v":""},{"$f":"IF(JAAFデータ貼り付け!Q75=\"\",\"\",JAAFデータ貼り付け!Q75)","v":""},{"$f":"IF(JAAFデータ貼り付け!R75=\"\",\"\",JAAFデータ貼り付け!R75)","v":""},{"$f":"生年月日貼り付け!E75&生年月日貼り付け!F75&生年月日貼り付け!G75","v":"000"},{"$f":"IF(JAAFデータ貼り付け!T75=\"\",\"\",JAAFデータ貼り付け!T75)","v":""},{"$f":"IF(JAAFデータ貼り付け!U75=\"\",\"\",JAAFデータ貼り付け!U75)","v":""},{"$f":"IF(Sheet5!B75=\"\",\"\",Sheet5!B75)","v":"0"},{"$f":"IF(JAAFデータ貼り付け!W75=\"\",\"\",JAAFデータ貼り付け!W75)","v":""},{"$f":"IF(JAAFデータ貼り付け!X75=\"\",\"\",JAAFデータ貼り付け!X75)","v":""},{"$f":"IF(JAAFデータ貼り付け!Y75=\"\",\"\",JAAFデータ貼り付け!Y75)","v":""},{"$f":"IF(JAAFデータ貼り付け!Z75=\"\",\"\",JAAFデータ貼り付け!Z75)","v":""},{"$f":"IF(JAAFデータ貼り付け!AA75=\"\",\"\",JAAFデータ貼り付け!AA75)","v":""},{"$f":"IF(JAAFデータ貼り付け!AB75=\"\",\"\",JAAFデータ貼り付け!AB75)","v":""},{"$f":"IF(JAAFデータ貼り付け!AC75=\"\",\"\",JAAFデータ貼り付け!AC75)","v":""},{"$f":"IF(JAAFデータ貼り付け!AD75=\"\",\"\",JAAFデータ貼り付け!AD75)","v":""},{"$f":"IF(JAAFデータ貼り付け!AE75=\"\",\"\",JAAFデータ貼り付け!AE75)","v":""},{"$f":"IF(JAAFデータ貼り付け!AF75=\"\",\"\",JAAFデータ貼り付け!AF75)","v":""},{"$f":"IF(JAAFデータ貼り付け!AG75=\"\",\"\",JAAFデータ貼り付け!AG75)","v":""},{"$f":"IF(JAAFデータ貼り付け!AH75=\"\",\"\",JAAFデータ貼り付け!AH75)","v":""},{"$f":"IF(JAAFデータ貼り付け!AI75=\"\",\"\",JAAFデータ貼り付け!AI75)","v":""},{"$f":"IF(JAAFデータ貼り付け!AJ75=\"\",\"\",JAAFデータ貼り付け!AJ75)","v":""},{"$f":"IF(JAAFデータ貼り付け!AK75=\"\",\"\",JAAFデータ貼り付け!AK75)","v":""},{"$f":"IF(JAAFデータ貼り付け!AL75=\"\",\"\",JAAFデータ貼り付け!AL75)","v":""},{"$f":"IF(JAAFデータ貼り付け!AM75=\"\",\"\",JAAFデータ貼り付け!AM75)","v":""},{"$f":"IF(JAAFデータ貼り付け!AN75=\"\",\"\",JAAFデータ貼り付け!AN75)","v":""},{"$f":"IF(JAAFデータ貼り付け!AO75=\"\",\"\",JAAFデータ貼り付け!AO75)","v":""},{"$f":"IF(JAAFデータ貼り付け!AP75=\"\",\"\",JAAFデータ貼り付け!AP75)","v":""},{"$f":"IF(JAAFデータ貼り付け!AQ75=\"\",\"\",JAAFデータ貼り付け!AQ75)","v":""}]
[{"$f":"IF(JAAFデータ貼り付け!E76=\"\",\"\",JAAFデータ貼り付け!E76)","v":""},{"$f":"IF(JAAFデータ貼り付け!B76=\"\",\"\",JAAFデータ貼り付け!B76)","v":""},{"$f":"IF(JAAFデータ貼り付け!C76=\"\",\"\",JAAFデータ貼り付け!C76)","v":""},{"$f":"IF(JAAFデータ貼り付け!D76=\"\",\"\",JAAFデータ貼り付け!D76)","v":""},null,{"$f":"IF(フリガナ貼り付け!D76=\"\",\"\",フリガナ貼り付け!D76)","v":""},{"$f":"IF(フリガナ貼り付け!E76=\"\",\"\",フリガナ貼り付け!E76)","v":""},{"$f":"IF(JAAFデータ貼り付け!H76=\"\",\"\",JAAFデータ貼り付け!H76)","v":""},{"$f":"IF(JAAFデータ貼り付け!I76=\"\",\"\",JAAFデータ貼り付け!I76)","v":""},{"$f":"IF(JAAFデータ貼り付け!J76=\"\",\"\",JAAFデータ貼り付け!J76)","v":""},{"$f":"IF(JAAFデータ貼り付け!K76=\"\",\"\",JAAFデータ貼り付け!K76)","v":""},{"$f":"IF(JAAFデータ貼り付け!L76=\"\",\"\",JAAFデータ貼り付け!L76)","v":""},{"$f":"IF(JAAFデータ貼り付け!M76=\"\",\"\",JAAFデータ貼り付け!M76)","v":""},{"$f":"IF(JAAFデータ貼り付け!N76=\"\",\"\",JAAFデータ貼り付け!N76)","v":""},{"$f":"IF(JAAFデータ貼り付け!O76=\"\",\"\",JAAFデータ貼り付け!O76)","v":""},{"$f":"IF(JAAFデータ貼り付け!P76=\"\",\"\",JAAFデータ貼り付け!P76)","v":""},{"$f":"IF(JAAFデータ貼り付け!Q76=\"\",\"\",JAAFデータ貼り付け!Q76)","v":""},{"$f":"IF(JAAFデータ貼り付け!R76=\"\",\"\",JAAFデータ貼り付け!R76)","v":""},{"$f":"生年月日貼り付け!E76&生年月日貼り付け!F76&生年月日貼り付け!G76","v":"000"},{"$f":"IF(JAAFデータ貼り付け!T76=\"\",\"\",JAAFデータ貼り付け!T76)","v":""},{"$f":"IF(JAAFデータ貼り付け!U76=\"\",\"\",JAAFデータ貼り付け!U76)","v":""},{"$f":"IF(Sheet5!B76=\"\",\"\",Sheet5!B76)","v":"0"},{"$f":"IF(JAAFデータ貼り付け!W76=\"\",\"\",JAAFデータ貼り付け!W76)","v":""},{"$f":"IF(JAAFデータ貼り付け!X76=\"\",\"\",JAAFデータ貼り付け!X76)","v":""},{"$f":"IF(JAAFデータ貼り付け!Y76=\"\",\"\",JAAFデータ貼り付け!Y76)","v":""},{"$f":"IF(JAAFデータ貼り付け!Z76=\"\",\"\",JAAFデータ貼り付け!Z76)","v":""},{"$f":"IF(JAAFデータ貼り付け!AA76=\"\",\"\",JAAFデータ貼り付け!AA76)","v":""},{"$f":"IF(JAAFデータ貼り付け!AB76=\"\",\"\",JAAFデータ貼り付け!AB76)","v":""},{"$f":"IF(JAAFデータ貼り付け!AC76=\"\",\"\",JAAFデータ貼り付け!AC76)","v":""},{"$f":"IF(JAAFデータ貼り付け!AD76=\"\",\"\",JAAFデータ貼り付け!AD76)","v":""},{"$f":"IF(JAAFデータ貼り付け!AE76=\"\",\"\",JAAFデータ貼り付け!AE76)","v":""},{"$f":"IF(JAAFデータ貼り付け!AF76=\"\",\"\",JAAFデータ貼り付け!AF76)","v":""},{"$f":"IF(JAAFデータ貼り付け!AG76=\"\",\"\",JAAFデータ貼り付け!AG76)","v":""},{"$f":"IF(JAAFデータ貼り付け!AH76=\"\",\"\",JAAFデータ貼り付け!AH76)","v":""},{"$f":"IF(JAAFデータ貼り付け!AI76=\"\",\"\",JAAFデータ貼り付け!AI76)","v":""},{"$f":"IF(JAAFデータ貼り付け!AJ76=\"\",\"\",JAAFデータ貼り付け!AJ76)","v":""},{"$f":"IF(JAAFデータ貼り付け!AK76=\"\",\"\",JAAFデータ貼り付け!AK76)","v":""},{"$f":"IF(JAAFデータ貼り付け!AL76=\"\",\"\",JAAFデータ貼り付け!AL76)","v":""},{"$f":"IF(JAAFデータ貼り付け!AM76=\"\",\"\",JAAFデータ貼り付け!AM76)","v":""},{"$f":"IF(JAAFデータ貼り付け!AN76=\"\",\"\",JAAFデータ貼り付け!AN76)","v":""},{"$f":"IF(JAAFデータ貼り付け!AO76=\"\",\"\",JAAFデータ貼り付け!AO76)","v":""},{"$f":"IF(JAAFデータ貼り付け!AP76=\"\",\"\",JAAFデータ貼り付け!AP76)","v":""},{"$f":"IF(JAAFデータ貼り付け!AQ76=\"\",\"\",JAAFデータ貼り付け!AQ76)","v":""}]
[{"$f":"IF(JAAFデータ貼り付け!E77=\"\",\"\",JAAFデータ貼り付け!E77)","v":""},{"$f":"IF(JAAFデータ貼り付け!B77=\"\",\"\",JAAFデータ貼り付け!B77)","v":""},{"$f":"IF(JAAFデータ貼り付け!C77=\"\",\"\",JAAFデータ貼り付け!C77)","v":""},{"$f":"IF(JAAFデータ貼り付け!D77=\"\",\"\",JAAFデータ貼り付け!D77)","v":""},null,{"$f":"IF(フリガナ貼り付け!D77=\"\",\"\",フリガナ貼り付け!D77)","v":""},{"$f":"IF(フリガナ貼り付け!E77=\"\",\"\",フリガナ貼り付け!E77)","v":""},{"$f":"IF(JAAFデータ貼り付け!H77=\"\",\"\",JAAFデータ貼り付け!H77)","v":""},{"$f":"IF(JAAFデータ貼り付け!I77=\"\",\"\",JAAFデータ貼り付け!I77)","v":""},{"$f":"IF(JAAFデータ貼り付け!J77=\"\",\"\",JAAFデータ貼り付け!J77)","v":""},{"$f":"IF(JAAFデータ貼り付け!K77=\"\",\"\",JAAFデータ貼り付け!K77)","v":""},{"$f":"IF(JAAFデータ貼り付け!L77=\"\",\"\",JAAFデータ貼り付け!L77)","v":""},{"$f":"IF(JAAFデータ貼り付け!M77=\"\",\"\",JAAFデータ貼り付け!M77)","v":""},{"$f":"IF(JAAFデータ貼り付け!N77=\"\",\"\",JAAFデータ貼り付け!N77)","v":""},{"$f":"IF(JAAFデータ貼り付け!O77=\"\",\"\",JAAFデータ貼り付け!O77)","v":""},{"$f":"IF(JAAFデータ貼り付け!P77=\"\",\"\",JAAFデータ貼り付け!P77)","v":""},{"$f":"IF(JAAFデータ貼り付け!Q77=\"\",\"\",JAAFデータ貼り付け!Q77)","v":""},{"$f":"IF(JAAFデータ貼り付け!R77=\"\",\"\",JAAFデータ貼り付け!R77)","v":""},{"$f":"生年月日貼り付け!E77&生年月日貼り付け!F77&生年月日貼り付け!G77","v":"000"},{"$f":"IF(JAAFデータ貼り付け!T77=\"\",\"\",JAAFデータ貼り付け!T77)","v":""},{"$f":"IF(JAAFデータ貼り付け!U77=\"\",\"\",JAAFデータ貼り付け!U77)","v":""},{"$f":"IF(Sheet5!B77=\"\",\"\",Sheet5!B77)","v":"0"},{"$f":"IF(JAAFデータ貼り付け!W77=\"\",\"\",JAAFデータ貼り付け!W77)","v":""},{"$f":"IF(JAAFデータ貼り付け!X77=\"\",\"\",JAAFデータ貼り付け!X77)","v":""},{"$f":"IF(JAAFデータ貼り付け!Y77=\"\",\"\",JAAFデータ貼り付け!Y77)","v":""},{"$f":"IF(JAAFデータ貼り付け!Z77=\"\",\"\",JAAFデータ貼り付け!Z77)","v":""},{"$f":"IF(JAAFデータ貼り付け!AA77=\"\",\"\",JAAFデータ貼り付け!AA77)","v":""},{"$f":"IF(JAAFデータ貼り付け!AB77=\"\",\"\",JAAFデータ貼り付け!AB77)","v":""},{"$f":"IF(JAAFデータ貼り付け!AC77=\"\",\"\",JAAFデータ貼り付け!AC77)","v":""},{"$f":"IF(JAAFデータ貼り付け!AD77=\"\",\"\",JAAFデータ貼り付け!AD77)","v":""},{"$f":"IF(JAAFデータ貼り付け!AE77=\"\",\"\",JAAFデータ貼り付け!AE77)","v":""},{"$f":"IF(JAAFデータ貼り付け!AF77=\"\",\"\",JAAFデータ貼り付け!AF77)","v":""},{"$f":"IF(JAAFデータ貼り付け!AG77=\"\",\"\",JAAFデータ貼り付け!AG77)","v":""},{"$f":"IF(JAAFデータ貼り付け!AH77=\"\",\"\",JAAFデータ貼り付け!AH77)","v":""},{"$f":"IF(JAAFデータ貼り付け!AI77=\"\",\"\",JAAFデータ貼り付け!AI77)","v":""},{"$f":"IF(JAAFデータ貼り付け!AJ77=\"\",\"\",JAAFデータ貼り付け!AJ77)","v":""},{"$f":"IF(JAAFデータ貼り付け!AK77=\"\",\"\",JAAFデータ貼り付け!AK77)","v":""},{"$f":"IF(JAAFデータ貼り付け!AL77=\"\",\"\",JAAFデータ貼り付け!AL77)","v":""},{"$f":"IF(JAAFデータ貼り付け!AM77=\"\",\"\",JAAFデータ貼り付け!AM77)","v":""},{"$f":"IF(JAAFデータ貼り付け!AN77=\"\",\"\",JAAFデータ貼り付け!AN77)","v":""},{"$f":"IF(JAAFデータ貼り付け!AO77=\"\",\"\",JAAFデータ貼り付け!AO77)","v":""},{"$f":"IF(JAAFデータ貼り付け!AP77=\"\",\"\",JAAFデータ貼り付け!AP77)","v":""},{"$f":"IF(JAAFデータ貼り付け!AQ77=\"\",\"\",JAAFデータ貼り付け!AQ77)","v":""}]
[{"$f":"IF(JAAFデータ貼り付け!E78=\"\",\"\",JAAFデータ貼り付け!E78)","v":""},{"$f":"IF(JAAFデータ貼り付け!B78=\"\",\"\",JAAFデータ貼り付け!B78)","v":""},{"$f":"IF(JAAFデータ貼り付け!C78=\"\",\"\",JAAFデータ貼り付け!C78)","v":""},{"$f":"IF(JAAFデータ貼り付け!D78=\"\",\"\",JAAFデータ貼り付け!D78)","v":""},null,{"$f":"IF(フリガナ貼り付け!D78=\"\",\"\",フリガナ貼り付け!D78)","v":""},{"$f":"IF(フリガナ貼り付け!E78=\"\",\"\",フリガナ貼り付け!E78)","v":""},{"$f":"IF(JAAFデータ貼り付け!H78=\"\",\"\",JAAFデータ貼り付け!H78)","v":""},{"$f":"IF(JAAFデータ貼り付け!I78=\"\",\"\",JAAFデータ貼り付け!I78)","v":""},{"$f":"IF(JAAFデータ貼り付け!J78=\"\",\"\",JAAFデータ貼り付け!J78)","v":""},{"$f":"IF(JAAFデータ貼り付け!K78=\"\",\"\",JAAFデータ貼り付け!K78)","v":""},{"$f":"IF(JAAFデータ貼り付け!L78=\"\",\"\",JAAFデータ貼り付け!L78)","v":""},{"$f":"IF(JAAFデータ貼り付け!M78=\"\",\"\",JAAFデータ貼り付け!M78)","v":""},{"$f":"IF(JAAFデータ貼り付け!N78=\"\",\"\",JAAFデータ貼り付け!N78)","v":""},{"$f":"IF(JAAFデータ貼り付け!O78=\"\",\"\",JAAFデータ貼り付け!O78)","v":""},{"$f":"IF(JAAFデータ貼り付け!P78=\"\",\"\",JAAFデータ貼り付け!P78)","v":""},{"$f":"IF(JAAFデータ貼り付け!Q78=\"\",\"\",JAAFデータ貼り付け!Q78)","v":""},{"$f":"IF(JAAFデータ貼り付け!R78=\"\",\"\",JAAFデータ貼り付け!R78)","v":""},{"$f":"生年月日貼り付け!E78&生年月日貼り付け!F78&生年月日貼り付け!G78","v":"000"},{"$f":"IF(JAAFデータ貼り付け!T78=\"\",\"\",JAAFデータ貼り付け!T78)","v":""},{"$f":"IF(JAAFデータ貼り付け!U78=\"\",\"\",JAAFデータ貼り付け!U78)","v":""},{"$f":"IF(Sheet5!B78=\"\",\"\",Sheet5!B78)","v":"0"},{"$f":"IF(JAAFデータ貼り付け!W78=\"\",\"\",JAAFデータ貼り付け!W78)","v":""},{"$f":"IF(JAAFデータ貼り付け!X78=\"\",\"\",JAAFデータ貼り付け!X78)","v":""},{"$f":"IF(JAAFデータ貼り付け!Y78=\"\",\"\",JAAFデータ貼り付け!Y78)","v":""},{"$f":"IF(JAAFデータ貼り付け!Z78=\"\",\"\",JAAFデータ貼り付け!Z78)","v":""},{"$f":"IF(JAAFデータ貼り付け!AA78=\"\",\"\",JAAFデータ貼り付け!AA78)","v":""},{"$f":"IF(JAAFデータ貼り付け!AB78=\"\",\"\",JAAFデータ貼り付け!AB78)","v":""},{"$f":"IF(JAAFデータ貼り付け!AC78=\"\",\"\",JAAFデータ貼り付け!AC78)","v":""},{"$f":"IF(JAAFデータ貼り付け!AD78=\"\",\"\",JAAFデータ貼り付け!AD78)","v":""},{"$f":"IF(JAAFデータ貼り付け!AE78=\"\",\"\",JAAFデータ貼り付け!AE78)","v":""},{"$f":"IF(JAAFデータ貼り付け!AF78=\"\",\"\",JAAFデータ貼り付け!AF78)","v":""},{"$f":"IF(JAAFデータ貼り付け!AG78=\"\",\"\",JAAFデータ貼り付け!AG78)","v":""},{"$f":"IF(JAAFデータ貼り付け!AH78=\"\",\"\",JAAFデータ貼り付け!AH78)","v":""},{"$f":"IF(JAAFデータ貼り付け!AI78=\"\",\"\",JAAFデータ貼り付け!AI78)","v":""},{"$f":"IF(JAAFデータ貼り付け!AJ78=\"\",\"\",JAAFデータ貼り付け!AJ78)","v":""},{"$f":"IF(JAAFデータ貼り付け!AK78=\"\",\"\",JAAFデータ貼り付け!AK78)","v":""},{"$f":"IF(JAAFデータ貼り付け!AL78=\"\",\"\",JAAFデータ貼り付け!AL78)","v":""},{"$f":"IF(JAAFデータ貼り付け!AM78=\"\",\"\",JAAFデータ貼り付け!AM78)","v":""},{"$f":"IF(JAAFデータ貼り付け!AN78=\"\",\"\",JAAFデータ貼り付け!AN78)","v":""},{"$f":"IF(JAAFデータ貼り付け!AO78=\"\",\"\",JAAFデータ貼り付け!AO78)","v":""},{"$f":"IF(JAAFデータ貼り付け!AP78=\"\",\"\",JAAFデータ貼り付け!AP78)","v":""},{"$f":"IF(JAAFデータ貼り付け!AQ78=\"\",\"\",JAAFデータ貼り付け!AQ78)","v":""}]
[{"$f":"IF(JAAFデータ貼り付け!E79=\"\",\"\",JAAFデータ貼り付け!E79)","v":""},{"$f":"IF(JAAFデータ貼り付け!B79=\"\",\"\",JAAFデータ貼り付け!B79)","v":""},{"$f":"IF(JAAFデータ貼り付け!C79=\"\",\"\",JAAFデータ貼り付け!C79)","v":""},{"$f":"IF(JAAFデータ貼り付け!D79=\"\",\"\",JAAFデータ貼り付け!D79)","v":""},null,{"$f":"IF(フリガナ貼り付け!D79=\"\",\"\",フリガナ貼り付け!D79)","v":""},{"$f":"IF(フリガナ貼り付け!E79=\"\",\"\",フリガナ貼り付け!E79)","v":""},{"$f":"IF(JAAFデータ貼り付け!H79=\"\",\"\",JAAFデータ貼り付け!H79)","v":""},{"$f":"IF(JAAFデータ貼り付け!I79=\"\",\"\",JAAFデータ貼り付け!I79)","v":""},{"$f":"IF(JAAFデータ貼り付け!J79=\"\",\"\",JAAFデータ貼り付け!J79)","v":""},{"$f":"IF(JAAFデータ貼り付け!K79=\"\",\"\",JAAFデータ貼り付け!K79)","v":""},{"$f":"IF(JAAFデータ貼り付け!L79=\"\",\"\",JAAFデータ貼り付け!L79)","v":""},{"$f":"IF(JAAFデータ貼り付け!M79=\"\",\"\",JAAFデータ貼り付け!M79)","v":""},{"$f":"IF(JAAFデータ貼り付け!N79=\"\",\"\",JAAFデータ貼り付け!N79)","v":""},{"$f":"IF(JAAFデータ貼り付け!O79=\"\",\"\",JAAFデータ貼り付け!O79)","v":""},{"$f":"IF(JAAFデータ貼り付け!P79=\"\",\"\",JAAFデータ貼り付け!P79)","v":""},{"$f":"IF(JAAFデータ貼り付け!Q79=\"\",\"\",JAAFデータ貼り付け!Q79)","v":""},{"$f":"IF(JAAFデータ貼り付け!R79=\"\",\"\",JAAFデータ貼り付け!R79)","v":""},{"$f":"生年月日貼り付け!E79&生年月日貼り付け!F79&生年月日貼り付け!G79","v":"000"},{"$f":"IF(JAAFデータ貼り付け!T79=\"\",\"\",JAAFデータ貼り付け!T79)","v":""},{"$f":"IF(JAAFデータ貼り付け!U79=\"\",\"\",JAAFデータ貼り付け!U79)","v":""},{"$f":"IF(Sheet5!B79=\"\",\"\",Sheet5!B79)","v":"0"},{"$f":"IF(JAAFデータ貼り付け!W79=\"\",\"\",JAAFデータ貼り付け!W79)","v":""},{"$f":"IF(JAAFデータ貼り付け!X79=\"\",\"\",JAAFデータ貼り付け!X79)","v":""},{"$f":"IF(JAAFデータ貼り付け!Y79=\"\",\"\",JAAFデータ貼り付け!Y79)","v":""},{"$f":"IF(JAAFデータ貼り付け!Z79=\"\",\"\",JAAFデータ貼り付け!Z79)","v":""},{"$f":"IF(JAAFデータ貼り付け!AA79=\"\",\"\",JAAFデータ貼り付け!AA79)","v":""},{"$f":"IF(JAAFデータ貼り付け!AB79=\"\",\"\",JAAFデータ貼り付け!AB79)","v":""},{"$f":"IF(JAAFデータ貼り付け!AC79=\"\",\"\",JAAFデータ貼り付け!AC79)","v":""},{"$f":"IF(JAAFデータ貼り付け!AD79=\"\",\"\",JAAFデータ貼り付け!AD79)","v":""},{"$f":"IF(JAAFデータ貼り付け!AE79=\"\",\"\",JAAFデータ貼り付け!AE79)","v":""},{"$f":"IF(JAAFデータ貼り付け!AF79=\"\",\"\",JAAFデータ貼り付け!AF79)","v":""},{"$f":"IF(JAAFデータ貼り付け!AG79=\"\",\"\",JAAFデータ貼り付け!AG79)","v":""},{"$f":"IF(JAAFデータ貼り付け!AH79=\"\",\"\",JAAFデータ貼り付け!AH79)","v":""},{"$f":"IF(JAAFデータ貼り付け!AI79=\"\",\"\",JAAFデータ貼り付け!AI79)","v":""},{"$f":"IF(JAAFデータ貼り付け!AJ79=\"\",\"\",JAAFデータ貼り付け!AJ79)","v":""},{"$f":"IF(JAAFデータ貼り付け!AK79=\"\",\"\",JAAFデータ貼り付け!AK79)","v":""},{"$f":"IF(JAAFデータ貼り付け!AL79=\"\",\"\",JAAFデータ貼り付け!AL79)","v":""},{"$f":"IF(JAAFデータ貼り付け!AM79=\"\",\"\",JAAFデータ貼り付け!AM79)","v":""},{"$f":"IF(JAAFデータ貼り付け!AN79=\"\",\"\",JAAFデータ貼り付け!AN79)","v":""},{"$f":"IF(JAAFデータ貼り付け!AO79=\"\",\"\",JAAFデータ貼り付け!AO79)","v":""},{"$f":"IF(JAAFデータ貼り付け!AP79=\"\",\"\",JAAFデータ貼り付け!AP79)","v":""},{"$f":"IF(JAAFデータ貼り付け!AQ79=\"\",\"\",JAAFデータ貼り付け!AQ79)","v":""}]
[{"$f":"IF(JAAFデータ貼り付け!E80=\"\",\"\",JAAFデータ貼り付け!E80)","v":""},{"$f":"IF(JAAFデータ貼り付け!B80=\"\",\"\",JAAFデータ貼り付け!B80)","v":""},{"$f":"IF(JAAFデータ貼り付け!C80=\"\",\"\",JAAFデータ貼り付け!C80)","v":""},{"$f":"IF(JAAFデータ貼り付け!D80=\"\",\"\",JAAFデータ貼り付け!D80)","v":""},null,{"$f":"IF(フリガナ貼り付け!D80=\"\",\"\",フリガナ貼り付け!D80)","v":""},{"$f":"IF(フリガナ貼り付け!E80=\"\",\"\",フリガナ貼り付け!E80)","v":""},{"$f":"IF(JAAFデータ貼り付け!H80=\"\",\"\",JAAFデータ貼り付け!H80)","v":""},{"$f":"IF(JAAFデータ貼り付け!I80=\"\",\"\",JAAFデータ貼り付け!I80)","v":""},{"$f":"IF(JAAFデータ貼り付け!J80=\"\",\"\",JAAFデータ貼り付け!J80)","v":""},{"$f":"IF(JAAFデータ貼り付け!K80=\"\",\"\",JAAFデータ貼り付け!K80)","v":""},{"$f":"IF(JAAFデータ貼り付け!L80=\"\",\"\",JAAFデータ貼り付け!L80)","v":""},{"$f":"IF(JAAFデータ貼り付け!M80=\"\",\"\",JAAFデータ貼り付け!M80)","v":""},{"$f":"IF(JAAFデータ貼り付け!N80=\"\",\"\",JAAFデータ貼り付け!N80)","v":""},{"$f":"IF(JAAFデータ貼り付け!O80=\"\",\"\",JAAFデータ貼り付け!O80)","v":""},{"$f":"IF(JAAFデータ貼り付け!P80=\"\",\"\",JAAFデータ貼り付け!P80)","v":""},{"$f":"IF(JAAFデータ貼り付け!Q80=\"\",\"\",JAAFデータ貼り付け!Q80)","v":""},{"$f":"IF(JAAFデータ貼り付け!R80=\"\",\"\",JAAFデータ貼り付け!R80)","v":""},{"$f":"生年月日貼り付け!E80&生年月日貼り付け!F80&生年月日貼り付け!G80","v":"000"},{"$f":"IF(JAAFデータ貼り付け!T80=\"\",\"\",JAAFデータ貼り付け!T80)","v":""},{"$f":"IF(JAAFデータ貼り付け!U80=\"\",\"\",JAAFデータ貼り付け!U80)","v":""},{"$f":"IF(Sheet5!B80=\"\",\"\",Sheet5!B80)","v":"0"},{"$f":"IF(JAAFデータ貼り付け!W80=\"\",\"\",JAAFデータ貼り付け!W80)","v":""},{"$f":"IF(JAAFデータ貼り付け!X80=\"\",\"\",JAAFデータ貼り付け!X80)","v":""},{"$f":"IF(JAAFデータ貼り付け!Y80=\"\",\"\",JAAFデータ貼り付け!Y80)","v":""},{"$f":"IF(JAAFデータ貼り付け!Z80=\"\",\"\",JAAFデータ貼り付け!Z80)","v":""},{"$f":"IF(JAAFデータ貼り付け!AA80=\"\",\"\",JAAFデータ貼り付け!AA80)","v":""},{"$f":"IF(JAAFデータ貼り付け!AB80=\"\",\"\",JAAFデータ貼り付け!AB80)","v":""},{"$f":"IF(JAAFデータ貼り付け!AC80=\"\",\"\",JAAFデータ貼り付け!AC80)","v":""},{"$f":"IF(JAAFデータ貼り付け!AD80=\"\",\"\",JAAFデータ貼り付け!AD80)","v":""},{"$f":"IF(JAAFデータ貼り付け!AE80=\"\",\"\",JAAFデータ貼り付け!AE80)","v":""},{"$f":"IF(JAAFデータ貼り付け!AF80=\"\",\"\",JAAFデータ貼り付け!AF80)","v":""},{"$f":"IF(JAAFデータ貼り付け!AG80=\"\",\"\",JAAFデータ貼り付け!AG80)","v":""},{"$f":"IF(JAAFデータ貼り付け!AH80=\"\",\"\",JAAFデータ貼り付け!AH80)","v":""},{"$f":"IF(JAAFデータ貼り付け!AI80=\"\",\"\",JAAFデータ貼り付け!AI80)","v":""},{"$f":"IF(JAAFデータ貼り付け!AJ80=\"\",\"\",JAAFデータ貼り付け!AJ80)","v":""},{"$f":"IF(JAAFデータ貼り付け!AK80=\"\",\"\",JAAFデータ貼り付け!AK80)","v":""},{"$f":"IF(JAAFデータ貼り付け!AL80=\"\",\"\",JAAFデータ貼り付け!AL80)","v":""},{"$f":"IF(JAAFデータ貼り付け!AM80=\"\",\"\",JAAFデータ貼り付け!AM80)","v":""},{"$f":"IF(JAAFデータ貼り付け!AN80=\"\",\"\",JAAFデータ貼り付け!AN80)","v":""},{"$f":"IF(JAAFデータ貼り付け!AO80=\"\",\"\",JAAFデータ貼り付け!AO80)","v":""},{"$f":"IF(JAAFデータ貼り付け!AP80=\"\",\"\",JAAFデータ貼り付け!AP80)","v":""},{"$f":"IF(JAAFデータ貼り付け!AQ80=\"\",\"\",JAAFデータ貼り付け!AQ80)","v":""}]
[{"$f":"IF(JAAFデータ貼り付け!E81=\"\",\"\",JAAFデータ貼り付け!E81)","v":""},{"$f":"IF(JAAFデータ貼り付け!B81=\"\",\"\",JAAFデータ貼り付け!B81)","v":""},{"$f":"IF(JAAFデータ貼り付け!C81=\"\",\"\",JAAFデータ貼り付け!C81)","v":""},{"$f":"IF(JAAFデータ貼り付け!D81=\"\",\"\",JAAFデータ貼り付け!D81)","v":""},null,{"$f":"IF(フリガナ貼り付け!D81=\"\",\"\",フリガナ貼り付け!D81)","v":""},{"$f":"IF(フリガナ貼り付け!E81=\"\",\"\",フリガナ貼り付け!E81)","v":""},{"$f":"IF(JAAFデータ貼り付け!H81=\"\",\"\",JAAFデータ貼り付け!H81)","v":""},{"$f":"IF(JAAFデータ貼り付け!I81=\"\",\"\",JAAFデータ貼り付け!I81)","v":""},{"$f":"IF(JAAFデータ貼り付け!J81=\"\",\"\",JAAFデータ貼り付け!J81)","v":""},{"$f":"IF(JAAFデータ貼り付け!K81=\"\",\"\",JAAFデータ貼り付け!K81)","v":""},{"$f":"IF(JAAFデータ貼り付け!L81=\"\",\"\",JAAFデータ貼り付け!L81)","v":""},{"$f":"IF(JAAFデータ貼り付け!M81=\"\",\"\",JAAFデータ貼り付け!M81)","v":""},{"$f":"IF(JAAFデータ貼り付け!N81=\"\",\"\",JAAFデータ貼り付け!N81)","v":""},{"$f":"IF(JAAFデータ貼り付け!O81=\"\",\"\",JAAFデータ貼り付け!O81)","v":""},{"$f":"IF(JAAFデータ貼り付け!P81=\"\",\"\",JAAFデータ貼り付け!P81)","v":""},{"$f":"IF(JAAFデータ貼り付け!Q81=\"\",\"\",JAAFデータ貼り付け!Q81)","v":""},{"$f":"IF(JAAFデータ貼り付け!R81=\"\",\"\",JAAFデータ貼り付け!R81)","v":""},{"$f":"生年月日貼り付け!E81&生年月日貼り付け!F81&生年月日貼り付け!G81","v":"000"},{"$f":"IF(JAAFデータ貼り付け!T81=\"\",\"\",JAAFデータ貼り付け!T81)","v":""},{"$f":"IF(JAAFデータ貼り付け!U81=\"\",\"\",JAAFデータ貼り付け!U81)","v":""},{"$f":"IF(Sheet5!B81=\"\",\"\",Sheet5!B81)","v":"0"},{"$f":"IF(JAAFデータ貼り付け!W81=\"\",\"\",JAAFデータ貼り付け!W81)","v":""},{"$f":"IF(JAAFデータ貼り付け!X81=\"\",\"\",JAAFデータ貼り付け!X81)","v":""},{"$f":"IF(JAAFデータ貼り付け!Y81=\"\",\"\",JAAFデータ貼り付け!Y81)","v":""},{"$f":"IF(JAAFデータ貼り付け!Z81=\"\",\"\",JAAFデータ貼り付け!Z81)","v":""},{"$f":"IF(JAAFデータ貼り付け!AA81=\"\",\"\",JAAFデータ貼り付け!AA81)","v":""},{"$f":"IF(JAAFデータ貼り付け!AB81=\"\",\"\",JAAFデータ貼り付け!AB81)","v":""},{"$f":"IF(JAAFデータ貼り付け!AC81=\"\",\"\",JAAFデータ貼り付け!AC81)","v":""},{"$f":"IF(JAAFデータ貼り付け!AD81=\"\",\"\",JAAFデータ貼り付け!AD81)","v":""},{"$f":"IF(JAAFデータ貼り付け!AE81=\"\",\"\",JAAFデータ貼り付け!AE81)","v":""},{"$f":"IF(JAAFデータ貼り付け!AF81=\"\",\"\",JAAFデータ貼り付け!AF81)","v":""},{"$f":"IF(JAAFデータ貼り付け!AG81=\"\",\"\",JAAFデータ貼り付け!AG81)","v":""},{"$f":"IF(JAAFデータ貼り付け!AH81=\"\",\"\",JAAFデータ貼り付け!AH81)","v":""},{"$f":"IF(JAAFデータ貼り付け!AI81=\"\",\"\",JAAFデータ貼り付け!AI81)","v":""},{"$f":"IF(JAAFデータ貼り付け!AJ81=\"\",\"\",JAAFデータ貼り付け!AJ81)","v":""},{"$f":"IF(JAAFデータ貼り付け!AK81=\"\",\"\",JAAFデータ貼り付け!AK81)","v":""},{"$f":"IF(JAAFデータ貼り付け!AL81=\"\",\"\",JAAFデータ貼り付け!AL81)","v":""},{"$f":"IF(JAAFデータ貼り付け!AM81=\"\",\"\",JAAFデータ貼り付け!AM81)","v":""},{"$f":"IF(JAAFデータ貼り付け!AN81=\"\",\"\",JAAFデータ貼り付け!AN81)","v":""},{"$f":"IF(JAAFデータ貼り付け!AO81=\"\",\"\",JAAFデータ貼り付け!AO81)","v":""},{"$f":"IF(JAAFデータ貼り付け!AP81=\"\",\"\",JAAFデータ貼り付け!AP81)","v":""},{"$f":"IF(JAAFデータ貼り付け!AQ81=\"\",\"\",JAAFデータ貼り付け!AQ81)","v":""}]
[{"$f":"IF(JAAFデータ貼り付け!E82=\"\",\"\",JAAFデータ貼り付け!E82)","v":""},{"$f":"IF(JAAFデータ貼り付け!B82=\"\",\"\",JAAFデータ貼り付け!B82)","v":""},{"$f":"IF(JAAFデータ貼り付け!C82=\"\",\"\",JAAFデータ貼り付け!C82)","v":""},{"$f":"IF(JAAFデータ貼り付け!D82=\"\",\"\",JAAFデータ貼り付け!D82)","v":""},null,{"$f":"IF(フリガナ貼り付け!D82=\"\",\"\",フリガナ貼り付け!D82)","v":""},{"$f":"IF(フリガナ貼り付け!E82=\"\",\"\",フリガナ貼り付け!E82)","v":""},{"$f":"IF(JAAFデータ貼り付け!H82=\"\",\"\",JAAFデータ貼り付け!H82)","v":""},{"$f":"IF(JAAFデータ貼り付け!I82=\"\",\"\",JAAFデータ貼り付け!I82)","v":""},{"$f":"IF(JAAFデータ貼り付け!J82=\"\",\"\",JAAFデータ貼り付け!J82)","v":""},{"$f":"IF(JAAFデータ貼り付け!K82=\"\",\"\",JAAFデータ貼り付け!K82)","v":""},{"$f":"IF(JAAFデータ貼り付け!L82=\"\",\"\",JAAFデータ貼り付け!L82)","v":""},{"$f":"IF(JAAFデータ貼り付け!M82=\"\",\"\",JAAFデータ貼り付け!M82)","v":""},{"$f":"IF(JAAFデータ貼り付け!N82=\"\",\"\",JAAFデータ貼り付け!N82)","v":""},{"$f":"IF(JAAFデータ貼り付け!O82=\"\",\"\",JAAFデータ貼り付け!O82)","v":""},{"$f":"IF(JAAFデータ貼り付け!P82=\"\",\"\",JAAFデータ貼り付け!P82)","v":""},{"$f":"IF(JAAFデータ貼り付け!Q82=\"\",\"\",JAAFデータ貼り付け!Q82)","v":""},{"$f":"IF(JAAFデータ貼り付け!R82=\"\",\"\",JAAFデータ貼り付け!R82)","v":""},{"$f":"生年月日貼り付け!E82&生年月日貼り付け!F82&生年月日貼り付け!G82","v":"000"},{"$f":"IF(JAAFデータ貼り付け!T82=\"\",\"\",JAAFデータ貼り付け!T82)","v":""},{"$f":"IF(JAAFデータ貼り付け!U82=\"\",\"\",JAAFデータ貼り付け!U82)","v":""},{"$f":"IF(Sheet5!B82=\"\",\"\",Sheet5!B82)","v":"0"},{"$f":"IF(JAAFデータ貼り付け!W82=\"\",\"\",JAAFデータ貼り付け!W82)","v":""},{"$f":"IF(JAAFデータ貼り付け!X82=\"\",\"\",JAAFデータ貼り付け!X82)","v":""},{"$f":"IF(JAAFデータ貼り付け!Y82=\"\",\"\",JAAFデータ貼り付け!Y82)","v":""},{"$f":"IF(JAAFデータ貼り付け!Z82=\"\",\"\",JAAFデータ貼り付け!Z82)","v":""},{"$f":"IF(JAAFデータ貼り付け!AA82=\"\",\"\",JAAFデータ貼り付け!AA82)","v":""},{"$f":"IF(JAAFデータ貼り付け!AB82=\"\",\"\",JAAFデータ貼り付け!AB82)","v":""},{"$f":"IF(JAAFデータ貼り付け!AC82=\"\",\"\",JAAFデータ貼り付け!AC82)","v":""},{"$f":"IF(JAAFデータ貼り付け!AD82=\"\",\"\",JAAFデータ貼り付け!AD82)","v":""},{"$f":"IF(JAAFデータ貼り付け!AE82=\"\",\"\",JAAFデータ貼り付け!AE82)","v":""},{"$f":"IF(JAAFデータ貼り付け!AF82=\"\",\"\",JAAFデータ貼り付け!AF82)","v":""},{"$f":"IF(JAAFデータ貼り付け!AG82=\"\",\"\",JAAFデータ貼り付け!AG82)","v":""},{"$f":"IF(JAAFデータ貼り付け!AH82=\"\",\"\",JAAFデータ貼り付け!AH82)","v":""},{"$f":"IF(JAAFデータ貼り付け!AI82=\"\",\"\",JAAFデータ貼り付け!AI82)","v":""},{"$f":"IF(JAAFデータ貼り付け!AJ82=\"\",\"\",JAAFデータ貼り付け!AJ82)","v":""},{"$f":"IF(JAAFデータ貼り付け!AK82=\"\",\"\",JAAFデータ貼り付け!AK82)","v":""},{"$f":"IF(JAAFデータ貼り付け!AL82=\"\",\"\",JAAFデータ貼り付け!AL82)","v":""},{"$f":"IF(JAAFデータ貼り付け!AM82=\"\",\"\",JAAFデータ貼り付け!AM82)","v":""},{"$f":"IF(JAAFデータ貼り付け!AN82=\"\",\"\",JAAFデータ貼り付け!AN82)","v":""},{"$f":"IF(JAAFデータ貼り付け!AO82=\"\",\"\",JAAFデータ貼り付け!AO82)","v":""},{"$f":"IF(JAAFデータ貼り付け!AP82=\"\",\"\",JAAFデータ貼り付け!AP82)","v":""},{"$f":"IF(JAAFデータ貼り付け!AQ82=\"\",\"\",JAAFデータ貼り付け!AQ82)","v":""}]
[{"$f":"IF(JAAFデータ貼り付け!E83=\"\",\"\",JAAFデータ貼り付け!E83)","v":""},{"$f":"IF(JAAFデータ貼り付け!B83=\"\",\"\",JAAFデータ貼り付け!B83)","v":""},{"$f":"IF(JAAFデータ貼り付け!C83=\"\",\"\",JAAFデータ貼り付け!C83)","v":""},{"$f":"IF(JAAFデータ貼り付け!D83=\"\",\"\",JAAFデータ貼り付け!D83)","v":""},null,{"$f":"IF(フリガナ貼り付け!D83=\"\",\"\",フリガナ貼り付け!D83)","v":""},{"$f":"IF(フリガナ貼り付け!E83=\"\",\"\",フリガナ貼り付け!E83)","v":""},{"$f":"IF(JAAFデータ貼り付け!H83=\"\",\"\",JAAFデータ貼り付け!H83)","v":""},{"$f":"IF(JAAFデータ貼り付け!I83=\"\",\"\",JAAFデータ貼り付け!I83)","v":""},{"$f":"IF(JAAFデータ貼り付け!J83=\"\",\"\",JAAFデータ貼り付け!J83)","v":""},{"$f":"IF(JAAFデータ貼り付け!K83=\"\",\"\",JAAFデータ貼り付け!K83)","v":""},{"$f":"IF(JAAFデータ貼り付け!L83=\"\",\"\",JAAFデータ貼り付け!L83)","v":""},{"$f":"IF(JAAFデータ貼り付け!M83=\"\",\"\",JAAFデータ貼り付け!M83)","v":""},{"$f":"IF(JAAFデータ貼り付け!N83=\"\",\"\",JAAFデータ貼り付け!N83)","v":""},{"$f":"IF(JAAFデータ貼り付け!O83=\"\",\"\",JAAFデータ貼り付け!O83)","v":""},{"$f":"IF(JAAFデータ貼り付け!P83=\"\",\"\",JAAFデータ貼り付け!P83)","v":""},{"$f":"IF(JAAFデータ貼り付け!Q83=\"\",\"\",JAAFデータ貼り付け!Q83)","v":""},{"$f":"IF(JAAFデータ貼り付け!R83=\"\",\"\",JAAFデータ貼り付け!R83)","v":""},{"$f":"生年月日貼り付け!E83&生年月日貼り付け!F83&生年月日貼り付け!G83","v":"000"},{"$f":"IF(JAAFデータ貼り付け!T83=\"\",\"\",JAAFデータ貼り付け!T83)","v":""},{"$f":"IF(JAAFデータ貼り付け!U83=\"\",\"\",JAAFデータ貼り付け!U83)","v":""},{"$f":"IF(Sheet5!B83=\"\",\"\",Sheet5!B83)","v":"0"},{"$f":"IF(JAAFデータ貼り付け!W83=\"\",\"\",JAAFデータ貼り付け!W83)","v":""},{"$f":"IF(JAAFデータ貼り付け!X83=\"\",\"\",JAAFデータ貼り付け!X83)","v":""},{"$f":"IF(JAAFデータ貼り付け!Y83=\"\",\"\",JAAFデータ貼り付け!Y83)","v":""},{"$f":"IF(JAAFデータ貼り付け!Z83=\"\",\"\",JAAFデータ貼り付け!Z83)","v":""},{"$f":"IF(JAAFデータ貼り付け!AA83=\"\",\"\",JAAFデータ貼り付け!AA83)","v":""},{"$f":"IF(JAAFデータ貼り付け!AB83=\"\",\"\",JAAFデータ貼り付け!AB83)","v":""},{"$f":"IF(JAAFデータ貼り付け!AC83=\"\",\"\",JAAFデータ貼り付け!AC83)","v":""},{"$f":"IF(JAAFデータ貼り付け!AD83=\"\",\"\",JAAFデータ貼り付け!AD83)","v":""},{"$f":"IF(JAAFデータ貼り付け!AE83=\"\",\"\",JAAFデータ貼り付け!AE83)","v":""},{"$f":"IF(JAAFデータ貼り付け!AF83=\"\",\"\",JAAFデータ貼り付け!AF83)","v":""},{"$f":"IF(JAAFデータ貼り付け!AG83=\"\",\"\",JAAFデータ貼り付け!AG83)","v":""},{"$f":"IF(JAAFデータ貼り付け!AH83=\"\",\"\",JAAFデータ貼り付け!AH83)","v":""},{"$f":"IF(JAAFデータ貼り付け!AI83=\"\",\"\",JAAFデータ貼り付け!AI83)","v":""},{"$f":"IF(JAAFデータ貼り付け!AJ83=\"\",\"\",JAAFデータ貼り付け!AJ83)","v":""},{"$f":"IF(JAAFデータ貼り付け!AK83=\"\",\"\",JAAFデータ貼り付け!AK83)","v":""},{"$f":"IF(JAAFデータ貼り付け!AL83=\"\",\"\",JAAFデータ貼り付け!AL83)","v":""},{"$f":"IF(JAAFデータ貼り付け!AM83=\"\",\"\",JAAFデータ貼り付け!AM83)","v":""},{"$f":"IF(JAAFデータ貼り付け!AN83=\"\",\"\",JAAFデータ貼り付け!AN83)","v":""},{"$f":"IF(JAAFデータ貼り付け!AO83=\"\",\"\",JAAFデータ貼り付け!AO83)","v":""},{"$f":"IF(JAAFデータ貼り付け!AP83=\"\",\"\",JAAFデータ貼り付け!AP83)","v":""},{"$f":"IF(JAAFデータ貼り付け!AQ83=\"\",\"\",JAAFデータ貼り付け!AQ83)","v":""}]
[{"$f":"IF(JAAFデータ貼り付け!E84=\"\",\"\",JAAFデータ貼り付け!E84)","v":""},{"$f":"IF(JAAFデータ貼り付け!B84=\"\",\"\",JAAFデータ貼り付け!B84)","v":""},{"$f":"IF(JAAFデータ貼り付け!C84=\"\",\"\",JAAFデータ貼り付け!C84)","v":""},{"$f":"IF(JAAFデータ貼り付け!D84=\"\",\"\",JAAFデータ貼り付け!D84)","v":""},null,{"$f":"IF(フリガナ貼り付け!D84=\"\",\"\",フリガナ貼り付け!D84)","v":""},{"$f":"IF(フリガナ貼り付け!E84=\"\",\"\",フリガナ貼り付け!E84)","v":""},{"$f":"IF(JAAFデータ貼り付け!H84=\"\",\"\",JAAFデータ貼り付け!H84)","v":""},{"$f":"IF(JAAFデータ貼り付け!I84=\"\",\"\",JAAFデータ貼り付け!I84)","v":""},{"$f":"IF(JAAFデータ貼り付け!J84=\"\",\"\",JAAFデータ貼り付け!J84)","v":""},{"$f":"IF(JAAFデータ貼り付け!K84=\"\",\"\",JAAFデータ貼り付け!K84)","v":""},{"$f":"IF(JAAFデータ貼り付け!L84=\"\",\"\",JAAFデータ貼り付け!L84)","v":""},{"$f":"IF(JAAFデータ貼り付け!M84=\"\",\"\",JAAFデータ貼り付け!M84)","v":""},{"$f":"IF(JAAFデータ貼り付け!N84=\"\",\"\",JAAFデータ貼り付け!N84)","v":""},{"$f":"IF(JAAFデータ貼り付け!O84=\"\",\"\",JAAFデータ貼り付け!O84)","v":""},{"$f":"IF(JAAFデータ貼り付け!P84=\"\",\"\",JAAFデータ貼り付け!P84)","v":""},{"$f":"IF(JAAFデータ貼り付け!Q84=\"\",\"\",JAAFデータ貼り付け!Q84)","v":""},{"$f":"IF(JAAFデータ貼り付け!R84=\"\",\"\",JAAFデータ貼り付け!R84)","v":""},{"$f":"生年月日貼り付け!E84&生年月日貼り付け!F84&生年月日貼り付け!G84","v":"000"},{"$f":"IF(JAAFデータ貼り付け!T84=\"\",\"\",JAAFデータ貼り付け!T84)","v":""},{"$f":"IF(JAAFデータ貼り付け!U84=\"\",\"\",JAAFデータ貼り付け!U84)","v":""},{"$f":"IF(Sheet5!B84=\"\",\"\",Sheet5!B84)","v":"0"},{"$f":"IF(JAAFデータ貼り付け!W84=\"\",\"\",JAAFデータ貼り付け!W84)","v":""},{"$f":"IF(JAAFデータ貼り付け!X84=\"\",\"\",JAAFデータ貼り付け!X84)","v":""},{"$f":"IF(JAAFデータ貼り付け!Y84=\"\",\"\",JAAFデータ貼り付け!Y84)","v":""},{"$f":"IF(JAAFデータ貼り付け!Z84=\"\",\"\",JAAFデータ貼り付け!Z84)","v":""},{"$f":"IF(JAAFデータ貼り付け!AA84=\"\",\"\",JAAFデータ貼り付け!AA84)","v":""},{"$f":"IF(JAAFデータ貼り付け!AB84=\"\",\"\",JAAFデータ貼り付け!AB84)","v":""},{"$f":"IF(JAAFデータ貼り付け!AC84=\"\",\"\",JAAFデータ貼り付け!AC84)","v":""},{"$f":"IF(JAAFデータ貼り付け!AD84=\"\",\"\",JAAFデータ貼り付け!AD84)","v":""},{"$f":"IF(JAAFデータ貼り付け!AE84=\"\",\"\",JAAFデータ貼り付け!AE84)","v":""},{"$f":"IF(JAAFデータ貼り付け!AF84=\"\",\"\",JAAFデータ貼り付け!AF84)","v":""},{"$f":"IF(JAAFデータ貼り付け!AG84=\"\",\"\",JAAFデータ貼り付け!AG84)","v":""},{"$f":"IF(JAAFデータ貼り付け!AH84=\"\",\"\",JAAFデータ貼り付け!AH84)","v":""},{"$f":"IF(JAAFデータ貼り付け!AI84=\"\",\"\",JAAFデータ貼り付け!AI84)","v":""},{"$f":"IF(JAAFデータ貼り付け!AJ84=\"\",\"\",JAAFデータ貼り付け!AJ84)","v":""},{"$f":"IF(JAAFデータ貼り付け!AK84=\"\",\"\",JAAFデータ貼り付け!AK84)","v":""},{"$f":"IF(JAAFデータ貼り付け!AL84=\"\",\"\",JAAFデータ貼り付け!AL84)","v":""},{"$f":"IF(JAAFデータ貼り付け!AM84=\"\",\"\",JAAFデータ貼り付け!AM84)","v":""},{"$f":"IF(JAAFデータ貼り付け!AN84=\"\",\"\",JAAFデータ貼り付け!AN84)","v":""},{"$f":"IF(JAAFデータ貼り付け!AO84=\"\",\"\",JAAFデータ貼り付け!AO84)","v":""},{"$f":"IF(JAAFデータ貼り付け!AP84=\"\",\"\",JAAFデータ貼り付け!AP84)","v":""},{"$f":"IF(JAAFデータ貼り付け!AQ84=\"\",\"\",JAAFデータ貼り付け!AQ84)","v":""}]
[{"$f":"IF(JAAFデータ貼り付け!E85=\"\",\"\",JAAFデータ貼り付け!E85)","v":""},{"$f":"IF(JAAFデータ貼り付け!B85=\"\",\"\",JAAFデータ貼り付け!B85)","v":""},{"$f":"IF(JAAFデータ貼り付け!C85=\"\",\"\",JAAFデータ貼り付け!C85)","v":""},{"$f":"IF(JAAFデータ貼り付け!D85=\"\",\"\",JAAFデータ貼り付け!D85)","v":""},null,{"$f":"IF(フリガナ貼り付け!D85=\"\",\"\",フリガナ貼り付け!D85)","v":""},{"$f":"IF(フリガナ貼り付け!E85=\"\",\"\",フリガナ貼り付け!E85)","v":""},{"$f":"IF(JAAFデータ貼り付け!H85=\"\",\"\",JAAFデータ貼り付け!H85)","v":""},{"$f":"IF(JAAFデータ貼り付け!I85=\"\",\"\",JAAFデータ貼り付け!I85)","v":""},{"$f":"IF(JAAFデータ貼り付け!J85=\"\",\"\",JAAFデータ貼り付け!J85)","v":""},{"$f":"IF(JAAFデータ貼り付け!K85=\"\",\"\",JAAFデータ貼り付け!K85)","v":""},{"$f":"IF(JAAFデータ貼り付け!L85=\"\",\"\",JAAFデータ貼り付け!L85)","v":""},{"$f":"IF(JAAFデータ貼り付け!M85=\"\",\"\",JAAFデータ貼り付け!M85)","v":""},{"$f":"IF(JAAFデータ貼り付け!N85=\"\",\"\",JAAFデータ貼り付け!N85)","v":""},{"$f":"IF(JAAFデータ貼り付け!O85=\"\",\"\",JAAFデータ貼り付け!O85)","v":""},{"$f":"IF(JAAFデータ貼り付け!P85=\"\",\"\",JAAFデータ貼り付け!P85)","v":""},{"$f":"IF(JAAFデータ貼り付け!Q85=\"\",\"\",JAAFデータ貼り付け!Q85)","v":""},{"$f":"IF(JAAFデータ貼り付け!R85=\"\",\"\",JAAFデータ貼り付け!R85)","v":""},{"$f":"生年月日貼り付け!E85&生年月日貼り付け!F85&生年月日貼り付け!G85","v":"000"},{"$f":"IF(JAAFデータ貼り付け!T85=\"\",\"\",JAAFデータ貼り付け!T85)","v":""},{"$f":"IF(JAAFデータ貼り付け!U85=\"\",\"\",JAAFデータ貼り付け!U85)","v":""},{"$f":"IF(Sheet5!B85=\"\",\"\",Sheet5!B85)","v":"0"},{"$f":"IF(JAAFデータ貼り付け!W85=\"\",\"\",JAAFデータ貼り付け!W85)","v":""},{"$f":"IF(JAAFデータ貼り付け!X85=\"\",\"\",JAAFデータ貼り付け!X85)","v":""},{"$f":"IF(JAAFデータ貼り付け!Y85=\"\",\"\",JAAFデータ貼り付け!Y85)","v":""},{"$f":"IF(JAAFデータ貼り付け!Z85=\"\",\"\",JAAFデータ貼り付け!Z85)","v":""},{"$f":"IF(JAAFデータ貼り付け!AA85=\"\",\"\",JAAFデータ貼り付け!AA85)","v":""},{"$f":"IF(JAAFデータ貼り付け!AB85=\"\",\"\",JAAFデータ貼り付け!AB85)","v":""},{"$f":"IF(JAAFデータ貼り付け!AC85=\"\",\"\",JAAFデータ貼り付け!AC85)","v":""},{"$f":"IF(JAAFデータ貼り付け!AD85=\"\",\"\",JAAFデータ貼り付け!AD85)","v":""},{"$f":"IF(JAAFデータ貼り付け!AE85=\"\",\"\",JAAFデータ貼り付け!AE85)","v":""},{"$f":"IF(JAAFデータ貼り付け!AF85=\"\",\"\",JAAFデータ貼り付け!AF85)","v":""},{"$f":"IF(JAAFデータ貼り付け!AG85=\"\",\"\",JAAFデータ貼り付け!AG85)","v":""},{"$f":"IF(JAAFデータ貼り付け!AH85=\"\",\"\",JAAFデータ貼り付け!AH85)","v":""},{"$f":"IF(JAAFデータ貼り付け!AI85=\"\",\"\",JAAFデータ貼り付け!AI85)","v":""},{"$f":"IF(JAAFデータ貼り付け!AJ85=\"\",\"\",JAAFデータ貼り付け!AJ85)","v":""},{"$f":"IF(JAAFデータ貼り付け!AK85=\"\",\"\",JAAFデータ貼り付け!AK85)","v":""},{"$f":"IF(JAAFデータ貼り付け!AL85=\"\",\"\",JAAFデータ貼り付け!AL85)","v":""},{"$f":"IF(JAAFデータ貼り付け!AM85=\"\",\"\",JAAFデータ貼り付け!AM85)","v":""},{"$f":"IF(JAAFデータ貼り付け!AN85=\"\",\"\",JAAFデータ貼り付け!AN85)","v":""},{"$f":"IF(JAAFデータ貼り付け!AO85=\"\",\"\",JAAFデータ貼り付け!AO85)","v":""},{"$f":"IF(JAAFデータ貼り付け!AP85=\"\",\"\",JAAFデータ貼り付け!AP85)","v":""},{"$f":"IF(JAAFデータ貼り付け!AQ85=\"\",\"\",JAAFデータ貼り付け!AQ85)","v":""}]
[{"$f":"IF(JAAFデータ貼り付け!E86=\"\",\"\",JAAFデータ貼り付け!E86)","v":""},{"$f":"IF(JAAFデータ貼り付け!B86=\"\",\"\",JAAFデータ貼り付け!B86)","v":""},{"$f":"IF(JAAFデータ貼り付け!C86=\"\",\"\",JAAFデータ貼り付け!C86)","v":""},{"$f":"IF(JAAFデータ貼り付け!D86=\"\",\"\",JAAFデータ貼り付け!D86)","v":""},null,{"$f":"IF(フリガナ貼り付け!D86=\"\",\"\",フリガナ貼り付け!D86)","v":""},{"$f":"IF(フリガナ貼り付け!E86=\"\",\"\",フリガナ貼り付け!E86)","v":""},{"$f":"IF(JAAFデータ貼り付け!H86=\"\",\"\",JAAFデータ貼り付け!H86)","v":""},{"$f":"IF(JAAFデータ貼り付け!I86=\"\",\"\",JAAFデータ貼り付け!I86)","v":""},{"$f":"IF(JAAFデータ貼り付け!J86=\"\",\"\",JAAFデータ貼り付け!J86)","v":""},{"$f":"IF(JAAFデータ貼り付け!K86=\"\",\"\",JAAFデータ貼り付け!K86)","v":""},{"$f":"IF(JAAFデータ貼り付け!L86=\"\",\"\",JAAFデータ貼り付け!L86)","v":""},{"$f":"IF(JAAFデータ貼り付け!M86=\"\",\"\",JAAFデータ貼り付け!M86)","v":""},{"$f":"IF(JAAFデータ貼り付け!N86=\"\",\"\",JAAFデータ貼り付け!N86)","v":""},{"$f":"IF(JAAFデータ貼り付け!O86=\"\",\"\",JAAFデータ貼り付け!O86)","v":""},{"$f":"IF(JAAFデータ貼り付け!P86=\"\",\"\",JAAFデータ貼り付け!P86)","v":""},{"$f":"IF(JAAFデータ貼り付け!Q86=\"\",\"\",JAAFデータ貼り付け!Q86)","v":""},{"$f":"IF(JAAFデータ貼り付け!R86=\"\",\"\",JAAFデータ貼り付け!R86)","v":""},{"$f":"生年月日貼り付け!E86&生年月日貼り付け!F86&生年月日貼り付け!G86","v":"000"},{"$f":"IF(JAAFデータ貼り付け!T86=\"\",\"\",JAAFデータ貼り付け!T86)","v":""},{"$f":"IF(JAAFデータ貼り付け!U86=\"\",\"\",JAAFデータ貼り付け!U86)","v":""},{"$f":"IF(Sheet5!B86=\"\",\"\",Sheet5!B86)","v":"0"},{"$f":"IF(JAAFデータ貼り付け!W86=\"\",\"\",JAAFデータ貼り付け!W86)","v":""},{"$f":"IF(JAAFデータ貼り付け!X86=\"\",\"\",JAAFデータ貼り付け!X86)","v":""},{"$f":"IF(JAAFデータ貼り付け!Y86=\"\",\"\",JAAFデータ貼り付け!Y86)","v":""},{"$f":"IF(JAAFデータ貼り付け!Z86=\"\",\"\",JAAFデータ貼り付け!Z86)","v":""},{"$f":"IF(JAAFデータ貼り付け!AA86=\"\",\"\",JAAFデータ貼り付け!AA86)","v":""},{"$f":"IF(JAAFデータ貼り付け!AB86=\"\",\"\",JAAFデータ貼り付け!AB86)","v":""},{"$f":"IF(JAAFデータ貼り付け!AC86=\"\",\"\",JAAFデータ貼り付け!AC86)","v":""},{"$f":"IF(JAAFデータ貼り付け!AD86=\"\",\"\",JAAFデータ貼り付け!AD86)","v":""},{"$f":"IF(JAAFデータ貼り付け!AE86=\"\",\"\",JAAFデータ貼り付け!AE86)","v":""},{"$f":"IF(JAAFデータ貼り付け!AF86=\"\",\"\",JAAFデータ貼り付け!AF86)","v":""},{"$f":"IF(JAAFデータ貼り付け!AG86=\"\",\"\",JAAFデータ貼り付け!AG86)","v":""},{"$f":"IF(JAAFデータ貼り付け!AH86=\"\",\"\",JAAFデータ貼り付け!AH86)","v":""},{"$f":"IF(JAAFデータ貼り付け!AI86=\"\",\"\",JAAFデータ貼り付け!AI86)","v":""},{"$f":"IF(JAAFデータ貼り付け!AJ86=\"\",\"\",JAAFデータ貼り付け!AJ86)","v":""},{"$f":"IF(JAAFデータ貼り付け!AK86=\"\",\"\",JAAFデータ貼り付け!AK86)","v":""},{"$f":"IF(JAAFデータ貼り付け!AL86=\"\",\"\",JAAFデータ貼り付け!AL86)","v":""},{"$f":"IF(JAAFデータ貼り付け!AM86=\"\",\"\",JAAFデータ貼り付け!AM86)","v":""},{"$f":"IF(JAAFデータ貼り付け!AN86=\"\",\"\",JAAFデータ貼り付け!AN86)","v":""},{"$f":"IF(JAAFデータ貼り付け!AO86=\"\",\"\",JAAFデータ貼り付け!AO86)","v":""},{"$f":"IF(JAAFデータ貼り付け!AP86=\"\",\"\",JAAFデータ貼り付け!AP86)","v":""},{"$f":"IF(JAAFデータ貼り付け!AQ86=\"\",\"\",JAAFデータ貼り付け!AQ86)","v":""}]
[{"$f":"IF(JAAFデータ貼り付け!E87=\"\",\"\",JAAFデータ貼り付け!E87)","v":""},{"$f":"IF(JAAFデータ貼り付け!B87=\"\",\"\",JAAFデータ貼り付け!B87)","v":""},{"$f":"IF(JAAFデータ貼り付け!C87=\"\",\"\",JAAFデータ貼り付け!C87)","v":""},{"$f":"IF(JAAFデータ貼り付け!D87=\"\",\"\",JAAFデータ貼り付け!D87)","v":""},null,{"$f":"IF(フリガナ貼り付け!D87=\"\",\"\",フリガナ貼り付け!D87)","v":""},{"$f":"IF(フリガナ貼り付け!E87=\"\",\"\",フリガナ貼り付け!E87)","v":""},{"$f":"IF(JAAFデータ貼り付け!H87=\"\",\"\",JAAFデータ貼り付け!H87)","v":""},{"$f":"IF(JAAFデータ貼り付け!I87=\"\",\"\",JAAFデータ貼り付け!I87)","v":""},{"$f":"IF(JAAFデータ貼り付け!J87=\"\",\"\",JAAFデータ貼り付け!J87)","v":""},{"$f":"IF(JAAFデータ貼り付け!K87=\"\",\"\",JAAFデータ貼り付け!K87)","v":""},{"$f":"IF(JAAFデータ貼り付け!L87=\"\",\"\",JAAFデータ貼り付け!L87)","v":""},{"$f":"IF(JAAFデータ貼り付け!M87=\"\",\"\",JAAFデータ貼り付け!M87)","v":""},{"$f":"IF(JAAFデータ貼り付け!N87=\"\",\"\",JAAFデータ貼り付け!N87)","v":""},{"$f":"IF(JAAFデータ貼り付け!O87=\"\",\"\",JAAFデータ貼り付け!O87)","v":""},{"$f":"IF(JAAFデータ貼り付け!P87=\"\",\"\",JAAFデータ貼り付け!P87)","v":""},{"$f":"IF(JAAFデータ貼り付け!Q87=\"\",\"\",JAAFデータ貼り付け!Q87)","v":""},{"$f":"IF(JAAFデータ貼り付け!R87=\"\",\"\",JAAFデータ貼り付け!R87)","v":""},{"$f":"生年月日貼り付け!E87&生年月日貼り付け!F87&生年月日貼り付け!G87","v":"000"},{"$f":"IF(JAAFデータ貼り付け!T87=\"\",\"\",JAAFデータ貼り付け!T87)","v":""},{"$f":"IF(JAAFデータ貼り付け!U87=\"\",\"\",JAAFデータ貼り付け!U87)","v":""},{"$f":"IF(Sheet5!B87=\"\",\"\",Sheet5!B87)","v":"0"},{"$f":"IF(JAAFデータ貼り付け!W87=\"\",\"\",JAAFデータ貼り付け!W87)","v":""},{"$f":"IF(JAAFデータ貼り付け!X87=\"\",\"\",JAAFデータ貼り付け!X87)","v":""},{"$f":"IF(JAAFデータ貼り付け!Y87=\"\",\"\",JAAFデータ貼り付け!Y87)","v":""},{"$f":"IF(JAAFデータ貼り付け!Z87=\"\",\"\",JAAFデータ貼り付け!Z87)","v":""},{"$f":"IF(JAAFデータ貼り付け!AA87=\"\",\"\",JAAFデータ貼り付け!AA87)","v":""},{"$f":"IF(JAAFデータ貼り付け!AB87=\"\",\"\",JAAFデータ貼り付け!AB87)","v":""},{"$f":"IF(JAAFデータ貼り付け!AC87=\"\",\"\",JAAFデータ貼り付け!AC87)","v":""},{"$f":"IF(JAAFデータ貼り付け!AD87=\"\",\"\",JAAFデータ貼り付け!AD87)","v":""},{"$f":"IF(JAAFデータ貼り付け!AE87=\"\",\"\",JAAFデータ貼り付け!AE87)","v":""},{"$f":"IF(JAAFデータ貼り付け!AF87=\"\",\"\",JAAFデータ貼り付け!AF87)","v":""},{"$f":"IF(JAAFデータ貼り付け!AG87=\"\",\"\",JAAFデータ貼り付け!AG87)","v":""},{"$f":"IF(JAAFデータ貼り付け!AH87=\"\",\"\",JAAFデータ貼り付け!AH87)","v":""},{"$f":"IF(JAAFデータ貼り付け!AI87=\"\",\"\",JAAFデータ貼り付け!AI87)","v":""},{"$f":"IF(JAAFデータ貼り付け!AJ87=\"\",\"\",JAAFデータ貼り付け!AJ87)","v":""},{"$f":"IF(JAAFデータ貼り付け!AK87=\"\",\"\",JAAFデータ貼り付け!AK87)","v":""},{"$f":"IF(JAAFデータ貼り付け!AL87=\"\",\"\",JAAFデータ貼り付け!AL87)","v":""},{"$f":"IF(JAAFデータ貼り付け!AM87=\"\",\"\",JAAFデータ貼り付け!AM87)","v":""},{"$f":"IF(JAAFデータ貼り付け!AN87=\"\",\"\",JAAFデータ貼り付け!AN87)","v":""},{"$f":"IF(JAAFデータ貼り付け!AO87=\"\",\"\",JAAFデータ貼り付け!AO87)","v":""},{"$f":"IF(JAAFデータ貼り付け!AP87=\"\",\"\",JAAFデータ貼り付け!AP87)","v":""},{"$f":"IF(JAAFデータ貼り付け!AQ87=\"\",\"\",JAAFデータ貼り付け!AQ87)","v":""}]
[{"$f":"IF(JAAFデータ貼り付け!E88=\"\",\"\",JAAFデータ貼り付け!E88)","v":""},{"$f":"IF(JAAFデータ貼り付け!B88=\"\",\"\",JAAFデータ貼り付け!B88)","v":""},{"$f":"IF(JAAFデータ貼り付け!C88=\"\",\"\",JAAFデータ貼り付け!C88)","v":""},{"$f":"IF(JAAFデータ貼り付け!D88=\"\",\"\",JAAFデータ貼り付け!D88)","v":""},null,{"$f":"IF(フリガナ貼り付け!D88=\"\",\"\",フリガナ貼り付け!D88)","v":""},{"$f":"IF(フリガナ貼り付け!E88=\"\",\"\",フリガナ貼り付け!E88)","v":""},{"$f":"IF(JAAFデータ貼り付け!H88=\"\",\"\",JAAFデータ貼り付け!H88)","v":""},{"$f":"IF(JAAFデータ貼り付け!I88=\"\",\"\",JAAFデータ貼り付け!I88)","v":""},{"$f":"IF(JAAFデータ貼り付け!J88=\"\",\"\",JAAFデータ貼り付け!J88)","v":""},{"$f":"IF(JAAFデータ貼り付け!K88=\"\",\"\",JAAFデータ貼り付け!K88)","v":""},{"$f":"IF(JAAFデータ貼り付け!L88=\"\",\"\",JAAFデータ貼り付け!L88)","v":""},{"$f":"IF(JAAFデータ貼り付け!M88=\"\",\"\",JAAFデータ貼り付け!M88)","v":""},{"$f":"IF(JAAFデータ貼り付け!N88=\"\",\"\",JAAFデータ貼り付け!N88)","v":""},{"$f":"IF(JAAFデータ貼り付け!O88=\"\",\"\",JAAFデータ貼り付け!O88)","v":""},{"$f":"IF(JAAFデータ貼り付け!P88=\"\",\"\",JAAFデータ貼り付け!P88)","v":""},{"$f":"IF(JAAFデータ貼り付け!Q88=\"\",\"\",JAAFデータ貼り付け!Q88)","v":""},{"$f":"IF(JAAFデータ貼り付け!R88=\"\",\"\",JAAFデータ貼り付け!R88)","v":""},{"$f":"生年月日貼り付け!E88&生年月日貼り付け!F88&生年月日貼り付け!G88","v":"000"},{"$f":"IF(JAAFデータ貼り付け!T88=\"\",\"\",JAAFデータ貼り付け!T88)","v":""},{"$f":"IF(JAAFデータ貼り付け!U88=\"\",\"\",JAAFデータ貼り付け!U88)","v":""},{"$f":"IF(Sheet5!B88=\"\",\"\",Sheet5!B88)","v":"0"},{"$f":"IF(JAAFデータ貼り付け!W88=\"\",\"\",JAAFデータ貼り付け!W88)","v":""},{"$f":"IF(JAAFデータ貼り付け!X88=\"\",\"\",JAAFデータ貼り付け!X88)","v":""},{"$f":"IF(JAAFデータ貼り付け!Y88=\"\",\"\",JAAFデータ貼り付け!Y88)","v":""},{"$f":"IF(JAAFデータ貼り付け!Z88=\"\",\"\",JAAFデータ貼り付け!Z88)","v":""},{"$f":"IF(JAAFデータ貼り付け!AA88=\"\",\"\",JAAFデータ貼り付け!AA88)","v":""},{"$f":"IF(JAAFデータ貼り付け!AB88=\"\",\"\",JAAFデータ貼り付け!AB88)","v":""},{"$f":"IF(JAAFデータ貼り付け!AC88=\"\",\"\",JAAFデータ貼り付け!AC88)","v":""},{"$f":"IF(JAAFデータ貼り付け!AD88=\"\",\"\",JAAFデータ貼り付け!AD88)","v":""},{"$f":"IF(JAAFデータ貼り付け!AE88=\"\",\"\",JAAFデータ貼り付け!AE88)","v":""},{"$f":"IF(JAAFデータ貼り付け!AF88=\"\",\"\",JAAFデータ貼り付け!AF88)","v":""},{"$f":"IF(JAAFデータ貼り付け!AG88=\"\",\"\",JAAFデータ貼り付け!AG88)","v":""},{"$f":"IF(JAAFデータ貼り付け!AH88=\"\",\"\",JAAFデータ貼り付け!AH88)","v":""},{"$f":"IF(JAAFデータ貼り付け!AI88=\"\",\"\",JAAFデータ貼り付け!AI88)","v":""},{"$f":"IF(JAAFデータ貼り付け!AJ88=\"\",\"\",JAAFデータ貼り付け!AJ88)","v":""},{"$f":"IF(JAAFデータ貼り付け!AK88=\"\",\"\",JAAFデータ貼り付け!AK88)","v":""},{"$f":"IF(JAAFデータ貼り付け!AL88=\"\",\"\",JAAFデータ貼り付け!AL88)","v":""},{"$f":"IF(JAAFデータ貼り付け!AM88=\"\",\"\",JAAFデータ貼り付け!AM88)","v":""},{"$f":"IF(JAAFデータ貼り付け!AN88=\"\",\"\",JAAFデータ貼り付け!AN88)","v":""},{"$f":"IF(JAAFデータ貼り付け!AO88=\"\",\"\",JAAFデータ貼り付け!AO88)","v":""},{"$f":"IF(JAAFデータ貼り付け!AP88=\"\",\"\",JAAFデータ貼り付け!AP88)","v":""},{"$f":"IF(JAAFデータ貼り付け!AQ88=\"\",\"\",JAAFデータ貼り付け!AQ88)","v":""}]
[{"$f":"IF(JAAFデータ貼り付け!E89=\"\",\"\",JAAFデータ貼り付け!E89)","v":""},{"$f":"IF(JAAFデータ貼り付け!B89=\"\",\"\",JAAFデータ貼り付け!B89)","v":""},{"$f":"IF(JAAFデータ貼り付け!C89=\"\",\"\",JAAFデータ貼り付け!C89)","v":""},{"$f":"IF(JAAFデータ貼り付け!D89=\"\",\"\",JAAFデータ貼り付け!D89)","v":""},null,{"$f":"IF(フリガナ貼り付け!D89=\"\",\"\",フリガナ貼り付け!D89)","v":""},{"$f":"IF(フリガナ貼り付け!E89=\"\",\"\",フリガナ貼り付け!E89)","v":""},{"$f":"IF(JAAFデータ貼り付け!H89=\"\",\"\",JAAFデータ貼り付け!H89)","v":""},{"$f":"IF(JAAFデータ貼り付け!I89=\"\",\"\",JAAFデータ貼り付け!I89)","v":""},{"$f":"IF(JAAFデータ貼り付け!J89=\"\",\"\",JAAFデータ貼り付け!J89)","v":""},{"$f":"IF(JAAFデータ貼り付け!K89=\"\",\"\",JAAFデータ貼り付け!K89)","v":""},{"$f":"IF(JAAFデータ貼り付け!L89=\"\",\"\",JAAFデータ貼り付け!L89)","v":""},{"$f":"IF(JAAFデータ貼り付け!M89=\"\",\"\",JAAFデータ貼り付け!M89)","v":""},{"$f":"IF(JAAFデータ貼り付け!N89=\"\",\"\",JAAFデータ貼り付け!N89)","v":""},{"$f":"IF(JAAFデータ貼り付け!O89=\"\",\"\",JAAFデータ貼り付け!O89)","v":""},{"$f":"IF(JAAFデータ貼り付け!P89=\"\",\"\",JAAFデータ貼り付け!P89)","v":""},{"$f":"IF(JAAFデータ貼り付け!Q89=\"\",\"\",JAAFデータ貼り付け!Q89)","v":""},{"$f":"IF(JAAFデータ貼り付け!R89=\"\",\"\",JAAFデータ貼り付け!R89)","v":""},{"$f":"生年月日貼り付け!E89&生年月日貼り付け!F89&生年月日貼り付け!G89","v":"000"},{"$f":"IF(JAAFデータ貼り付け!T89=\"\",\"\",JAAFデータ貼り付け!T89)","v":""},{"$f":"IF(JAAFデータ貼り付け!U89=\"\",\"\",JAAFデータ貼り付け!U89)","v":""},{"$f":"IF(Sheet5!B89=\"\",\"\",Sheet5!B89)","v":"0"},{"$f":"IF(JAAFデータ貼り付け!W89=\"\",\"\",JAAFデータ貼り付け!W89)","v":""},{"$f":"IF(JAAFデータ貼り付け!X89=\"\",\"\",JAAFデータ貼り付け!X89)","v":""},{"$f":"IF(JAAFデータ貼り付け!Y89=\"\",\"\",JAAFデータ貼り付け!Y89)","v":""},{"$f":"IF(JAAFデータ貼り付け!Z89=\"\",\"\",JAAFデータ貼り付け!Z89)","v":""},{"$f":"IF(JAAFデータ貼り付け!AA89=\"\",\"\",JAAFデータ貼り付け!AA89)","v":""},{"$f":"IF(JAAFデータ貼り付け!AB89=\"\",\"\",JAAFデータ貼り付け!AB89)","v":""},{"$f":"IF(JAAFデータ貼り付け!AC89=\"\",\"\",JAAFデータ貼り付け!AC89)","v":""},{"$f":"IF(JAAFデータ貼り付け!AD89=\"\",\"\",JAAFデータ貼り付け!AD89)","v":""},{"$f":"IF(JAAFデータ貼り付け!AE89=\"\",\"\",JAAFデータ貼り付け!AE89)","v":""},{"$f":"IF(JAAFデータ貼り付け!AF89=\"\",\"\",JAAFデータ貼り付け!AF89)","v":""},{"$f":"IF(JAAFデータ貼り付け!AG89=\"\",\"\",JAAFデータ貼り付け!AG89)","v":""},{"$f":"IF(JAAFデータ貼り付け!AH89=\"\",\"\",JAAFデータ貼り付け!AH89)","v":""},{"$f":"IF(JAAFデータ貼り付け!AI89=\"\",\"\",JAAFデータ貼り付け!AI89)","v":""},{"$f":"IF(JAAFデータ貼り付け!AJ89=\"\",\"\",JAAFデータ貼り付け!AJ89)","v":""},{"$f":"IF(JAAFデータ貼り付け!AK89=\"\",\"\",JAAFデータ貼り付け!AK89)","v":""},{"$f":"IF(JAAFデータ貼り付け!AL89=\"\",\"\",JAAFデータ貼り付け!AL89)","v":""},{"$f":"IF(JAAFデータ貼り付け!AM89=\"\",\"\",JAAFデータ貼り付け!AM89)","v":""},{"$f":"IF(JAAFデータ貼り付け!AN89=\"\",\"\",JAAFデータ貼り付け!AN89)","v":""},{"$f":"IF(JAAFデータ貼り付け!AO89=\"\",\"\",JAAFデータ貼り付け!AO89)","v":""},{"$f":"IF(JAAFデータ貼り付け!AP89=\"\",\"\",JAAFデータ貼り付け!AP89)","v":""},{"$f":"IF(JAAFデータ貼り付け!AQ89=\"\",\"\",JAAFデータ貼り付け!AQ89)","v":""}]
[{"$f":"IF(JAAFデータ貼り付け!E90=\"\",\"\",JAAFデータ貼り付け!E90)","v":""},{"$f":"IF(JAAFデータ貼り付け!B90=\"\",\"\",JAAFデータ貼り付け!B90)","v":""},{"$f":"IF(JAAFデータ貼り付け!C90=\"\",\"\",JAAFデータ貼り付け!C90)","v":""},{"$f":"IF(JAAFデータ貼り付け!D90=\"\",\"\",JAAFデータ貼り付け!D90)","v":""},null,{"$f":"IF(フリガナ貼り付け!D90=\"\",\"\",フリガナ貼り付け!D90)","v":""},{"$f":"IF(フリガナ貼り付け!E90=\"\",\"\",フリガナ貼り付け!E90)","v":""},{"$f":"IF(JAAFデータ貼り付け!H90=\"\",\"\",JAAFデータ貼り付け!H90)","v":""},{"$f":"IF(JAAFデータ貼り付け!I90=\"\",\"\",JAAFデータ貼り付け!I90)","v":""},{"$f":"IF(JAAFデータ貼り付け!J90=\"\",\"\",JAAFデータ貼り付け!J90)","v":""},{"$f":"IF(JAAFデータ貼り付け!K90=\"\",\"\",JAAFデータ貼り付け!K90)","v":""},{"$f":"IF(JAAFデータ貼り付け!L90=\"\",\"\",JAAFデータ貼り付け!L90)","v":""},{"$f":"IF(JAAFデータ貼り付け!M90=\"\",\"\",JAAFデータ貼り付け!M90)","v":""},{"$f":"IF(JAAFデータ貼り付け!N90=\"\",\"\",JAAFデータ貼り付け!N90)","v":""},{"$f":"IF(JAAFデータ貼り付け!O90=\"\",\"\",JAAFデータ貼り付け!O90)","v":""},{"$f":"IF(JAAFデータ貼り付け!P90=\"\",\"\",JAAFデータ貼り付け!P90)","v":""},{"$f":"IF(JAAFデータ貼り付け!Q90=\"\",\"\",JAAFデータ貼り付け!Q90)","v":""},{"$f":"IF(JAAFデータ貼り付け!R90=\"\",\"\",JAAFデータ貼り付け!R90)","v":""},{"$f":"生年月日貼り付け!E90&生年月日貼り付け!F90&生年月日貼り付け!G90","v":"000"},{"$f":"IF(JAAFデータ貼り付け!T90=\"\",\"\",JAAFデータ貼り付け!T90)","v":""},{"$f":"IF(JAAFデータ貼り付け!U90=\"\",\"\",JAAFデータ貼り付け!U90)","v":""},{"$f":"IF(Sheet5!B90=\"\",\"\",Sheet5!B90)","v":"0"},{"$f":"IF(JAAFデータ貼り付け!W90=\"\",\"\",JAAFデータ貼り付け!W90)","v":""},{"$f":"IF(JAAFデータ貼り付け!X90=\"\",\"\",JAAFデータ貼り付け!X90)","v":""},{"$f":"IF(JAAFデータ貼り付け!Y90=\"\",\"\",JAAFデータ貼り付け!Y90)","v":""},{"$f":"IF(JAAFデータ貼り付け!Z90=\"\",\"\",JAAFデータ貼り付け!Z90)","v":""},{"$f":"IF(JAAFデータ貼り付け!AA90=\"\",\"\",JAAFデータ貼り付け!AA90)","v":""},{"$f":"IF(JAAFデータ貼り付け!AB90=\"\",\"\",JAAFデータ貼り付け!AB90)","v":""},{"$f":"IF(JAAFデータ貼り付け!AC90=\"\",\"\",JAAFデータ貼り付け!AC90)","v":""},{"$f":"IF(JAAFデータ貼り付け!AD90=\"\",\"\",JAAFデータ貼り付け!AD90)","v":""},{"$f":"IF(JAAFデータ貼り付け!AE90=\"\",\"\",JAAFデータ貼り付け!AE90)","v":""},{"$f":"IF(JAAFデータ貼り付け!AF90=\"\",\"\",JAAFデータ貼り付け!AF90)","v":""},{"$f":"IF(JAAFデータ貼り付け!AG90=\"\",\"\",JAAFデータ貼り付け!AG90)","v":""},{"$f":"IF(JAAFデータ貼り付け!AH90=\"\",\"\",JAAFデータ貼り付け!AH90)","v":""},{"$f":"IF(JAAFデータ貼り付け!AI90=\"\",\"\",JAAFデータ貼り付け!AI90)","v":""},{"$f":"IF(JAAFデータ貼り付け!AJ90=\"\",\"\",JAAFデータ貼り付け!AJ90)","v":""},{"$f":"IF(JAAFデータ貼り付け!AK90=\"\",\"\",JAAFデータ貼り付け!AK90)","v":""},{"$f":"IF(JAAFデータ貼り付け!AL90=\"\",\"\",JAAFデータ貼り付け!AL90)","v":""},{"$f":"IF(JAAFデータ貼り付け!AM90=\"\",\"\",JAAFデータ貼り付け!AM90)","v":""},{"$f":"IF(JAAFデータ貼り付け!AN90=\"\",\"\",JAAFデータ貼り付け!AN90)","v":""},{"$f":"IF(JAAFデータ貼り付け!AO90=\"\",\"\",JAAFデータ貼り付け!AO90)","v":""},{"$f":"IF(JAAFデータ貼り付け!AP90=\"\",\"\",JAAFデータ貼り付け!AP90)","v":""},{"$f":"IF(JAAFデータ貼り付け!AQ90=\"\",\"\",JAAFデータ貼り付け!AQ90)","v":""}]
[{"$f":"IF(JAAFデータ貼り付け!E91=\"\",\"\",JAAFデータ貼り付け!E91)","v":""},{"$f":"IF(JAAFデータ貼り付け!B91=\"\",\"\",JAAFデータ貼り付け!B91)","v":""},{"$f":"IF(JAAFデータ貼り付け!C91=\"\",\"\",JAAFデータ貼り付け!C91)","v":""},{"$f":"IF(JAAFデータ貼り付け!D91=\"\",\"\",JAAFデータ貼り付け!D91)","v":""},null,{"$f":"IF(フリガナ貼り付け!D91=\"\",\"\",フリガナ貼り付け!D91)","v":""},{"$f":"IF(フリガナ貼り付け!E91=\"\",\"\",フリガナ貼り付け!E91)","v":""},{"$f":"IF(JAAFデータ貼り付け!H91=\"\",\"\",JAAFデータ貼り付け!H91)","v":""},{"$f":"IF(JAAFデータ貼り付け!I91=\"\",\"\",JAAFデータ貼り付け!I91)","v":""},{"$f":"IF(JAAFデータ貼り付け!J91=\"\",\"\",JAAFデータ貼り付け!J91)","v":""},{"$f":"IF(JAAFデータ貼り付け!K91=\"\",\"\",JAAFデータ貼り付け!K91)","v":""},{"$f":"IF(JAAFデータ貼り付け!L91=\"\",\"\",JAAFデータ貼り付け!L91)","v":""},{"$f":"IF(JAAFデータ貼り付け!M91=\"\",\"\",JAAFデータ貼り付け!M91)","v":""},{"$f":"IF(JAAFデータ貼り付け!N91=\"\",\"\",JAAFデータ貼り付け!N91)","v":""},{"$f":"IF(JAAFデータ貼り付け!O91=\"\",\"\",JAAFデータ貼り付け!O91)","v":""},{"$f":"IF(JAAFデータ貼り付け!P91=\"\",\"\",JAAFデータ貼り付け!P91)","v":""},{"$f":"IF(JAAFデータ貼り付け!Q91=\"\",\"\",JAAFデータ貼り付け!Q91)","v":""},{"$f":"IF(JAAFデータ貼り付け!R91=\"\",\"\",JAAFデータ貼り付け!R91)","v":""},{"$f":"生年月日貼り付け!E91&生年月日貼り付け!F91&生年月日貼り付け!G91","v":"000"},{"$f":"IF(JAAFデータ貼り付け!T91=\"\",\"\",JAAFデータ貼り付け!T91)","v":""},{"$f":"IF(JAAFデータ貼り付け!U91=\"\",\"\",JAAFデータ貼り付け!U91)","v":""},{"$f":"IF(Sheet5!B91=\"\",\"\",Sheet5!B91)","v":"0"},{"$f":"IF(JAAFデータ貼り付け!W91=\"\",\"\",JAAFデータ貼り付け!W91)","v":""},{"$f":"IF(JAAFデータ貼り付け!X91=\"\",\"\",JAAFデータ貼り付け!X91)","v":""},{"$f":"IF(JAAFデータ貼り付け!Y91=\"\",\"\",JAAFデータ貼り付け!Y91)","v":""},{"$f":"IF(JAAFデータ貼り付け!Z91=\"\",\"\",JAAFデータ貼り付け!Z91)","v":""},{"$f":"IF(JAAFデータ貼り付け!AA91=\"\",\"\",JAAFデータ貼り付け!AA91)","v":""},{"$f":"IF(JAAFデータ貼り付け!AB91=\"\",\"\",JAAFデータ貼り付け!AB91)","v":""},{"$f":"IF(JAAFデータ貼り付け!AC91=\"\",\"\",JAAFデータ貼り付け!AC91)","v":""},{"$f":"IF(JAAFデータ貼り付け!AD91=\"\",\"\",JAAFデータ貼り付け!AD91)","v":""},{"$f":"IF(JAAFデータ貼り付け!AE91=\"\",\"\",JAAFデータ貼り付け!AE91)","v":""},{"$f":"IF(JAAFデータ貼り付け!AF91=\"\",\"\",JAAFデータ貼り付け!AF91)","v":""},{"$f":"IF(JAAFデータ貼り付け!AG91=\"\",\"\",JAAFデータ貼り付け!AG91)","v":""},{"$f":"IF(JAAFデータ貼り付け!AH91=\"\",\"\",JAAFデータ貼り付け!AH91)","v":""},{"$f":"IF(JAAFデータ貼り付け!AI91=\"\",\"\",JAAFデータ貼り付け!AI91)","v":""},{"$f":"IF(JAAFデータ貼り付け!AJ91=\"\",\"\",JAAFデータ貼り付け!AJ91)","v":""},{"$f":"IF(JAAFデータ貼り付け!AK91=\"\",\"\",JAAFデータ貼り付け!AK91)","v":""},{"$f":"IF(JAAFデータ貼り付け!AL91=\"\",\"\",JAAFデータ貼り付け!AL91)","v":""},{"$f":"IF(JAAFデータ貼り付け!AM91=\"\",\"\",JAAFデータ貼り付け!AM91)","v":""},{"$f":"IF(JAAFデータ貼り付け!AN91=\"\",\"\",JAAFデータ貼り付け!AN91)","v":""},{"$f":"IF(JAAFデータ貼り付け!AO91=\"\",\"\",JAAFデータ貼り付け!AO91)","v":""},{"$f":"IF(JAAFデータ貼り付け!AP91=\"\",\"\",JAAFデータ貼り付け!AP91)","v":""},{"$f":"IF(JAAFデータ貼り付け!AQ91=\"\",\"\",JAAFデータ貼り付け!AQ91)","v":""}]
[{"$f":"IF(JAAFデータ貼り付け!E92=\"\",\"\",JAAFデータ貼り付け!E92)","v":""},{"$f":"IF(JAAFデータ貼り付け!B92=\"\",\"\",JAAFデータ貼り付け!B92)","v":""},{"$f":"IF(JAAFデータ貼り付け!C92=\"\",\"\",JAAFデータ貼り付け!C92)","v":""},{"$f":"IF(JAAFデータ貼り付け!D92=\"\",\"\",JAAFデータ貼り付け!D92)","v":""},null,{"$f":"IF(フリガナ貼り付け!D92=\"\",\"\",フリガナ貼り付け!D92)","v":""},{"$f":"IF(フリガナ貼り付け!E92=\"\",\"\",フリガナ貼り付け!E92)","v":""},{"$f":"IF(JAAFデータ貼り付け!H92=\"\",\"\",JAAFデータ貼り付け!H92)","v":""},{"$f":"IF(JAAFデータ貼り付け!I92=\"\",\"\",JAAFデータ貼り付け!I92)","v":""},{"$f":"IF(JAAFデータ貼り付け!J92=\"\",\"\",JAAFデータ貼り付け!J92)","v":""},{"$f":"IF(JAAFデータ貼り付け!K92=\"\",\"\",JAAFデータ貼り付け!K92)","v":""},{"$f":"IF(JAAFデータ貼り付け!L92=\"\",\"\",JAAFデータ貼り付け!L92)","v":""},{"$f":"IF(JAAFデータ貼り付け!M92=\"\",\"\",JAAFデータ貼り付け!M92)","v":""},{"$f":"IF(JAAFデータ貼り付け!N92=\"\",\"\",JAAFデータ貼り付け!N92)","v":""},{"$f":"IF(JAAFデータ貼り付け!O92=\"\",\"\",JAAFデータ貼り付け!O92)","v":""},{"$f":"IF(JAAFデータ貼り付け!P92=\"\",\"\",JAAFデータ貼り付け!P92)","v":""},{"$f":"IF(JAAFデータ貼り付け!Q92=\"\",\"\",JAAFデータ貼り付け!Q92)","v":""},{"$f":"IF(JAAFデータ貼り付け!R92=\"\",\"\",JAAFデータ貼り付け!R92)","v":""},{"$f":"生年月日貼り付け!E92&生年月日貼り付け!F92&生年月日貼り付け!G92","v":"000"},{"$f":"IF(JAAFデータ貼り付け!T92=\"\",\"\",JAAFデータ貼り付け!T92)","v":""},{"$f":"IF(JAAFデータ貼り付け!U92=\"\",\"\",JAAFデータ貼り付け!U92)","v":""},{"$f":"IF(Sheet5!B92=\"\",\"\",Sheet5!B92)","v":"0"},{"$f":"IF(JAAFデータ貼り付け!W92=\"\",\"\",JAAFデータ貼り付け!W92)","v":""},{"$f":"IF(JAAFデータ貼り付け!X92=\"\",\"\",JAAFデータ貼り付け!X92)","v":""},{"$f":"IF(JAAFデータ貼り付け!Y92=\"\",\"\",JAAFデータ貼り付け!Y92)","v":""},{"$f":"IF(JAAFデータ貼り付け!Z92=\"\",\"\",JAAFデータ貼り付け!Z92)","v":""},{"$f":"IF(JAAFデータ貼り付け!AA92=\"\",\"\",JAAFデータ貼り付け!AA92)","v":""},{"$f":"IF(JAAFデータ貼り付け!AB92=\"\",\"\",JAAFデータ貼り付け!AB92)","v":""},{"$f":"IF(JAAFデータ貼り付け!AC92=\"\",\"\",JAAFデータ貼り付け!AC92)","v":""},{"$f":"IF(JAAFデータ貼り付け!AD92=\"\",\"\",JAAFデータ貼り付け!AD92)","v":""},{"$f":"IF(JAAFデータ貼り付け!AE92=\"\",\"\",JAAFデータ貼り付け!AE92)","v":""},{"$f":"IF(JAAFデータ貼り付け!AF92=\"\",\"\",JAAFデータ貼り付け!AF92)","v":""},{"$f":"IF(JAAFデータ貼り付け!AG92=\"\",\"\",JAAFデータ貼り付け!AG92)","v":""},{"$f":"IF(JAAFデータ貼り付け!AH92=\"\",\"\",JAAFデータ貼り付け!AH92)","v":""},{"$f":"IF(JAAFデータ貼り付け!AI92=\"\",\"\",JAAFデータ貼り付け!AI92)","v":""},{"$f":"IF(JAAFデータ貼り付け!AJ92=\"\",\"\",JAAFデータ貼り付け!AJ92)","v":""},{"$f":"IF(JAAFデータ貼り付け!AK92=\"\",\"\",JAAFデータ貼り付け!AK92)","v":""},{"$f":"IF(JAAFデータ貼り付け!AL92=\"\",\"\",JAAFデータ貼り付け!AL92)","v":""},{"$f":"IF(JAAFデータ貼り付け!AM92=\"\",\"\",JAAFデータ貼り付け!AM92)","v":""},{"$f":"IF(JAAFデータ貼り付け!AN92=\"\",\"\",JAAFデータ貼り付け!AN92)","v":""},{"$f":"IF(JAAFデータ貼り付け!AO92=\"\",\"\",JAAFデータ貼り付け!AO92)","v":""},{"$f":"IF(JAAFデータ貼り付け!AP92=\"\",\"\",JAAFデータ貼り付け!AP92)","v":""},{"$f":"IF(JAAFデータ貼り付け!AQ92=\"\",\"\",JAAFデータ貼り付け!AQ92)","v":""}]
[{"$f":"IF(JAAFデータ貼り付け!E93=\"\",\"\",JAAFデータ貼り付け!E93)","v":""},{"$f":"IF(JAAFデータ貼り付け!B93=\"\",\"\",JAAFデータ貼り付け!B93)","v":""},{"$f":"IF(JAAFデータ貼り付け!C93=\"\",\"\",JAAFデータ貼り付け!C93)","v":""},{"$f":"IF(JAAFデータ貼り付け!D93=\"\",\"\",JAAFデータ貼り付け!D93)","v":""},null,{"$f":"IF(フリガナ貼り付け!D93=\"\",\"\",フリガナ貼り付け!D93)","v":""},{"$f":"IF(フリガナ貼り付け!E93=\"\",\"\",フリガナ貼り付け!E93)","v":""},{"$f":"IF(JAAFデータ貼り付け!H93=\"\",\"\",JAAFデータ貼り付け!H93)","v":""},{"$f":"IF(JAAFデータ貼り付け!I93=\"\",\"\",JAAFデータ貼り付け!I93)","v":""},{"$f":"IF(JAAFデータ貼り付け!J93=\"\",\"\",JAAFデータ貼り付け!J93)","v":""},{"$f":"IF(JAAFデータ貼り付け!K93=\"\",\"\",JAAFデータ貼り付け!K93)","v":""},{"$f":"IF(JAAFデータ貼り付け!L93=\"\",\"\",JAAFデータ貼り付け!L93)","v":""},{"$f":"IF(JAAFデータ貼り付け!M93=\"\",\"\",JAAFデータ貼り付け!M93)","v":""},{"$f":"IF(JAAFデータ貼り付け!N93=\"\",\"\",JAAFデータ貼り付け!N93)","v":""},{"$f":"IF(JAAFデータ貼り付け!O93=\"\",\"\",JAAFデータ貼り付け!O93)","v":""},{"$f":"IF(JAAFデータ貼り付け!P93=\"\",\"\",JAAFデータ貼り付け!P93)","v":""},{"$f":"IF(JAAFデータ貼り付け!Q93=\"\",\"\",JAAFデータ貼り付け!Q93)","v":""},{"$f":"IF(JAAFデータ貼り付け!R93=\"\",\"\",JAAFデータ貼り付け!R93)","v":""},{"$f":"生年月日貼り付け!E93&生年月日貼り付け!F93&生年月日貼り付け!G93","v":"000"},{"$f":"IF(JAAFデータ貼り付け!T93=\"\",\"\",JAAFデータ貼り付け!T93)","v":""},{"$f":"IF(JAAFデータ貼り付け!U93=\"\",\"\",JAAFデータ貼り付け!U93)","v":""},{"$f":"IF(Sheet5!B93=\"\",\"\",Sheet5!B93)","v":"0"},{"$f":"IF(JAAFデータ貼り付け!W93=\"\",\"\",JAAFデータ貼り付け!W93)","v":""},{"$f":"IF(JAAFデータ貼り付け!X93=\"\",\"\",JAAFデータ貼り付け!X93)","v":""},{"$f":"IF(JAAFデータ貼り付け!Y93=\"\",\"\",JAAFデータ貼り付け!Y93)","v":""},{"$f":"IF(JAAFデータ貼り付け!Z93=\"\",\"\",JAAFデータ貼り付け!Z93)","v":""},{"$f":"IF(JAAFデータ貼り付け!AA93=\"\",\"\",JAAFデータ貼り付け!AA93)","v":""},{"$f":"IF(JAAFデータ貼り付け!AB93=\"\",\"\",JAAFデータ貼り付け!AB93)","v":""},{"$f":"IF(JAAFデータ貼り付け!AC93=\"\",\"\",JAAFデータ貼り付け!AC93)","v":""},{"$f":"IF(JAAFデータ貼り付け!AD93=\"\",\"\",JAAFデータ貼り付け!AD93)","v":""},{"$f":"IF(JAAFデータ貼り付け!AE93=\"\",\"\",JAAFデータ貼り付け!AE93)","v":""},{"$f":"IF(JAAFデータ貼り付け!AF93=\"\",\"\",JAAFデータ貼り付け!AF93)","v":""},{"$f":"IF(JAAFデータ貼り付け!AG93=\"\",\"\",JAAFデータ貼り付け!AG93)","v":""},{"$f":"IF(JAAFデータ貼り付け!AH93=\"\",\"\",JAAFデータ貼り付け!AH93)","v":""},{"$f":"IF(JAAFデータ貼り付け!AI93=\"\",\"\",JAAFデータ貼り付け!AI93)","v":""},{"$f":"IF(JAAFデータ貼り付け!AJ93=\"\",\"\",JAAFデータ貼り付け!AJ93)","v":""},{"$f":"IF(JAAFデータ貼り付け!AK93=\"\",\"\",JAAFデータ貼り付け!AK93)","v":""},{"$f":"IF(JAAFデータ貼り付け!AL93=\"\",\"\",JAAFデータ貼り付け!AL93)","v":""},{"$f":"IF(JAAFデータ貼り付け!AM93=\"\",\"\",JAAFデータ貼り付け!AM93)","v":""},{"$f":"IF(JAAFデータ貼り付け!AN93=\"\",\"\",JAAFデータ貼り付け!AN93)","v":""},{"$f":"IF(JAAFデータ貼り付け!AO93=\"\",\"\",JAAFデータ貼り付け!AO93)","v":""},{"$f":"IF(JAAFデータ貼り付け!AP93=\"\",\"\",JAAFデータ貼り付け!AP93)","v":""},{"$f":"IF(JAAFデータ貼り付け!AQ93=\"\",\"\",JAAFデータ貼り付け!AQ93)","v":""}]
[{"$f":"IF(JAAFデータ貼り付け!E94=\"\",\"\",JAAFデータ貼り付け!E94)","v":""},{"$f":"IF(JAAFデータ貼り付け!B94=\"\",\"\",JAAFデータ貼り付け!B94)","v":""},{"$f":"IF(JAAFデータ貼り付け!C94=\"\",\"\",JAAFデータ貼り付け!C94)","v":""},{"$f":"IF(JAAFデータ貼り付け!D94=\"\",\"\",JAAFデータ貼り付け!D94)","v":""},null,{"$f":"IF(フリガナ貼り付け!D94=\"\",\"\",フリガナ貼り付け!D94)","v":""},{"$f":"IF(フリガナ貼り付け!E94=\"\",\"\",フリガナ貼り付け!E94)","v":""},{"$f":"IF(JAAFデータ貼り付け!H94=\"\",\"\",JAAFデータ貼り付け!H94)","v":""},{"$f":"IF(JAAFデータ貼り付け!I94=\"\",\"\",JAAFデータ貼り付け!I94)","v":""},{"$f":"IF(JAAFデータ貼り付け!J94=\"\",\"\",JAAFデータ貼り付け!J94)","v":""},{"$f":"IF(JAAFデータ貼り付け!K94=\"\",\"\",JAAFデータ貼り付け!K94)","v":""},{"$f":"IF(JAAFデータ貼り付け!L94=\"\",\"\",JAAFデータ貼り付け!L94)","v":""},{"$f":"IF(JAAFデータ貼り付け!M94=\"\",\"\",JAAFデータ貼り付け!M94)","v":""},{"$f":"IF(JAAFデータ貼り付け!N94=\"\",\"\",JAAFデータ貼り付け!N94)","v":""},{"$f":"IF(JAAFデータ貼り付け!O94=\"\",\"\",JAAFデータ貼り付け!O94)","v":""},{"$f":"IF(JAAFデータ貼り付け!P94=\"\",\"\",JAAFデータ貼り付け!P94)","v":""},{"$f":"IF(JAAFデータ貼り付け!Q94=\"\",\"\",JAAFデータ貼り付け!Q94)","v":""},{"$f":"IF(JAAFデータ貼り付け!R94=\"\",\"\",JAAFデータ貼り付け!R94)","v":""},{"$f":"生年月日貼り付け!E94&生年月日貼り付け!F94&生年月日貼り付け!G94","v":"000"},{"$f":"IF(JAAFデータ貼り付け!T94=\"\",\"\",JAAFデータ貼り付け!T94)","v":""},{"$f":"IF(JAAFデータ貼り付け!U94=\"\",\"\",JAAFデータ貼り付け!U94)","v":""},{"$f":"IF(Sheet5!B94=\"\",\"\",Sheet5!B94)","v":"0"},{"$f":"IF(JAAFデータ貼り付け!W94=\"\",\"\",JAAFデータ貼り付け!W94)","v":""},{"$f":"IF(JAAFデータ貼り付け!X94=\"\",\"\",JAAFデータ貼り付け!X94)","v":""},{"$f":"IF(JAAFデータ貼り付け!Y94=\"\",\"\",JAAFデータ貼り付け!Y94)","v":""},{"$f":"IF(JAAFデータ貼り付け!Z94=\"\",\"\",JAAFデータ貼り付け!Z94)","v":""},{"$f":"IF(JAAFデータ貼り付け!AA94=\"\",\"\",JAAFデータ貼り付け!AA94)","v":""},{"$f":"IF(JAAFデータ貼り付け!AB94=\"\",\"\",JAAFデータ貼り付け!AB94)","v":""},{"$f":"IF(JAAFデータ貼り付け!AC94=\"\",\"\",JAAFデータ貼り付け!AC94)","v":""},{"$f":"IF(JAAFデータ貼り付け!AD94=\"\",\"\",JAAFデータ貼り付け!AD94)","v":""},{"$f":"IF(JAAFデータ貼り付け!AE94=\"\",\"\",JAAFデータ貼り付け!AE94)","v":""},{"$f":"IF(JAAFデータ貼り付け!AF94=\"\",\"\",JAAFデータ貼り付け!AF94)","v":""},{"$f":"IF(JAAFデータ貼り付け!AG94=\"\",\"\",JAAFデータ貼り付け!AG94)","v":""},{"$f":"IF(JAAFデータ貼り付け!AH94=\"\",\"\",JAAFデータ貼り付け!AH94)","v":""},{"$f":"IF(JAAFデータ貼り付け!AI94=\"\",\"\",JAAFデータ貼り付け!AI94)","v":""},{"$f":"IF(JAAFデータ貼り付け!AJ94=\"\",\"\",JAAFデータ貼り付け!AJ94)","v":""},{"$f":"IF(JAAFデータ貼り付け!AK94=\"\",\"\",JAAFデータ貼り付け!AK94)","v":""},{"$f":"IF(JAAFデータ貼り付け!AL94=\"\",\"\",JAAFデータ貼り付け!AL94)","v":""},{"$f":"IF(JAAFデータ貼り付け!AM94=\"\",\"\",JAAFデータ貼り付け!AM94)","v":""},{"$f":"IF(JAAFデータ貼り付け!AN94=\"\",\"\",JAAFデータ貼り付け!AN94)","v":""},{"$f":"IF(JAAFデータ貼り付け!AO94=\"\",\"\",JAAFデータ貼り付け!AO94)","v":""},{"$f":"IF(JAAFデータ貼り付け!AP94=\"\",\"\",JAAFデータ貼り付け!AP94)","v":""},{"$f":"IF(JAAFデータ貼り付け!AQ94=\"\",\"\",JAAFデータ貼り付け!AQ94)","v":""}]
[{"$f":"IF(JAAFデータ貼り付け!E95=\"\",\"\",JAAFデータ貼り付け!E95)","v":""},{"$f":"IF(JAAFデータ貼り付け!B95=\"\",\"\",JAAFデータ貼り付け!B95)","v":""},{"$f":"IF(JAAFデータ貼り付け!C95=\"\",\"\",JAAFデータ貼り付け!C95)","v":""},{"$f":"IF(JAAFデータ貼り付け!D95=\"\",\"\",JAAFデータ貼り付け!D95)","v":""},null,{"$f":"IF(フリガナ貼り付け!D95=\"\",\"\",フリガナ貼り付け!D95)","v":""},{"$f":"IF(フリガナ貼り付け!E95=\"\",\"\",フリガナ貼り付け!E95)","v":""},{"$f":"IF(JAAFデータ貼り付け!H95=\"\",\"\",JAAFデータ貼り付け!H95)","v":""},{"$f":"IF(JAAFデータ貼り付け!I95=\"\",\"\",JAAFデータ貼り付け!I95)","v":""},{"$f":"IF(JAAFデータ貼り付け!J95=\"\",\"\",JAAFデータ貼り付け!J95)","v":""},{"$f":"IF(JAAFデータ貼り付け!K95=\"\",\"\",JAAFデータ貼り付け!K95)","v":""},{"$f":"IF(JAAFデータ貼り付け!L95=\"\",\"\",JAAFデータ貼り付け!L95)","v":""},{"$f":"IF(JAAFデータ貼り付け!M95=\"\",\"\",JAAFデータ貼り付け!M95)","v":""},{"$f":"IF(JAAFデータ貼り付け!N95=\"\",\"\",JAAFデータ貼り付け!N95)","v":""},{"$f":"IF(JAAFデータ貼り付け!O95=\"\",\"\",JAAFデータ貼り付け!O95)","v":""},{"$f":"IF(JAAFデータ貼り付け!P95=\"\",\"\",JAAFデータ貼り付け!P95)","v":""},{"$f":"IF(JAAFデータ貼り付け!Q95=\"\",\"\",JAAFデータ貼り付け!Q95)","v":""},{"$f":"IF(JAAFデータ貼り付け!R95=\"\",\"\",JAAFデータ貼り付け!R95)","v":""},{"$f":"生年月日貼り付け!E95&生年月日貼り付け!F95&生年月日貼り付け!G95","v":"000"},{"$f":"IF(JAAFデータ貼り付け!T95=\"\",\"\",JAAFデータ貼り付け!T95)","v":""},{"$f":"IF(JAAFデータ貼り付け!U95=\"\",\"\",JAAFデータ貼り付け!U95)","v":""},{"$f":"IF(Sheet5!B95=\"\",\"\",Sheet5!B95)","v":"0"},{"$f":"IF(JAAFデータ貼り付け!W95=\"\",\"\",JAAFデータ貼り付け!W95)","v":""},{"$f":"IF(JAAFデータ貼り付け!X95=\"\",\"\",JAAFデータ貼り付け!X95)","v":""},{"$f":"IF(JAAFデータ貼り付け!Y95=\"\",\"\",JAAFデータ貼り付け!Y95)","v":""},{"$f":"IF(JAAFデータ貼り付け!Z95=\"\",\"\",JAAFデータ貼り付け!Z95)","v":""},{"$f":"IF(JAAFデータ貼り付け!AA95=\"\",\"\",JAAFデータ貼り付け!AA95)","v":""},{"$f":"IF(JAAFデータ貼り付け!AB95=\"\",\"\",JAAFデータ貼り付け!AB95)","v":""},{"$f":"IF(JAAFデータ貼り付け!AC95=\"\",\"\",JAAFデータ貼り付け!AC95)","v":""},{"$f":"IF(JAAFデータ貼り付け!AD95=\"\",\"\",JAAFデータ貼り付け!AD95)","v":""},{"$f":"IF(JAAFデータ貼り付け!AE95=\"\",\"\",JAAFデータ貼り付け!AE95)","v":""},{"$f":"IF(JAAFデータ貼り付け!AF95=\"\",\"\",JAAFデータ貼り付け!AF95)","v":""},{"$f":"IF(JAAFデータ貼り付け!AG95=\"\",\"\",JAAFデータ貼り付け!AG95)","v":""},{"$f":"IF(JAAFデータ貼り付け!AH95=\"\",\"\",JAAFデータ貼り付け!AH95)","v":""},{"$f":"IF(JAAFデータ貼り付け!AI95=\"\",\"\",JAAFデータ貼り付け!AI95)","v":""},{"$f":"IF(JAAFデータ貼り付け!AJ95=\"\",\"\",JAAFデータ貼り付け!AJ95)","v":""},{"$f":"IF(JAAFデータ貼り付け!AK95=\"\",\"\",JAAFデータ貼り付け!AK95)","v":""},{"$f":"IF(JAAFデータ貼り付け!AL95=\"\",\"\",JAAFデータ貼り付け!AL95)","v":""},{"$f":"IF(JAAFデータ貼り付け!AM95=\"\",\"\",JAAFデータ貼り付け!AM95)","v":""},{"$f":"IF(JAAFデータ貼り付け!AN95=\"\",\"\",JAAFデータ貼り付け!AN95)","v":""},{"$f":"IF(JAAFデータ貼り付け!AO95=\"\",\"\",JAAFデータ貼り付け!AO95)","v":""},{"$f":"IF(JAAFデータ貼り付け!AP95=\"\",\"\",JAAFデータ貼り付け!AP95)","v":""},{"$f":"IF(JAAFデータ貼り付け!AQ95=\"\",\"\",JAAFデータ貼り付け!AQ95)","v":""}]
[{"$f":"IF(JAAFデータ貼り付け!E96=\"\",\"\",JAAFデータ貼り付け!E96)","v":""},{"$f":"IF(JAAFデータ貼り付け!B96=\"\",\"\",JAAFデータ貼り付け!B96)","v":""},{"$f":"IF(JAAFデータ貼り付け!C96=\"\",\"\",JAAFデータ貼り付け!C96)","v":""},{"$f":"IF(JAAFデータ貼り付け!D96=\"\",\"\",JAAFデータ貼り付け!D96)","v":""},null,{"$f":"IF(フリガナ貼り付け!D96=\"\",\"\",フリガナ貼り付け!D96)","v":""},{"$f":"IF(フリガナ貼り付け!E96=\"\",\"\",フリガナ貼り付け!E96)","v":""},{"$f":"IF(JAAFデータ貼り付け!H96=\"\",\"\",JAAFデータ貼り付け!H96)","v":""},{"$f":"IF(JAAFデータ貼り付け!I96=\"\",\"\",JAAFデータ貼り付け!I96)","v":""},{"$f":"IF(JAAFデータ貼り付け!J96=\"\",\"\",JAAFデータ貼り付け!J96)","v":""},{"$f":"IF(JAAFデータ貼り付け!K96=\"\",\"\",JAAFデータ貼り付け!K96)","v":""},{"$f":"IF(JAAFデータ貼り付け!L96=\"\",\"\",JAAFデータ貼り付け!L96)","v":""},{"$f":"IF(JAAFデータ貼り付け!M96=\"\",\"\",JAAFデータ貼り付け!M96)","v":""},{"$f":"IF(JAAFデータ貼り付け!N96=\"\",\"\",JAAFデータ貼り付け!N96)","v":""},{"$f":"IF(JAAFデータ貼り付け!O96=\"\",\"\",JAAFデータ貼り付け!O96)","v":""},{"$f":"IF(JAAFデータ貼り付け!P96=\"\",\"\",JAAFデータ貼り付け!P96)","v":""},{"$f":"IF(JAAFデータ貼り付け!Q96=\"\",\"\",JAAFデータ貼り付け!Q96)","v":""},{"$f":"IF(JAAFデータ貼り付け!R96=\"\",\"\",JAAFデータ貼り付け!R96)","v":""},{"$f":"生年月日貼り付け!E96&生年月日貼り付け!F96&生年月日貼り付け!G96","v":"000"},{"$f":"IF(JAAFデータ貼り付け!T96=\"\",\"\",JAAFデータ貼り付け!T96)","v":""},{"$f":"IF(JAAFデータ貼り付け!U96=\"\",\"\",JAAFデータ貼り付け!U96)","v":""},{"$f":"IF(Sheet5!B96=\"\",\"\",Sheet5!B96)","v":"0"},{"$f":"IF(JAAFデータ貼り付け!W96=\"\",\"\",JAAFデータ貼り付け!W96)","v":""},{"$f":"IF(JAAFデータ貼り付け!X96=\"\",\"\",JAAFデータ貼り付け!X96)","v":""},{"$f":"IF(JAAFデータ貼り付け!Y96=\"\",\"\",JAAFデータ貼り付け!Y96)","v":""},{"$f":"IF(JAAFデータ貼り付け!Z96=\"\",\"\",JAAFデータ貼り付け!Z96)","v":""},{"$f":"IF(JAAFデータ貼り付け!AA96=\"\",\"\",JAAFデータ貼り付け!AA96)","v":""},{"$f":"IF(JAAFデータ貼り付け!AB96=\"\",\"\",JAAFデータ貼り付け!AB96)","v":""},{"$f":"IF(JAAFデータ貼り付け!AC96=\"\",\"\",JAAFデータ貼り付け!AC96)","v":""},{"$f":"IF(JAAFデータ貼り付け!AD96=\"\",\"\",JAAFデータ貼り付け!AD96)","v":""},{"$f":"IF(JAAFデータ貼り付け!AE96=\"\",\"\",JAAFデータ貼り付け!AE96)","v":""},{"$f":"IF(JAAFデータ貼り付け!AF96=\"\",\"\",JAAFデータ貼り付け!AF96)","v":""},{"$f":"IF(JAAFデータ貼り付け!AG96=\"\",\"\",JAAFデータ貼り付け!AG96)","v":""},{"$f":"IF(JAAFデータ貼り付け!AH96=\"\",\"\",JAAFデータ貼り付け!AH96)","v":""},{"$f":"IF(JAAFデータ貼り付け!AI96=\"\",\"\",JAAFデータ貼り付け!AI96)","v":""},{"$f":"IF(JAAFデータ貼り付け!AJ96=\"\",\"\",JAAFデータ貼り付け!AJ96)","v":""},{"$f":"IF(JAAFデータ貼り付け!AK96=\"\",\"\",JAAFデータ貼り付け!AK96)","v":""},{"$f":"IF(JAAFデータ貼り付け!AL96=\"\",\"\",JAAFデータ貼り付け!AL96)","v":""},{"$f":"IF(JAAFデータ貼り付け!AM96=\"\",\"\",JAAFデータ貼り付け!AM96)","v":""},{"$f":"IF(JAAFデータ貼り付け!AN96=\"\",\"\",JAAFデータ貼り付け!AN96)","v":""},{"$f":"IF(JAAFデータ貼り付け!AO96=\"\",\"\",JAAFデータ貼り付け!AO96)","v":""},{"$f":"IF(JAAFデータ貼り付け!AP96=\"\",\"\",JAAFデータ貼り付け!AP96)","v":""},{"$f":"IF(JAAFデータ貼り付け!AQ96=\"\",\"\",JAAFデータ貼り付け!AQ96)","v":""}]
[{"$f":"IF(JAAFデータ貼り付け!E97=\"\",\"\",JAAFデータ貼り付け!E97)","v":""},{"$f":"IF(JAAFデータ貼り付け!B97=\"\",\"\",JAAFデータ貼り付け!B97)","v":""},{"$f":"IF(JAAFデータ貼り付け!C97=\"\",\"\",JAAFデータ貼り付け!C97)","v":""},{"$f":"IF(JAAFデータ貼り付け!D97=\"\",\"\",JAAFデータ貼り付け!D97)","v":""},null,{"$f":"IF(フリガナ貼り付け!D97=\"\",\"\",フリガナ貼り付け!D97)","v":""},{"$f":"IF(フリガナ貼り付け!E97=\"\",\"\",フリガナ貼り付け!E97)","v":""},{"$f":"IF(JAAFデータ貼り付け!H97=\"\",\"\",JAAFデータ貼り付け!H97)","v":""},{"$f":"IF(JAAFデータ貼り付け!I97=\"\",\"\",JAAFデータ貼り付け!I97)","v":""},{"$f":"IF(JAAFデータ貼り付け!J97=\"\",\"\",JAAFデータ貼り付け!J97)","v":""},{"$f":"IF(JAAFデータ貼り付け!K97=\"\",\"\",JAAFデータ貼り付け!K97)","v":""},{"$f":"IF(JAAFデータ貼り付け!L97=\"\",\"\",JAAFデータ貼り付け!L97)","v":""},{"$f":"IF(JAAFデータ貼り付け!M97=\"\",\"\",JAAFデータ貼り付け!M97)","v":""},{"$f":"IF(JAAFデータ貼り付け!N97=\"\",\"\",JAAFデータ貼り付け!N97)","v":""},{"$f":"IF(JAAFデータ貼り付け!O97=\"\",\"\",JAAFデータ貼り付け!O97)","v":""},{"$f":"IF(JAAFデータ貼り付け!P97=\"\",\"\",JAAFデータ貼り付け!P97)","v":""},{"$f":"IF(JAAFデータ貼り付け!Q97=\"\",\"\",JAAFデータ貼り付け!Q97)","v":""},{"$f":"IF(JAAFデータ貼り付け!R97=\"\",\"\",JAAFデータ貼り付け!R97)","v":""},{"$f":"生年月日貼り付け!E97&生年月日貼り付け!F97&生年月日貼り付け!G97","v":"000"},{"$f":"IF(JAAFデータ貼り付け!T97=\"\",\"\",JAAFデータ貼り付け!T97)","v":""},{"$f":"IF(JAAFデータ貼り付け!U97=\"\",\"\",JAAFデータ貼り付け!U97)","v":""},{"$f":"IF(Sheet5!B97=\"\",\"\",Sheet5!B97)","v":"0"},{"$f":"IF(JAAFデータ貼り付け!W97=\"\",\"\",JAAFデータ貼り付け!W97)","v":""},{"$f":"IF(JAAFデータ貼り付け!X97=\"\",\"\",JAAFデータ貼り付け!X97)","v":""},{"$f":"IF(JAAFデータ貼り付け!Y97=\"\",\"\",JAAFデータ貼り付け!Y97)","v":""},{"$f":"IF(JAAFデータ貼り付け!Z97=\"\",\"\",JAAFデータ貼り付け!Z97)","v":""},{"$f":"IF(JAAFデータ貼り付け!AA97=\"\",\"\",JAAFデータ貼り付け!AA97)","v":""},{"$f":"IF(JAAFデータ貼り付け!AB97=\"\",\"\",JAAFデータ貼り付け!AB97)","v":""},{"$f":"IF(JAAFデータ貼り付け!AC97=\"\",\"\",JAAFデータ貼り付け!AC97)","v":""},{"$f":"IF(JAAFデータ貼り付け!AD97=\"\",\"\",JAAFデータ貼り付け!AD97)","v":""},{"$f":"IF(JAAFデータ貼り付け!AE97=\"\",\"\",JAAFデータ貼り付け!AE97)","v":""},{"$f":"IF(JAAFデータ貼り付け!AF97=\"\",\"\",JAAFデータ貼り付け!AF97)","v":""},{"$f":"IF(JAAFデータ貼り付け!AG97=\"\",\"\",JAAFデータ貼り付け!AG97)","v":""},{"$f":"IF(JAAFデータ貼り付け!AH97=\"\",\"\",JAAFデータ貼り付け!AH97)","v":""},{"$f":"IF(JAAFデータ貼り付け!AI97=\"\",\"\",JAAFデータ貼り付け!AI97)","v":""},{"$f":"IF(JAAFデータ貼り付け!AJ97=\"\",\"\",JAAFデータ貼り付け!AJ97)","v":""},{"$f":"IF(JAAFデータ貼り付け!AK97=\"\",\"\",JAAFデータ貼り付け!AK97)","v":""},{"$f":"IF(JAAFデータ貼り付け!AL97=\"\",\"\",JAAFデータ貼り付け!AL97)","v":""},{"$f":"IF(JAAFデータ貼り付け!AM97=\"\",\"\",JAAFデータ貼り付け!AM97)","v":""},{"$f":"IF(JAAFデータ貼り付け!AN97=\"\",\"\",JAAFデータ貼り付け!AN97)","v":""},{"$f":"IF(JAAFデータ貼り付け!AO97=\"\",\"\",JAAFデータ貼り付け!AO97)","v":""},{"$f":"IF(JAAFデータ貼り付け!AP97=\"\",\"\",JAAFデータ貼り付け!AP97)","v":""},{"$f":"IF(JAAFデータ貼り付け!AQ97=\"\",\"\",JAAFデータ貼り付け!AQ97)","v":""}]
[{"$f":"IF(JAAFデータ貼り付け!E98=\"\",\"\",JAAFデータ貼り付け!E98)","v":""},{"$f":"IF(JAAFデータ貼り付け!B98=\"\",\"\",JAAFデータ貼り付け!B98)","v":""},{"$f":"IF(JAAFデータ貼り付け!C98=\"\",\"\",JAAFデータ貼り付け!C98)","v":""},{"$f":"IF(JAAFデータ貼り付け!D98=\"\",\"\",JAAFデータ貼り付け!D98)","v":""},null,{"$f":"IF(フリガナ貼り付け!D98=\"\",\"\",フリガナ貼り付け!D98)","v":""},{"$f":"IF(フリガナ貼り付け!E98=\"\",\"\",フリガナ貼り付け!E98)","v":""},{"$f":"IF(JAAFデータ貼り付け!H98=\"\",\"\",JAAFデータ貼り付け!H98)","v":""},{"$f":"IF(JAAFデータ貼り付け!I98=\"\",\"\",JAAFデータ貼り付け!I98)","v":""},{"$f":"IF(JAAFデータ貼り付け!J98=\"\",\"\",JAAFデータ貼り付け!J98)","v":""},{"$f":"IF(JAAFデータ貼り付け!K98=\"\",\"\",JAAFデータ貼り付け!K98)","v":""},{"$f":"IF(JAAFデータ貼り付け!L98=\"\",\"\",JAAFデータ貼り付け!L98)","v":""},{"$f":"IF(JAAFデータ貼り付け!M98=\"\",\"\",JAAFデータ貼り付け!M98)","v":""},{"$f":"IF(JAAFデータ貼り付け!N98=\"\",\"\",JAAFデータ貼り付け!N98)","v":""},{"$f":"IF(JAAFデータ貼り付け!O98=\"\",\"\",JAAFデータ貼り付け!O98)","v":""},{"$f":"IF(JAAFデータ貼り付け!P98=\"\",\"\",JAAFデータ貼り付け!P98)","v":""},{"$f":"IF(JAAFデータ貼り付け!Q98=\"\",\"\",JAAFデータ貼り付け!Q98)","v":""},{"$f":"IF(JAAFデータ貼り付け!R98=\"\",\"\",JAAFデータ貼り付け!R98)","v":""},{"$f":"生年月日貼り付け!E98&生年月日貼り付け!F98&生年月日貼り付け!G98","v":"000"},{"$f":"IF(JAAFデータ貼り付け!T98=\"\",\"\",JAAFデータ貼り付け!T98)","v":""},{"$f":"IF(JAAFデータ貼り付け!U98=\"\",\"\",JAAFデータ貼り付け!U98)","v":""},{"$f":"IF(Sheet5!B98=\"\",\"\",Sheet5!B98)","v":"0"},{"$f":"IF(JAAFデータ貼り付け!W98=\"\",\"\",JAAFデータ貼り付け!W98)","v":""},{"$f":"IF(JAAFデータ貼り付け!X98=\"\",\"\",JAAFデータ貼り付け!X98)","v":""},{"$f":"IF(JAAFデータ貼り付け!Y98=\"\",\"\",JAAFデータ貼り付け!Y98)","v":""},{"$f":"IF(JAAFデータ貼り付け!Z98=\"\",\"\",JAAFデータ貼り付け!Z98)","v":""},{"$f":"IF(JAAFデータ貼り付け!AA98=\"\",\"\",JAAFデータ貼り付け!AA98)","v":""},{"$f":"IF(JAAFデータ貼り付け!AB98=\"\",\"\",JAAFデータ貼り付け!AB98)","v":""},{"$f":"IF(JAAFデータ貼り付け!AC98=\"\",\"\",JAAFデータ貼り付け!AC98)","v":""},{"$f":"IF(JAAFデータ貼り付け!AD98=\"\",\"\",JAAFデータ貼り付け!AD98)","v":""},{"$f":"IF(JAAFデータ貼り付け!AE98=\"\",\"\",JAAFデータ貼り付け!AE98)","v":""},{"$f":"IF(JAAFデータ貼り付け!AF98=\"\",\"\",JAAFデータ貼り付け!AF98)","v":""},{"$f":"IF(JAAFデータ貼り付け!AG98=\"\",\"\",JAAFデータ貼り付け!AG98)","v":""},{"$f":"IF(JAAFデータ貼り付け!AH98=\"\",\"\",JAAFデータ貼り付け!AH98)","v":""},{"$f":"IF(JAAFデータ貼り付け!AI98=\"\",\"\",JAAFデータ貼り付け!AI98)","v":""},{"$f":"IF(JAAFデータ貼り付け!AJ98=\"\",\"\",JAAFデータ貼り付け!AJ98)","v":""},{"$f":"IF(JAAFデータ貼り付け!AK98=\"\",\"\",JAAFデータ貼り付け!AK98)","v":""},{"$f":"IF(JAAFデータ貼り付け!AL98=\"\",\"\",JAAFデータ貼り付け!AL98)","v":""},{"$f":"IF(JAAFデータ貼り付け!AM98=\"\",\"\",JAAFデータ貼り付け!AM98)","v":""},{"$f":"IF(JAAFデータ貼り付け!AN98=\"\",\"\",JAAFデータ貼り付け!AN98)","v":""},{"$f":"IF(JAAFデータ貼り付け!AO98=\"\",\"\",JAAFデータ貼り付け!AO98)","v":""},{"$f":"IF(JAAFデータ貼り付け!AP98=\"\",\"\",JAAFデータ貼り付け!AP98)","v":""},{"$f":"IF(JAAFデータ貼り付け!AQ98=\"\",\"\",JAAFデータ貼り付け!AQ98)","v":""}]
[{"$f":"IF(JAAFデータ貼り付け!E99=\"\",\"\",JAAFデータ貼り付け!E99)","v":""},{"$f":"IF(JAAFデータ貼り付け!B99=\"\",\"\",JAAFデータ貼り付け!B99)","v":""},{"$f":"IF(JAAFデータ貼り付け!C99=\"\",\"\",JAAFデータ貼り付け!C99)","v":""},{"$f":"IF(JAAFデータ貼り付け!D99=\"\",\"\",JAAFデータ貼り付け!D99)","v":""},null,{"$f":"IF(フリガナ貼り付け!D99=\"\",\"\",フリガナ貼り付け!D99)","v":""},{"$f":"IF(フリガナ貼り付け!E99=\"\",\"\",フリガナ貼り付け!E99)","v":""},{"$f":"IF(JAAFデータ貼り付け!H99=\"\",\"\",JAAFデータ貼り付け!H99)","v":""},{"$f":"IF(JAAFデータ貼り付け!I99=\"\",\"\",JAAFデータ貼り付け!I99)","v":""},{"$f":"IF(JAAFデータ貼り付け!J99=\"\",\"\",JAAFデータ貼り付け!J99)","v":""},{"$f":"IF(JAAFデータ貼り付け!K99=\"\",\"\",JAAFデータ貼り付け!K99)","v":""},{"$f":"IF(JAAFデータ貼り付け!L99=\"\",\"\",JAAFデータ貼り付け!L99)","v":""},{"$f":"IF(JAAFデータ貼り付け!M99=\"\",\"\",JAAFデータ貼り付け!M99)","v":""},{"$f":"IF(JAAFデータ貼り付け!N99=\"\",\"\",JAAFデータ貼り付け!N99)","v":""},{"$f":"IF(JAAFデータ貼り付け!O99=\"\",\"\",JAAFデータ貼り付け!O99)","v":""},{"$f":"IF(JAAFデータ貼り付け!P99=\"\",\"\",JAAFデータ貼り付け!P99)","v":""},{"$f":"IF(JAAFデータ貼り付け!Q99=\"\",\"\",JAAFデータ貼り付け!Q99)","v":""},{"$f":"IF(JAAFデータ貼り付け!R99=\"\",\"\",JAAFデータ貼り付け!R99)","v":""},{"$f":"生年月日貼り付け!E99&生年月日貼り付け!F99&生年月日貼り付け!G99","v":"000"},{"$f":"IF(JAAFデータ貼り付け!T99=\"\",\"\",JAAFデータ貼り付け!T99)","v":""},{"$f":"IF(JAAFデータ貼り付け!U99=\"\",\"\",JAAFデータ貼り付け!U99)","v":""},{"$f":"IF(Sheet5!B99=\"\",\"\",Sheet5!B99)","v":"0"},{"$f":"IF(JAAFデータ貼り付け!W99=\"\",\"\",JAAFデータ貼り付け!W99)","v":""},{"$f":"IF(JAAFデータ貼り付け!X99=\"\",\"\",JAAFデータ貼り付け!X99)","v":""},{"$f":"IF(JAAFデータ貼り付け!Y99=\"\",\"\",JAAFデータ貼り付け!Y99)","v":""},{"$f":"IF(JAAFデータ貼り付け!Z99=\"\",\"\",JAAFデータ貼り付け!Z99)","v":""},{"$f":"IF(JAAFデータ貼り付け!AA99=\"\",\"\",JAAFデータ貼り付け!AA99)","v":""},{"$f":"IF(JAAFデータ貼り付け!AB99=\"\",\"\",JAAFデータ貼り付け!AB99)","v":""},{"$f":"IF(JAAFデータ貼り付け!AC99=\"\",\"\",JAAFデータ貼り付け!AC99)","v":""},{"$f":"IF(JAAFデータ貼り付け!AD99=\"\",\"\",JAAFデータ貼り付け!AD99)","v":""},{"$f":"IF(JAAFデータ貼り付け!AE99=\"\",\"\",JAAFデータ貼り付け!AE99)","v":""},{"$f":"IF(JAAFデータ貼り付け!AF99=\"\",\"\",JAAFデータ貼り付け!AF99)","v":""},{"$f":"IF(JAAFデータ貼り付け!AG99=\"\",\"\",JAAFデータ貼り付け!AG99)","v":""},{"$f":"IF(JAAFデータ貼り付け!AH99=\"\",\"\",JAAFデータ貼り付け!AH99)","v":""},{"$f":"IF(JAAFデータ貼り付け!AI99=\"\",\"\",JAAFデータ貼り付け!AI99)","v":""},{"$f":"IF(JAAFデータ貼り付け!AJ99=\"\",\"\",JAAFデータ貼り付け!AJ99)","v":""},{"$f":"IF(JAAFデータ貼り付け!AK99=\"\",\"\",JAAFデータ貼り付け!AK99)","v":""},{"$f":"IF(JAAFデータ貼り付け!AL99=\"\",\"\",JAAFデータ貼り付け!AL99)","v":""},{"$f":"IF(JAAFデータ貼り付け!AM99=\"\",\"\",JAAFデータ貼り付け!AM99)","v":""},{"$f":"IF(JAAFデータ貼り付け!AN99=\"\",\"\",JAAFデータ貼り付け!AN99)","v":""},{"$f":"IF(JAAFデータ貼り付け!AO99=\"\",\"\",JAAFデータ貼り付け!AO99)","v":""},{"$f":"IF(JAAFデータ貼り付け!AP99=\"\",\"\",JAAFデータ貼り付け!AP99)","v":""},{"$f":"IF(JAAFデータ貼り付け!AQ99=\"\",\"\",JAAFデータ貼り付け!AQ99)","v":""}]
[{"$f":"IF(JAAFデータ貼り付け!E100=\"\",\"\",JAAFデータ貼り付け!E100)","v":""},{"$f":"IF(JAAFデータ貼り付け!B100=\"\",\"\",JAAFデータ貼り付け!B100)","v":""},{"$f":"IF(JAAFデータ貼り付け!C100=\"\",\"\",JAAFデータ貼り付け!C100)","v":""},{"$f":"IF(JAAFデータ貼り付け!D100=\"\",\"\",JAAFデータ貼り付け!D100)","v":""},null,{"$f":"IF(フリガナ貼り付け!D100=\"\",\"\",フリガナ貼り付け!D100)","v":""},{"$f":"IF(フリガナ貼り付け!E100=\"\",\"\",フリガナ貼り付け!E100)","v":""},{"$f":"IF(JAAFデータ貼り付け!H100=\"\",\"\",JAAFデータ貼り付け!H100)","v":""},{"$f":"IF(JAAFデータ貼り付け!I100=\"\",\"\",JAAFデータ貼り付け!I100)","v":""},{"$f":"IF(JAAFデータ貼り付け!J100=\"\",\"\",JAAFデータ貼り付け!J100)","v":""},{"$f":"IF(JAAFデータ貼り付け!K100=\"\",\"\",JAAFデータ貼り付け!K100)","v":""},{"$f":"IF(JAAFデータ貼り付け!L100=\"\",\"\",JAAFデータ貼り付け!L100)","v":""},{"$f":"IF(JAAFデータ貼り付け!M100=\"\",\"\",JAAFデータ貼り付け!M100)","v":""},{"$f":"IF(JAAFデータ貼り付け!N100=\"\",\"\",JAAFデータ貼り付け!N100)","v":""},{"$f":"IF(JAAFデータ貼り付け!O100=\"\",\"\",JAAFデータ貼り付け!O100)","v":""},{"$f":"IF(JAAFデータ貼り付け!P100=\"\",\"\",JAAFデータ貼り付け!P100)","v":""},{"$f":"IF(JAAFデータ貼り付け!Q100=\"\",\"\",JAAFデータ貼り付け!Q100)","v":""},{"$f":"IF(JAAFデータ貼り付け!R100=\"\",\"\",JAAFデータ貼り付け!R100)","v":""},{"$f":"生年月日貼り付け!E100&生年月日貼り付け!F100&生年月日貼り付け!G100","v":"000"},{"$f":"IF(JAAFデータ貼り付け!T100=\"\",\"\",JAAFデータ貼り付け!T100)","v":""},{"$f":"IF(JAAFデータ貼り付け!U100=\"\",\"\",JAAFデータ貼り付け!U100)","v":""},{"$f":"IF(Sheet5!B100=\"\",\"\",Sheet5!B100)","v":"0"},{"$f":"IF(JAAFデータ貼り付け!W100=\"\",\"\",JAAFデータ貼り付け!W100)","v":""},{"$f":"IF(JAAFデータ貼り付け!X100=\"\",\"\",JAAFデータ貼り付け!X100)","v":""},{"$f":"IF(JAAFデータ貼り付け!Y100=\"\",\"\",JAAFデータ貼り付け!Y100)","v":""},{"$f":"IF(JAAFデータ貼り付け!Z100=\"\",\"\",JAAFデータ貼り付け!Z100)","v":""},{"$f":"IF(JAAFデータ貼り付け!AA100=\"\",\"\",JAAFデータ貼り付け!AA100)","v":""},{"$f":"IF(JAAFデータ貼り付け!AB100=\"\",\"\",JAAFデータ貼り付け!AB100)","v":""},{"$f":"IF(JAAFデータ貼り付け!AC100=\"\",\"\",JAAFデータ貼り付け!AC100)","v":""},{"$f":"IF(JAAFデータ貼り付け!AD100=\"\",\"\",JAAFデータ貼り付け!AD100)","v":""},{"$f":"IF(JAAFデータ貼り付け!AE100=\"\",\"\",JAAFデータ貼り付け!AE100)","v":""},{"$f":"IF(JAAFデータ貼り付け!AF100=\"\",\"\",JAAFデータ貼り付け!AF100)","v":""},{"$f":"IF(JAAFデータ貼り付け!AG100=\"\",\"\",JAAFデータ貼り付け!AG100)","v":""},{"$f":"IF(JAAFデータ貼り付け!AH100=\"\",\"\",JAAFデータ貼り付け!AH100)","v":""},{"$f":"IF(JAAFデータ貼り付け!AI100=\"\",\"\",JAAFデータ貼り付け!AI100)","v":""},{"$f":"IF(JAAFデータ貼り付け!AJ100=\"\",\"\",JAAFデータ貼り付け!AJ100)","v":""},{"$f":"IF(JAAFデータ貼り付け!AK100=\"\",\"\",JAAFデータ貼り付け!AK100)","v":""},{"$f":"IF(JAAFデータ貼り付け!AL100=\"\",\"\",JAAFデータ貼り付け!AL100)","v":""},{"$f":"IF(JAAFデータ貼り付け!AM100=\"\",\"\",JAAFデータ貼り付け!AM100)","v":""},{"$f":"IF(JAAFデータ貼り付け!AN100=\"\",\"\",JAAFデータ貼り付け!AN100)","v":""},{"$f":"IF(JAAFデータ貼り付け!AO100=\"\",\"\",JAAFデータ貼り付け!AO100)","v":""},{"$f":"IF(JAAFデータ貼り付け!AP100=\"\",\"\",JAAFデータ貼り付け!AP100)","v":""},{"$f":"IF(JAAFデータ貼り付け!AQ100=\"\",\"\",JAAFデータ貼り付け!AQ100)","v":""}]
[{"$f":"IF(JAAFデータ貼り付け!E101=\"\",\"\",JAAFデータ貼り付け!E101)","v":""},{"$f":"IF(JAAFデータ貼り付け!B101=\"\",\"\",JAAFデータ貼り付け!B101)","v":""},{"$f":"IF(JAAFデータ貼り付け!C101=\"\",\"\",JAAFデータ貼り付け!C101)","v":""},{"$f":"IF(JAAFデータ貼り付け!D101=\"\",\"\",JAAFデータ貼り付け!D101)","v":""},null,{"$f":"IF(フリガナ貼り付け!D101=\"\",\"\",フリガナ貼り付け!D101)","v":""},{"$f":"IF(フリガナ貼り付け!E101=\"\",\"\",フリガナ貼り付け!E101)","v":""},{"$f":"IF(JAAFデータ貼り付け!H101=\"\",\"\",JAAFデータ貼り付け!H101)","v":""},{"$f":"IF(JAAFデータ貼り付け!I101=\"\",\"\",JAAFデータ貼り付け!I101)","v":""},{"$f":"IF(JAAFデータ貼り付け!J101=\"\",\"\",JAAFデータ貼り付け!J101)","v":""},{"$f":"IF(JAAFデータ貼り付け!K101=\"\",\"\",JAAFデータ貼り付け!K101)","v":""},{"$f":"IF(JAAFデータ貼り付け!L101=\"\",\"\",JAAFデータ貼り付け!L101)","v":""},{"$f":"IF(JAAFデータ貼り付け!M101=\"\",\"\",JAAFデータ貼り付け!M101)","v":""},{"$f":"IF(JAAFデータ貼り付け!N101=\"\",\"\",JAAFデータ貼り付け!N101)","v":""},{"$f":"IF(JAAFデータ貼り付け!O101=\"\",\"\",JAAFデータ貼り付け!O101)","v":""},{"$f":"IF(JAAFデータ貼り付け!P101=\"\",\"\",JAAFデータ貼り付け!P101)","v":""},{"$f":"IF(JAAFデータ貼り付け!Q101=\"\",\"\",JAAFデータ貼り付け!Q101)","v":""},{"$f":"IF(JAAFデータ貼り付け!R101=\"\",\"\",JAAFデータ貼り付け!R101)","v":""},{"$f":"生年月日貼り付け!E101&生年月日貼り付け!F101&生年月日貼り付け!G101","v":"000"},{"$f":"IF(JAAFデータ貼り付け!T101=\"\",\"\",JAAFデータ貼り付け!T101)","v":""},{"$f":"IF(JAAFデータ貼り付け!U101=\"\",\"\",JAAFデータ貼り付け!U101)","v":""},{"$f":"IF(Sheet5!B101=\"\",\"\",Sheet5!B101)","v":"0"},{"$f":"IF(JAAFデータ貼り付け!W101=\"\",\"\",JAAFデータ貼り付け!W101)","v":""},{"$f":"IF(JAAFデータ貼り付け!X101=\"\",\"\",JAAFデータ貼り付け!X101)","v":""},{"$f":"IF(JAAFデータ貼り付け!Y101=\"\",\"\",JAAFデータ貼り付け!Y101)","v":""},{"$f":"IF(JAAFデータ貼り付け!Z101=\"\",\"\",JAAFデータ貼り付け!Z101)","v":""},{"$f":"IF(JAAFデータ貼り付け!AA101=\"\",\"\",JAAFデータ貼り付け!AA101)","v":""},{"$f":"IF(JAAFデータ貼り付け!AB101=\"\",\"\",JAAFデータ貼り付け!AB101)","v":""},{"$f":"IF(JAAFデータ貼り付け!AC101=\"\",\"\",JAAFデータ貼り付け!AC101)","v":""},{"$f":"IF(JAAFデータ貼り付け!AD101=\"\",\"\",JAAFデータ貼り付け!AD101)","v":""},{"$f":"IF(JAAFデータ貼り付け!AE101=\"\",\"\",JAAFデータ貼り付け!AE101)","v":""},{"$f":"IF(JAAFデータ貼り付け!AF101=\"\",\"\",JAAFデータ貼り付け!AF101)","v":""},{"$f":"IF(JAAFデータ貼り付け!AG101=\"\",\"\",JAAFデータ貼り付け!AG101)","v":""},{"$f":"IF(JAAFデータ貼り付け!AH101=\"\",\"\",JAAFデータ貼り付け!AH101)","v":""},{"$f":"IF(JAAFデータ貼り付け!AI101=\"\",\"\",JAAFデータ貼り付け!AI101)","v":""},{"$f":"IF(JAAFデータ貼り付け!AJ101=\"\",\"\",JAAFデータ貼り付け!AJ101)","v":""},{"$f":"IF(JAAFデータ貼り付け!AK101=\"\",\"\",JAAFデータ貼り付け!AK101)","v":""},{"$f":"IF(JAAFデータ貼り付け!AL101=\"\",\"\",JAAFデータ貼り付け!AL101)","v":""},{"$f":"IF(JAAFデータ貼り付け!AM101=\"\",\"\",JAAFデータ貼り付け!AM101)","v":""},{"$f":"IF(JAAFデータ貼り付け!AN101=\"\",\"\",JAAFデータ貼り付け!AN101)","v":""},{"$f":"IF(JAAFデータ貼り付け!AO101=\"\",\"\",JAAFデータ貼り付け!AO101)","v":""},{"$f":"IF(JAAFデータ貼り付け!AP101=\"\",\"\",JAAFデータ貼り付け!AP101)","v":""},{"$f":"IF(JAAFデータ貼り付け!AQ101=\"\",\"\",JAAFデータ貼り付け!AQ101)","v":""}]
[{"$f":"IF(JAAFデータ貼り付け!E102=\"\",\"\",JAAFデータ貼り付け!E102)","v":""},{"$f":"IF(JAAFデータ貼り付け!B102=\"\",\"\",JAAFデータ貼り付け!B102)","v":""},{"$f":"IF(JAAFデータ貼り付け!C102=\"\",\"\",JAAFデータ貼り付け!C102)","v":""},{"$f":"IF(JAAFデータ貼り付け!D102=\"\",\"\",JAAFデータ貼り付け!D102)","v":""},null,{"$f":"IF(フリガナ貼り付け!D102=\"\",\"\",フリガナ貼り付け!D102)","v":""},{"$f":"IF(フリガナ貼り付け!E102=\"\",\"\",フリガナ貼り付け!E102)","v":""},{"$f":"IF(JAAFデータ貼り付け!H102=\"\",\"\",JAAFデータ貼り付け!H102)","v":""},{"$f":"IF(JAAFデータ貼り付け!I102=\"\",\"\",JAAFデータ貼り付け!I102)","v":""},{"$f":"IF(JAAFデータ貼り付け!J102=\"\",\"\",JAAFデータ貼り付け!J102)","v":""},{"$f":"IF(JAAFデータ貼り付け!K102=\"\",\"\",JAAFデータ貼り付け!K102)","v":""},{"$f":"IF(JAAFデータ貼り付け!L102=\"\",\"\",JAAFデータ貼り付け!L102)","v":""},{"$f":"IF(JAAFデータ貼り付け!M102=\"\",\"\",JAAFデータ貼り付け!M102)","v":""},{"$f":"IF(JAAFデータ貼り付け!N102=\"\",\"\",JAAFデータ貼り付け!N102)","v":""},{"$f":"IF(JAAFデータ貼り付け!O102=\"\",\"\",JAAFデータ貼り付け!O102)","v":""},{"$f":"IF(JAAFデータ貼り付け!P102=\"\",\"\",JAAFデータ貼り付け!P102)","v":""},{"$f":"IF(JAAFデータ貼り付け!Q102=\"\",\"\",JAAFデータ貼り付け!Q102)","v":""},{"$f":"IF(JAAFデータ貼り付け!R102=\"\",\"\",JAAFデータ貼り付け!R102)","v":""},{"$f":"生年月日貼り付け!E102&生年月日貼り付け!F102&生年月日貼り付け!G102","v":"000"},{"$f":"IF(JAAFデータ貼り付け!T102=\"\",\"\",JAAFデータ貼り付け!T102)","v":""},{"$f":"IF(JAAFデータ貼り付け!U102=\"\",\"\",JAAFデータ貼り付け!U102)","v":""},{"$f":"IF(Sheet5!B102=\"\",\"\",Sheet5!B102)","v":"0"},{"$f":"IF(JAAFデータ貼り付け!W102=\"\",\"\",JAAFデータ貼り付け!W102)","v":""},{"$f":"IF(JAAFデータ貼り付け!X102=\"\",\"\",JAAFデータ貼り付け!X102)","v":""},{"$f":"IF(JAAFデータ貼り付け!Y102=\"\",\"\",JAAFデータ貼り付け!Y102)","v":""},{"$f":"IF(JAAFデータ貼り付け!Z102=\"\",\"\",JAAFデータ貼り付け!Z102)","v":""},{"$f":"IF(JAAFデータ貼り付け!AA102=\"\",\"\",JAAFデータ貼り付け!AA102)","v":""},{"$f":"IF(JAAFデータ貼り付け!AB102=\"\",\"\",JAAFデータ貼り付け!AB102)","v":""},{"$f":"IF(JAAFデータ貼り付け!AC102=\"\",\"\",JAAFデータ貼り付け!AC102)","v":""},{"$f":"IF(JAAFデータ貼り付け!AD102=\"\",\"\",JAAFデータ貼り付け!AD102)","v":""},{"$f":"IF(JAAFデータ貼り付け!AE102=\"\",\"\",JAAFデータ貼り付け!AE102)","v":""},{"$f":"IF(JAAFデータ貼り付け!AF102=\"\",\"\",JAAFデータ貼り付け!AF102)","v":""},{"$f":"IF(JAAFデータ貼り付け!AG102=\"\",\"\",JAAFデータ貼り付け!AG102)","v":""},{"$f":"IF(JAAFデータ貼り付け!AH102=\"\",\"\",JAAFデータ貼り付け!AH102)","v":""},{"$f":"IF(JAAFデータ貼り付け!AI102=\"\",\"\",JAAFデータ貼り付け!AI102)","v":""},{"$f":"IF(JAAFデータ貼り付け!AJ102=\"\",\"\",JAAFデータ貼り付け!AJ102)","v":""},{"$f":"IF(JAAFデータ貼り付け!AK102=\"\",\"\",JAAFデータ貼り付け!AK102)","v":""},{"$f":"IF(JAAFデータ貼り付け!AL102=\"\",\"\",JAAFデータ貼り付け!AL102)","v":""},{"$f":"IF(JAAFデータ貼り付け!AM102=\"\",\"\",JAAFデータ貼り付け!AM102)","v":""},{"$f":"IF(JAAFデータ貼り付け!AN102=\"\",\"\",JAAFデータ貼り付け!AN102)","v":""},{"$f":"IF(JAAFデータ貼り付け!AO102=\"\",\"\",JAAFデータ貼り付け!AO102)","v":""},{"$f":"IF(JAAFデータ貼り付け!AP102=\"\",\"\",JAAFデータ貼り付け!AP102)","v":""},{"$f":"IF(JAAFデータ貼り付け!AQ102=\"\",\"\",JAAFデータ貼り付け!AQ102)","v":""}]
[{"$f":"IF(JAAFデータ貼り付け!E103=\"\",\"\",JAAFデータ貼り付け!E103)","v":""},{"$f":"IF(JAAFデータ貼り付け!B103=\"\",\"\",JAAFデータ貼り付け!B103)","v":""},{"$f":"IF(JAAFデータ貼り付け!C103=\"\",\"\",JAAFデータ貼り付け!C103)","v":""},{"$f":"IF(JAAFデータ貼り付け!D103=\"\",\"\",JAAFデータ貼り付け!D103)","v":""},null,{"$f":"IF(フリガナ貼り付け!D103=\"\",\"\",フリガナ貼り付け!D103)","v":""},{"$f":"IF(フリガナ貼り付け!E103=\"\",\"\",フリガナ貼り付け!E103)","v":""},{"$f":"IF(JAAFデータ貼り付け!H103=\"\",\"\",JAAFデータ貼り付け!H103)","v":""},{"$f":"IF(JAAFデータ貼り付け!I103=\"\",\"\",JAAFデータ貼り付け!I103)","v":""},{"$f":"IF(JAAFデータ貼り付け!J103=\"\",\"\",JAAFデータ貼り付け!J103)","v":""},{"$f":"IF(JAAFデータ貼り付け!K103=\"\",\"\",JAAFデータ貼り付け!K103)","v":""},{"$f":"IF(JAAFデータ貼り付け!L103=\"\",\"\",JAAFデータ貼り付け!L103)","v":""},{"$f":"IF(JAAFデータ貼り付け!M103=\"\",\"\",JAAFデータ貼り付け!M103)","v":""},{"$f":"IF(JAAFデータ貼り付け!N103=\"\",\"\",JAAFデータ貼り付け!N103)","v":""},{"$f":"IF(JAAFデータ貼り付け!O103=\"\",\"\",JAAFデータ貼り付け!O103)","v":""},{"$f":"IF(JAAFデータ貼り付け!P103=\"\",\"\",JAAFデータ貼り付け!P103)","v":""},{"$f":"IF(JAAFデータ貼り付け!Q103=\"\",\"\",JAAFデータ貼り付け!Q103)","v":""},{"$f":"IF(JAAFデータ貼り付け!R103=\"\",\"\",JAAFデータ貼り付け!R103)","v":""},{"$f":"生年月日貼り付け!E103&生年月日貼り付け!F103&生年月日貼り付け!G103","v":"000"},{"$f":"IF(JAAFデータ貼り付け!T103=\"\",\"\",JAAFデータ貼り付け!T103)","v":""},{"$f":"IF(JAAFデータ貼り付け!U103=\"\",\"\",JAAFデータ貼り付け!U103)","v":""},{"$f":"IF(Sheet5!B103=\"\",\"\",Sheet5!B103)","v":"0"},{"$f":"IF(JAAFデータ貼り付け!W103=\"\",\"\",JAAFデータ貼り付け!W103)","v":""},{"$f":"IF(JAAFデータ貼り付け!X103=\"\",\"\",JAAFデータ貼り付け!X103)","v":""},{"$f":"IF(JAAFデータ貼り付け!Y103=\"\",\"\",JAAFデータ貼り付け!Y103)","v":""},{"$f":"IF(JAAFデータ貼り付け!Z103=\"\",\"\",JAAFデータ貼り付け!Z103)","v":""},{"$f":"IF(JAAFデータ貼り付け!AA103=\"\",\"\",JAAFデータ貼り付け!AA103)","v":""},{"$f":"IF(JAAFデータ貼り付け!AB103=\"\",\"\",JAAFデータ貼り付け!AB103)","v":""},{"$f":"IF(JAAFデータ貼り付け!AC103=\"\",\"\",JAAFデータ貼り付け!AC103)","v":""},{"$f":"IF(JAAFデータ貼り付け!AD103=\"\",\"\",JAAFデータ貼り付け!AD103)","v":""},{"$f":"IF(JAAFデータ貼り付け!AE103=\"\",\"\",JAAFデータ貼り付け!AE103)","v":""},{"$f":"IF(JAAFデータ貼り付け!AF103=\"\",\"\",JAAFデータ貼り付け!AF103)","v":""},{"$f":"IF(JAAFデータ貼り付け!AG103=\"\",\"\",JAAFデータ貼り付け!AG103)","v":""},{"$f":"IF(JAAFデータ貼り付け!AH103=\"\",\"\",JAAFデータ貼り付け!AH103)","v":""},{"$f":"IF(JAAFデータ貼り付け!AI103=\"\",\"\",JAAFデータ貼り付け!AI103)","v":""},{"$f":"IF(JAAFデータ貼り付け!AJ103=\"\",\"\",JAAFデータ貼り付け!AJ103)","v":""},{"$f":"IF(JAAFデータ貼り付け!AK103=\"\",\"\",JAAFデータ貼り付け!AK103)","v":""},{"$f":"IF(JAAFデータ貼り付け!AL103=\"\",\"\",JAAFデータ貼り付け!AL103)","v":""},{"$f":"IF(JAAFデータ貼り付け!AM103=\"\",\"\",JAAFデータ貼り付け!AM103)","v":""},{"$f":"IF(JAAFデータ貼り付け!AN103=\"\",\"\",JAAFデータ貼り付け!AN103)","v":""},{"$f":"IF(JAAFデータ貼り付け!AO103=\"\",\"\",JAAFデータ貼り付け!AO103)","v":""},{"$f":"IF(JAAFデータ貼り付け!AP103=\"\",\"\",JAAFデータ貼り付け!AP103)","v":""},{"$f":"IF(JAAFデータ貼り付け!AQ103=\"\",\"\",JAAFデータ貼り付け!AQ103)","v":""}]
[{"$f":"IF(JAAFデータ貼り付け!E104=\"\",\"\",JAAFデータ貼り付け!E104)","v":""},{"$f":"IF(JAAFデータ貼り付け!B104=\"\",\"\",JAAFデータ貼り付け!B104)","v":""},{"$f":"IF(JAAFデータ貼り付け!C104=\"\",\"\",JAAFデータ貼り付け!C104)","v":""},{"$f":"IF(JAAFデータ貼り付け!D104=\"\",\"\",JAAFデータ貼り付け!D104)","v":""},null,{"$f":"IF(フリガナ貼り付け!D104=\"\",\"\",フリガナ貼り付け!D104)","v":""},{"$f":"IF(フリガナ貼り付け!E104=\"\",\"\",フリガナ貼り付け!E104)","v":""},{"$f":"IF(JAAFデータ貼り付け!H104=\"\",\"\",JAAFデータ貼り付け!H104)","v":""},{"$f":"IF(JAAFデータ貼り付け!I104=\"\",\"\",JAAFデータ貼り付け!I104)","v":""},{"$f":"IF(JAAFデータ貼り付け!J104=\"\",\"\",JAAFデータ貼り付け!J104)","v":""},{"$f":"IF(JAAFデータ貼り付け!K104=\"\",\"\",JAAFデータ貼り付け!K104)","v":""},{"$f":"IF(JAAFデータ貼り付け!L104=\"\",\"\",JAAFデータ貼り付け!L104)","v":""},{"$f":"IF(JAAFデータ貼り付け!M104=\"\",\"\",JAAFデータ貼り付け!M104)","v":""},{"$f":"IF(JAAFデータ貼り付け!N104=\"\",\"\",JAAFデータ貼り付け!N104)","v":""},{"$f":"IF(JAAFデータ貼り付け!O104=\"\",\"\",JAAFデータ貼り付け!O104)","v":""},{"$f":"IF(JAAFデータ貼り付け!P104=\"\",\"\",JAAFデータ貼り付け!P104)","v":""},{"$f":"IF(JAAFデータ貼り付け!Q104=\"\",\"\",JAAFデータ貼り付け!Q104)","v":""},{"$f":"IF(JAAFデータ貼り付け!R104=\"\",\"\",JAAFデータ貼り付け!R104)","v":""},{"$f":"生年月日貼り付け!E104&生年月日貼り付け!F104&生年月日貼り付け!G104","v":"000"},{"$f":"IF(JAAFデータ貼り付け!T104=\"\",\"\",JAAFデータ貼り付け!T104)","v":""},{"$f":"IF(JAAFデータ貼り付け!U104=\"\",\"\",JAAFデータ貼り付け!U104)","v":""},{"$f":"IF(Sheet5!B104=\"\",\"\",Sheet5!B104)","v":"0"},{"$f":"IF(JAAFデータ貼り付け!W104=\"\",\"\",JAAFデータ貼り付け!W104)","v":""},{"$f":"IF(JAAFデータ貼り付け!X104=\"\",\"\",JAAFデータ貼り付け!X104)","v":""},{"$f":"IF(JAAFデータ貼り付け!Y104=\"\",\"\",JAAFデータ貼り付け!Y104)","v":""},{"$f":"IF(JAAFデータ貼り付け!Z104=\"\",\"\",JAAFデータ貼り付け!Z104)","v":""},{"$f":"IF(JAAFデータ貼り付け!AA104=\"\",\"\",JAAFデータ貼り付け!AA104)","v":""},{"$f":"IF(JAAFデータ貼り付け!AB104=\"\",\"\",JAAFデータ貼り付け!AB104)","v":""},{"$f":"IF(JAAFデータ貼り付け!AC104=\"\",\"\",JAAFデータ貼り付け!AC104)","v":""},{"$f":"IF(JAAFデータ貼り付け!AD104=\"\",\"\",JAAFデータ貼り付け!AD104)","v":""},{"$f":"IF(JAAFデータ貼り付け!AE104=\"\",\"\",JAAFデータ貼り付け!AE104)","v":""},{"$f":"IF(JAAFデータ貼り付け!AF104=\"\",\"\",JAAFデータ貼り付け!AF104)","v":""},{"$f":"IF(JAAFデータ貼り付け!AG104=\"\",\"\",JAAFデータ貼り付け!AG104)","v":""},{"$f":"IF(JAAFデータ貼り付け!AH104=\"\",\"\",JAAFデータ貼り付け!AH104)","v":""},{"$f":"IF(JAAFデータ貼り付け!AI104=\"\",\"\",JAAFデータ貼り付け!AI104)","v":""},{"$f":"IF(JAAFデータ貼り付け!AJ104=\"\",\"\",JAAFデータ貼り付け!AJ104)","v":""},{"$f":"IF(JAAFデータ貼り付け!AK104=\"\",\"\",JAAFデータ貼り付け!AK104)","v":""},{"$f":"IF(JAAFデータ貼り付け!AL104=\"\",\"\",JAAFデータ貼り付け!AL104)","v":""},{"$f":"IF(JAAFデータ貼り付け!AM104=\"\",\"\",JAAFデータ貼り付け!AM104)","v":""},{"$f":"IF(JAAFデータ貼り付け!AN104=\"\",\"\",JAAFデータ貼り付け!AN104)","v":""},{"$f":"IF(JAAFデータ貼り付け!AO104=\"\",\"\",JAAFデータ貼り付け!AO104)","v":""},{"$f":"IF(JAAFデータ貼り付け!AP104=\"\",\"\",JAAFデータ貼り付け!AP104)","v":""},{"$f":"IF(JAAFデータ貼り付け!AQ104=\"\",\"\",JAAFデータ貼り付け!AQ104)","v":""}]
[{"$f":"IF(JAAFデータ貼り付け!E105=\"\",\"\",JAAFデータ貼り付け!E105)","v":""},{"$f":"IF(JAAFデータ貼り付け!B105=\"\",\"\",JAAFデータ貼り付け!B105)","v":""},{"$f":"IF(JAAFデータ貼り付け!C105=\"\",\"\",JAAFデータ貼り付け!C105)","v":""},{"$f":"IF(JAAFデータ貼り付け!D105=\"\",\"\",JAAFデータ貼り付け!D105)","v":""},null,{"$f":"IF(フリガナ貼り付け!D105=\"\",\"\",フリガナ貼り付け!D105)","v":""},{"$f":"IF(フリガナ貼り付け!E105=\"\",\"\",フリガナ貼り付け!E105)","v":""},{"$f":"IF(JAAFデータ貼り付け!H105=\"\",\"\",JAAFデータ貼り付け!H105)","v":""},{"$f":"IF(JAAFデータ貼り付け!I105=\"\",\"\",JAAFデータ貼り付け!I105)","v":""},{"$f":"IF(JAAFデータ貼り付け!J105=\"\",\"\",JAAFデータ貼り付け!J105)","v":""},{"$f":"IF(JAAFデータ貼り付け!K105=\"\",\"\",JAAFデータ貼り付け!K105)","v":""},{"$f":"IF(JAAFデータ貼り付け!L105=\"\",\"\",JAAFデータ貼り付け!L105)","v":""},{"$f":"IF(JAAFデータ貼り付け!M105=\"\",\"\",JAAFデータ貼り付け!M105)","v":""},{"$f":"IF(JAAFデータ貼り付け!N105=\"\",\"\",JAAFデータ貼り付け!N105)","v":""},{"$f":"IF(JAAFデータ貼り付け!O105=\"\",\"\",JAAFデータ貼り付け!O105)","v":""},{"$f":"IF(JAAFデータ貼り付け!P105=\"\",\"\",JAAFデータ貼り付け!P105)","v":""},{"$f":"IF(JAAFデータ貼り付け!Q105=\"\",\"\",JAAFデータ貼り付け!Q105)","v":""},{"$f":"IF(JAAFデータ貼り付け!R105=\"\",\"\",JAAFデータ貼り付け!R105)","v":""},{"$f":"生年月日貼り付け!E105&生年月日貼り付け!F105&生年月日貼り付け!G105","v":"000"},{"$f":"IF(JAAFデータ貼り付け!T105=\"\",\"\",JAAFデータ貼り付け!T105)","v":""},{"$f":"IF(JAAFデータ貼り付け!U105=\"\",\"\",JAAFデータ貼り付け!U105)","v":""},{"$f":"IF(Sheet5!B105=\"\",\"\",Sheet5!B105)","v":"0"},{"$f":"IF(JAAFデータ貼り付け!W105=\"\",\"\",JAAFデータ貼り付け!W105)","v":""},{"$f":"IF(JAAFデータ貼り付け!X105=\"\",\"\",JAAFデータ貼り付け!X105)","v":""},{"$f":"IF(JAAFデータ貼り付け!Y105=\"\",\"\",JAAFデータ貼り付け!Y105)","v":""},{"$f":"IF(JAAFデータ貼り付け!Z105=\"\",\"\",JAAFデータ貼り付け!Z105)","v":""},{"$f":"IF(JAAFデータ貼り付け!AA105=\"\",\"\",JAAFデータ貼り付け!AA105)","v":""},{"$f":"IF(JAAFデータ貼り付け!AB105=\"\",\"\",JAAFデータ貼り付け!AB105)","v":""},{"$f":"IF(JAAFデータ貼り付け!AC105=\"\",\"\",JAAFデータ貼り付け!AC105)","v":""},{"$f":"IF(JAAFデータ貼り付け!AD105=\"\",\"\",JAAFデータ貼り付け!AD105)","v":""},{"$f":"IF(JAAFデータ貼り付け!AE105=\"\",\"\",JAAFデータ貼り付け!AE105)","v":""},{"$f":"IF(JAAFデータ貼り付け!AF105=\"\",\"\",JAAFデータ貼り付け!AF105)","v":""},{"$f":"IF(JAAFデータ貼り付け!AG105=\"\",\"\",JAAFデータ貼り付け!AG105)","v":""},{"$f":"IF(JAAFデータ貼り付け!AH105=\"\",\"\",JAAFデータ貼り付け!AH105)","v":""},{"$f":"IF(JAAFデータ貼り付け!AI105=\"\",\"\",JAAFデータ貼り付け!AI105)","v":""},{"$f":"IF(JAAFデータ貼り付け!AJ105=\"\",\"\",JAAFデータ貼り付け!AJ105)","v":""},{"$f":"IF(JAAFデータ貼り付け!AK105=\"\",\"\",JAAFデータ貼り付け!AK105)","v":""},{"$f":"IF(JAAFデータ貼り付け!AL105=\"\",\"\",JAAFデータ貼り付け!AL105)","v":""},{"$f":"IF(JAAFデータ貼り付け!AM105=\"\",\"\",JAAFデータ貼り付け!AM105)","v":""},{"$f":"IF(JAAFデータ貼り付け!AN105=\"\",\"\",JAAFデータ貼り付け!AN105)","v":""},{"$f":"IF(JAAFデータ貼り付け!AO105=\"\",\"\",JAAFデータ貼り付け!AO105)","v":""},{"$f":"IF(JAAFデータ貼り付け!AP105=\"\",\"\",JAAFデータ貼り付け!AP105)","v":""},{"$f":"IF(JAAFデータ貼り付け!AQ105=\"\",\"\",JAAFデータ貼り付け!AQ105)","v":""}]
[{"$f":"IF(JAAFデータ貼り付け!E106=\"\",\"\",JAAFデータ貼り付け!E106)","v":""},{"$f":"IF(JAAFデータ貼り付け!B106=\"\",\"\",JAAFデータ貼り付け!B106)","v":""},{"$f":"IF(JAAFデータ貼り付け!C106=\"\",\"\",JAAFデータ貼り付け!C106)","v":""},{"$f":"IF(JAAFデータ貼り付け!D106=\"\",\"\",JAAFデータ貼り付け!D106)","v":""},null,{"$f":"IF(フリガナ貼り付け!D106=\"\",\"\",フリガナ貼り付け!D106)","v":""},{"$f":"IF(フリガナ貼り付け!E106=\"\",\"\",フリガナ貼り付け!E106)","v":""},{"$f":"IF(JAAFデータ貼り付け!H106=\"\",\"\",JAAFデータ貼り付け!H106)","v":""},{"$f":"IF(JAAFデータ貼り付け!I106=\"\",\"\",JAAFデータ貼り付け!I106)","v":""},{"$f":"IF(JAAFデータ貼り付け!J106=\"\",\"\",JAAFデータ貼り付け!J106)","v":""},{"$f":"IF(JAAFデータ貼り付け!K106=\"\",\"\",JAAFデータ貼り付け!K106)","v":""},{"$f":"IF(JAAFデータ貼り付け!L106=\"\",\"\",JAAFデータ貼り付け!L106)","v":""},{"$f":"IF(JAAFデータ貼り付け!M106=\"\",\"\",JAAFデータ貼り付け!M106)","v":""},{"$f":"IF(JAAFデータ貼り付け!N106=\"\",\"\",JAAFデータ貼り付け!N106)","v":""},{"$f":"IF(JAAFデータ貼り付け!O106=\"\",\"\",JAAFデータ貼り付け!O106)","v":""},{"$f":"IF(JAAFデータ貼り付け!P106=\"\",\"\",JAAFデータ貼り付け!P106)","v":""},{"$f":"IF(JAAFデータ貼り付け!Q106=\"\",\"\",JAAFデータ貼り付け!Q106)","v":""},{"$f":"IF(JAAFデータ貼り付け!R106=\"\",\"\",JAAFデータ貼り付け!R106)","v":""},{"$f":"生年月日貼り付け!E106&生年月日貼り付け!F106&生年月日貼り付け!G106","v":"000"},{"$f":"IF(JAAFデータ貼り付け!T106=\"\",\"\",JAAFデータ貼り付け!T106)","v":""},{"$f":"IF(JAAFデータ貼り付け!U106=\"\",\"\",JAAFデータ貼り付け!U106)","v":""},{"$f":"IF(Sheet5!B106=\"\",\"\",Sheet5!B106)","v":"0"},{"$f":"IF(JAAFデータ貼り付け!W106=\"\",\"\",JAAFデータ貼り付け!W106)","v":""},{"$f":"IF(JAAFデータ貼り付け!X106=\"\",\"\",JAAFデータ貼り付け!X106)","v":""},{"$f":"IF(JAAFデータ貼り付け!Y106=\"\",\"\",JAAFデータ貼り付け!Y106)","v":""},{"$f":"IF(JAAFデータ貼り付け!Z106=\"\",\"\",JAAFデータ貼り付け!Z106)","v":""},{"$f":"IF(JAAFデータ貼り付け!AA106=\"\",\"\",JAAFデータ貼り付け!AA106)","v":""},{"$f":"IF(JAAFデータ貼り付け!AB106=\"\",\"\",JAAFデータ貼り付け!AB106)","v":""},{"$f":"IF(JAAFデータ貼り付け!AC106=\"\",\"\",JAAFデータ貼り付け!AC106)","v":""},{"$f":"IF(JAAFデータ貼り付け!AD106=\"\",\"\",JAAFデータ貼り付け!AD106)","v":""},{"$f":"IF(JAAFデータ貼り付け!AE106=\"\",\"\",JAAFデータ貼り付け!AE106)","v":""},{"$f":"IF(JAAFデータ貼り付け!AF106=\"\",\"\",JAAFデータ貼り付け!AF106)","v":""},{"$f":"IF(JAAFデータ貼り付け!AG106=\"\",\"\",JAAFデータ貼り付け!AG106)","v":""},{"$f":"IF(JAAFデータ貼り付け!AH106=\"\",\"\",JAAFデータ貼り付け!AH106)","v":""},{"$f":"IF(JAAFデータ貼り付け!AI106=\"\",\"\",JAAFデータ貼り付け!AI106)","v":""},{"$f":"IF(JAAFデータ貼り付け!AJ106=\"\",\"\",JAAFデータ貼り付け!AJ106)","v":""},{"$f":"IF(JAAFデータ貼り付け!AK106=\"\",\"\",JAAFデータ貼り付け!AK106)","v":""},{"$f":"IF(JAAFデータ貼り付け!AL106=\"\",\"\",JAAFデータ貼り付け!AL106)","v":""},{"$f":"IF(JAAFデータ貼り付け!AM106=\"\",\"\",JAAFデータ貼り付け!AM106)","v":""},{"$f":"IF(JAAFデータ貼り付け!AN106=\"\",\"\",JAAFデータ貼り付け!AN106)","v":""},{"$f":"IF(JAAFデータ貼り付け!AO106=\"\",\"\",JAAFデータ貼り付け!AO106)","v":""},{"$f":"IF(JAAFデータ貼り付け!AP106=\"\",\"\",JAAFデータ貼り付け!AP106)","v":""},{"$f":"IF(JAAFデータ貼り付け!AQ106=\"\",\"\",JAAFデータ貼り付け!AQ106)","v":""}]
[{"$f":"IF(JAAFデータ貼り付け!E107=\"\",\"\",JAAFデータ貼り付け!E107)","v":""},{"$f":"IF(JAAFデータ貼り付け!B107=\"\",\"\",JAAFデータ貼り付け!B107)","v":""},{"$f":"IF(JAAFデータ貼り付け!C107=\"\",\"\",JAAFデータ貼り付け!C107)","v":""},{"$f":"IF(JAAFデータ貼り付け!D107=\"\",\"\",JAAFデータ貼り付け!D107)","v":""},null,{"$f":"IF(フリガナ貼り付け!D107=\"\",\"\",フリガナ貼り付け!D107)","v":""},{"$f":"IF(フリガナ貼り付け!E107=\"\",\"\",フリガナ貼り付け!E107)","v":""},{"$f":"IF(JAAFデータ貼り付け!H107=\"\",\"\",JAAFデータ貼り付け!H107)","v":""},{"$f":"IF(JAAFデータ貼り付け!I107=\"\",\"\",JAAFデータ貼り付け!I107)","v":""},{"$f":"IF(JAAFデータ貼り付け!J107=\"\",\"\",JAAFデータ貼り付け!J107)","v":""},{"$f":"IF(JAAFデータ貼り付け!K107=\"\",\"\",JAAFデータ貼り付け!K107)","v":""},{"$f":"IF(JAAFデータ貼り付け!L107=\"\",\"\",JAAFデータ貼り付け!L107)","v":""},{"$f":"IF(JAAFデータ貼り付け!M107=\"\",\"\",JAAFデータ貼り付け!M107)","v":""},{"$f":"IF(JAAFデータ貼り付け!N107=\"\",\"\",JAAFデータ貼り付け!N107)","v":""},{"$f":"IF(JAAFデータ貼り付け!O107=\"\",\"\",JAAFデータ貼り付け!O107)","v":""},{"$f":"IF(JAAFデータ貼り付け!P107=\"\",\"\",JAAFデータ貼り付け!P107)","v":""},{"$f":"IF(JAAFデータ貼り付け!Q107=\"\",\"\",JAAFデータ貼り付け!Q107)","v":""},{"$f":"IF(JAAFデータ貼り付け!R107=\"\",\"\",JAAFデータ貼り付け!R107)","v":""},{"$f":"生年月日貼り付け!E107&生年月日貼り付け!F107&生年月日貼り付け!G107","v":"000"},{"$f":"IF(JAAFデータ貼り付け!T107=\"\",\"\",JAAFデータ貼り付け!T107)","v":""},{"$f":"IF(JAAFデータ貼り付け!U107=\"\",\"\",JAAFデータ貼り付け!U107)","v":""},{"$f":"IF(Sheet5!B107=\"\",\"\",Sheet5!B107)","v":"0"},{"$f":"IF(JAAFデータ貼り付け!W107=\"\",\"\",JAAFデータ貼り付け!W107)","v":""},{"$f":"IF(JAAFデータ貼り付け!X107=\"\",\"\",JAAFデータ貼り付け!X107)","v":""},{"$f":"IF(JAAFデータ貼り付け!Y107=\"\",\"\",JAAFデータ貼り付け!Y107)","v":""},{"$f":"IF(JAAFデータ貼り付け!Z107=\"\",\"\",JAAFデータ貼り付け!Z107)","v":""},{"$f":"IF(JAAFデータ貼り付け!AA107=\"\",\"\",JAAFデータ貼り付け!AA107)","v":""},{"$f":"IF(JAAFデータ貼り付け!AB107=\"\",\"\",JAAFデータ貼り付け!AB107)","v":""},{"$f":"IF(JAAFデータ貼り付け!AC107=\"\",\"\",JAAFデータ貼り付け!AC107)","v":""},{"$f":"IF(JAAFデータ貼り付け!AD107=\"\",\"\",JAAFデータ貼り付け!AD107)","v":""},{"$f":"IF(JAAFデータ貼り付け!AE107=\"\",\"\",JAAFデータ貼り付け!AE107)","v":""},{"$f":"IF(JAAFデータ貼り付け!AF107=\"\",\"\",JAAFデータ貼り付け!AF107)","v":""},{"$f":"IF(JAAFデータ貼り付け!AG107=\"\",\"\",JAAFデータ貼り付け!AG107)","v":""},{"$f":"IF(JAAFデータ貼り付け!AH107=\"\",\"\",JAAFデータ貼り付け!AH107)","v":""},{"$f":"IF(JAAFデータ貼り付け!AI107=\"\",\"\",JAAFデータ貼り付け!AI107)","v":""},{"$f":"IF(JAAFデータ貼り付け!AJ107=\"\",\"\",JAAFデータ貼り付け!AJ107)","v":""},{"$f":"IF(JAAFデータ貼り付け!AK107=\"\",\"\",JAAFデータ貼り付け!AK107)","v":""},{"$f":"IF(JAAFデータ貼り付け!AL107=\"\",\"\",JAAFデータ貼り付け!AL107)","v":""},{"$f":"IF(JAAFデータ貼り付け!AM107=\"\",\"\",JAAFデータ貼り付け!AM107)","v":""},{"$f":"IF(JAAFデータ貼り付け!AN107=\"\",\"\",JAAFデータ貼り付け!AN107)","v":""},{"$f":"IF(JAAFデータ貼り付け!AO107=\"\",\"\",JAAFデータ貼り付け!AO107)","v":""},{"$f":"IF(JAAFデータ貼り付け!AP107=\"\",\"\",JAAFデータ貼り付け!AP107)","v":""},{"$f":"IF(JAAFデータ貼り付け!AQ107=\"\",\"\",JAAFデータ貼り付け!AQ107)","v":""}]
[{"$f":"IF(JAAFデータ貼り付け!E108=\"\",\"\",JAAFデータ貼り付け!E108)","v":""},{"$f":"IF(JAAFデータ貼り付け!B108=\"\",\"\",JAAFデータ貼り付け!B108)","v":""},{"$f":"IF(JAAFデータ貼り付け!C108=\"\",\"\",JAAFデータ貼り付け!C108)","v":""},{"$f":"IF(JAAFデータ貼り付け!D108=\"\",\"\",JAAFデータ貼り付け!D108)","v":""},null,{"$f":"IF(フリガナ貼り付け!D108=\"\",\"\",フリガナ貼り付け!D108)","v":""},{"$f":"IF(フリガナ貼り付け!E108=\"\",\"\",フリガナ貼り付け!E108)","v":""},{"$f":"IF(JAAFデータ貼り付け!H108=\"\",\"\",JAAFデータ貼り付け!H108)","v":""},{"$f":"IF(JAAFデータ貼り付け!I108=\"\",\"\",JAAFデータ貼り付け!I108)","v":""},{"$f":"IF(JAAFデータ貼り付け!J108=\"\",\"\",JAAFデータ貼り付け!J108)","v":""},{"$f":"IF(JAAFデータ貼り付け!K108=\"\",\"\",JAAFデータ貼り付け!K108)","v":""},{"$f":"IF(JAAFデータ貼り付け!L108=\"\",\"\",JAAFデータ貼り付け!L108)","v":""},{"$f":"IF(JAAFデータ貼り付け!M108=\"\",\"\",JAAFデータ貼り付け!M108)","v":""},{"$f":"IF(JAAFデータ貼り付け!N108=\"\",\"\",JAAFデータ貼り付け!N108)","v":""},{"$f":"IF(JAAFデータ貼り付け!O108=\"\",\"\",JAAFデータ貼り付け!O108)","v":""},{"$f":"IF(JAAFデータ貼り付け!P108=\"\",\"\",JAAFデータ貼り付け!P108)","v":""},{"$f":"IF(JAAFデータ貼り付け!Q108=\"\",\"\",JAAFデータ貼り付け!Q108)","v":""},{"$f":"IF(JAAFデータ貼り付け!R108=\"\",\"\",JAAFデータ貼り付け!R108)","v":""},{"$f":"生年月日貼り付け!E108&生年月日貼り付け!F108&生年月日貼り付け!G108","v":"000"},{"$f":"IF(JAAFデータ貼り付け!T108=\"\",\"\",JAAFデータ貼り付け!T108)","v":""},{"$f":"IF(JAAFデータ貼り付け!U108=\"\",\"\",JAAFデータ貼り付け!U108)","v":""},{"$f":"IF(Sheet5!B108=\"\",\"\",Sheet5!B108)","v":"0"},{"$f":"IF(JAAFデータ貼り付け!W108=\"\",\"\",JAAFデータ貼り付け!W108)","v":""},{"$f":"IF(JAAFデータ貼り付け!X108=\"\",\"\",JAAFデータ貼り付け!X108)","v":""},{"$f":"IF(JAAFデータ貼り付け!Y108=\"\",\"\",JAAFデータ貼り付け!Y108)","v":""},{"$f":"IF(JAAFデータ貼り付け!Z108=\"\",\"\",JAAFデータ貼り付け!Z108)","v":""},{"$f":"IF(JAAFデータ貼り付け!AA108=\"\",\"\",JAAFデータ貼り付け!AA108)","v":""},{"$f":"IF(JAAFデータ貼り付け!AB108=\"\",\"\",JAAFデータ貼り付け!AB108)","v":""},{"$f":"IF(JAAFデータ貼り付け!AC108=\"\",\"\",JAAFデータ貼り付け!AC108)","v":""},{"$f":"IF(JAAFデータ貼り付け!AD108=\"\",\"\",JAAFデータ貼り付け!AD108)","v":""},{"$f":"IF(JAAFデータ貼り付け!AE108=\"\",\"\",JAAFデータ貼り付け!AE108)","v":""},{"$f":"IF(JAAFデータ貼り付け!AF108=\"\",\"\",JAAFデータ貼り付け!AF108)","v":""},{"$f":"IF(JAAFデータ貼り付け!AG108=\"\",\"\",JAAFデータ貼り付け!AG108)","v":""},{"$f":"IF(JAAFデータ貼り付け!AH108=\"\",\"\",JAAFデータ貼り付け!AH108)","v":""},{"$f":"IF(JAAFデータ貼り付け!AI108=\"\",\"\",JAAFデータ貼り付け!AI108)","v":""},{"$f":"IF(JAAFデータ貼り付け!AJ108=\"\",\"\",JAAFデータ貼り付け!AJ108)","v":""},{"$f":"IF(JAAFデータ貼り付け!AK108=\"\",\"\",JAAFデータ貼り付け!AK108)","v":""},{"$f":"IF(JAAFデータ貼り付け!AL108=\"\",\"\",JAAFデータ貼り付け!AL108)","v":""},{"$f":"IF(JAAFデータ貼り付け!AM108=\"\",\"\",JAAFデータ貼り付け!AM108)","v":""},{"$f":"IF(JAAFデータ貼り付け!AN108=\"\",\"\",JAAFデータ貼り付け!AN108)","v":""},{"$f":"IF(JAAFデータ貼り付け!AO108=\"\",\"\",JAAFデータ貼り付け!AO108)","v":""},{"$f":"IF(JAAFデータ貼り付け!AP108=\"\",\"\",JAAFデータ貼り付け!AP108)","v":""},{"$f":"IF(JAAFデータ貼り付け!AQ108=\"\",\"\",JAAFデータ貼り付け!AQ108)","v":""}]
[{"$f":"IF(JAAFデータ貼り付け!E109=\"\",\"\",JAAFデータ貼り付け!E109)","v":""},{"$f":"IF(JAAFデータ貼り付け!B109=\"\",\"\",JAAFデータ貼り付け!B109)","v":""},{"$f":"IF(JAAFデータ貼り付け!C109=\"\",\"\",JAAFデータ貼り付け!C109)","v":""},{"$f":"IF(JAAFデータ貼り付け!D109=\"\",\"\",JAAFデータ貼り付け!D109)","v":""},null,{"$f":"IF(フリガナ貼り付け!D109=\"\",\"\",フリガナ貼り付け!D109)","v":""},{"$f":"IF(フリガナ貼り付け!E109=\"\",\"\",フリガナ貼り付け!E109)","v":""},{"$f":"IF(JAAFデータ貼り付け!H109=\"\",\"\",JAAFデータ貼り付け!H109)","v":""},{"$f":"IF(JAAFデータ貼り付け!I109=\"\",\"\",JAAFデータ貼り付け!I109)","v":""},{"$f":"IF(JAAFデータ貼り付け!J109=\"\",\"\",JAAFデータ貼り付け!J109)","v":""},{"$f":"IF(JAAFデータ貼り付け!K109=\"\",\"\",JAAFデータ貼り付け!K109)","v":""},{"$f":"IF(JAAFデータ貼り付け!L109=\"\",\"\",JAAFデータ貼り付け!L109)","v":""},{"$f":"IF(JAAFデータ貼り付け!M109=\"\",\"\",JAAFデータ貼り付け!M109)","v":""},{"$f":"IF(JAAFデータ貼り付け!N109=\"\",\"\",JAAFデータ貼り付け!N109)","v":""},{"$f":"IF(JAAFデータ貼り付け!O109=\"\",\"\",JAAFデータ貼り付け!O109)","v":""},{"$f":"IF(JAAFデータ貼り付け!P109=\"\",\"\",JAAFデータ貼り付け!P109)","v":""},{"$f":"IF(JAAFデータ貼り付け!Q109=\"\",\"\",JAAFデータ貼り付け!Q109)","v":""},{"$f":"IF(JAAFデータ貼り付け!R109=\"\",\"\",JAAFデータ貼り付け!R109)","v":""},{"$f":"生年月日貼り付け!E109&生年月日貼り付け!F109&生年月日貼り付け!G109","v":"000"},{"$f":"IF(JAAFデータ貼り付け!T109=\"\",\"\",JAAFデータ貼り付け!T109)","v":""},{"$f":"IF(JAAFデータ貼り付け!U109=\"\",\"\",JAAFデータ貼り付け!U109)","v":""},{"$f":"IF(Sheet5!B109=\"\",\"\",Sheet5!B109)","v":"0"},{"$f":"IF(JAAFデータ貼り付け!W109=\"\",\"\",JAAFデータ貼り付け!W109)","v":""},{"$f":"IF(JAAFデータ貼り付け!X109=\"\",\"\",JAAFデータ貼り付け!X109)","v":""},{"$f":"IF(JAAFデータ貼り付け!Y109=\"\",\"\",JAAFデータ貼り付け!Y109)","v":""},{"$f":"IF(JAAFデータ貼り付け!Z109=\"\",\"\",JAAFデータ貼り付け!Z109)","v":""},{"$f":"IF(JAAFデータ貼り付け!AA109=\"\",\"\",JAAFデータ貼り付け!AA109)","v":""},{"$f":"IF(JAAFデータ貼り付け!AB109=\"\",\"\",JAAFデータ貼り付け!AB109)","v":""},{"$f":"IF(JAAFデータ貼り付け!AC109=\"\",\"\",JAAFデータ貼り付け!AC109)","v":""},{"$f":"IF(JAAFデータ貼り付け!AD109=\"\",\"\",JAAFデータ貼り付け!AD109)","v":""},{"$f":"IF(JAAFデータ貼り付け!AE109=\"\",\"\",JAAFデータ貼り付け!AE109)","v":""},{"$f":"IF(JAAFデータ貼り付け!AF109=\"\",\"\",JAAFデータ貼り付け!AF109)","v":""},{"$f":"IF(JAAFデータ貼り付け!AG109=\"\",\"\",JAAFデータ貼り付け!AG109)","v":""},{"$f":"IF(JAAFデータ貼り付け!AH109=\"\",\"\",JAAFデータ貼り付け!AH109)","v":""},{"$f":"IF(JAAFデータ貼り付け!AI109=\"\",\"\",JAAFデータ貼り付け!AI109)","v":""},{"$f":"IF(JAAFデータ貼り付け!AJ109=\"\",\"\",JAAFデータ貼り付け!AJ109)","v":""},{"$f":"IF(JAAFデータ貼り付け!AK109=\"\",\"\",JAAFデータ貼り付け!AK109)","v":""},{"$f":"IF(JAAFデータ貼り付け!AL109=\"\",\"\",JAAFデータ貼り付け!AL109)","v":""},{"$f":"IF(JAAFデータ貼り付け!AM109=\"\",\"\",JAAFデータ貼り付け!AM109)","v":""},{"$f":"IF(JAAFデータ貼り付け!AN109=\"\",\"\",JAAFデータ貼り付け!AN109)","v":""},{"$f":"IF(JAAFデータ貼り付け!AO109=\"\",\"\",JAAFデータ貼り付け!AO109)","v":""},{"$f":"IF(JAAFデータ貼り付け!AP109=\"\",\"\",JAAFデータ貼り付け!AP109)","v":""},{"$f":"IF(JAAFデータ貼り付け!AQ109=\"\",\"\",JAAFデータ貼り付け!AQ109)","v":""}]
[{"$f":"IF(JAAFデータ貼り付け!E110=\"\",\"\",JAAFデータ貼り付け!E110)","v":""},{"$f":"IF(JAAFデータ貼り付け!B110=\"\",\"\",JAAFデータ貼り付け!B110)","v":""},{"$f":"IF(JAAFデータ貼り付け!C110=\"\",\"\",JAAFデータ貼り付け!C110)","v":""},{"$f":"IF(JAAFデータ貼り付け!D110=\"\",\"\",JAAFデータ貼り付け!D110)","v":""},null,{"$f":"IF(フリガナ貼り付け!D110=\"\",\"\",フリガナ貼り付け!D110)","v":""},{"$f":"IF(フリガナ貼り付け!E110=\"\",\"\",フリガナ貼り付け!E110)","v":""},{"$f":"IF(JAAFデータ貼り付け!H110=\"\",\"\",JAAFデータ貼り付け!H110)","v":""},{"$f":"IF(JAAFデータ貼り付け!I110=\"\",\"\",JAAFデータ貼り付け!I110)","v":""},{"$f":"IF(JAAFデータ貼り付け!J110=\"\",\"\",JAAFデータ貼り付け!J110)","v":""},{"$f":"IF(JAAFデータ貼り付け!K110=\"\",\"\",JAAFデータ貼り付け!K110)","v":""},{"$f":"IF(JAAFデータ貼り付け!L110=\"\",\"\",JAAFデータ貼り付け!L110)","v":""},{"$f":"IF(JAAFデータ貼り付け!M110=\"\",\"\",JAAFデータ貼り付け!M110)","v":""},{"$f":"IF(JAAFデータ貼り付け!N110=\"\",\"\",JAAFデータ貼り付け!N110)","v":""},{"$f":"IF(JAAFデータ貼り付け!O110=\"\",\"\",JAAFデータ貼り付け!O110)","v":""},{"$f":"IF(JAAFデータ貼り付け!P110=\"\",\"\",JAAFデータ貼り付け!P110)","v":""},{"$f":"IF(JAAFデータ貼り付け!Q110=\"\",\"\",JAAFデータ貼り付け!Q110)","v":""},{"$f":"IF(JAAFデータ貼り付け!R110=\"\",\"\",JAAFデータ貼り付け!R110)","v":""},{"$f":"生年月日貼り付け!E110&生年月日貼り付け!F110&生年月日貼り付け!G110","v":"000"},{"$f":"IF(JAAFデータ貼り付け!T110=\"\",\"\",JAAFデータ貼り付け!T110)","v":""},{"$f":"IF(JAAFデータ貼り付け!U110=\"\",\"\",JAAFデータ貼り付け!U110)","v":""},{"$f":"IF(Sheet5!B110=\"\",\"\",Sheet5!B110)","v":"0"},{"$f":"IF(JAAFデータ貼り付け!W110=\"\",\"\",JAAFデータ貼り付け!W110)","v":""},{"$f":"IF(JAAFデータ貼り付け!X110=\"\",\"\",JAAFデータ貼り付け!X110)","v":""},{"$f":"IF(JAAFデータ貼り付け!Y110=\"\",\"\",JAAFデータ貼り付け!Y110)","v":""},{"$f":"IF(JAAFデータ貼り付け!Z110=\"\",\"\",JAAFデータ貼り付け!Z110)","v":""},{"$f":"IF(JAAFデータ貼り付け!AA110=\"\",\"\",JAAFデータ貼り付け!AA110)","v":""},{"$f":"IF(JAAFデータ貼り付け!AB110=\"\",\"\",JAAFデータ貼り付け!AB110)","v":""},{"$f":"IF(JAAFデータ貼り付け!AC110=\"\",\"\",JAAFデータ貼り付け!AC110)","v":""},{"$f":"IF(JAAFデータ貼り付け!AD110=\"\",\"\",JAAFデータ貼り付け!AD110)","v":""},{"$f":"IF(JAAFデータ貼り付け!AE110=\"\",\"\",JAAFデータ貼り付け!AE110)","v":""},{"$f":"IF(JAAFデータ貼り付け!AF110=\"\",\"\",JAAFデータ貼り付け!AF110)","v":""},{"$f":"IF(JAAFデータ貼り付け!AG110=\"\",\"\",JAAFデータ貼り付け!AG110)","v":""},{"$f":"IF(JAAFデータ貼り付け!AH110=\"\",\"\",JAAFデータ貼り付け!AH110)","v":""},{"$f":"IF(JAAFデータ貼り付け!AI110=\"\",\"\",JAAFデータ貼り付け!AI110)","v":""},{"$f":"IF(JAAFデータ貼り付け!AJ110=\"\",\"\",JAAFデータ貼り付け!AJ110)","v":""},{"$f":"IF(JAAFデータ貼り付け!AK110=\"\",\"\",JAAFデータ貼り付け!AK110)","v":""},{"$f":"IF(JAAFデータ貼り付け!AL110=\"\",\"\",JAAFデータ貼り付け!AL110)","v":""},{"$f":"IF(JAAFデータ貼り付け!AM110=\"\",\"\",JAAFデータ貼り付け!AM110)","v":""},{"$f":"IF(JAAFデータ貼り付け!AN110=\"\",\"\",JAAFデータ貼り付け!AN110)","v":""},{"$f":"IF(JAAFデータ貼り付け!AO110=\"\",\"\",JAAFデータ貼り付け!AO110)","v":""},{"$f":"IF(JAAFデータ貼り付け!AP110=\"\",\"\",JAAFデータ貼り付け!AP110)","v":""},{"$f":"IF(JAAFデータ貼り付け!AQ110=\"\",\"\",JAAFデータ貼り付け!AQ110)","v":""}]
[{"$f":"IF(JAAFデータ貼り付け!E111=\"\",\"\",JAAFデータ貼り付け!E111)","v":""},{"$f":"IF(JAAFデータ貼り付け!B111=\"\",\"\",JAAFデータ貼り付け!B111)","v":""},{"$f":"IF(JAAFデータ貼り付け!C111=\"\",\"\",JAAFデータ貼り付け!C111)","v":""},{"$f":"IF(JAAFデータ貼り付け!D111=\"\",\"\",JAAFデータ貼り付け!D111)","v":""},null,{"$f":"IF(フリガナ貼り付け!D111=\"\",\"\",フリガナ貼り付け!D111)","v":""},{"$f":"IF(フリガナ貼り付け!E111=\"\",\"\",フリガナ貼り付け!E111)","v":""},{"$f":"IF(JAAFデータ貼り付け!H111=\"\",\"\",JAAFデータ貼り付け!H111)","v":""},{"$f":"IF(JAAFデータ貼り付け!I111=\"\",\"\",JAAFデータ貼り付け!I111)","v":""},{"$f":"IF(JAAFデータ貼り付け!J111=\"\",\"\",JAAFデータ貼り付け!J111)","v":""},{"$f":"IF(JAAFデータ貼り付け!K111=\"\",\"\",JAAFデータ貼り付け!K111)","v":""},{"$f":"IF(JAAFデータ貼り付け!L111=\"\",\"\",JAAFデータ貼り付け!L111)","v":""},{"$f":"IF(JAAFデータ貼り付け!M111=\"\",\"\",JAAFデータ貼り付け!M111)","v":""},{"$f":"IF(JAAFデータ貼り付け!N111=\"\",\"\",JAAFデータ貼り付け!N111)","v":""},{"$f":"IF(JAAFデータ貼り付け!O111=\"\",\"\",JAAFデータ貼り付け!O111)","v":""},{"$f":"IF(JAAFデータ貼り付け!P111=\"\",\"\",JAAFデータ貼り付け!P111)","v":""},{"$f":"IF(JAAFデータ貼り付け!Q111=\"\",\"\",JAAFデータ貼り付け!Q111)","v":""},{"$f":"IF(JAAFデータ貼り付け!R111=\"\",\"\",JAAFデータ貼り付け!R111)","v":""},{"$f":"生年月日貼り付け!E111&生年月日貼り付け!F111&生年月日貼り付け!G111","v":"000"},{"$f":"IF(JAAFデータ貼り付け!T111=\"\",\"\",JAAFデータ貼り付け!T111)","v":""},{"$f":"IF(JAAFデータ貼り付け!U111=\"\",\"\",JAAFデータ貼り付け!U111)","v":""},{"$f":"IF(Sheet5!B111=\"\",\"\",Sheet5!B111)","v":"0"},{"$f":"IF(JAAFデータ貼り付け!W111=\"\",\"\",JAAFデータ貼り付け!W111)","v":""},{"$f":"IF(JAAFデータ貼り付け!X111=\"\",\"\",JAAFデータ貼り付け!X111)","v":""},{"$f":"IF(JAAFデータ貼り付け!Y111=\"\",\"\",JAAFデータ貼り付け!Y111)","v":""},{"$f":"IF(JAAFデータ貼り付け!Z111=\"\",\"\",JAAFデータ貼り付け!Z111)","v":""},{"$f":"IF(JAAFデータ貼り付け!AA111=\"\",\"\",JAAFデータ貼り付け!AA111)","v":""},{"$f":"IF(JAAFデータ貼り付け!AB111=\"\",\"\",JAAFデータ貼り付け!AB111)","v":""},{"$f":"IF(JAAFデータ貼り付け!AC111=\"\",\"\",JAAFデータ貼り付け!AC111)","v":""},{"$f":"IF(JAAFデータ貼り付け!AD111=\"\",\"\",JAAFデータ貼り付け!AD111)","v":""},{"$f":"IF(JAAFデータ貼り付け!AE111=\"\",\"\",JAAFデータ貼り付け!AE111)","v":""},{"$f":"IF(JAAFデータ貼り付け!AF111=\"\",\"\",JAAFデータ貼り付け!AF111)","v":""},{"$f":"IF(JAAFデータ貼り付け!AG111=\"\",\"\",JAAFデータ貼り付け!AG111)","v":""},{"$f":"IF(JAAFデータ貼り付け!AH111=\"\",\"\",JAAFデータ貼り付け!AH111)","v":""},{"$f":"IF(JAAFデータ貼り付け!AI111=\"\",\"\",JAAFデータ貼り付け!AI111)","v":""},{"$f":"IF(JAAFデータ貼り付け!AJ111=\"\",\"\",JAAFデータ貼り付け!AJ111)","v":""},{"$f":"IF(JAAFデータ貼り付け!AK111=\"\",\"\",JAAFデータ貼り付け!AK111)","v":""},{"$f":"IF(JAAFデータ貼り付け!AL111=\"\",\"\",JAAFデータ貼り付け!AL111)","v":""},{"$f":"IF(JAAFデータ貼り付け!AM111=\"\",\"\",JAAFデータ貼り付け!AM111)","v":""},{"$f":"IF(JAAFデータ貼り付け!AN111=\"\",\"\",JAAFデータ貼り付け!AN111)","v":""},{"$f":"IF(JAAFデータ貼り付け!AO111=\"\",\"\",JAAFデータ貼り付け!AO111)","v":""},{"$f":"IF(JAAFデータ貼り付け!AP111=\"\",\"\",JAAFデータ貼り付け!AP111)","v":""},{"$f":"IF(JAAFデータ貼り付け!AQ111=\"\",\"\",JAAFデータ貼り付け!AQ111)","v":""}]
[{"$f":"IF(JAAFデータ貼り付け!E112=\"\",\"\",JAAFデータ貼り付け!E112)","v":""},{"$f":"IF(JAAFデータ貼り付け!B112=\"\",\"\",JAAFデータ貼り付け!B112)","v":""},{"$f":"IF(JAAFデータ貼り付け!C112=\"\",\"\",JAAFデータ貼り付け!C112)","v":""},{"$f":"IF(JAAFデータ貼り付け!D112=\"\",\"\",JAAFデータ貼り付け!D112)","v":""},null,{"$f":"IF(フリガナ貼り付け!D112=\"\",\"\",フリガナ貼り付け!D112)","v":""},{"$f":"IF(フリガナ貼り付け!E112=\"\",\"\",フリガナ貼り付け!E112)","v":""},{"$f":"IF(JAAFデータ貼り付け!H112=\"\",\"\",JAAFデータ貼り付け!H112)","v":""},{"$f":"IF(JAAFデータ貼り付け!I112=\"\",\"\",JAAFデータ貼り付け!I112)","v":""},{"$f":"IF(JAAFデータ貼り付け!J112=\"\",\"\",JAAFデータ貼り付け!J112)","v":""},{"$f":"IF(JAAFデータ貼り付け!K112=\"\",\"\",JAAFデータ貼り付け!K112)","v":""},{"$f":"IF(JAAFデータ貼り付け!L112=\"\",\"\",JAAFデータ貼り付け!L112)","v":""},{"$f":"IF(JAAFデータ貼り付け!M112=\"\",\"\",JAAFデータ貼り付け!M112)","v":""},{"$f":"IF(JAAFデータ貼り付け!N112=\"\",\"\",JAAFデータ貼り付け!N112)","v":""},{"$f":"IF(JAAFデータ貼り付け!O112=\"\",\"\",JAAFデータ貼り付け!O112)","v":""},{"$f":"IF(JAAFデータ貼り付け!P112=\"\",\"\",JAAFデータ貼り付け!P112)","v":""},{"$f":"IF(JAAFデータ貼り付け!Q112=\"\",\"\",JAAFデータ貼り付け!Q112)","v":""},{"$f":"IF(JAAFデータ貼り付け!R112=\"\",\"\",JAAFデータ貼り付け!R112)","v":""},{"$f":"生年月日貼り付け!E112&生年月日貼り付け!F112&生年月日貼り付け!G112","v":"000"},{"$f":"IF(JAAFデータ貼り付け!T112=\"\",\"\",JAAFデータ貼り付け!T112)","v":""},{"$f":"IF(JAAFデータ貼り付け!U112=\"\",\"\",JAAFデータ貼り付け!U112)","v":""},{"$f":"IF(Sheet5!B112=\"\",\"\",Sheet5!B112)","v":"0"},{"$f":"IF(JAAFデータ貼り付け!W112=\"\",\"\",JAAFデータ貼り付け!W112)","v":""},{"$f":"IF(JAAFデータ貼り付け!X112=\"\",\"\",JAAFデータ貼り付け!X112)","v":""},{"$f":"IF(JAAFデータ貼り付け!Y112=\"\",\"\",JAAFデータ貼り付け!Y112)","v":""},{"$f":"IF(JAAFデータ貼り付け!Z112=\"\",\"\",JAAFデータ貼り付け!Z112)","v":""},{"$f":"IF(JAAFデータ貼り付け!AA112=\"\",\"\",JAAFデータ貼り付け!AA112)","v":""},{"$f":"IF(JAAFデータ貼り付け!AB112=\"\",\"\",JAAFデータ貼り付け!AB112)","v":""},{"$f":"IF(JAAFデータ貼り付け!AC112=\"\",\"\",JAAFデータ貼り付け!AC112)","v":""},{"$f":"IF(JAAFデータ貼り付け!AD112=\"\",\"\",JAAFデータ貼り付け!AD112)","v":""},{"$f":"IF(JAAFデータ貼り付け!AE112=\"\",\"\",JAAFデータ貼り付け!AE112)","v":""},{"$f":"IF(JAAFデータ貼り付け!AF112=\"\",\"\",JAAFデータ貼り付け!AF112)","v":""},{"$f":"IF(JAAFデータ貼り付け!AG112=\"\",\"\",JAAFデータ貼り付け!AG112)","v":""},{"$f":"IF(JAAFデータ貼り付け!AH112=\"\",\"\",JAAFデータ貼り付け!AH112)","v":""},{"$f":"IF(JAAFデータ貼り付け!AI112=\"\",\"\",JAAFデータ貼り付け!AI112)","v":""},{"$f":"IF(JAAFデータ貼り付け!AJ112=\"\",\"\",JAAFデータ貼り付け!AJ112)","v":""},{"$f":"IF(JAAFデータ貼り付け!AK112=\"\",\"\",JAAFデータ貼り付け!AK112)","v":""},{"$f":"IF(JAAFデータ貼り付け!AL112=\"\",\"\",JAAFデータ貼り付け!AL112)","v":""},{"$f":"IF(JAAFデータ貼り付け!AM112=\"\",\"\",JAAFデータ貼り付け!AM112)","v":""},{"$f":"IF(JAAFデータ貼り付け!AN112=\"\",\"\",JAAFデータ貼り付け!AN112)","v":""},{"$f":"IF(JAAFデータ貼り付け!AO112=\"\",\"\",JAAFデータ貼り付け!AO112)","v":""},{"$f":"IF(JAAFデータ貼り付け!AP112=\"\",\"\",JAAFデータ貼り付け!AP112)","v":""},{"$f":"IF(JAAFデータ貼り付け!AQ112=\"\",\"\",JAAFデータ貼り付け!AQ112)","v":""}]
[{"$f":"IF(JAAFデータ貼り付け!E113=\"\",\"\",JAAFデータ貼り付け!E113)","v":""},{"$f":"IF(JAAFデータ貼り付け!B113=\"\",\"\",JAAFデータ貼り付け!B113)","v":""},{"$f":"IF(JAAFデータ貼り付け!C113=\"\",\"\",JAAFデータ貼り付け!C113)","v":""},{"$f":"IF(JAAFデータ貼り付け!D113=\"\",\"\",JAAFデータ貼り付け!D113)","v":""},null,{"$f":"IF(フリガナ貼り付け!D113=\"\",\"\",フリガナ貼り付け!D113)","v":""},{"$f":"IF(フリガナ貼り付け!E113=\"\",\"\",フリガナ貼り付け!E113)","v":""},{"$f":"IF(JAAFデータ貼り付け!H113=\"\",\"\",JAAFデータ貼り付け!H113)","v":""},{"$f":"IF(JAAFデータ貼り付け!I113=\"\",\"\",JAAFデータ貼り付け!I113)","v":""},{"$f":"IF(JAAFデータ貼り付け!J113=\"\",\"\",JAAFデータ貼り付け!J113)","v":""},{"$f":"IF(JAAFデータ貼り付け!K113=\"\",\"\",JAAFデータ貼り付け!K113)","v":""},{"$f":"IF(JAAFデータ貼り付け!L113=\"\",\"\",JAAFデータ貼り付け!L113)","v":""},{"$f":"IF(JAAFデータ貼り付け!M113=\"\",\"\",JAAFデータ貼り付け!M113)","v":""},{"$f":"IF(JAAFデータ貼り付け!N113=\"\",\"\",JAAFデータ貼り付け!N113)","v":""},{"$f":"IF(JAAFデータ貼り付け!O113=\"\",\"\",JAAFデータ貼り付け!O113)","v":""},{"$f":"IF(JAAFデータ貼り付け!P113=\"\",\"\",JAAFデータ貼り付け!P113)","v":""},{"$f":"IF(JAAFデータ貼り付け!Q113=\"\",\"\",JAAFデータ貼り付け!Q113)","v":""},{"$f":"IF(JAAFデータ貼り付け!R113=\"\",\"\",JAAFデータ貼り付け!R113)","v":""},{"$f":"生年月日貼り付け!E113&生年月日貼り付け!F113&生年月日貼り付け!G113","v":"000"},{"$f":"IF(JAAFデータ貼り付け!T113=\"\",\"\",JAAFデータ貼り付け!T113)","v":""},{"$f":"IF(JAAFデータ貼り付け!U113=\"\",\"\",JAAFデータ貼り付け!U113)","v":""},{"$f":"IF(Sheet5!B113=\"\",\"\",Sheet5!B113)","v":"0"},{"$f":"IF(JAAFデータ貼り付け!W113=\"\",\"\",JAAFデータ貼り付け!W113)","v":""},{"$f":"IF(JAAFデータ貼り付け!X113=\"\",\"\",JAAFデータ貼り付け!X113)","v":""},{"$f":"IF(JAAFデータ貼り付け!Y113=\"\",\"\",JAAFデータ貼り付け!Y113)","v":""},{"$f":"IF(JAAFデータ貼り付け!Z113=\"\",\"\",JAAFデータ貼り付け!Z113)","v":""},{"$f":"IF(JAAFデータ貼り付け!AA113=\"\",\"\",JAAFデータ貼り付け!AA113)","v":""},{"$f":"IF(JAAFデータ貼り付け!AB113=\"\",\"\",JAAFデータ貼り付け!AB113)","v":""},{"$f":"IF(JAAFデータ貼り付け!AC113=\"\",\"\",JAAFデータ貼り付け!AC113)","v":""},{"$f":"IF(JAAFデータ貼り付け!AD113=\"\",\"\",JAAFデータ貼り付け!AD113)","v":""},{"$f":"IF(JAAFデータ貼り付け!AE113=\"\",\"\",JAAFデータ貼り付け!AE113)","v":""},{"$f":"IF(JAAFデータ貼り付け!AF113=\"\",\"\",JAAFデータ貼り付け!AF113)","v":""},{"$f":"IF(JAAFデータ貼り付け!AG113=\"\",\"\",JAAFデータ貼り付け!AG113)","v":""},{"$f":"IF(JAAFデータ貼り付け!AH113=\"\",\"\",JAAFデータ貼り付け!AH113)","v":""},{"$f":"IF(JAAFデータ貼り付け!AI113=\"\",\"\",JAAFデータ貼り付け!AI113)","v":""},{"$f":"IF(JAAFデータ貼り付け!AJ113=\"\",\"\",JAAFデータ貼り付け!AJ113)","v":""},{"$f":"IF(JAAFデータ貼り付け!AK113=\"\",\"\",JAAFデータ貼り付け!AK113)","v":""},{"$f":"IF(JAAFデータ貼り付け!AL113=\"\",\"\",JAAFデータ貼り付け!AL113)","v":""},{"$f":"IF(JAAFデータ貼り付け!AM113=\"\",\"\",JAAFデータ貼り付け!AM113)","v":""},{"$f":"IF(JAAFデータ貼り付け!AN113=\"\",\"\",JAAFデータ貼り付け!AN113)","v":""},{"$f":"IF(JAAFデータ貼り付け!AO113=\"\",\"\",JAAFデータ貼り付け!AO113)","v":""},{"$f":"IF(JAAFデータ貼り付け!AP113=\"\",\"\",JAAFデータ貼り付け!AP113)","v":""},{"$f":"IF(JAAFデータ貼り付け!AQ113=\"\",\"\",JAAFデータ貼り付け!AQ113)","v":""}]
[{"$f":"IF(JAAFデータ貼り付け!E114=\"\",\"\",JAAFデータ貼り付け!E114)","v":""},{"$f":"IF(JAAFデータ貼り付け!B114=\"\",\"\",JAAFデータ貼り付け!B114)","v":""},{"$f":"IF(JAAFデータ貼り付け!C114=\"\",\"\",JAAFデータ貼り付け!C114)","v":""},{"$f":"IF(JAAFデータ貼り付け!D114=\"\",\"\",JAAFデータ貼り付け!D114)","v":""},null,{"$f":"IF(フリガナ貼り付け!D114=\"\",\"\",フリガナ貼り付け!D114)","v":""},{"$f":"IF(フリガナ貼り付け!E114=\"\",\"\",フリガナ貼り付け!E114)","v":""},{"$f":"IF(JAAFデータ貼り付け!H114=\"\",\"\",JAAFデータ貼り付け!H114)","v":""},{"$f":"IF(JAAFデータ貼り付け!I114=\"\",\"\",JAAFデータ貼り付け!I114)","v":""},{"$f":"IF(JAAFデータ貼り付け!J114=\"\",\"\",JAAFデータ貼り付け!J114)","v":""},{"$f":"IF(JAAFデータ貼り付け!K114=\"\",\"\",JAAFデータ貼り付け!K114)","v":""},{"$f":"IF(JAAFデータ貼り付け!L114=\"\",\"\",JAAFデータ貼り付け!L114)","v":""},{"$f":"IF(JAAFデータ貼り付け!M114=\"\",\"\",JAAFデータ貼り付け!M114)","v":""},{"$f":"IF(JAAFデータ貼り付け!N114=\"\",\"\",JAAFデータ貼り付け!N114)","v":""},{"$f":"IF(JAAFデータ貼り付け!O114=\"\",\"\",JAAFデータ貼り付け!O114)","v":""},{"$f":"IF(JAAFデータ貼り付け!P114=\"\",\"\",JAAFデータ貼り付け!P114)","v":""},{"$f":"IF(JAAFデータ貼り付け!Q114=\"\",\"\",JAAFデータ貼り付け!Q114)","v":""},{"$f":"IF(JAAFデータ貼り付け!R114=\"\",\"\",JAAFデータ貼り付け!R114)","v":""},{"$f":"生年月日貼り付け!E114&生年月日貼り付け!F114&生年月日貼り付け!G114","v":"000"},{"$f":"IF(JAAFデータ貼り付け!T114=\"\",\"\",JAAFデータ貼り付け!T114)","v":""},{"$f":"IF(JAAFデータ貼り付け!U114=\"\",\"\",JAAFデータ貼り付け!U114)","v":""},{"$f":"IF(Sheet5!B114=\"\",\"\",Sheet5!B114)","v":"0"},{"$f":"IF(JAAFデータ貼り付け!W114=\"\",\"\",JAAFデータ貼り付け!W114)","v":""},{"$f":"IF(JAAFデータ貼り付け!X114=\"\",\"\",JAAFデータ貼り付け!X114)","v":""},{"$f":"IF(JAAFデータ貼り付け!Y114=\"\",\"\",JAAFデータ貼り付け!Y114)","v":""},{"$f":"IF(JAAFデータ貼り付け!Z114=\"\",\"\",JAAFデータ貼り付け!Z114)","v":""},{"$f":"IF(JAAFデータ貼り付け!AA114=\"\",\"\",JAAFデータ貼り付け!AA114)","v":""},{"$f":"IF(JAAFデータ貼り付け!AB114=\"\",\"\",JAAFデータ貼り付け!AB114)","v":""},{"$f":"IF(JAAFデータ貼り付け!AC114=\"\",\"\",JAAFデータ貼り付け!AC114)","v":""},{"$f":"IF(JAAFデータ貼り付け!AD114=\"\",\"\",JAAFデータ貼り付け!AD114)","v":""},{"$f":"IF(JAAFデータ貼り付け!AE114=\"\",\"\",JAAFデータ貼り付け!AE114)","v":""},{"$f":"IF(JAAFデータ貼り付け!AF114=\"\",\"\",JAAFデータ貼り付け!AF114)","v":""},{"$f":"IF(JAAFデータ貼り付け!AG114=\"\",\"\",JAAFデータ貼り付け!AG114)","v":""},{"$f":"IF(JAAFデータ貼り付け!AH114=\"\",\"\",JAAFデータ貼り付け!AH114)","v":""},{"$f":"IF(JAAFデータ貼り付け!AI114=\"\",\"\",JAAFデータ貼り付け!AI114)","v":""},{"$f":"IF(JAAFデータ貼り付け!AJ114=\"\",\"\",JAAFデータ貼り付け!AJ114)","v":""},{"$f":"IF(JAAFデータ貼り付け!AK114=\"\",\"\",JAAFデータ貼り付け!AK114)","v":""},{"$f":"IF(JAAFデータ貼り付け!AL114=\"\",\"\",JAAFデータ貼り付け!AL114)","v":""},{"$f":"IF(JAAFデータ貼り付け!AM114=\"\",\"\",JAAFデータ貼り付け!AM114)","v":""},{"$f":"IF(JAAFデータ貼り付け!AN114=\"\",\"\",JAAFデータ貼り付け!AN114)","v":""},{"$f":"IF(JAAFデータ貼り付け!AO114=\"\",\"\",JAAFデータ貼り付け!AO114)","v":""},{"$f":"IF(JAAFデータ貼り付け!AP114=\"\",\"\",JAAFデータ貼り付け!AP114)","v":""},{"$f":"IF(JAAFデータ貼り付け!AQ114=\"\",\"\",JAAFデータ貼り付け!AQ114)","v":""}]
[{"$f":"IF(JAAFデータ貼り付け!E115=\"\",\"\",JAAFデータ貼り付け!E115)","v":""},{"$f":"IF(JAAFデータ貼り付け!B115=\"\",\"\",JAAFデータ貼り付け!B115)","v":""},{"$f":"IF(JAAFデータ貼り付け!C115=\"\",\"\",JAAFデータ貼り付け!C115)","v":""},{"$f":"IF(JAAFデータ貼り付け!D115=\"\",\"\",JAAFデータ貼り付け!D115)","v":""},null,{"$f":"IF(フリガナ貼り付け!D115=\"\",\"\",フリガナ貼り付け!D115)","v":""},{"$f":"IF(フリガナ貼り付け!E115=\"\",\"\",フリガナ貼り付け!E115)","v":""},{"$f":"IF(JAAFデータ貼り付け!H115=\"\",\"\",JAAFデータ貼り付け!H115)","v":""},{"$f":"IF(JAAFデータ貼り付け!I115=\"\",\"\",JAAFデータ貼り付け!I115)","v":""},{"$f":"IF(JAAFデータ貼り付け!J115=\"\",\"\",JAAFデータ貼り付け!J115)","v":""},{"$f":"IF(JAAFデータ貼り付け!K115=\"\",\"\",JAAFデータ貼り付け!K115)","v":""},{"$f":"IF(JAAFデータ貼り付け!L115=\"\",\"\",JAAFデータ貼り付け!L115)","v":""},{"$f":"IF(JAAFデータ貼り付け!M115=\"\",\"\",JAAFデータ貼り付け!M115)","v":""},{"$f":"IF(JAAFデータ貼り付け!N115=\"\",\"\",JAAFデータ貼り付け!N115)","v":""},{"$f":"IF(JAAFデータ貼り付け!O115=\"\",\"\",JAAFデータ貼り付け!O115)","v":""},{"$f":"IF(JAAFデータ貼り付け!P115=\"\",\"\",JAAFデータ貼り付け!P115)","v":""},{"$f":"IF(JAAFデータ貼り付け!Q115=\"\",\"\",JAAFデータ貼り付け!Q115)","v":""},{"$f":"IF(JAAFデータ貼り付け!R115=\"\",\"\",JAAFデータ貼り付け!R115)","v":""},{"$f":"生年月日貼り付け!E115&生年月日貼り付け!F115&生年月日貼り付け!G115","v":"000"},{"$f":"IF(JAAFデータ貼り付け!T115=\"\",\"\",JAAFデータ貼り付け!T115)","v":""},{"$f":"IF(JAAFデータ貼り付け!U115=\"\",\"\",JAAFデータ貼り付け!U115)","v":""},{"$f":"IF(Sheet5!B115=\"\",\"\",Sheet5!B115)","v":"0"},{"$f":"IF(JAAFデータ貼り付け!W115=\"\",\"\",JAAFデータ貼り付け!W115)","v":""},{"$f":"IF(JAAFデータ貼り付け!X115=\"\",\"\",JAAFデータ貼り付け!X115)","v":""},{"$f":"IF(JAAFデータ貼り付け!Y115=\"\",\"\",JAAFデータ貼り付け!Y115)","v":""},{"$f":"IF(JAAFデータ貼り付け!Z115=\"\",\"\",JAAFデータ貼り付け!Z115)","v":""},{"$f":"IF(JAAFデータ貼り付け!AA115=\"\",\"\",JAAFデータ貼り付け!AA115)","v":""},{"$f":"IF(JAAFデータ貼り付け!AB115=\"\",\"\",JAAFデータ貼り付け!AB115)","v":""},{"$f":"IF(JAAFデータ貼り付け!AC115=\"\",\"\",JAAFデータ貼り付け!AC115)","v":""},{"$f":"IF(JAAFデータ貼り付け!AD115=\"\",\"\",JAAFデータ貼り付け!AD115)","v":""},{"$f":"IF(JAAFデータ貼り付け!AE115=\"\",\"\",JAAFデータ貼り付け!AE115)","v":""},{"$f":"IF(JAAFデータ貼り付け!AF115=\"\",\"\",JAAFデータ貼り付け!AF115)","v":""},{"$f":"IF(JAAFデータ貼り付け!AG115=\"\",\"\",JAAFデータ貼り付け!AG115)","v":""},{"$f":"IF(JAAFデータ貼り付け!AH115=\"\",\"\",JAAFデータ貼り付け!AH115)","v":""},{"$f":"IF(JAAFデータ貼り付け!AI115=\"\",\"\",JAAFデータ貼り付け!AI115)","v":""},{"$f":"IF(JAAFデータ貼り付け!AJ115=\"\",\"\",JAAFデータ貼り付け!AJ115)","v":""},{"$f":"IF(JAAFデータ貼り付け!AK115=\"\",\"\",JAAFデータ貼り付け!AK115)","v":""},{"$f":"IF(JAAFデータ貼り付け!AL115=\"\",\"\",JAAFデータ貼り付け!AL115)","v":""},{"$f":"IF(JAAFデータ貼り付け!AM115=\"\",\"\",JAAFデータ貼り付け!AM115)","v":""},{"$f":"IF(JAAFデータ貼り付け!AN115=\"\",\"\",JAAFデータ貼り付け!AN115)","v":""},{"$f":"IF(JAAFデータ貼り付け!AO115=\"\",\"\",JAAFデータ貼り付け!AO115)","v":""},{"$f":"IF(JAAFデータ貼り付け!AP115=\"\",\"\",JAAFデータ貼り付け!AP115)","v":""},{"$f":"IF(JAAFデータ貼り付け!AQ115=\"\",\"\",JAAFデータ貼り付け!AQ115)","v":""}]
[{"$f":"IF(JAAFデータ貼り付け!E116=\"\",\"\",JAAFデータ貼り付け!E116)","v":""},{"$f":"IF(JAAFデータ貼り付け!B116=\"\",\"\",JAAFデータ貼り付け!B116)","v":""},{"$f":"IF(JAAFデータ貼り付け!C116=\"\",\"\",JAAFデータ貼り付け!C116)","v":""},{"$f":"IF(JAAFデータ貼り付け!D116=\"\",\"\",JAAFデータ貼り付け!D116)","v":""},null,{"$f":"IF(フリガナ貼り付け!D116=\"\",\"\",フリガナ貼り付け!D116)","v":""},{"$f":"IF(フリガナ貼り付け!E116=\"\",\"\",フリガナ貼り付け!E116)","v":""},{"$f":"IF(JAAFデータ貼り付け!H116=\"\",\"\",JAAFデータ貼り付け!H116)","v":""},{"$f":"IF(JAAFデータ貼り付け!I116=\"\",\"\",JAAFデータ貼り付け!I116)","v":""},{"$f":"IF(JAAFデータ貼り付け!J116=\"\",\"\",JAAFデータ貼り付け!J116)","v":""},{"$f":"IF(JAAFデータ貼り付け!K116=\"\",\"\",JAAFデータ貼り付け!K116)","v":""},{"$f":"IF(JAAFデータ貼り付け!L116=\"\",\"\",JAAFデータ貼り付け!L116)","v":""},{"$f":"IF(JAAFデータ貼り付け!M116=\"\",\"\",JAAFデータ貼り付け!M116)","v":""},{"$f":"IF(JAAFデータ貼り付け!N116=\"\",\"\",JAAFデータ貼り付け!N116)","v":""},{"$f":"IF(JAAFデータ貼り付け!O116=\"\",\"\",JAAFデータ貼り付け!O116)","v":""},{"$f":"IF(JAAFデータ貼り付け!P116=\"\",\"\",JAAFデータ貼り付け!P116)","v":""},{"$f":"IF(JAAFデータ貼り付け!Q116=\"\",\"\",JAAFデータ貼り付け!Q116)","v":""},{"$f":"IF(JAAFデータ貼り付け!R116=\"\",\"\",JAAFデータ貼り付け!R116)","v":""},{"$f":"生年月日貼り付け!E116&生年月日貼り付け!F116&生年月日貼り付け!G116","v":"000"},{"$f":"IF(JAAFデータ貼り付け!T116=\"\",\"\",JAAFデータ貼り付け!T116)","v":""},{"$f":"IF(JAAFデータ貼り付け!U116=\"\",\"\",JAAFデータ貼り付け!U116)","v":""},{"$f":"IF(Sheet5!B116=\"\",\"\",Sheet5!B116)","v":"0"},{"$f":"IF(JAAFデータ貼り付け!W116=\"\",\"\",JAAFデータ貼り付け!W116)","v":""},{"$f":"IF(JAAFデータ貼り付け!X116=\"\",\"\",JAAFデータ貼り付け!X116)","v":""},{"$f":"IF(JAAFデータ貼り付け!Y116=\"\",\"\",JAAFデータ貼り付け!Y116)","v":""},{"$f":"IF(JAAFデータ貼り付け!Z116=\"\",\"\",JAAFデータ貼り付け!Z116)","v":""},{"$f":"IF(JAAFデータ貼り付け!AA116=\"\",\"\",JAAFデータ貼り付け!AA116)","v":""},{"$f":"IF(JAAFデータ貼り付け!AB116=\"\",\"\",JAAFデータ貼り付け!AB116)","v":""},{"$f":"IF(JAAFデータ貼り付け!AC116=\"\",\"\",JAAFデータ貼り付け!AC116)","v":""},{"$f":"IF(JAAFデータ貼り付け!AD116=\"\",\"\",JAAFデータ貼り付け!AD116)","v":""},{"$f":"IF(JAAFデータ貼り付け!AE116=\"\",\"\",JAAFデータ貼り付け!AE116)","v":""},{"$f":"IF(JAAFデータ貼り付け!AF116=\"\",\"\",JAAFデータ貼り付け!AF116)","v":""},{"$f":"IF(JAAFデータ貼り付け!AG116=\"\",\"\",JAAFデータ貼り付け!AG116)","v":""},{"$f":"IF(JAAFデータ貼り付け!AH116=\"\",\"\",JAAFデータ貼り付け!AH116)","v":""},{"$f":"IF(JAAFデータ貼り付け!AI116=\"\",\"\",JAAFデータ貼り付け!AI116)","v":""},{"$f":"IF(JAAFデータ貼り付け!AJ116=\"\",\"\",JAAFデータ貼り付け!AJ116)","v":""},{"$f":"IF(JAAFデータ貼り付け!AK116=\"\",\"\",JAAFデータ貼り付け!AK116)","v":""},{"$f":"IF(JAAFデータ貼り付け!AL116=\"\",\"\",JAAFデータ貼り付け!AL116)","v":""},{"$f":"IF(JAAFデータ貼り付け!AM116=\"\",\"\",JAAFデータ貼り付け!AM116)","v":""},{"$f":"IF(JAAFデータ貼り付け!AN116=\"\",\"\",JAAFデータ貼り付け!AN116)","v":""},{"$f":"IF(JAAFデータ貼り付け!AO116=\"\",\"\",JAAFデータ貼り付け!AO116)","v":""},{"$f":"IF(JAAFデータ貼り付け!AP116=\"\",\"\",JAAFデータ貼り付け!AP116)","v":""},{"$f":"IF(JAAFデータ貼り付け!AQ116=\"\",\"\",JAAFデータ貼り付け!AQ116)","v":""}]
[{"$f":"IF(JAAFデータ貼り付け!E117=\"\",\"\",JAAFデータ貼り付け!E117)","v":""},{"$f":"IF(JAAFデータ貼り付け!B117=\"\",\"\",JAAFデータ貼り付け!B117)","v":""},{"$f":"IF(JAAFデータ貼り付け!C117=\"\",\"\",JAAFデータ貼り付け!C117)","v":""},{"$f":"IF(JAAFデータ貼り付け!D117=\"\",\"\",JAAFデータ貼り付け!D117)","v":""},null,{"$f":"IF(フリガナ貼り付け!D117=\"\",\"\",フリガナ貼り付け!D117)","v":""},{"$f":"IF(フリガナ貼り付け!E117=\"\",\"\",フリガナ貼り付け!E117)","v":""},{"$f":"IF(JAAFデータ貼り付け!H117=\"\",\"\",JAAFデータ貼り付け!H117)","v":""},{"$f":"IF(JAAFデータ貼り付け!I117=\"\",\"\",JAAFデータ貼り付け!I117)","v":""},{"$f":"IF(JAAFデータ貼り付け!J117=\"\",\"\",JAAFデータ貼り付け!J117)","v":""},{"$f":"IF(JAAFデータ貼り付け!K117=\"\",\"\",JAAFデータ貼り付け!K117)","v":""},{"$f":"IF(JAAFデータ貼り付け!L117=\"\",\"\",JAAFデータ貼り付け!L117)","v":""},{"$f":"IF(JAAFデータ貼り付け!M117=\"\",\"\",JAAFデータ貼り付け!M117)","v":""},{"$f":"IF(JAAFデータ貼り付け!N117=\"\",\"\",JAAFデータ貼り付け!N117)","v":""},{"$f":"IF(JAAFデータ貼り付け!O117=\"\",\"\",JAAFデータ貼り付け!O117)","v":""},{"$f":"IF(JAAFデータ貼り付け!P117=\"\",\"\",JAAFデータ貼り付け!P117)","v":""},{"$f":"IF(JAAFデータ貼り付け!Q117=\"\",\"\",JAAFデータ貼り付け!Q117)","v":""},{"$f":"IF(JAAFデータ貼り付け!R117=\"\",\"\",JAAFデータ貼り付け!R117)","v":""},{"$f":"生年月日貼り付け!E117&生年月日貼り付け!F117&生年月日貼り付け!G117","v":"000"},{"$f":"IF(JAAFデータ貼り付け!T117=\"\",\"\",JAAFデータ貼り付け!T117)","v":""},{"$f":"IF(JAAFデータ貼り付け!U117=\"\",\"\",JAAFデータ貼り付け!U117)","v":""},{"$f":"IF(Sheet5!B117=\"\",\"\",Sheet5!B117)","v":"0"},{"$f":"IF(JAAFデータ貼り付け!W117=\"\",\"\",JAAFデータ貼り付け!W117)","v":""},{"$f":"IF(JAAFデータ貼り付け!X117=\"\",\"\",JAAFデータ貼り付け!X117)","v":""},{"$f":"IF(JAAFデータ貼り付け!Y117=\"\",\"\",JAAFデータ貼り付け!Y117)","v":""},{"$f":"IF(JAAFデータ貼り付け!Z117=\"\",\"\",JAAFデータ貼り付け!Z117)","v":""},{"$f":"IF(JAAFデータ貼り付け!AA117=\"\",\"\",JAAFデータ貼り付け!AA117)","v":""},{"$f":"IF(JAAFデータ貼り付け!AB117=\"\",\"\",JAAFデータ貼り付け!AB117)","v":""},{"$f":"IF(JAAFデータ貼り付け!AC117=\"\",\"\",JAAFデータ貼り付け!AC117)","v":""},{"$f":"IF(JAAFデータ貼り付け!AD117=\"\",\"\",JAAFデータ貼り付け!AD117)","v":""},{"$f":"IF(JAAFデータ貼り付け!AE117=\"\",\"\",JAAFデータ貼り付け!AE117)","v":""},{"$f":"IF(JAAFデータ貼り付け!AF117=\"\",\"\",JAAFデータ貼り付け!AF117)","v":""},{"$f":"IF(JAAFデータ貼り付け!AG117=\"\",\"\",JAAFデータ貼り付け!AG117)","v":""},{"$f":"IF(JAAFデータ貼り付け!AH117=\"\",\"\",JAAFデータ貼り付け!AH117)","v":""},{"$f":"IF(JAAFデータ貼り付け!AI117=\"\",\"\",JAAFデータ貼り付け!AI117)","v":""},{"$f":"IF(JAAFデータ貼り付け!AJ117=\"\",\"\",JAAFデータ貼り付け!AJ117)","v":""},{"$f":"IF(JAAFデータ貼り付け!AK117=\"\",\"\",JAAFデータ貼り付け!AK117)","v":""},{"$f":"IF(JAAFデータ貼り付け!AL117=\"\",\"\",JAAFデータ貼り付け!AL117)","v":""},{"$f":"IF(JAAFデータ貼り付け!AM117=\"\",\"\",JAAFデータ貼り付け!AM117)","v":""},{"$f":"IF(JAAFデータ貼り付け!AN117=\"\",\"\",JAAFデータ貼り付け!AN117)","v":""},{"$f":"IF(JAAFデータ貼り付け!AO117=\"\",\"\",JAAFデータ貼り付け!AO117)","v":""},{"$f":"IF(JAAFデータ貼り付け!AP117=\"\",\"\",JAAFデータ貼り付け!AP117)","v":""},{"$f":"IF(JAAFデータ貼り付け!AQ117=\"\",\"\",JAAFデータ貼り付け!AQ117)","v":""}]
[{"$f":"IF(JAAFデータ貼り付け!E118=\"\",\"\",JAAFデータ貼り付け!E118)","v":""},{"$f":"IF(JAAFデータ貼り付け!B118=\"\",\"\",JAAFデータ貼り付け!B118)","v":""},{"$f":"IF(JAAFデータ貼り付け!C118=\"\",\"\",JAAFデータ貼り付け!C118)","v":""},{"$f":"IF(JAAFデータ貼り付け!D118=\"\",\"\",JAAFデータ貼り付け!D118)","v":""},null,{"$f":"IF(フリガナ貼り付け!D118=\"\",\"\",フリガナ貼り付け!D118)","v":""},{"$f":"IF(フリガナ貼り付け!E118=\"\",\"\",フリガナ貼り付け!E118)","v":""},{"$f":"IF(JAAFデータ貼り付け!H118=\"\",\"\",JAAFデータ貼り付け!H118)","v":""},{"$f":"IF(JAAFデータ貼り付け!I118=\"\",\"\",JAAFデータ貼り付け!I118)","v":""},{"$f":"IF(JAAFデータ貼り付け!J118=\"\",\"\",JAAFデータ貼り付け!J118)","v":""},{"$f":"IF(JAAFデータ貼り付け!K118=\"\",\"\",JAAFデータ貼り付け!K118)","v":""},{"$f":"IF(JAAFデータ貼り付け!L118=\"\",\"\",JAAFデータ貼り付け!L118)","v":""},{"$f":"IF(JAAFデータ貼り付け!M118=\"\",\"\",JAAFデータ貼り付け!M118)","v":""},{"$f":"IF(JAAFデータ貼り付け!N118=\"\",\"\",JAAFデータ貼り付け!N118)","v":""},{"$f":"IF(JAAFデータ貼り付け!O118=\"\",\"\",JAAFデータ貼り付け!O118)","v":""},{"$f":"IF(JAAFデータ貼り付け!P118=\"\",\"\",JAAFデータ貼り付け!P118)","v":""},{"$f":"IF(JAAFデータ貼り付け!Q118=\"\",\"\",JAAFデータ貼り付け!Q118)","v":""},{"$f":"IF(JAAFデータ貼り付け!R118=\"\",\"\",JAAFデータ貼り付け!R118)","v":""},{"$f":"生年月日貼り付け!E118&生年月日貼り付け!F118&生年月日貼り付け!G118","v":"000"},{"$f":"IF(JAAFデータ貼り付け!T118=\"\",\"\",JAAFデータ貼り付け!T118)","v":""},{"$f":"IF(JAAFデータ貼り付け!U118=\"\",\"\",JAAFデータ貼り付け!U118)","v":""},{"$f":"IF(Sheet5!B118=\"\",\"\",Sheet5!B118)","v":"0"},{"$f":"IF(JAAFデータ貼り付け!W118=\"\",\"\",JAAFデータ貼り付け!W118)","v":""},{"$f":"IF(JAAFデータ貼り付け!X118=\"\",\"\",JAAFデータ貼り付け!X118)","v":""},{"$f":"IF(JAAFデータ貼り付け!Y118=\"\",\"\",JAAFデータ貼り付け!Y118)","v":""},{"$f":"IF(JAAFデータ貼り付け!Z118=\"\",\"\",JAAFデータ貼り付け!Z118)","v":""},{"$f":"IF(JAAFデータ貼り付け!AA118=\"\",\"\",JAAFデータ貼り付け!AA118)","v":""},{"$f":"IF(JAAFデータ貼り付け!AB118=\"\",\"\",JAAFデータ貼り付け!AB118)","v":""},{"$f":"IF(JAAFデータ貼り付け!AC118=\"\",\"\",JAAFデータ貼り付け!AC118)","v":""},{"$f":"IF(JAAFデータ貼り付け!AD118=\"\",\"\",JAAFデータ貼り付け!AD118)","v":""},{"$f":"IF(JAAFデータ貼り付け!AE118=\"\",\"\",JAAFデータ貼り付け!AE118)","v":""},{"$f":"IF(JAAFデータ貼り付け!AF118=\"\",\"\",JAAFデータ貼り付け!AF118)","v":""},{"$f":"IF(JAAFデータ貼り付け!AG118=\"\",\"\",JAAFデータ貼り付け!AG118)","v":""},{"$f":"IF(JAAFデータ貼り付け!AH118=\"\",\"\",JAAFデータ貼り付け!AH118)","v":""},{"$f":"IF(JAAFデータ貼り付け!AI118=\"\",\"\",JAAFデータ貼り付け!AI118)","v":""},{"$f":"IF(JAAFデータ貼り付け!AJ118=\"\",\"\",JAAFデータ貼り付け!AJ118)","v":""},{"$f":"IF(JAAFデータ貼り付け!AK118=\"\",\"\",JAAFデータ貼り付け!AK118)","v":""},{"$f":"IF(JAAFデータ貼り付け!AL118=\"\",\"\",JAAFデータ貼り付け!AL118)","v":""},{"$f":"IF(JAAFデータ貼り付け!AM118=\"\",\"\",JAAFデータ貼り付け!AM118)","v":""},{"$f":"IF(JAAFデータ貼り付け!AN118=\"\",\"\",JAAFデータ貼り付け!AN118)","v":""},{"$f":"IF(JAAFデータ貼り付け!AO118=\"\",\"\",JAAFデータ貼り付け!AO118)","v":""},{"$f":"IF(JAAFデータ貼り付け!AP118=\"\",\"\",JAAFデータ貼り付け!AP118)","v":""},{"$f":"IF(JAAFデータ貼り付け!AQ118=\"\",\"\",JAAFデータ貼り付け!AQ118)","v":""}]
[{"$f":"IF(JAAFデータ貼り付け!E119=\"\",\"\",JAAFデータ貼り付け!E119)","v":""},{"$f":"IF(JAAFデータ貼り付け!B119=\"\",\"\",JAAFデータ貼り付け!B119)","v":""},{"$f":"IF(JAAFデータ貼り付け!C119=\"\",\"\",JAAFデータ貼り付け!C119)","v":""},{"$f":"IF(JAAFデータ貼り付け!D119=\"\",\"\",JAAFデータ貼り付け!D119)","v":""},null,{"$f":"IF(フリガナ貼り付け!D119=\"\",\"\",フリガナ貼り付け!D119)","v":""},{"$f":"IF(フリガナ貼り付け!E119=\"\",\"\",フリガナ貼り付け!E119)","v":""},{"$f":"IF(JAAFデータ貼り付け!H119=\"\",\"\",JAAFデータ貼り付け!H119)","v":""},{"$f":"IF(JAAFデータ貼り付け!I119=\"\",\"\",JAAFデータ貼り付け!I119)","v":""},{"$f":"IF(JAAFデータ貼り付け!J119=\"\",\"\",JAAFデータ貼り付け!J119)","v":""},{"$f":"IF(JAAFデータ貼り付け!K119=\"\",\"\",JAAFデータ貼り付け!K119)","v":""},{"$f":"IF(JAAFデータ貼り付け!L119=\"\",\"\",JAAFデータ貼り付け!L119)","v":""},{"$f":"IF(JAAFデータ貼り付け!M119=\"\",\"\",JAAFデータ貼り付け!M119)","v":""},{"$f":"IF(JAAFデータ貼り付け!N119=\"\",\"\",JAAFデータ貼り付け!N119)","v":""},{"$f":"IF(JAAFデータ貼り付け!O119=\"\",\"\",JAAFデータ貼り付け!O119)","v":""},{"$f":"IF(JAAFデータ貼り付け!P119=\"\",\"\",JAAFデータ貼り付け!P119)","v":""},{"$f":"IF(JAAFデータ貼り付け!Q119=\"\",\"\",JAAFデータ貼り付け!Q119)","v":""},{"$f":"IF(JAAFデータ貼り付け!R119=\"\",\"\",JAAFデータ貼り付け!R119)","v":""},{"$f":"生年月日貼り付け!E119&生年月日貼り付け!F119&生年月日貼り付け!G119","v":"000"},{"$f":"IF(JAAFデータ貼り付け!T119=\"\",\"\",JAAFデータ貼り付け!T119)","v":""},{"$f":"IF(JAAFデータ貼り付け!U119=\"\",\"\",JAAFデータ貼り付け!U119)","v":""},{"$f":"IF(Sheet5!B119=\"\",\"\",Sheet5!B119)","v":"0"},{"$f":"IF(JAAFデータ貼り付け!W119=\"\",\"\",JAAFデータ貼り付け!W119)","v":""},{"$f":"IF(JAAFデータ貼り付け!X119=\"\",\"\",JAAFデータ貼り付け!X119)","v":""},{"$f":"IF(JAAFデータ貼り付け!Y119=\"\",\"\",JAAFデータ貼り付け!Y119)","v":""},{"$f":"IF(JAAFデータ貼り付け!Z119=\"\",\"\",JAAFデータ貼り付け!Z119)","v":""},{"$f":"IF(JAAFデータ貼り付け!AA119=\"\",\"\",JAAFデータ貼り付け!AA119)","v":""},{"$f":"IF(JAAFデータ貼り付け!AB119=\"\",\"\",JAAFデータ貼り付け!AB119)","v":""},{"$f":"IF(JAAFデータ貼り付け!AC119=\"\",\"\",JAAFデータ貼り付け!AC119)","v":""},{"$f":"IF(JAAFデータ貼り付け!AD119=\"\",\"\",JAAFデータ貼り付け!AD119)","v":""},{"$f":"IF(JAAFデータ貼り付け!AE119=\"\",\"\",JAAFデータ貼り付け!AE119)","v":""},{"$f":"IF(JAAFデータ貼り付け!AF119=\"\",\"\",JAAFデータ貼り付け!AF119)","v":""},{"$f":"IF(JAAFデータ貼り付け!AG119=\"\",\"\",JAAFデータ貼り付け!AG119)","v":""},{"$f":"IF(JAAFデータ貼り付け!AH119=\"\",\"\",JAAFデータ貼り付け!AH119)","v":""},{"$f":"IF(JAAFデータ貼り付け!AI119=\"\",\"\",JAAFデータ貼り付け!AI119)","v":""},{"$f":"IF(JAAFデータ貼り付け!AJ119=\"\",\"\",JAAFデータ貼り付け!AJ119)","v":""},{"$f":"IF(JAAFデータ貼り付け!AK119=\"\",\"\",JAAFデータ貼り付け!AK119)","v":""},{"$f":"IF(JAAFデータ貼り付け!AL119=\"\",\"\",JAAFデータ貼り付け!AL119)","v":""},{"$f":"IF(JAAFデータ貼り付け!AM119=\"\",\"\",JAAFデータ貼り付け!AM119)","v":""},{"$f":"IF(JAAFデータ貼り付け!AN119=\"\",\"\",JAAFデータ貼り付け!AN119)","v":""},{"$f":"IF(JAAFデータ貼り付け!AO119=\"\",\"\",JAAFデータ貼り付け!AO119)","v":""},{"$f":"IF(JAAFデータ貼り付け!AP119=\"\",\"\",JAAFデータ貼り付け!AP119)","v":""},{"$f":"IF(JAAFデータ貼り付け!AQ119=\"\",\"\",JAAFデータ貼り付け!AQ119)","v":""}]
[{"$f":"IF(JAAFデータ貼り付け!E120=\"\",\"\",JAAFデータ貼り付け!E120)","v":""},{"$f":"IF(JAAFデータ貼り付け!B120=\"\",\"\",JAAFデータ貼り付け!B120)","v":""},{"$f":"IF(JAAFデータ貼り付け!C120=\"\",\"\",JAAFデータ貼り付け!C120)","v":""},{"$f":"IF(JAAFデータ貼り付け!D120=\"\",\"\",JAAFデータ貼り付け!D120)","v":""},null,{"$f":"IF(フリガナ貼り付け!D120=\"\",\"\",フリガナ貼り付け!D120)","v":""},{"$f":"IF(フリガナ貼り付け!E120=\"\",\"\",フリガナ貼り付け!E120)","v":""},{"$f":"IF(JAAFデータ貼り付け!H120=\"\",\"\",JAAFデータ貼り付け!H120)","v":""},{"$f":"IF(JAAFデータ貼り付け!I120=\"\",\"\",JAAFデータ貼り付け!I120)","v":""},{"$f":"IF(JAAFデータ貼り付け!J120=\"\",\"\",JAAFデータ貼り付け!J120)","v":""},{"$f":"IF(JAAFデータ貼り付け!K120=\"\",\"\",JAAFデータ貼り付け!K120)","v":""},{"$f":"IF(JAAFデータ貼り付け!L120=\"\",\"\",JAAFデータ貼り付け!L120)","v":""},{"$f":"IF(JAAFデータ貼り付け!M120=\"\",\"\",JAAFデータ貼り付け!M120)","v":""},{"$f":"IF(JAAFデータ貼り付け!N120=\"\",\"\",JAAFデータ貼り付け!N120)","v":""},{"$f":"IF(JAAFデータ貼り付け!O120=\"\",\"\",JAAFデータ貼り付け!O120)","v":""},{"$f":"IF(JAAFデータ貼り付け!P120=\"\",\"\",JAAFデータ貼り付け!P120)","v":""},{"$f":"IF(JAAFデータ貼り付け!Q120=\"\",\"\",JAAFデータ貼り付け!Q120)","v":""},{"$f":"IF(JAAFデータ貼り付け!R120=\"\",\"\",JAAFデータ貼り付け!R120)","v":""},{"$f":"生年月日貼り付け!E120&生年月日貼り付け!F120&生年月日貼り付け!G120","v":"000"},{"$f":"IF(JAAFデータ貼り付け!T120=\"\",\"\",JAAFデータ貼り付け!T120)","v":""},{"$f":"IF(JAAFデータ貼り付け!U120=\"\",\"\",JAAFデータ貼り付け!U120)","v":""},{"$f":"IF(Sheet5!B120=\"\",\"\",Sheet5!B120)","v":"0"},{"$f":"IF(JAAFデータ貼り付け!W120=\"\",\"\",JAAFデータ貼り付け!W120)","v":""},{"$f":"IF(JAAFデータ貼り付け!X120=\"\",\"\",JAAFデータ貼り付け!X120)","v":""},{"$f":"IF(JAAFデータ貼り付け!Y120=\"\",\"\",JAAFデータ貼り付け!Y120)","v":""},{"$f":"IF(JAAFデータ貼り付け!Z120=\"\",\"\",JAAFデータ貼り付け!Z120)","v":""},{"$f":"IF(JAAFデータ貼り付け!AA120=\"\",\"\",JAAFデータ貼り付け!AA120)","v":""},{"$f":"IF(JAAFデータ貼り付け!AB120=\"\",\"\",JAAFデータ貼り付け!AB120)","v":""},{"$f":"IF(JAAFデータ貼り付け!AC120=\"\",\"\",JAAFデータ貼り付け!AC120)","v":""},{"$f":"IF(JAAFデータ貼り付け!AD120=\"\",\"\",JAAFデータ貼り付け!AD120)","v":""},{"$f":"IF(JAAFデータ貼り付け!AE120=\"\",\"\",JAAFデータ貼り付け!AE120)","v":""},{"$f":"IF(JAAFデータ貼り付け!AF120=\"\",\"\",JAAFデータ貼り付け!AF120)","v":""},{"$f":"IF(JAAFデータ貼り付け!AG120=\"\",\"\",JAAFデータ貼り付け!AG120)","v":""},{"$f":"IF(JAAFデータ貼り付け!AH120=\"\",\"\",JAAFデータ貼り付け!AH120)","v":""},{"$f":"IF(JAAFデータ貼り付け!AI120=\"\",\"\",JAAFデータ貼り付け!AI120)","v":""},{"$f":"IF(JAAFデータ貼り付け!AJ120=\"\",\"\",JAAFデータ貼り付け!AJ120)","v":""},{"$f":"IF(JAAFデータ貼り付け!AK120=\"\",\"\",JAAFデータ貼り付け!AK120)","v":""},{"$f":"IF(JAAFデータ貼り付け!AL120=\"\",\"\",JAAFデータ貼り付け!AL120)","v":""},{"$f":"IF(JAAFデータ貼り付け!AM120=\"\",\"\",JAAFデータ貼り付け!AM120)","v":""},{"$f":"IF(JAAFデータ貼り付け!AN120=\"\",\"\",JAAFデータ貼り付け!AN120)","v":""},{"$f":"IF(JAAFデータ貼り付け!AO120=\"\",\"\",JAAFデータ貼り付け!AO120)","v":""},{"$f":"IF(JAAFデータ貼り付け!AP120=\"\",\"\",JAAFデータ貼り付け!AP120)","v":""},{"$f":"IF(JAAFデータ貼り付け!AQ120=\"\",\"\",JAAFデータ貼り付け!AQ120)","v":""}]
[{"$f":"IF(JAAFデータ貼り付け!E121=\"\",\"\",JAAFデータ貼り付け!E121)","v":""},{"$f":"IF(JAAFデータ貼り付け!B121=\"\",\"\",JAAFデータ貼り付け!B121)","v":""},{"$f":"IF(JAAFデータ貼り付け!C121=\"\",\"\",JAAFデータ貼り付け!C121)","v":""},{"$f":"IF(JAAFデータ貼り付け!D121=\"\",\"\",JAAFデータ貼り付け!D121)","v":""},null,{"$f":"IF(フリガナ貼り付け!D121=\"\",\"\",フリガナ貼り付け!D121)","v":""},{"$f":"IF(フリガナ貼り付け!E121=\"\",\"\",フリガナ貼り付け!E121)","v":""},{"$f":"IF(JAAFデータ貼り付け!H121=\"\",\"\",JAAFデータ貼り付け!H121)","v":""},{"$f":"IF(JAAFデータ貼り付け!I121=\"\",\"\",JAAFデータ貼り付け!I121)","v":""},{"$f":"IF(JAAFデータ貼り付け!J121=\"\",\"\",JAAFデータ貼り付け!J121)","v":""},{"$f":"IF(JAAFデータ貼り付け!K121=\"\",\"\",JAAFデータ貼り付け!K121)","v":""},{"$f":"IF(JAAFデータ貼り付け!L121=\"\",\"\",JAAFデータ貼り付け!L121)","v":""},{"$f":"IF(JAAFデータ貼り付け!M121=\"\",\"\",JAAFデータ貼り付け!M121)","v":""},{"$f":"IF(JAAFデータ貼り付け!N121=\"\",\"\",JAAFデータ貼り付け!N121)","v":""},{"$f":"IF(JAAFデータ貼り付け!O121=\"\",\"\",JAAFデータ貼り付け!O121)","v":""},{"$f":"IF(JAAFデータ貼り付け!P121=\"\",\"\",JAAFデータ貼り付け!P121)","v":""},{"$f":"IF(JAAFデータ貼り付け!Q121=\"\",\"\",JAAFデータ貼り付け!Q121)","v":""},{"$f":"IF(JAAFデータ貼り付け!R121=\"\",\"\",JAAFデータ貼り付け!R121)","v":""},{"$f":"生年月日貼り付け!E121&生年月日貼り付け!F121&生年月日貼り付け!G121","v":"000"},{"$f":"IF(JAAFデータ貼り付け!T121=\"\",\"\",JAAFデータ貼り付け!T121)","v":""},{"$f":"IF(JAAFデータ貼り付け!U121=\"\",\"\",JAAFデータ貼り付け!U121)","v":""},{"$f":"IF(Sheet5!B121=\"\",\"\",Sheet5!B121)","v":"0"},{"$f":"IF(JAAFデータ貼り付け!W121=\"\",\"\",JAAFデータ貼り付け!W121)","v":""},{"$f":"IF(JAAFデータ貼り付け!X121=\"\",\"\",JAAFデータ貼り付け!X121)","v":""},{"$f":"IF(JAAFデータ貼り付け!Y121=\"\",\"\",JAAFデータ貼り付け!Y121)","v":""},{"$f":"IF(JAAFデータ貼り付け!Z121=\"\",\"\",JAAFデータ貼り付け!Z121)","v":""},{"$f":"IF(JAAFデータ貼り付け!AA121=\"\",\"\",JAAFデータ貼り付け!AA121)","v":""},{"$f":"IF(JAAFデータ貼り付け!AB121=\"\",\"\",JAAFデータ貼り付け!AB121)","v":""},{"$f":"IF(JAAFデータ貼り付け!AC121=\"\",\"\",JAAFデータ貼り付け!AC121)","v":""},{"$f":"IF(JAAFデータ貼り付け!AD121=\"\",\"\",JAAFデータ貼り付け!AD121)","v":""},{"$f":"IF(JAAFデータ貼り付け!AE121=\"\",\"\",JAAFデータ貼り付け!AE121)","v":""},{"$f":"IF(JAAFデータ貼り付け!AF121=\"\",\"\",JAAFデータ貼り付け!AF121)","v":""},{"$f":"IF(JAAFデータ貼り付け!AG121=\"\",\"\",JAAFデータ貼り付け!AG121)","v":""},{"$f":"IF(JAAFデータ貼り付け!AH121=\"\",\"\",JAAFデータ貼り付け!AH121)","v":""},{"$f":"IF(JAAFデータ貼り付け!AI121=\"\",\"\",JAAFデータ貼り付け!AI121)","v":""},{"$f":"IF(JAAFデータ貼り付け!AJ121=\"\",\"\",JAAFデータ貼り付け!AJ121)","v":""},{"$f":"IF(JAAFデータ貼り付け!AK121=\"\",\"\",JAAFデータ貼り付け!AK121)","v":""},{"$f":"IF(JAAFデータ貼り付け!AL121=\"\",\"\",JAAFデータ貼り付け!AL121)","v":""},{"$f":"IF(JAAFデータ貼り付け!AM121=\"\",\"\",JAAFデータ貼り付け!AM121)","v":""},{"$f":"IF(JAAFデータ貼り付け!AN121=\"\",\"\",JAAFデータ貼り付け!AN121)","v":""},{"$f":"IF(JAAFデータ貼り付け!AO121=\"\",\"\",JAAFデータ貼り付け!AO121)","v":""},{"$f":"IF(JAAFデータ貼り付け!AP121=\"\",\"\",JAAFデータ貼り付け!AP121)","v":""},{"$f":"IF(JAAFデータ貼り付け!AQ121=\"\",\"\",JAAFデータ貼り付け!AQ121)","v":""}]
[{"$f":"IF(JAAFデータ貼り付け!E122=\"\",\"\",JAAFデータ貼り付け!E122)","v":""},{"$f":"IF(JAAFデータ貼り付け!B122=\"\",\"\",JAAFデータ貼り付け!B122)","v":""},{"$f":"IF(JAAFデータ貼り付け!C122=\"\",\"\",JAAFデータ貼り付け!C122)","v":""},{"$f":"IF(JAAFデータ貼り付け!D122=\"\",\"\",JAAFデータ貼り付け!D122)","v":""},null,{"$f":"IF(フリガナ貼り付け!D122=\"\",\"\",フリガナ貼り付け!D122)","v":""},{"$f":"IF(フリガナ貼り付け!E122=\"\",\"\",フリガナ貼り付け!E122)","v":""},{"$f":"IF(JAAFデータ貼り付け!H122=\"\",\"\",JAAFデータ貼り付け!H122)","v":""},{"$f":"IF(JAAFデータ貼り付け!I122=\"\",\"\",JAAFデータ貼り付け!I122)","v":""},{"$f":"IF(JAAFデータ貼り付け!J122=\"\",\"\",JAAFデータ貼り付け!J122)","v":""},{"$f":"IF(JAAFデータ貼り付け!K122=\"\",\"\",JAAFデータ貼り付け!K122)","v":""},{"$f":"IF(JAAFデータ貼り付け!L122=\"\",\"\",JAAFデータ貼り付け!L122)","v":""},{"$f":"IF(JAAFデータ貼り付け!M122=\"\",\"\",JAAFデータ貼り付け!M122)","v":""},{"$f":"IF(JAAFデータ貼り付け!N122=\"\",\"\",JAAFデータ貼り付け!N122)","v":""},{"$f":"IF(JAAFデータ貼り付け!O122=\"\",\"\",JAAFデータ貼り付け!O122)","v":""},{"$f":"IF(JAAFデータ貼り付け!P122=\"\",\"\",JAAFデータ貼り付け!P122)","v":""},{"$f":"IF(JAAFデータ貼り付け!Q122=\"\",\"\",JAAFデータ貼り付け!Q122)","v":""},{"$f":"IF(JAAFデータ貼り付け!R122=\"\",\"\",JAAFデータ貼り付け!R122)","v":""},{"$f":"生年月日貼り付け!E122&生年月日貼り付け!F122&生年月日貼り付け!G122","v":"000"},{"$f":"IF(JAAFデータ貼り付け!T122=\"\",\"\",JAAFデータ貼り付け!T122)","v":""},{"$f":"IF(JAAFデータ貼り付け!U122=\"\",\"\",JAAFデータ貼り付け!U122)","v":""},{"$f":"IF(Sheet5!B122=\"\",\"\",Sheet5!B122)","v":"0"},{"$f":"IF(JAAFデータ貼り付け!W122=\"\",\"\",JAAFデータ貼り付け!W122)","v":""},{"$f":"IF(JAAFデータ貼り付け!X122=\"\",\"\",JAAFデータ貼り付け!X122)","v":""},{"$f":"IF(JAAFデータ貼り付け!Y122=\"\",\"\",JAAFデータ貼り付け!Y122)","v":""},{"$f":"IF(JAAFデータ貼り付け!Z122=\"\",\"\",JAAFデータ貼り付け!Z122)","v":""},{"$f":"IF(JAAFデータ貼り付け!AA122=\"\",\"\",JAAFデータ貼り付け!AA122)","v":""},{"$f":"IF(JAAFデータ貼り付け!AB122=\"\",\"\",JAAFデータ貼り付け!AB122)","v":""},{"$f":"IF(JAAFデータ貼り付け!AC122=\"\",\"\",JAAFデータ貼り付け!AC122)","v":""},{"$f":"IF(JAAFデータ貼り付け!AD122=\"\",\"\",JAAFデータ貼り付け!AD122)","v":""},{"$f":"IF(JAAFデータ貼り付け!AE122=\"\",\"\",JAAFデータ貼り付け!AE122)","v":""},{"$f":"IF(JAAFデータ貼り付け!AF122=\"\",\"\",JAAFデータ貼り付け!AF122)","v":""},{"$f":"IF(JAAFデータ貼り付け!AG122=\"\",\"\",JAAFデータ貼り付け!AG122)","v":""},{"$f":"IF(JAAFデータ貼り付け!AH122=\"\",\"\",JAAFデータ貼り付け!AH122)","v":""},{"$f":"IF(JAAFデータ貼り付け!AI122=\"\",\"\",JAAFデータ貼り付け!AI122)","v":""},{"$f":"IF(JAAFデータ貼り付け!AJ122=\"\",\"\",JAAFデータ貼り付け!AJ122)","v":""},{"$f":"IF(JAAFデータ貼り付け!AK122=\"\",\"\",JAAFデータ貼り付け!AK122)","v":""},{"$f":"IF(JAAFデータ貼り付け!AL122=\"\",\"\",JAAFデータ貼り付け!AL122)","v":""},{"$f":"IF(JAAFデータ貼り付け!AM122=\"\",\"\",JAAFデータ貼り付け!AM122)","v":""},{"$f":"IF(JAAFデータ貼り付け!AN122=\"\",\"\",JAAFデータ貼り付け!AN122)","v":""},{"$f":"IF(JAAFデータ貼り付け!AO122=\"\",\"\",JAAFデータ貼り付け!AO122)","v":""},{"$f":"IF(JAAFデータ貼り付け!AP122=\"\",\"\",JAAFデータ貼り付け!AP122)","v":""},{"$f":"IF(JAAFデータ貼り付け!AQ122=\"\",\"\",JAAFデータ貼り付け!AQ122)","v":""}]
[{"$f":"IF(JAAFデータ貼り付け!E123=\"\",\"\",JAAFデータ貼り付け!E123)","v":""},{"$f":"IF(JAAFデータ貼り付け!B123=\"\",\"\",JAAFデータ貼り付け!B123)","v":""},{"$f":"IF(JAAFデータ貼り付け!C123=\"\",\"\",JAAFデータ貼り付け!C123)","v":""},{"$f":"IF(JAAFデータ貼り付け!D123=\"\",\"\",JAAFデータ貼り付け!D123)","v":""},null,{"$f":"IF(フリガナ貼り付け!D123=\"\",\"\",フリガナ貼り付け!D123)","v":""},{"$f":"IF(フリガナ貼り付け!E123=\"\",\"\",フリガナ貼り付け!E123)","v":""},{"$f":"IF(JAAFデータ貼り付け!H123=\"\",\"\",JAAFデータ貼り付け!H123)","v":""},{"$f":"IF(JAAFデータ貼り付け!I123=\"\",\"\",JAAFデータ貼り付け!I123)","v":""},{"$f":"IF(JAAFデータ貼り付け!J123=\"\",\"\",JAAFデータ貼り付け!J123)","v":""},{"$f":"IF(JAAFデータ貼り付け!K123=\"\",\"\",JAAFデータ貼り付け!K123)","v":""},{"$f":"IF(JAAFデータ貼り付け!L123=\"\",\"\",JAAFデータ貼り付け!L123)","v":""},{"$f":"IF(JAAFデータ貼り付け!M123=\"\",\"\",JAAFデータ貼り付け!M123)","v":""},{"$f":"IF(JAAFデータ貼り付け!N123=\"\",\"\",JAAFデータ貼り付け!N123)","v":""},{"$f":"IF(JAAFデータ貼り付け!O123=\"\",\"\",JAAFデータ貼り付け!O123)","v":""},{"$f":"IF(JAAFデータ貼り付け!P123=\"\",\"\",JAAFデータ貼り付け!P123)","v":""},{"$f":"IF(JAAFデータ貼り付け!Q123=\"\",\"\",JAAFデータ貼り付け!Q123)","v":""},{"$f":"IF(JAAFデータ貼り付け!R123=\"\",\"\",JAAFデータ貼り付け!R123)","v":""},{"$f":"生年月日貼り付け!E123&生年月日貼り付け!F123&生年月日貼り付け!G123","v":"000"},{"$f":"IF(JAAFデータ貼り付け!T123=\"\",\"\",JAAFデータ貼り付け!T123)","v":""},{"$f":"IF(JAAFデータ貼り付け!U123=\"\",\"\",JAAFデータ貼り付け!U123)","v":""},{"$f":"IF(Sheet5!B123=\"\",\"\",Sheet5!B123)","v":"0"},{"$f":"IF(JAAFデータ貼り付け!W123=\"\",\"\",JAAFデータ貼り付け!W123)","v":""},{"$f":"IF(JAAFデータ貼り付け!X123=\"\",\"\",JAAFデータ貼り付け!X123)","v":""},{"$f":"IF(JAAFデータ貼り付け!Y123=\"\",\"\",JAAFデータ貼り付け!Y123)","v":""},{"$f":"IF(JAAFデータ貼り付け!Z123=\"\",\"\",JAAFデータ貼り付け!Z123)","v":""},{"$f":"IF(JAAFデータ貼り付け!AA123=\"\",\"\",JAAFデータ貼り付け!AA123)","v":""},{"$f":"IF(JAAFデータ貼り付け!AB123=\"\",\"\",JAAFデータ貼り付け!AB123)","v":""},{"$f":"IF(JAAFデータ貼り付け!AC123=\"\",\"\",JAAFデータ貼り付け!AC123)","v":""},{"$f":"IF(JAAFデータ貼り付け!AD123=\"\",\"\",JAAFデータ貼り付け!AD123)","v":""},{"$f":"IF(JAAFデータ貼り付け!AE123=\"\",\"\",JAAFデータ貼り付け!AE123)","v":""},{"$f":"IF(JAAFデータ貼り付け!AF123=\"\",\"\",JAAFデータ貼り付け!AF123)","v":""},{"$f":"IF(JAAFデータ貼り付け!AG123=\"\",\"\",JAAFデータ貼り付け!AG123)","v":""},{"$f":"IF(JAAFデータ貼り付け!AH123=\"\",\"\",JAAFデータ貼り付け!AH123)","v":""},{"$f":"IF(JAAFデータ貼り付け!AI123=\"\",\"\",JAAFデータ貼り付け!AI123)","v":""},{"$f":"IF(JAAFデータ貼り付け!AJ123=\"\",\"\",JAAFデータ貼り付け!AJ123)","v":""},{"$f":"IF(JAAFデータ貼り付け!AK123=\"\",\"\",JAAFデータ貼り付け!AK123)","v":""},{"$f":"IF(JAAFデータ貼り付け!AL123=\"\",\"\",JAAFデータ貼り付け!AL123)","v":""},{"$f":"IF(JAAFデータ貼り付け!AM123=\"\",\"\",JAAFデータ貼り付け!AM123)","v":""},{"$f":"IF(JAAFデータ貼り付け!AN123=\"\",\"\",JAAFデータ貼り付け!AN123)","v":""},{"$f":"IF(JAAFデータ貼り付け!AO123=\"\",\"\",JAAFデータ貼り付け!AO123)","v":""},{"$f":"IF(JAAFデータ貼り付け!AP123=\"\",\"\",JAAFデータ貼り付け!AP123)","v":""},{"$f":"IF(JAAFデータ貼り付け!AQ123=\"\",\"\",JAAFデータ貼り付け!AQ123)","v":""}]
[{"$f":"IF(JAAFデータ貼り付け!E124=\"\",\"\",JAAFデータ貼り付け!E124)","v":""},{"$f":"IF(JAAFデータ貼り付け!B124=\"\",\"\",JAAFデータ貼り付け!B124)","v":""},{"$f":"IF(JAAFデータ貼り付け!C124=\"\",\"\",JAAFデータ貼り付け!C124)","v":""},{"$f":"IF(JAAFデータ貼り付け!D124=\"\",\"\",JAAFデータ貼り付け!D124)","v":""},null,{"$f":"IF(フリガナ貼り付け!D124=\"\",\"\",フリガナ貼り付け!D124)","v":""},{"$f":"IF(フリガナ貼り付け!E124=\"\",\"\",フリガナ貼り付け!E124)","v":""},{"$f":"IF(JAAFデータ貼り付け!H124=\"\",\"\",JAAFデータ貼り付け!H124)","v":""},{"$f":"IF(JAAFデータ貼り付け!I124=\"\",\"\",JAAFデータ貼り付け!I124)","v":""},{"$f":"IF(JAAFデータ貼り付け!J124=\"\",\"\",JAAFデータ貼り付け!J124)","v":""},{"$f":"IF(JAAFデータ貼り付け!K124=\"\",\"\",JAAFデータ貼り付け!K124)","v":""},{"$f":"IF(JAAFデータ貼り付け!L124=\"\",\"\",JAAFデータ貼り付け!L124)","v":""},{"$f":"IF(JAAFデータ貼り付け!M124=\"\",\"\",JAAFデータ貼り付け!M124)","v":""},{"$f":"IF(JAAFデータ貼り付け!N124=\"\",\"\",JAAFデータ貼り付け!N124)","v":""},{"$f":"IF(JAAFデータ貼り付け!O124=\"\",\"\",JAAFデータ貼り付け!O124)","v":""},{"$f":"IF(JAAFデータ貼り付け!P124=\"\",\"\",JAAFデータ貼り付け!P124)","v":""},{"$f":"IF(JAAFデータ貼り付け!Q124=\"\",\"\",JAAFデータ貼り付け!Q124)","v":""},{"$f":"IF(JAAFデータ貼り付け!R124=\"\",\"\",JAAFデータ貼り付け!R124)","v":""},{"$f":"生年月日貼り付け!E124&生年月日貼り付け!F124&生年月日貼り付け!G124","v":"000"},{"$f":"IF(JAAFデータ貼り付け!T124=\"\",\"\",JAAFデータ貼り付け!T124)","v":""},{"$f":"IF(JAAFデータ貼り付け!U124=\"\",\"\",JAAFデータ貼り付け!U124)","v":""},{"$f":"IF(Sheet5!B124=\"\",\"\",Sheet5!B124)","v":"0"},{"$f":"IF(JAAFデータ貼り付け!W124=\"\",\"\",JAAFデータ貼り付け!W124)","v":""},{"$f":"IF(JAAFデータ貼り付け!X124=\"\",\"\",JAAFデータ貼り付け!X124)","v":""},{"$f":"IF(JAAFデータ貼り付け!Y124=\"\",\"\",JAAFデータ貼り付け!Y124)","v":""},{"$f":"IF(JAAFデータ貼り付け!Z124=\"\",\"\",JAAFデータ貼り付け!Z124)","v":""},{"$f":"IF(JAAFデータ貼り付け!AA124=\"\",\"\",JAAFデータ貼り付け!AA124)","v":""},{"$f":"IF(JAAFデータ貼り付け!AB124=\"\",\"\",JAAFデータ貼り付け!AB124)","v":""},{"$f":"IF(JAAFデータ貼り付け!AC124=\"\",\"\",JAAFデータ貼り付け!AC124)","v":""},{"$f":"IF(JAAFデータ貼り付け!AD124=\"\",\"\",JAAFデータ貼り付け!AD124)","v":""},{"$f":"IF(JAAFデータ貼り付け!AE124=\"\",\"\",JAAFデータ貼り付け!AE124)","v":""},{"$f":"IF(JAAFデータ貼り付け!AF124=\"\",\"\",JAAFデータ貼り付け!AF124)","v":""},{"$f":"IF(JAAFデータ貼り付け!AG124=\"\",\"\",JAAFデータ貼り付け!AG124)","v":""},{"$f":"IF(JAAFデータ貼り付け!AH124=\"\",\"\",JAAFデータ貼り付け!AH124)","v":""},{"$f":"IF(JAAFデータ貼り付け!AI124=\"\",\"\",JAAFデータ貼り付け!AI124)","v":""},{"$f":"IF(JAAFデータ貼り付け!AJ124=\"\",\"\",JAAFデータ貼り付け!AJ124)","v":""},{"$f":"IF(JAAFデータ貼り付け!AK124=\"\",\"\",JAAFデータ貼り付け!AK124)","v":""},{"$f":"IF(JAAFデータ貼り付け!AL124=\"\",\"\",JAAFデータ貼り付け!AL124)","v":""},{"$f":"IF(JAAFデータ貼り付け!AM124=\"\",\"\",JAAFデータ貼り付け!AM124)","v":""},{"$f":"IF(JAAFデータ貼り付け!AN124=\"\",\"\",JAAFデータ貼り付け!AN124)","v":""},{"$f":"IF(JAAFデータ貼り付け!AO124=\"\",\"\",JAAFデータ貼り付け!AO124)","v":""},{"$f":"IF(JAAFデータ貼り付け!AP124=\"\",\"\",JAAFデータ貼り付け!AP124)","v":""},{"$f":"IF(JAAFデータ貼り付け!AQ124=\"\",\"\",JAAFデータ貼り付け!AQ124)","v":""}]
[{"$f":"IF(JAAFデータ貼り付け!E125=\"\",\"\",JAAFデータ貼り付け!E125)","v":""},{"$f":"IF(JAAFデータ貼り付け!B125=\"\",\"\",JAAFデータ貼り付け!B125)","v":""},{"$f":"IF(JAAFデータ貼り付け!C125=\"\",\"\",JAAFデータ貼り付け!C125)","v":""},{"$f":"IF(JAAFデータ貼り付け!D125=\"\",\"\",JAAFデータ貼り付け!D125)","v":""},null,{"$f":"IF(フリガナ貼り付け!D125=\"\",\"\",フリガナ貼り付け!D125)","v":""},{"$f":"IF(フリガナ貼り付け!E125=\"\",\"\",フリガナ貼り付け!E125)","v":""},{"$f":"IF(JAAFデータ貼り付け!H125=\"\",\"\",JAAFデータ貼り付け!H125)","v":""},{"$f":"IF(JAAFデータ貼り付け!I125=\"\",\"\",JAAFデータ貼り付け!I125)","v":""},{"$f":"IF(JAAFデータ貼り付け!J125=\"\",\"\",JAAFデータ貼り付け!J125)","v":""},{"$f":"IF(JAAFデータ貼り付け!K125=\"\",\"\",JAAFデータ貼り付け!K125)","v":""},{"$f":"IF(JAAFデータ貼り付け!L125=\"\",\"\",JAAFデータ貼り付け!L125)","v":""},{"$f":"IF(JAAFデータ貼り付け!M125=\"\",\"\",JAAFデータ貼り付け!M125)","v":""},{"$f":"IF(JAAFデータ貼り付け!N125=\"\",\"\",JAAFデータ貼り付け!N125)","v":""},{"$f":"IF(JAAFデータ貼り付け!O125=\"\",\"\",JAAFデータ貼り付け!O125)","v":""},{"$f":"IF(JAAFデータ貼り付け!P125=\"\",\"\",JAAFデータ貼り付け!P125)","v":""},{"$f":"IF(JAAFデータ貼り付け!Q125=\"\",\"\",JAAFデータ貼り付け!Q125)","v":""},{"$f":"IF(JAAFデータ貼り付け!R125=\"\",\"\",JAAFデータ貼り付け!R125)","v":""},{"$f":"生年月日貼り付け!E125&生年月日貼り付け!F125&生年月日貼り付け!G125","v":"000"},{"$f":"IF(JAAFデータ貼り付け!T125=\"\",\"\",JAAFデータ貼り付け!T125)","v":""},{"$f":"IF(JAAFデータ貼り付け!U125=\"\",\"\",JAAFデータ貼り付け!U125)","v":""},{"$f":"IF(Sheet5!B125=\"\",\"\",Sheet5!B125)","v":"0"},{"$f":"IF(JAAFデータ貼り付け!W125=\"\",\"\",JAAFデータ貼り付け!W125)","v":""},{"$f":"IF(JAAFデータ貼り付け!X125=\"\",\"\",JAAFデータ貼り付け!X125)","v":""},{"$f":"IF(JAAFデータ貼り付け!Y125=\"\",\"\",JAAFデータ貼り付け!Y125)","v":""},{"$f":"IF(JAAFデータ貼り付け!Z125=\"\",\"\",JAAFデータ貼り付け!Z125)","v":""},{"$f":"IF(JAAFデータ貼り付け!AA125=\"\",\"\",JAAFデータ貼り付け!AA125)","v":""},{"$f":"IF(JAAFデータ貼り付け!AB125=\"\",\"\",JAAFデータ貼り付け!AB125)","v":""},{"$f":"IF(JAAFデータ貼り付け!AC125=\"\",\"\",JAAFデータ貼り付け!AC125)","v":""},{"$f":"IF(JAAFデータ貼り付け!AD125=\"\",\"\",JAAFデータ貼り付け!AD125)","v":""},{"$f":"IF(JAAFデータ貼り付け!AE125=\"\",\"\",JAAFデータ貼り付け!AE125)","v":""},{"$f":"IF(JAAFデータ貼り付け!AF125=\"\",\"\",JAAFデータ貼り付け!AF125)","v":""},{"$f":"IF(JAAFデータ貼り付け!AG125=\"\",\"\",JAAFデータ貼り付け!AG125)","v":""},{"$f":"IF(JAAFデータ貼り付け!AH125=\"\",\"\",JAAFデータ貼り付け!AH125)","v":""},{"$f":"IF(JAAFデータ貼り付け!AI125=\"\",\"\",JAAFデータ貼り付け!AI125)","v":""},{"$f":"IF(JAAFデータ貼り付け!AJ125=\"\",\"\",JAAFデータ貼り付け!AJ125)","v":""},{"$f":"IF(JAAFデータ貼り付け!AK125=\"\",\"\",JAAFデータ貼り付け!AK125)","v":""},{"$f":"IF(JAAFデータ貼り付け!AL125=\"\",\"\",JAAFデータ貼り付け!AL125)","v":""},{"$f":"IF(JAAFデータ貼り付け!AM125=\"\",\"\",JAAFデータ貼り付け!AM125)","v":""},{"$f":"IF(JAAFデータ貼り付け!AN125=\"\",\"\",JAAFデータ貼り付け!AN125)","v":""},{"$f":"IF(JAAFデータ貼り付け!AO125=\"\",\"\",JAAFデータ貼り付け!AO125)","v":""},{"$f":"IF(JAAFデータ貼り付け!AP125=\"\",\"\",JAAFデータ貼り付け!AP125)","v":""},{"$f":"IF(JAAFデータ貼り付け!AQ125=\"\",\"\",JAAFデータ貼り付け!AQ125)","v":""}]
[{"$f":"IF(JAAFデータ貼り付け!E126=\"\",\"\",JAAFデータ貼り付け!E126)","v":""},{"$f":"IF(JAAFデータ貼り付け!B126=\"\",\"\",JAAFデータ貼り付け!B126)","v":""},{"$f":"IF(JAAFデータ貼り付け!C126=\"\",\"\",JAAFデータ貼り付け!C126)","v":""},{"$f":"IF(JAAFデータ貼り付け!D126=\"\",\"\",JAAFデータ貼り付け!D126)","v":""},null,{"$f":"IF(フリガナ貼り付け!D126=\"\",\"\",フリガナ貼り付け!D126)","v":""},{"$f":"IF(フリガナ貼り付け!E126=\"\",\"\",フリガナ貼り付け!E126)","v":""},{"$f":"IF(JAAFデータ貼り付け!H126=\"\",\"\",JAAFデータ貼り付け!H126)","v":""},{"$f":"IF(JAAFデータ貼り付け!I126=\"\",\"\",JAAFデータ貼り付け!I126)","v":""},{"$f":"IF(JAAFデータ貼り付け!J126=\"\",\"\",JAAFデータ貼り付け!J126)","v":""},{"$f":"IF(JAAFデータ貼り付け!K126=\"\",\"\",JAAFデータ貼り付け!K126)","v":""},{"$f":"IF(JAAFデータ貼り付け!L126=\"\",\"\",JAAFデータ貼り付け!L126)","v":""},{"$f":"IF(JAAFデータ貼り付け!M126=\"\",\"\",JAAFデータ貼り付け!M126)","v":""},{"$f":"IF(JAAFデータ貼り付け!N126=\"\",\"\",JAAFデータ貼り付け!N126)","v":""},{"$f":"IF(JAAFデータ貼り付け!O126=\"\",\"\",JAAFデータ貼り付け!O126)","v":""},{"$f":"IF(JAAFデータ貼り付け!P126=\"\",\"\",JAAFデータ貼り付け!P126)","v":""},{"$f":"IF(JAAFデータ貼り付け!Q126=\"\",\"\",JAAFデータ貼り付け!Q126)","v":""},{"$f":"IF(JAAFデータ貼り付け!R126=\"\",\"\",JAAFデータ貼り付け!R126)","v":""},{"$f":"生年月日貼り付け!E126&生年月日貼り付け!F126&生年月日貼り付け!G126","v":"000"},{"$f":"IF(JAAFデータ貼り付け!T126=\"\",\"\",JAAFデータ貼り付け!T126)","v":""},{"$f":"IF(JAAFデータ貼り付け!U126=\"\",\"\",JAAFデータ貼り付け!U126)","v":""},{"$f":"IF(Sheet5!B126=\"\",\"\",Sheet5!B126)","v":"0"},{"$f":"IF(JAAFデータ貼り付け!W126=\"\",\"\",JAAFデータ貼り付け!W126)","v":""},{"$f":"IF(JAAFデータ貼り付け!X126=\"\",\"\",JAAFデータ貼り付け!X126)","v":""},{"$f":"IF(JAAFデータ貼り付け!Y126=\"\",\"\",JAAFデータ貼り付け!Y126)","v":""},{"$f":"IF(JAAFデータ貼り付け!Z126=\"\",\"\",JAAFデータ貼り付け!Z126)","v":""},{"$f":"IF(JAAFデータ貼り付け!AA126=\"\",\"\",JAAFデータ貼り付け!AA126)","v":""},{"$f":"IF(JAAFデータ貼り付け!AB126=\"\",\"\",JAAFデータ貼り付け!AB126)","v":""},{"$f":"IF(JAAFデータ貼り付け!AC126=\"\",\"\",JAAFデータ貼り付け!AC126)","v":""},{"$f":"IF(JAAFデータ貼り付け!AD126=\"\",\"\",JAAFデータ貼り付け!AD126)","v":""},{"$f":"IF(JAAFデータ貼り付け!AE126=\"\",\"\",JAAFデータ貼り付け!AE126)","v":""},{"$f":"IF(JAAFデータ貼り付け!AF126=\"\",\"\",JAAFデータ貼り付け!AF126)","v":""},{"$f":"IF(JAAFデータ貼り付け!AG126=\"\",\"\",JAAFデータ貼り付け!AG126)","v":""},{"$f":"IF(JAAFデータ貼り付け!AH126=\"\",\"\",JAAFデータ貼り付け!AH126)","v":""},{"$f":"IF(JAAFデータ貼り付け!AI126=\"\",\"\",JAAFデータ貼り付け!AI126)","v":""},{"$f":"IF(JAAFデータ貼り付け!AJ126=\"\",\"\",JAAFデータ貼り付け!AJ126)","v":""},{"$f":"IF(JAAFデータ貼り付け!AK126=\"\",\"\",JAAFデータ貼り付け!AK126)","v":""},{"$f":"IF(JAAFデータ貼り付け!AL126=\"\",\"\",JAAFデータ貼り付け!AL126)","v":""},{"$f":"IF(JAAFデータ貼り付け!AM126=\"\",\"\",JAAFデータ貼り付け!AM126)","v":""},{"$f":"IF(JAAFデータ貼り付け!AN126=\"\",\"\",JAAFデータ貼り付け!AN126)","v":""},{"$f":"IF(JAAFデータ貼り付け!AO126=\"\",\"\",JAAFデータ貼り付け!AO126)","v":""},{"$f":"IF(JAAFデータ貼り付け!AP126=\"\",\"\",JAAFデータ貼り付け!AP126)","v":""},{"$f":"IF(JAAFデータ貼り付け!AQ126=\"\",\"\",JAAFデータ貼り付け!AQ126)","v":""}]
[{"$f":"IF(JAAFデータ貼り付け!E127=\"\",\"\",JAAFデータ貼り付け!E127)","v":""},{"$f":"IF(JAAFデータ貼り付け!B127=\"\",\"\",JAAFデータ貼り付け!B127)","v":""},{"$f":"IF(JAAFデータ貼り付け!C127=\"\",\"\",JAAFデータ貼り付け!C127)","v":""},{"$f":"IF(JAAFデータ貼り付け!D127=\"\",\"\",JAAFデータ貼り付け!D127)","v":""},null,{"$f":"IF(フリガナ貼り付け!D127=\"\",\"\",フリガナ貼り付け!D127)","v":""},{"$f":"IF(フリガナ貼り付け!E127=\"\",\"\",フリガナ貼り付け!E127)","v":""},{"$f":"IF(JAAFデータ貼り付け!H127=\"\",\"\",JAAFデータ貼り付け!H127)","v":""},{"$f":"IF(JAAFデータ貼り付け!I127=\"\",\"\",JAAFデータ貼り付け!I127)","v":""},{"$f":"IF(JAAFデータ貼り付け!J127=\"\",\"\",JAAFデータ貼り付け!J127)","v":""},{"$f":"IF(JAAFデータ貼り付け!K127=\"\",\"\",JAAFデータ貼り付け!K127)","v":""},{"$f":"IF(JAAFデータ貼り付け!L127=\"\",\"\",JAAFデータ貼り付け!L127)","v":""},{"$f":"IF(JAAFデータ貼り付け!M127=\"\",\"\",JAAFデータ貼り付け!M127)","v":""},{"$f":"IF(JAAFデータ貼り付け!N127=\"\",\"\",JAAFデータ貼り付け!N127)","v":""},{"$f":"IF(JAAFデータ貼り付け!O127=\"\",\"\",JAAFデータ貼り付け!O127)","v":""},{"$f":"IF(JAAFデータ貼り付け!P127=\"\",\"\",JAAFデータ貼り付け!P127)","v":""},{"$f":"IF(JAAFデータ貼り付け!Q127=\"\",\"\",JAAFデータ貼り付け!Q127)","v":""},{"$f":"IF(JAAFデータ貼り付け!R127=\"\",\"\",JAAFデータ貼り付け!R127)","v":""},{"$f":"生年月日貼り付け!E127&生年月日貼り付け!F127&生年月日貼り付け!G127","v":"000"},{"$f":"IF(JAAFデータ貼り付け!T127=\"\",\"\",JAAFデータ貼り付け!T127)","v":""},{"$f":"IF(JAAFデータ貼り付け!U127=\"\",\"\",JAAFデータ貼り付け!U127)","v":""},{"$f":"IF(Sheet5!B127=\"\",\"\",Sheet5!B127)","v":"0"},{"$f":"IF(JAAFデータ貼り付け!W127=\"\",\"\",JAAFデータ貼り付け!W127)","v":""},{"$f":"IF(JAAFデータ貼り付け!X127=\"\",\"\",JAAFデータ貼り付け!X127)","v":""},{"$f":"IF(JAAFデータ貼り付け!Y127=\"\",\"\",JAAFデータ貼り付け!Y127)","v":""},{"$f":"IF(JAAFデータ貼り付け!Z127=\"\",\"\",JAAFデータ貼り付け!Z127)","v":""},{"$f":"IF(JAAFデータ貼り付け!AA127=\"\",\"\",JAAFデータ貼り付け!AA127)","v":""},{"$f":"IF(JAAFデータ貼り付け!AB127=\"\",\"\",JAAFデータ貼り付け!AB127)","v":""},{"$f":"IF(JAAFデータ貼り付け!AC127=\"\",\"\",JAAFデータ貼り付け!AC127)","v":""},{"$f":"IF(JAAFデータ貼り付け!AD127=\"\",\"\",JAAFデータ貼り付け!AD127)","v":""},{"$f":"IF(JAAFデータ貼り付け!AE127=\"\",\"\",JAAFデータ貼り付け!AE127)","v":""},{"$f":"IF(JAAFデータ貼り付け!AF127=\"\",\"\",JAAFデータ貼り付け!AF127)","v":""},{"$f":"IF(JAAFデータ貼り付け!AG127=\"\",\"\",JAAFデータ貼り付け!AG127)","v":""},{"$f":"IF(JAAFデータ貼り付け!AH127=\"\",\"\",JAAFデータ貼り付け!AH127)","v":""},{"$f":"IF(JAAFデータ貼り付け!AI127=\"\",\"\",JAAFデータ貼り付け!AI127)","v":""},{"$f":"IF(JAAFデータ貼り付け!AJ127=\"\",\"\",JAAFデータ貼り付け!AJ127)","v":""},{"$f":"IF(JAAFデータ貼り付け!AK127=\"\",\"\",JAAFデータ貼り付け!AK127)","v":""},{"$f":"IF(JAAFデータ貼り付け!AL127=\"\",\"\",JAAFデータ貼り付け!AL127)","v":""},{"$f":"IF(JAAFデータ貼り付け!AM127=\"\",\"\",JAAFデータ貼り付け!AM127)","v":""},{"$f":"IF(JAAFデータ貼り付け!AN127=\"\",\"\",JAAFデータ貼り付け!AN127)","v":""},{"$f":"IF(JAAFデータ貼り付け!AO127=\"\",\"\",JAAFデータ貼り付け!AO127)","v":""},{"$f":"IF(JAAFデータ貼り付け!AP127=\"\",\"\",JAAFデータ貼り付け!AP127)","v":""},{"$f":"IF(JAAFデータ貼り付け!AQ127=\"\",\"\",JAAFデータ貼り付け!AQ127)","v":""}]
[{"$f":"IF(JAAFデータ貼り付け!E128=\"\",\"\",JAAFデータ貼り付け!E128)","v":""},{"$f":"IF(JAAFデータ貼り付け!B128=\"\",\"\",JAAFデータ貼り付け!B128)","v":""},{"$f":"IF(JAAFデータ貼り付け!C128=\"\",\"\",JAAFデータ貼り付け!C128)","v":""},{"$f":"IF(JAAFデータ貼り付け!D128=\"\",\"\",JAAFデータ貼り付け!D128)","v":""},null,{"$f":"IF(フリガナ貼り付け!D128=\"\",\"\",フリガナ貼り付け!D128)","v":""},{"$f":"IF(フリガナ貼り付け!E128=\"\",\"\",フリガナ貼り付け!E128)","v":""},{"$f":"IF(JAAFデータ貼り付け!H128=\"\",\"\",JAAFデータ貼り付け!H128)","v":""},{"$f":"IF(JAAFデータ貼り付け!I128=\"\",\"\",JAAFデータ貼り付け!I128)","v":""},{"$f":"IF(JAAFデータ貼り付け!J128=\"\",\"\",JAAFデータ貼り付け!J128)","v":""},{"$f":"IF(JAAFデータ貼り付け!K128=\"\",\"\",JAAFデータ貼り付け!K128)","v":""},{"$f":"IF(JAAFデータ貼り付け!L128=\"\",\"\",JAAFデータ貼り付け!L128)","v":""},{"$f":"IF(JAAFデータ貼り付け!M128=\"\",\"\",JAAFデータ貼り付け!M128)","v":""},{"$f":"IF(JAAFデータ貼り付け!N128=\"\",\"\",JAAFデータ貼り付け!N128)","v":""},{"$f":"IF(JAAFデータ貼り付け!O128=\"\",\"\",JAAFデータ貼り付け!O128)","v":""},{"$f":"IF(JAAFデータ貼り付け!P128=\"\",\"\",JAAFデータ貼り付け!P128)","v":""},{"$f":"IF(JAAFデータ貼り付け!Q128=\"\",\"\",JAAFデータ貼り付け!Q128)","v":""},{"$f":"IF(JAAFデータ貼り付け!R128=\"\",\"\",JAAFデータ貼り付け!R128)","v":""},{"$f":"生年月日貼り付け!E128&生年月日貼り付け!F128&生年月日貼り付け!G128","v":"000"},{"$f":"IF(JAAFデータ貼り付け!T128=\"\",\"\",JAAFデータ貼り付け!T128)","v":""},{"$f":"IF(JAAFデータ貼り付け!U128=\"\",\"\",JAAFデータ貼り付け!U128)","v":""},{"$f":"IF(Sheet5!B128=\"\",\"\",Sheet5!B128)","v":"0"},{"$f":"IF(JAAFデータ貼り付け!W128=\"\",\"\",JAAFデータ貼り付け!W128)","v":""},{"$f":"IF(JAAFデータ貼り付け!X128=\"\",\"\",JAAFデータ貼り付け!X128)","v":""},{"$f":"IF(JAAFデータ貼り付け!Y128=\"\",\"\",JAAFデータ貼り付け!Y128)","v":""},{"$f":"IF(JAAFデータ貼り付け!Z128=\"\",\"\",JAAFデータ貼り付け!Z128)","v":""},{"$f":"IF(JAAFデータ貼り付け!AA128=\"\",\"\",JAAFデータ貼り付け!AA128)","v":""},{"$f":"IF(JAAFデータ貼り付け!AB128=\"\",\"\",JAAFデータ貼り付け!AB128)","v":""},{"$f":"IF(JAAFデータ貼り付け!AC128=\"\",\"\",JAAFデータ貼り付け!AC128)","v":""},{"$f":"IF(JAAFデータ貼り付け!AD128=\"\",\"\",JAAFデータ貼り付け!AD128)","v":""},{"$f":"IF(JAAFデータ貼り付け!AE128=\"\",\"\",JAAFデータ貼り付け!AE128)","v":""},{"$f":"IF(JAAFデータ貼り付け!AF128=\"\",\"\",JAAFデータ貼り付け!AF128)","v":""},{"$f":"IF(JAAFデータ貼り付け!AG128=\"\",\"\",JAAFデータ貼り付け!AG128)","v":""},{"$f":"IF(JAAFデータ貼り付け!AH128=\"\",\"\",JAAFデータ貼り付け!AH128)","v":""},{"$f":"IF(JAAFデータ貼り付け!AI128=\"\",\"\",JAAFデータ貼り付け!AI128)","v":""},{"$f":"IF(JAAFデータ貼り付け!AJ128=\"\",\"\",JAAFデータ貼り付け!AJ128)","v":""},{"$f":"IF(JAAFデータ貼り付け!AK128=\"\",\"\",JAAFデータ貼り付け!AK128)","v":""},{"$f":"IF(JAAFデータ貼り付け!AL128=\"\",\"\",JAAFデータ貼り付け!AL128)","v":""},{"$f":"IF(JAAFデータ貼り付け!AM128=\"\",\"\",JAAFデータ貼り付け!AM128)","v":""},{"$f":"IF(JAAFデータ貼り付け!AN128=\"\",\"\",JAAFデータ貼り付け!AN128)","v":""},{"$f":"IF(JAAFデータ貼り付け!AO128=\"\",\"\",JAAFデータ貼り付け!AO128)","v":""},{"$f":"IF(JAAFデータ貼り付け!AP128=\"\",\"\",JAAFデータ貼り付け!AP128)","v":""},{"$f":"IF(JAAFデータ貼り付け!AQ128=\"\",\"\",JAAFデータ貼り付け!AQ128)","v":""}]
[{"$f":"IF(JAAFデータ貼り付け!E129=\"\",\"\",JAAFデータ貼り付け!E129)","v":""},{"$f":"IF(JAAFデータ貼り付け!B129=\"\",\"\",JAAFデータ貼り付け!B129)","v":""},{"$f":"IF(JAAFデータ貼り付け!C129=\"\",\"\",JAAFデータ貼り付け!C129)","v":""},{"$f":"IF(JAAFデータ貼り付け!D129=\"\",\"\",JAAFデータ貼り付け!D129)","v":""},null,{"$f":"IF(フリガナ貼り付け!D129=\"\",\"\",フリガナ貼り付け!D129)","v":""},{"$f":"IF(フリガナ貼り付け!E129=\"\",\"\",フリガナ貼り付け!E129)","v":""},{"$f":"IF(JAAFデータ貼り付け!H129=\"\",\"\",JAAFデータ貼り付け!H129)","v":""},{"$f":"IF(JAAFデータ貼り付け!I129=\"\",\"\",JAAFデータ貼り付け!I129)","v":""},{"$f":"IF(JAAFデータ貼り付け!J129=\"\",\"\",JAAFデータ貼り付け!J129)","v":""},{"$f":"IF(JAAFデータ貼り付け!K129=\"\",\"\",JAAFデータ貼り付け!K129)","v":""},{"$f":"IF(JAAFデータ貼り付け!L129=\"\",\"\",JAAFデータ貼り付け!L129)","v":""},{"$f":"IF(JAAFデータ貼り付け!M129=\"\",\"\",JAAFデータ貼り付け!M129)","v":""},{"$f":"IF(JAAFデータ貼り付け!N129=\"\",\"\",JAAFデータ貼り付け!N129)","v":""},{"$f":"IF(JAAFデータ貼り付け!O129=\"\",\"\",JAAFデータ貼り付け!O129)","v":""},{"$f":"IF(JAAFデータ貼り付け!P129=\"\",\"\",JAAFデータ貼り付け!P129)","v":""},{"$f":"IF(JAAFデータ貼り付け!Q129=\"\",\"\",JAAFデータ貼り付け!Q129)","v":""},{"$f":"IF(JAAFデータ貼り付け!R129=\"\",\"\",JAAFデータ貼り付け!R129)","v":""},{"$f":"生年月日貼り付け!E129&生年月日貼り付け!F129&生年月日貼り付け!G129","v":"000"},{"$f":"IF(JAAFデータ貼り付け!T129=\"\",\"\",JAAFデータ貼り付け!T129)","v":""},{"$f":"IF(JAAFデータ貼り付け!U129=\"\",\"\",JAAFデータ貼り付け!U129)","v":""},{"$f":"IF(Sheet5!B129=\"\",\"\",Sheet5!B129)","v":"0"},{"$f":"IF(JAAFデータ貼り付け!W129=\"\",\"\",JAAFデータ貼り付け!W129)","v":""},{"$f":"IF(JAAFデータ貼り付け!X129=\"\",\"\",JAAFデータ貼り付け!X129)","v":""},{"$f":"IF(JAAFデータ貼り付け!Y129=\"\",\"\",JAAFデータ貼り付け!Y129)","v":""},{"$f":"IF(JAAFデータ貼り付け!Z129=\"\",\"\",JAAFデータ貼り付け!Z129)","v":""},{"$f":"IF(JAAFデータ貼り付け!AA129=\"\",\"\",JAAFデータ貼り付け!AA129)","v":""},{"$f":"IF(JAAFデータ貼り付け!AB129=\"\",\"\",JAAFデータ貼り付け!AB129)","v":""},{"$f":"IF(JAAFデータ貼り付け!AC129=\"\",\"\",JAAFデータ貼り付け!AC129)","v":""},{"$f":"IF(JAAFデータ貼り付け!AD129=\"\",\"\",JAAFデータ貼り付け!AD129)","v":""},{"$f":"IF(JAAFデータ貼り付け!AE129=\"\",\"\",JAAFデータ貼り付け!AE129)","v":""},{"$f":"IF(JAAFデータ貼り付け!AF129=\"\",\"\",JAAFデータ貼り付け!AF129)","v":""},{"$f":"IF(JAAFデータ貼り付け!AG129=\"\",\"\",JAAFデータ貼り付け!AG129)","v":""},{"$f":"IF(JAAFデータ貼り付け!AH129=\"\",\"\",JAAFデータ貼り付け!AH129)","v":""},{"$f":"IF(JAAFデータ貼り付け!AI129=\"\",\"\",JAAFデータ貼り付け!AI129)","v":""},{"$f":"IF(JAAFデータ貼り付け!AJ129=\"\",\"\",JAAFデータ貼り付け!AJ129)","v":""},{"$f":"IF(JAAFデータ貼り付け!AK129=\"\",\"\",JAAFデータ貼り付け!AK129)","v":""},{"$f":"IF(JAAFデータ貼り付け!AL129=\"\",\"\",JAAFデータ貼り付け!AL129)","v":""},{"$f":"IF(JAAFデータ貼り付け!AM129=\"\",\"\",JAAFデータ貼り付け!AM129)","v":""},{"$f":"IF(JAAFデータ貼り付け!AN129=\"\",\"\",JAAFデータ貼り付け!AN129)","v":""},{"$f":"IF(JAAFデータ貼り付け!AO129=\"\",\"\",JAAFデータ貼り付け!AO129)","v":""},{"$f":"IF(JAAFデータ貼り付け!AP129=\"\",\"\",JAAFデータ貼り付け!AP129)","v":""},{"$f":"IF(JAAFデータ貼り付け!AQ129=\"\",\"\",JAAFデータ貼り付け!AQ129)","v":""}]
[{"$f":"IF(JAAFデータ貼り付け!E130=\"\",\"\",JAAFデータ貼り付け!E130)","v":""},{"$f":"IF(JAAFデータ貼り付け!B130=\"\",\"\",JAAFデータ貼り付け!B130)","v":""},{"$f":"IF(JAAFデータ貼り付け!C130=\"\",\"\",JAAFデータ貼り付け!C130)","v":""},{"$f":"IF(JAAFデータ貼り付け!D130=\"\",\"\",JAAFデータ貼り付け!D130)","v":""},null,{"$f":"IF(フリガナ貼り付け!D130=\"\",\"\",フリガナ貼り付け!D130)","v":""},{"$f":"IF(フリガナ貼り付け!E130=\"\",\"\",フリガナ貼り付け!E130)","v":""},{"$f":"IF(JAAFデータ貼り付け!H130=\"\",\"\",JAAFデータ貼り付け!H130)","v":""},{"$f":"IF(JAAFデータ貼り付け!I130=\"\",\"\",JAAFデータ貼り付け!I130)","v":""},{"$f":"IF(JAAFデータ貼り付け!J130=\"\",\"\",JAAFデータ貼り付け!J130)","v":""},{"$f":"IF(JAAFデータ貼り付け!K130=\"\",\"\",JAAFデータ貼り付け!K130)","v":""},{"$f":"IF(JAAFデータ貼り付け!L130=\"\",\"\",JAAFデータ貼り付け!L130)","v":""},{"$f":"IF(JAAFデータ貼り付け!M130=\"\",\"\",JAAFデータ貼り付け!M130)","v":""},{"$f":"IF(JAAFデータ貼り付け!N130=\"\",\"\",JAAFデータ貼り付け!N130)","v":""},{"$f":"IF(JAAFデータ貼り付け!O130=\"\",\"\",JAAFデータ貼り付け!O130)","v":""},{"$f":"IF(JAAFデータ貼り付け!P130=\"\",\"\",JAAFデータ貼り付け!P130)","v":""},{"$f":"IF(JAAFデータ貼り付け!Q130=\"\",\"\",JAAFデータ貼り付け!Q130)","v":""},{"$f":"IF(JAAFデータ貼り付け!R130=\"\",\"\",JAAFデータ貼り付け!R130)","v":""},{"$f":"生年月日貼り付け!E130&生年月日貼り付け!F130&生年月日貼り付け!G130","v":"000"},{"$f":"IF(JAAFデータ貼り付け!T130=\"\",\"\",JAAFデータ貼り付け!T130)","v":""},{"$f":"IF(JAAFデータ貼り付け!U130=\"\",\"\",JAAFデータ貼り付け!U130)","v":""},{"$f":"IF(Sheet5!B130=\"\",\"\",Sheet5!B130)","v":"0"},{"$f":"IF(JAAFデータ貼り付け!W130=\"\",\"\",JAAFデータ貼り付け!W130)","v":""},{"$f":"IF(JAAFデータ貼り付け!X130=\"\",\"\",JAAFデータ貼り付け!X130)","v":""},{"$f":"IF(JAAFデータ貼り付け!Y130=\"\",\"\",JAAFデータ貼り付け!Y130)","v":""},{"$f":"IF(JAAFデータ貼り付け!Z130=\"\",\"\",JAAFデータ貼り付け!Z130)","v":""},{"$f":"IF(JAAFデータ貼り付け!AA130=\"\",\"\",JAAFデータ貼り付け!AA130)","v":""},{"$f":"IF(JAAFデータ貼り付け!AB130=\"\",\"\",JAAFデータ貼り付け!AB130)","v":""},{"$f":"IF(JAAFデータ貼り付け!AC130=\"\",\"\",JAAFデータ貼り付け!AC130)","v":""},{"$f":"IF(JAAFデータ貼り付け!AD130=\"\",\"\",JAAFデータ貼り付け!AD130)","v":""},{"$f":"IF(JAAFデータ貼り付け!AE130=\"\",\"\",JAAFデータ貼り付け!AE130)","v":""},{"$f":"IF(JAAFデータ貼り付け!AF130=\"\",\"\",JAAFデータ貼り付け!AF130)","v":""},{"$f":"IF(JAAFデータ貼り付け!AG130=\"\",\"\",JAAFデータ貼り付け!AG130)","v":""},{"$f":"IF(JAAFデータ貼り付け!AH130=\"\",\"\",JAAFデータ貼り付け!AH130)","v":""},{"$f":"IF(JAAFデータ貼り付け!AI130=\"\",\"\",JAAFデータ貼り付け!AI130)","v":""},{"$f":"IF(JAAFデータ貼り付け!AJ130=\"\",\"\",JAAFデータ貼り付け!AJ130)","v":""},{"$f":"IF(JAAFデータ貼り付け!AK130=\"\",\"\",JAAFデータ貼り付け!AK130)","v":""},{"$f":"IF(JAAFデータ貼り付け!AL130=\"\",\"\",JAAFデータ貼り付け!AL130)","v":""},{"$f":"IF(JAAFデータ貼り付け!AM130=\"\",\"\",JAAFデータ貼り付け!AM130)","v":""},{"$f":"IF(JAAFデータ貼り付け!AN130=\"\",\"\",JAAFデータ貼り付け!AN130)","v":""},{"$f":"IF(JAAFデータ貼り付け!AO130=\"\",\"\",JAAFデータ貼り付け!AO130)","v":""},{"$f":"IF(JAAFデータ貼り付け!AP130=\"\",\"\",JAAFデータ貼り付け!AP130)","v":""},{"$f":"IF(JAAFデータ貼り付け!AQ130=\"\",\"\",JAAFデータ貼り付け!AQ130)","v":""}]
[{"$f":"IF(JAAFデータ貼り付け!E131=\"\",\"\",JAAFデータ貼り付け!E131)","v":""},{"$f":"IF(JAAFデータ貼り付け!B131=\"\",\"\",JAAFデータ貼り付け!B131)","v":""},{"$f":"IF(JAAFデータ貼り付け!C131=\"\",\"\",JAAFデータ貼り付け!C131)","v":""},{"$f":"IF(JAAFデータ貼り付け!D131=\"\",\"\",JAAFデータ貼り付け!D131)","v":""},null,{"$f":"IF(フリガナ貼り付け!D131=\"\",\"\",フリガナ貼り付け!D131)","v":""},{"$f":"IF(フリガナ貼り付け!E131=\"\",\"\",フリガナ貼り付け!E131)","v":""},{"$f":"IF(JAAFデータ貼り付け!H131=\"\",\"\",JAAFデータ貼り付け!H131)","v":""},{"$f":"IF(JAAFデータ貼り付け!I131=\"\",\"\",JAAFデータ貼り付け!I131)","v":""},{"$f":"IF(JAAFデータ貼り付け!J131=\"\",\"\",JAAFデータ貼り付け!J131)","v":""},{"$f":"IF(JAAFデータ貼り付け!K131=\"\",\"\",JAAFデータ貼り付け!K131)","v":""},{"$f":"IF(JAAFデータ貼り付け!L131=\"\",\"\",JAAFデータ貼り付け!L131)","v":""},{"$f":"IF(JAAFデータ貼り付け!M131=\"\",\"\",JAAFデータ貼り付け!M131)","v":""},{"$f":"IF(JAAFデータ貼り付け!N131=\"\",\"\",JAAFデータ貼り付け!N131)","v":""},{"$f":"IF(JAAFデータ貼り付け!O131=\"\",\"\",JAAFデータ貼り付け!O131)","v":""},{"$f":"IF(JAAFデータ貼り付け!P131=\"\",\"\",JAAFデータ貼り付け!P131)","v":""},{"$f":"IF(JAAFデータ貼り付け!Q131=\"\",\"\",JAAFデータ貼り付け!Q131)","v":""},{"$f":"IF(JAAFデータ貼り付け!R131=\"\",\"\",JAAFデータ貼り付け!R131)","v":""},{"$f":"生年月日貼り付け!E131&生年月日貼り付け!F131&生年月日貼り付け!G131","v":"000"},{"$f":"IF(JAAFデータ貼り付け!T131=\"\",\"\",JAAFデータ貼り付け!T131)","v":""},{"$f":"IF(JAAFデータ貼り付け!U131=\"\",\"\",JAAFデータ貼り付け!U131)","v":""},{"$f":"IF(Sheet5!B131=\"\",\"\",Sheet5!B131)","v":"0"},{"$f":"IF(JAAFデータ貼り付け!W131=\"\",\"\",JAAFデータ貼り付け!W131)","v":""},{"$f":"IF(JAAFデータ貼り付け!X131=\"\",\"\",JAAFデータ貼り付け!X131)","v":""},{"$f":"IF(JAAFデータ貼り付け!Y131=\"\",\"\",JAAFデータ貼り付け!Y131)","v":""},{"$f":"IF(JAAFデータ貼り付け!Z131=\"\",\"\",JAAFデータ貼り付け!Z131)","v":""},{"$f":"IF(JAAFデータ貼り付け!AA131=\"\",\"\",JAAFデータ貼り付け!AA131)","v":""},{"$f":"IF(JAAFデータ貼り付け!AB131=\"\",\"\",JAAFデータ貼り付け!AB131)","v":""},{"$f":"IF(JAAFデータ貼り付け!AC131=\"\",\"\",JAAFデータ貼り付け!AC131)","v":""},{"$f":"IF(JAAFデータ貼り付け!AD131=\"\",\"\",JAAFデータ貼り付け!AD131)","v":""},{"$f":"IF(JAAFデータ貼り付け!AE131=\"\",\"\",JAAFデータ貼り付け!AE131)","v":""},{"$f":"IF(JAAFデータ貼り付け!AF131=\"\",\"\",JAAFデータ貼り付け!AF131)","v":""},{"$f":"IF(JAAFデータ貼り付け!AG131=\"\",\"\",JAAFデータ貼り付け!AG131)","v":""},{"$f":"IF(JAAFデータ貼り付け!AH131=\"\",\"\",JAAFデータ貼り付け!AH131)","v":""},{"$f":"IF(JAAFデータ貼り付け!AI131=\"\",\"\",JAAFデータ貼り付け!AI131)","v":""},{"$f":"IF(JAAFデータ貼り付け!AJ131=\"\",\"\",JAAFデータ貼り付け!AJ131)","v":""},{"$f":"IF(JAAFデータ貼り付け!AK131=\"\",\"\",JAAFデータ貼り付け!AK131)","v":""},{"$f":"IF(JAAFデータ貼り付け!AL131=\"\",\"\",JAAFデータ貼り付け!AL131)","v":""},{"$f":"IF(JAAFデータ貼り付け!AM131=\"\",\"\",JAAFデータ貼り付け!AM131)","v":""},{"$f":"IF(JAAFデータ貼り付け!AN131=\"\",\"\",JAAFデータ貼り付け!AN131)","v":""},{"$f":"IF(JAAFデータ貼り付け!AO131=\"\",\"\",JAAFデータ貼り付け!AO131)","v":""},{"$f":"IF(JAAFデータ貼り付け!AP131=\"\",\"\",JAAFデータ貼り付け!AP131)","v":""},{"$f":"IF(JAAFデータ貼り付け!AQ131=\"\",\"\",JAAFデータ貼り付け!AQ131)","v":""}]
[{"$f":"IF(JAAFデータ貼り付け!E132=\"\",\"\",JAAFデータ貼り付け!E132)","v":""},{"$f":"IF(JAAFデータ貼り付け!B132=\"\",\"\",JAAFデータ貼り付け!B132)","v":""},{"$f":"IF(JAAFデータ貼り付け!C132=\"\",\"\",JAAFデータ貼り付け!C132)","v":""},{"$f":"IF(JAAFデータ貼り付け!D132=\"\",\"\",JAAFデータ貼り付け!D132)","v":""},null,{"$f":"IF(フリガナ貼り付け!D132=\"\",\"\",フリガナ貼り付け!D132)","v":""},{"$f":"IF(フリガナ貼り付け!E132=\"\",\"\",フリガナ貼り付け!E132)","v":""},{"$f":"IF(JAAFデータ貼り付け!H132=\"\",\"\",JAAFデータ貼り付け!H132)","v":""},{"$f":"IF(JAAFデータ貼り付け!I132=\"\",\"\",JAAFデータ貼り付け!I132)","v":""},{"$f":"IF(JAAFデータ貼り付け!J132=\"\",\"\",JAAFデータ貼り付け!J132)","v":""},{"$f":"IF(JAAFデータ貼り付け!K132=\"\",\"\",JAAFデータ貼り付け!K132)","v":""},{"$f":"IF(JAAFデータ貼り付け!L132=\"\",\"\",JAAFデータ貼り付け!L132)","v":""},{"$f":"IF(JAAFデータ貼り付け!M132=\"\",\"\",JAAFデータ貼り付け!M132)","v":""},{"$f":"IF(JAAFデータ貼り付け!N132=\"\",\"\",JAAFデータ貼り付け!N132)","v":""},{"$f":"IF(JAAFデータ貼り付け!O132=\"\",\"\",JAAFデータ貼り付け!O132)","v":""},{"$f":"IF(JAAFデータ貼り付け!P132=\"\",\"\",JAAFデータ貼り付け!P132)","v":""},{"$f":"IF(JAAFデータ貼り付け!Q132=\"\",\"\",JAAFデータ貼り付け!Q132)","v":""},{"$f":"IF(JAAFデータ貼り付け!R132=\"\",\"\",JAAFデータ貼り付け!R132)","v":""},{"$f":"生年月日貼り付け!E132&生年月日貼り付け!F132&生年月日貼り付け!G132","v":"000"},{"$f":"IF(JAAFデータ貼り付け!T132=\"\",\"\",JAAFデータ貼り付け!T132)","v":""},{"$f":"IF(JAAFデータ貼り付け!U132=\"\",\"\",JAAFデータ貼り付け!U132)","v":""},{"$f":"IF(Sheet5!B132=\"\",\"\",Sheet5!B132)","v":"0"},{"$f":"IF(JAAFデータ貼り付け!W132=\"\",\"\",JAAFデータ貼り付け!W132)","v":""},{"$f":"IF(JAAFデータ貼り付け!X132=\"\",\"\",JAAFデータ貼り付け!X132)","v":""},{"$f":"IF(JAAFデータ貼り付け!Y132=\"\",\"\",JAAFデータ貼り付け!Y132)","v":""},{"$f":"IF(JAAFデータ貼り付け!Z132=\"\",\"\",JAAFデータ貼り付け!Z132)","v":""},{"$f":"IF(JAAFデータ貼り付け!AA132=\"\",\"\",JAAFデータ貼り付け!AA132)","v":""},{"$f":"IF(JAAFデータ貼り付け!AB132=\"\",\"\",JAAFデータ貼り付け!AB132)","v":""},{"$f":"IF(JAAFデータ貼り付け!AC132=\"\",\"\",JAAFデータ貼り付け!AC132)","v":""},{"$f":"IF(JAAFデータ貼り付け!AD132=\"\",\"\",JAAFデータ貼り付け!AD132)","v":""},{"$f":"IF(JAAFデータ貼り付け!AE132=\"\",\"\",JAAFデータ貼り付け!AE132)","v":""},{"$f":"IF(JAAFデータ貼り付け!AF132=\"\",\"\",JAAFデータ貼り付け!AF132)","v":""},{"$f":"IF(JAAFデータ貼り付け!AG132=\"\",\"\",JAAFデータ貼り付け!AG132)","v":""},{"$f":"IF(JAAFデータ貼り付け!AH132=\"\",\"\",JAAFデータ貼り付け!AH132)","v":""},{"$f":"IF(JAAFデータ貼り付け!AI132=\"\",\"\",JAAFデータ貼り付け!AI132)","v":""},{"$f":"IF(JAAFデータ貼り付け!AJ132=\"\",\"\",JAAFデータ貼り付け!AJ132)","v":""},{"$f":"IF(JAAFデータ貼り付け!AK132=\"\",\"\",JAAFデータ貼り付け!AK132)","v":""},{"$f":"IF(JAAFデータ貼り付け!AL132=\"\",\"\",JAAFデータ貼り付け!AL132)","v":""},{"$f":"IF(JAAFデータ貼り付け!AM132=\"\",\"\",JAAFデータ貼り付け!AM132)","v":""},{"$f":"IF(JAAFデータ貼り付け!AN132=\"\",\"\",JAAFデータ貼り付け!AN132)","v":""},{"$f":"IF(JAAFデータ貼り付け!AO132=\"\",\"\",JAAFデータ貼り付け!AO132)","v":""},{"$f":"IF(JAAFデータ貼り付け!AP132=\"\",\"\",JAAFデータ貼り付け!AP132)","v":""},{"$f":"IF(JAAFデータ貼り付け!AQ132=\"\",\"\",JAAFデータ貼り付け!AQ132)","v":""}]
[{"$f":"IF(JAAFデータ貼り付け!E133=\"\",\"\",JAAFデータ貼り付け!E133)","v":""},{"$f":"IF(JAAFデータ貼り付け!B133=\"\",\"\",JAAFデータ貼り付け!B133)","v":""},{"$f":"IF(JAAFデータ貼り付け!C133=\"\",\"\",JAAFデータ貼り付け!C133)","v":""},{"$f":"IF(JAAFデータ貼り付け!D133=\"\",\"\",JAAFデータ貼り付け!D133)","v":""},null,{"$f":"IF(フリガナ貼り付け!D133=\"\",\"\",フリガナ貼り付け!D133)","v":""},{"$f":"IF(フリガナ貼り付け!E133=\"\",\"\",フリガナ貼り付け!E133)","v":""},{"$f":"IF(JAAFデータ貼り付け!H133=\"\",\"\",JAAFデータ貼り付け!H133)","v":""},{"$f":"IF(JAAFデータ貼り付け!I133=\"\",\"\",JAAFデータ貼り付け!I133)","v":""},{"$f":"IF(JAAFデータ貼り付け!J133=\"\",\"\",JAAFデータ貼り付け!J133)","v":""},{"$f":"IF(JAAFデータ貼り付け!K133=\"\",\"\",JAAFデータ貼り付け!K133)","v":""},{"$f":"IF(JAAFデータ貼り付け!L133=\"\",\"\",JAAFデータ貼り付け!L133)","v":""},{"$f":"IF(JAAFデータ貼り付け!M133=\"\",\"\",JAAFデータ貼り付け!M133)","v":""},{"$f":"IF(JAAFデータ貼り付け!N133=\"\",\"\",JAAFデータ貼り付け!N133)","v":""},{"$f":"IF(JAAFデータ貼り付け!O133=\"\",\"\",JAAFデータ貼り付け!O133)","v":""},{"$f":"IF(JAAFデータ貼り付け!P133=\"\",\"\",JAAFデータ貼り付け!P133)","v":""},{"$f":"IF(JAAFデータ貼り付け!Q133=\"\",\"\",JAAFデータ貼り付け!Q133)","v":""},{"$f":"IF(JAAFデータ貼り付け!R133=\"\",\"\",JAAFデータ貼り付け!R133)","v":""},{"$f":"生年月日貼り付け!E133&生年月日貼り付け!F133&生年月日貼り付け!G133","v":"000"},{"$f":"IF(JAAFデータ貼り付け!T133=\"\",\"\",JAAFデータ貼り付け!T133)","v":""},{"$f":"IF(JAAFデータ貼り付け!U133=\"\",\"\",JAAFデータ貼り付け!U133)","v":""},{"$f":"IF(Sheet5!B133=\"\",\"\",Sheet5!B133)","v":"0"},{"$f":"IF(JAAFデータ貼り付け!W133=\"\",\"\",JAAFデータ貼り付け!W133)","v":""},{"$f":"IF(JAAFデータ貼り付け!X133=\"\",\"\",JAAFデータ貼り付け!X133)","v":""},{"$f":"IF(JAAFデータ貼り付け!Y133=\"\",\"\",JAAFデータ貼り付け!Y133)","v":""},{"$f":"IF(JAAFデータ貼り付け!Z133=\"\",\"\",JAAFデータ貼り付け!Z133)","v":""},{"$f":"IF(JAAFデータ貼り付け!AA133=\"\",\"\",JAAFデータ貼り付け!AA133)","v":""},{"$f":"IF(JAAFデータ貼り付け!AB133=\"\",\"\",JAAFデータ貼り付け!AB133)","v":""},{"$f":"IF(JAAFデータ貼り付け!AC133=\"\",\"\",JAAFデータ貼り付け!AC133)","v":""},{"$f":"IF(JAAFデータ貼り付け!AD133=\"\",\"\",JAAFデータ貼り付け!AD133)","v":""},{"$f":"IF(JAAFデータ貼り付け!AE133=\"\",\"\",JAAFデータ貼り付け!AE133)","v":""},{"$f":"IF(JAAFデータ貼り付け!AF133=\"\",\"\",JAAFデータ貼り付け!AF133)","v":""},{"$f":"IF(JAAFデータ貼り付け!AG133=\"\",\"\",JAAFデータ貼り付け!AG133)","v":""},{"$f":"IF(JAAFデータ貼り付け!AH133=\"\",\"\",JAAFデータ貼り付け!AH133)","v":""},{"$f":"IF(JAAFデータ貼り付け!AI133=\"\",\"\",JAAFデータ貼り付け!AI133)","v":""},{"$f":"IF(JAAFデータ貼り付け!AJ133=\"\",\"\",JAAFデータ貼り付け!AJ133)","v":""},{"$f":"IF(JAAFデータ貼り付け!AK133=\"\",\"\",JAAFデータ貼り付け!AK133)","v":""},{"$f":"IF(JAAFデータ貼り付け!AL133=\"\",\"\",JAAFデータ貼り付け!AL133)","v":""},{"$f":"IF(JAAFデータ貼り付け!AM133=\"\",\"\",JAAFデータ貼り付け!AM133)","v":""},{"$f":"IF(JAAFデータ貼り付け!AN133=\"\",\"\",JAAFデータ貼り付け!AN133)","v":""},{"$f":"IF(JAAFデータ貼り付け!AO133=\"\",\"\",JAAFデータ貼り付け!AO133)","v":""},{"$f":"IF(JAAFデータ貼り付け!AP133=\"\",\"\",JAAFデータ貼り付け!AP133)","v":""},{"$f":"IF(JAAFデータ貼り付け!AQ133=\"\",\"\",JAAFデータ貼り付け!AQ133)","v":""}]
[{"$f":"IF(JAAFデータ貼り付け!E134=\"\",\"\",JAAFデータ貼り付け!E134)","v":""},{"$f":"IF(JAAFデータ貼り付け!B134=\"\",\"\",JAAFデータ貼り付け!B134)","v":""},{"$f":"IF(JAAFデータ貼り付け!C134=\"\",\"\",JAAFデータ貼り付け!C134)","v":""},{"$f":"IF(JAAFデータ貼り付け!D134=\"\",\"\",JAAFデータ貼り付け!D134)","v":""},null,{"$f":"IF(フリガナ貼り付け!D134=\"\",\"\",フリガナ貼り付け!D134)","v":""},{"$f":"IF(フリガナ貼り付け!E134=\"\",\"\",フリガナ貼り付け!E134)","v":""},{"$f":"IF(JAAFデータ貼り付け!H134=\"\",\"\",JAAFデータ貼り付け!H134)","v":""},{"$f":"IF(JAAFデータ貼り付け!I134=\"\",\"\",JAAFデータ貼り付け!I134)","v":""},{"$f":"IF(JAAFデータ貼り付け!J134=\"\",\"\",JAAFデータ貼り付け!J134)","v":""},{"$f":"IF(JAAFデータ貼り付け!K134=\"\",\"\",JAAFデータ貼り付け!K134)","v":""},{"$f":"IF(JAAFデータ貼り付け!L134=\"\",\"\",JAAFデータ貼り付け!L134)","v":""},{"$f":"IF(JAAFデータ貼り付け!M134=\"\",\"\",JAAFデータ貼り付け!M134)","v":""},{"$f":"IF(JAAFデータ貼り付け!N134=\"\",\"\",JAAFデータ貼り付け!N134)","v":""},{"$f":"IF(JAAFデータ貼り付け!O134=\"\",\"\",JAAFデータ貼り付け!O134)","v":""},{"$f":"IF(JAAFデータ貼り付け!P134=\"\",\"\",JAAFデータ貼り付け!P134)","v":""},{"$f":"IF(JAAFデータ貼り付け!Q134=\"\",\"\",JAAFデータ貼り付け!Q134)","v":""},{"$f":"IF(JAAFデータ貼り付け!R134=\"\",\"\",JAAFデータ貼り付け!R134)","v":""},{"$f":"生年月日貼り付け!E134&生年月日貼り付け!F134&生年月日貼り付け!G134","v":"000"},{"$f":"IF(JAAFデータ貼り付け!T134=\"\",\"\",JAAFデータ貼り付け!T134)","v":""},{"$f":"IF(JAAFデータ貼り付け!U134=\"\",\"\",JAAFデータ貼り付け!U134)","v":""},{"$f":"IF(Sheet5!B134=\"\",\"\",Sheet5!B134)","v":"0"},{"$f":"IF(JAAFデータ貼り付け!W134=\"\",\"\",JAAFデータ貼り付け!W134)","v":""},{"$f":"IF(JAAFデータ貼り付け!X134=\"\",\"\",JAAFデータ貼り付け!X134)","v":""},{"$f":"IF(JAAFデータ貼り付け!Y134=\"\",\"\",JAAFデータ貼り付け!Y134)","v":""},{"$f":"IF(JAAFデータ貼り付け!Z134=\"\",\"\",JAAFデータ貼り付け!Z134)","v":""},{"$f":"IF(JAAFデータ貼り付け!AA134=\"\",\"\",JAAFデータ貼り付け!AA134)","v":""},{"$f":"IF(JAAFデータ貼り付け!AB134=\"\",\"\",JAAFデータ貼り付け!AB134)","v":""},{"$f":"IF(JAAFデータ貼り付け!AC134=\"\",\"\",JAAFデータ貼り付け!AC134)","v":""},{"$f":"IF(JAAFデータ貼り付け!AD134=\"\",\"\",JAAFデータ貼り付け!AD134)","v":""},{"$f":"IF(JAAFデータ貼り付け!AE134=\"\",\"\",JAAFデータ貼り付け!AE134)","v":""},{"$f":"IF(JAAFデータ貼り付け!AF134=\"\",\"\",JAAFデータ貼り付け!AF134)","v":""},{"$f":"IF(JAAFデータ貼り付け!AG134=\"\",\"\",JAAFデータ貼り付け!AG134)","v":""},{"$f":"IF(JAAFデータ貼り付け!AH134=\"\",\"\",JAAFデータ貼り付け!AH134)","v":""},{"$f":"IF(JAAFデータ貼り付け!AI134=\"\",\"\",JAAFデータ貼り付け!AI134)","v":""},{"$f":"IF(JAAFデータ貼り付け!AJ134=\"\",\"\",JAAFデータ貼り付け!AJ134)","v":""},{"$f":"IF(JAAFデータ貼り付け!AK134=\"\",\"\",JAAFデータ貼り付け!AK134)","v":""},{"$f":"IF(JAAFデータ貼り付け!AL134=\"\",\"\",JAAFデータ貼り付け!AL134)","v":""},{"$f":"IF(JAAFデータ貼り付け!AM134=\"\",\"\",JAAFデータ貼り付け!AM134)","v":""},{"$f":"IF(JAAFデータ貼り付け!AN134=\"\",\"\",JAAFデータ貼り付け!AN134)","v":""},{"$f":"IF(JAAFデータ貼り付け!AO134=\"\",\"\",JAAFデータ貼り付け!AO134)","v":""},{"$f":"IF(JAAFデータ貼り付け!AP134=\"\",\"\",JAAFデータ貼り付け!AP134)","v":""},{"$f":"IF(JAAFデータ貼り付け!AQ134=\"\",\"\",JAAFデータ貼り付け!AQ134)","v":""}]
[{"$f":"IF(JAAFデータ貼り付け!E135=\"\",\"\",JAAFデータ貼り付け!E135)","v":""},{"$f":"IF(JAAFデータ貼り付け!B135=\"\",\"\",JAAFデータ貼り付け!B135)","v":""},{"$f":"IF(JAAFデータ貼り付け!C135=\"\",\"\",JAAFデータ貼り付け!C135)","v":""},{"$f":"IF(JAAFデータ貼り付け!D135=\"\",\"\",JAAFデータ貼り付け!D135)","v":""},null,{"$f":"IF(フリガナ貼り付け!D135=\"\",\"\",フリガナ貼り付け!D135)","v":""},{"$f":"IF(フリガナ貼り付け!E135=\"\",\"\",フリガナ貼り付け!E135)","v":""},{"$f":"IF(JAAFデータ貼り付け!H135=\"\",\"\",JAAFデータ貼り付け!H135)","v":""},{"$f":"IF(JAAFデータ貼り付け!I135=\"\",\"\",JAAFデータ貼り付け!I135)","v":""},{"$f":"IF(JAAFデータ貼り付け!J135=\"\",\"\",JAAFデータ貼り付け!J135)","v":""},{"$f":"IF(JAAFデータ貼り付け!K135=\"\",\"\",JAAFデータ貼り付け!K135)","v":""},{"$f":"IF(JAAFデータ貼り付け!L135=\"\",\"\",JAAFデータ貼り付け!L135)","v":""},{"$f":"IF(JAAFデータ貼り付け!M135=\"\",\"\",JAAFデータ貼り付け!M135)","v":""},{"$f":"IF(JAAFデータ貼り付け!N135=\"\",\"\",JAAFデータ貼り付け!N135)","v":""},{"$f":"IF(JAAFデータ貼り付け!O135=\"\",\"\",JAAFデータ貼り付け!O135)","v":""},{"$f":"IF(JAAFデータ貼り付け!P135=\"\",\"\",JAAFデータ貼り付け!P135)","v":""},{"$f":"IF(JAAFデータ貼り付け!Q135=\"\",\"\",JAAFデータ貼り付け!Q135)","v":""},{"$f":"IF(JAAFデータ貼り付け!R135=\"\",\"\",JAAFデータ貼り付け!R135)","v":""},{"$f":"生年月日貼り付け!E135&生年月日貼り付け!F135&生年月日貼り付け!G135","v":"000"},{"$f":"IF(JAAFデータ貼り付け!T135=\"\",\"\",JAAFデータ貼り付け!T135)","v":""},{"$f":"IF(JAAFデータ貼り付け!U135=\"\",\"\",JAAFデータ貼り付け!U135)","v":""},{"$f":"IF(Sheet5!B135=\"\",\"\",Sheet5!B135)","v":"0"},{"$f":"IF(JAAFデータ貼り付け!W135=\"\",\"\",JAAFデータ貼り付け!W135)","v":""},{"$f":"IF(JAAFデータ貼り付け!X135=\"\",\"\",JAAFデータ貼り付け!X135)","v":""},{"$f":"IF(JAAFデータ貼り付け!Y135=\"\",\"\",JAAFデータ貼り付け!Y135)","v":""},{"$f":"IF(JAAFデータ貼り付け!Z135=\"\",\"\",JAAFデータ貼り付け!Z135)","v":""},{"$f":"IF(JAAFデータ貼り付け!AA135=\"\",\"\",JAAFデータ貼り付け!AA135)","v":""},{"$f":"IF(JAAFデータ貼り付け!AB135=\"\",\"\",JAAFデータ貼り付け!AB135)","v":""},{"$f":"IF(JAAFデータ貼り付け!AC135=\"\",\"\",JAAFデータ貼り付け!AC135)","v":""},{"$f":"IF(JAAFデータ貼り付け!AD135=\"\",\"\",JAAFデータ貼り付け!AD135)","v":""},{"$f":"IF(JAAFデータ貼り付け!AE135=\"\",\"\",JAAFデータ貼り付け!AE135)","v":""},{"$f":"IF(JAAFデータ貼り付け!AF135=\"\",\"\",JAAFデータ貼り付け!AF135)","v":""},{"$f":"IF(JAAFデータ貼り付け!AG135=\"\",\"\",JAAFデータ貼り付け!AG135)","v":""},{"$f":"IF(JAAFデータ貼り付け!AH135=\"\",\"\",JAAFデータ貼り付け!AH135)","v":""},{"$f":"IF(JAAFデータ貼り付け!AI135=\"\",\"\",JAAFデータ貼り付け!AI135)","v":""},{"$f":"IF(JAAFデータ貼り付け!AJ135=\"\",\"\",JAAFデータ貼り付け!AJ135)","v":""},{"$f":"IF(JAAFデータ貼り付け!AK135=\"\",\"\",JAAFデータ貼り付け!AK135)","v":""},{"$f":"IF(JAAFデータ貼り付け!AL135=\"\",\"\",JAAFデータ貼り付け!AL135)","v":""},{"$f":"IF(JAAFデータ貼り付け!AM135=\"\",\"\",JAAFデータ貼り付け!AM135)","v":""},{"$f":"IF(JAAFデータ貼り付け!AN135=\"\",\"\",JAAFデータ貼り付け!AN135)","v":""},{"$f":"IF(JAAFデータ貼り付け!AO135=\"\",\"\",JAAFデータ貼り付け!AO135)","v":""},{"$f":"IF(JAAFデータ貼り付け!AP135=\"\",\"\",JAAFデータ貼り付け!AP135)","v":""},{"$f":"IF(JAAFデータ貼り付け!AQ135=\"\",\"\",JAAFデータ貼り付け!AQ135)","v":""}]
[{"$f":"IF(JAAFデータ貼り付け!E136=\"\",\"\",JAAFデータ貼り付け!E136)","v":""},{"$f":"IF(JAAFデータ貼り付け!B136=\"\",\"\",JAAFデータ貼り付け!B136)","v":""},{"$f":"IF(JAAFデータ貼り付け!C136=\"\",\"\",JAAFデータ貼り付け!C136)","v":""},{"$f":"IF(JAAFデータ貼り付け!D136=\"\",\"\",JAAFデータ貼り付け!D136)","v":""},null,{"$f":"IF(フリガナ貼り付け!D136=\"\",\"\",フリガナ貼り付け!D136)","v":""},{"$f":"IF(フリガナ貼り付け!E136=\"\",\"\",フリガナ貼り付け!E136)","v":""},{"$f":"IF(JAAFデータ貼り付け!H136=\"\",\"\",JAAFデータ貼り付け!H136)","v":""},{"$f":"IF(JAAFデータ貼り付け!I136=\"\",\"\",JAAFデータ貼り付け!I136)","v":""},{"$f":"IF(JAAFデータ貼り付け!J136=\"\",\"\",JAAFデータ貼り付け!J136)","v":""},{"$f":"IF(JAAFデータ貼り付け!K136=\"\",\"\",JAAFデータ貼り付け!K136)","v":""},{"$f":"IF(JAAFデータ貼り付け!L136=\"\",\"\",JAAFデータ貼り付け!L136)","v":""},{"$f":"IF(JAAFデータ貼り付け!M136=\"\",\"\",JAAFデータ貼り付け!M136)","v":""},{"$f":"IF(JAAFデータ貼り付け!N136=\"\",\"\",JAAFデータ貼り付け!N136)","v":""},{"$f":"IF(JAAFデータ貼り付け!O136=\"\",\"\",JAAFデータ貼り付け!O136)","v":""},{"$f":"IF(JAAFデータ貼り付け!P136=\"\",\"\",JAAFデータ貼り付け!P136)","v":""},{"$f":"IF(JAAFデータ貼り付け!Q136=\"\",\"\",JAAFデータ貼り付け!Q136)","v":""},{"$f":"IF(JAAFデータ貼り付け!R136=\"\",\"\",JAAFデータ貼り付け!R136)","v":""},{"$f":"生年月日貼り付け!E136&生年月日貼り付け!F136&生年月日貼り付け!G136","v":"000"},{"$f":"IF(JAAFデータ貼り付け!T136=\"\",\"\",JAAFデータ貼り付け!T136)","v":""},{"$f":"IF(JAAFデータ貼り付け!U136=\"\",\"\",JAAFデータ貼り付け!U136)","v":""},{"$f":"IF(Sheet5!B136=\"\",\"\",Sheet5!B136)","v":"0"},{"$f":"IF(JAAFデータ貼り付け!W136=\"\",\"\",JAAFデータ貼り付け!W136)","v":""},{"$f":"IF(JAAFデータ貼り付け!X136=\"\",\"\",JAAFデータ貼り付け!X136)","v":""},{"$f":"IF(JAAFデータ貼り付け!Y136=\"\",\"\",JAAFデータ貼り付け!Y136)","v":""},{"$f":"IF(JAAFデータ貼り付け!Z136=\"\",\"\",JAAFデータ貼り付け!Z136)","v":""},{"$f":"IF(JAAFデータ貼り付け!AA136=\"\",\"\",JAAFデータ貼り付け!AA136)","v":""},{"$f":"IF(JAAFデータ貼り付け!AB136=\"\",\"\",JAAFデータ貼り付け!AB136)","v":""},{"$f":"IF(JAAFデータ貼り付け!AC136=\"\",\"\",JAAFデータ貼り付け!AC136)","v":""},{"$f":"IF(JAAFデータ貼り付け!AD136=\"\",\"\",JAAFデータ貼り付け!AD136)","v":""},{"$f":"IF(JAAFデータ貼り付け!AE136=\"\",\"\",JAAFデータ貼り付け!AE136)","v":""},{"$f":"IF(JAAFデータ貼り付け!AF136=\"\",\"\",JAAFデータ貼り付け!AF136)","v":""},{"$f":"IF(JAAFデータ貼り付け!AG136=\"\",\"\",JAAFデータ貼り付け!AG136)","v":""},{"$f":"IF(JAAFデータ貼り付け!AH136=\"\",\"\",JAAFデータ貼り付け!AH136)","v":""},{"$f":"IF(JAAFデータ貼り付け!AI136=\"\",\"\",JAAFデータ貼り付け!AI136)","v":""},{"$f":"IF(JAAFデータ貼り付け!AJ136=\"\",\"\",JAAFデータ貼り付け!AJ136)","v":""},{"$f":"IF(JAAFデータ貼り付け!AK136=\"\",\"\",JAAFデータ貼り付け!AK136)","v":""},{"$f":"IF(JAAFデータ貼り付け!AL136=\"\",\"\",JAAFデータ貼り付け!AL136)","v":""},{"$f":"IF(JAAFデータ貼り付け!AM136=\"\",\"\",JAAFデータ貼り付け!AM136)","v":""},{"$f":"IF(JAAFデータ貼り付け!AN136=\"\",\"\",JAAFデータ貼り付け!AN136)","v":""},{"$f":"IF(JAAFデータ貼り付け!AO136=\"\",\"\",JAAFデータ貼り付け!AO136)","v":""},{"$f":"IF(JAAFデータ貼り付け!AP136=\"\",\"\",JAAFデータ貼り付け!AP136)","v":""},{"$f":"IF(JAAFデータ貼り付け!AQ136=\"\",\"\",JAAFデータ貼り付け!AQ136)","v":""}]
[{"$f":"IF(JAAFデータ貼り付け!E137=\"\",\"\",JAAFデータ貼り付け!E137)","v":""},{"$f":"IF(JAAFデータ貼り付け!B137=\"\",\"\",JAAFデータ貼り付け!B137)","v":""},{"$f":"IF(JAAFデータ貼り付け!C137=\"\",\"\",JAAFデータ貼り付け!C137)","v":""},{"$f":"IF(JAAFデータ貼り付け!D137=\"\",\"\",JAAFデータ貼り付け!D137)","v":""},null,{"$f":"IF(フリガナ貼り付け!D137=\"\",\"\",フリガナ貼り付け!D137)","v":""},{"$f":"IF(フリガナ貼り付け!E137=\"\",\"\",フリガナ貼り付け!E137)","v":""},{"$f":"IF(JAAFデータ貼り付け!H137=\"\",\"\",JAAFデータ貼り付け!H137)","v":""},{"$f":"IF(JAAFデータ貼り付け!I137=\"\",\"\",JAAFデータ貼り付け!I137)","v":""},{"$f":"IF(JAAFデータ貼り付け!J137=\"\",\"\",JAAFデータ貼り付け!J137)","v":""},{"$f":"IF(JAAFデータ貼り付け!K137=\"\",\"\",JAAFデータ貼り付け!K137)","v":""},{"$f":"IF(JAAFデータ貼り付け!L137=\"\",\"\",JAAFデータ貼り付け!L137)","v":""},{"$f":"IF(JAAFデータ貼り付け!M137=\"\",\"\",JAAFデータ貼り付け!M137)","v":""},{"$f":"IF(JAAFデータ貼り付け!N137=\"\",\"\",JAAFデータ貼り付け!N137)","v":""},{"$f":"IF(JAAFデータ貼り付け!O137=\"\",\"\",JAAFデータ貼り付け!O137)","v":""},{"$f":"IF(JAAFデータ貼り付け!P137=\"\",\"\",JAAFデータ貼り付け!P137)","v":""},{"$f":"IF(JAAFデータ貼り付け!Q137=\"\",\"\",JAAFデータ貼り付け!Q137)","v":""},{"$f":"IF(JAAFデータ貼り付け!R137=\"\",\"\",JAAFデータ貼り付け!R137)","v":""},{"$f":"生年月日貼り付け!E137&生年月日貼り付け!F137&生年月日貼り付け!G137","v":"000"},{"$f":"IF(JAAFデータ貼り付け!T137=\"\",\"\",JAAFデータ貼り付け!T137)","v":""},{"$f":"IF(JAAFデータ貼り付け!U137=\"\",\"\",JAAFデータ貼り付け!U137)","v":""},{"$f":"IF(Sheet5!B137=\"\",\"\",Sheet5!B137)","v":"0"},{"$f":"IF(JAAFデータ貼り付け!W137=\"\",\"\",JAAFデータ貼り付け!W137)","v":""},{"$f":"IF(JAAFデータ貼り付け!X137=\"\",\"\",JAAFデータ貼り付け!X137)","v":""},{"$f":"IF(JAAFデータ貼り付け!Y137=\"\",\"\",JAAFデータ貼り付け!Y137)","v":""},{"$f":"IF(JAAFデータ貼り付け!Z137=\"\",\"\",JAAFデータ貼り付け!Z137)","v":""},{"$f":"IF(JAAFデータ貼り付け!AA137=\"\",\"\",JAAFデータ貼り付け!AA137)","v":""},{"$f":"IF(JAAFデータ貼り付け!AB137=\"\",\"\",JAAFデータ貼り付け!AB137)","v":""},{"$f":"IF(JAAFデータ貼り付け!AC137=\"\",\"\",JAAFデータ貼り付け!AC137)","v":""},{"$f":"IF(JAAFデータ貼り付け!AD137=\"\",\"\",JAAFデータ貼り付け!AD137)","v":""},{"$f":"IF(JAAFデータ貼り付け!AE137=\"\",\"\",JAAFデータ貼り付け!AE137)","v":""},{"$f":"IF(JAAFデータ貼り付け!AF137=\"\",\"\",JAAFデータ貼り付け!AF137)","v":""},{"$f":"IF(JAAFデータ貼り付け!AG137=\"\",\"\",JAAFデータ貼り付け!AG137)","v":""},{"$f":"IF(JAAFデータ貼り付け!AH137=\"\",\"\",JAAFデータ貼り付け!AH137)","v":""},{"$f":"IF(JAAFデータ貼り付け!AI137=\"\",\"\",JAAFデータ貼り付け!AI137)","v":""},{"$f":"IF(JAAFデータ貼り付け!AJ137=\"\",\"\",JAAFデータ貼り付け!AJ137)","v":""},{"$f":"IF(JAAFデータ貼り付け!AK137=\"\",\"\",JAAFデータ貼り付け!AK137)","v":""},{"$f":"IF(JAAFデータ貼り付け!AL137=\"\",\"\",JAAFデータ貼り付け!AL137)","v":""},{"$f":"IF(JAAFデータ貼り付け!AM137=\"\",\"\",JAAFデータ貼り付け!AM137)","v":""},{"$f":"IF(JAAFデータ貼り付け!AN137=\"\",\"\",JAAFデータ貼り付け!AN137)","v":""},{"$f":"IF(JAAFデータ貼り付け!AO137=\"\",\"\",JAAFデータ貼り付け!AO137)","v":""},{"$f":"IF(JAAFデータ貼り付け!AP137=\"\",\"\",JAAFデータ貼り付け!AP137)","v":""},{"$f":"IF(JAAFデータ貼り付け!AQ137=\"\",\"\",JAAFデータ貼り付け!AQ137)","v":""}]
[{"$f":"IF(JAAFデータ貼り付け!E138=\"\",\"\",JAAFデータ貼り付け!E138)","v":""},{"$f":"IF(JAAFデータ貼り付け!B138=\"\",\"\",JAAFデータ貼り付け!B138)","v":""},{"$f":"IF(JAAFデータ貼り付け!C138=\"\",\"\",JAAFデータ貼り付け!C138)","v":""},{"$f":"IF(JAAFデータ貼り付け!D138=\"\",\"\",JAAFデータ貼り付け!D138)","v":""},null,{"$f":"IF(フリガナ貼り付け!D138=\"\",\"\",フリガナ貼り付け!D138)","v":""},{"$f":"IF(フリガナ貼り付け!E138=\"\",\"\",フリガナ貼り付け!E138)","v":""},{"$f":"IF(JAAFデータ貼り付け!H138=\"\",\"\",JAAFデータ貼り付け!H138)","v":""},{"$f":"IF(JAAFデータ貼り付け!I138=\"\",\"\",JAAFデータ貼り付け!I138)","v":""},{"$f":"IF(JAAFデータ貼り付け!J138=\"\",\"\",JAAFデータ貼り付け!J138)","v":""},{"$f":"IF(JAAFデータ貼り付け!K138=\"\",\"\",JAAFデータ貼り付け!K138)","v":""},{"$f":"IF(JAAFデータ貼り付け!L138=\"\",\"\",JAAFデータ貼り付け!L138)","v":""},{"$f":"IF(JAAFデータ貼り付け!M138=\"\",\"\",JAAFデータ貼り付け!M138)","v":""},{"$f":"IF(JAAFデータ貼り付け!N138=\"\",\"\",JAAFデータ貼り付け!N138)","v":""},{"$f":"IF(JAAFデータ貼り付け!O138=\"\",\"\",JAAFデータ貼り付け!O138)","v":""},{"$f":"IF(JAAFデータ貼り付け!P138=\"\",\"\",JAAFデータ貼り付け!P138)","v":""},{"$f":"IF(JAAFデータ貼り付け!Q138=\"\",\"\",JAAFデータ貼り付け!Q138)","v":""},{"$f":"IF(JAAFデータ貼り付け!R138=\"\",\"\",JAAFデータ貼り付け!R138)","v":""},{"$f":"生年月日貼り付け!E138&生年月日貼り付け!F138&生年月日貼り付け!G138","v":"000"},{"$f":"IF(JAAFデータ貼り付け!T138=\"\",\"\",JAAFデータ貼り付け!T138)","v":""},{"$f":"IF(JAAFデータ貼り付け!U138=\"\",\"\",JAAFデータ貼り付け!U138)","v":""},{"$f":"IF(Sheet5!B138=\"\",\"\",Sheet5!B138)","v":"0"},{"$f":"IF(JAAFデータ貼り付け!W138=\"\",\"\",JAAFデータ貼り付け!W138)","v":""},{"$f":"IF(JAAFデータ貼り付け!X138=\"\",\"\",JAAFデータ貼り付け!X138)","v":""},{"$f":"IF(JAAFデータ貼り付け!Y138=\"\",\"\",JAAFデータ貼り付け!Y138)","v":""},{"$f":"IF(JAAFデータ貼り付け!Z138=\"\",\"\",JAAFデータ貼り付け!Z138)","v":""},{"$f":"IF(JAAFデータ貼り付け!AA138=\"\",\"\",JAAFデータ貼り付け!AA138)","v":""},{"$f":"IF(JAAFデータ貼り付け!AB138=\"\",\"\",JAAFデータ貼り付け!AB138)","v":""},{"$f":"IF(JAAFデータ貼り付け!AC138=\"\",\"\",JAAFデータ貼り付け!AC138)","v":""},{"$f":"IF(JAAFデータ貼り付け!AD138=\"\",\"\",JAAFデータ貼り付け!AD138)","v":""},{"$f":"IF(JAAFデータ貼り付け!AE138=\"\",\"\",JAAFデータ貼り付け!AE138)","v":""},{"$f":"IF(JAAFデータ貼り付け!AF138=\"\",\"\",JAAFデータ貼り付け!AF138)","v":""},{"$f":"IF(JAAFデータ貼り付け!AG138=\"\",\"\",JAAFデータ貼り付け!AG138)","v":""},{"$f":"IF(JAAFデータ貼り付け!AH138=\"\",\"\",JAAFデータ貼り付け!AH138)","v":""},{"$f":"IF(JAAFデータ貼り付け!AI138=\"\",\"\",JAAFデータ貼り付け!AI138)","v":""},{"$f":"IF(JAAFデータ貼り付け!AJ138=\"\",\"\",JAAFデータ貼り付け!AJ138)","v":""},{"$f":"IF(JAAFデータ貼り付け!AK138=\"\",\"\",JAAFデータ貼り付け!AK138)","v":""},{"$f":"IF(JAAFデータ貼り付け!AL138=\"\",\"\",JAAFデータ貼り付け!AL138)","v":""},{"$f":"IF(JAAFデータ貼り付け!AM138=\"\",\"\",JAAFデータ貼り付け!AM138)","v":""},{"$f":"IF(JAAFデータ貼り付け!AN138=\"\",\"\",JAAFデータ貼り付け!AN138)","v":""},{"$f":"IF(JAAFデータ貼り付け!AO138=\"\",\"\",JAAFデータ貼り付け!AO138)","v":""},{"$f":"IF(JAAFデータ貼り付け!AP138=\"\",\"\",JAAFデータ貼り付け!AP138)","v":""},{"$f":"IF(JAAFデータ貼り付け!AQ138=\"\",\"\",JAAFデータ貼り付け!AQ138)","v":""}]
[{"$f":"IF(JAAFデータ貼り付け!E139=\"\",\"\",JAAFデータ貼り付け!E139)","v":""},{"$f":"IF(JAAFデータ貼り付け!B139=\"\",\"\",JAAFデータ貼り付け!B139)","v":""},{"$f":"IF(JAAFデータ貼り付け!C139=\"\",\"\",JAAFデータ貼り付け!C139)","v":""},{"$f":"IF(JAAFデータ貼り付け!D139=\"\",\"\",JAAFデータ貼り付け!D139)","v":""},null,{"$f":"IF(フリガナ貼り付け!D139=\"\",\"\",フリガナ貼り付け!D139)","v":""},{"$f":"IF(フリガナ貼り付け!E139=\"\",\"\",フリガナ貼り付け!E139)","v":""},{"$f":"IF(JAAFデータ貼り付け!H139=\"\",\"\",JAAFデータ貼り付け!H139)","v":""},{"$f":"IF(JAAFデータ貼り付け!I139=\"\",\"\",JAAFデータ貼り付け!I139)","v":""},{"$f":"IF(JAAFデータ貼り付け!J139=\"\",\"\",JAAFデータ貼り付け!J139)","v":""},{"$f":"IF(JAAFデータ貼り付け!K139=\"\",\"\",JAAFデータ貼り付け!K139)","v":""},{"$f":"IF(JAAFデータ貼り付け!L139=\"\",\"\",JAAFデータ貼り付け!L139)","v":""},{"$f":"IF(JAAFデータ貼り付け!M139=\"\",\"\",JAAFデータ貼り付け!M139)","v":""},{"$f":"IF(JAAFデータ貼り付け!N139=\"\",\"\",JAAFデータ貼り付け!N139)","v":""},{"$f":"IF(JAAFデータ貼り付け!O139=\"\",\"\",JAAFデータ貼り付け!O139)","v":""},{"$f":"IF(JAAFデータ貼り付け!P139=\"\",\"\",JAAFデータ貼り付け!P139)","v":""},{"$f":"IF(JAAFデータ貼り付け!Q139=\"\",\"\",JAAFデータ貼り付け!Q139)","v":""},{"$f":"IF(JAAFデータ貼り付け!R139=\"\",\"\",JAAFデータ貼り付け!R139)","v":""},{"$f":"生年月日貼り付け!E139&生年月日貼り付け!F139&生年月日貼り付け!G139","v":"000"},{"$f":"IF(JAAFデータ貼り付け!T139=\"\",\"\",JAAFデータ貼り付け!T139)","v":""},{"$f":"IF(JAAFデータ貼り付け!U139=\"\",\"\",JAAFデータ貼り付け!U139)","v":""},{"$f":"IF(Sheet5!B139=\"\",\"\",Sheet5!B139)","v":"0"},{"$f":"IF(JAAFデータ貼り付け!W139=\"\",\"\",JAAFデータ貼り付け!W139)","v":""},{"$f":"IF(JAAFデータ貼り付け!X139=\"\",\"\",JAAFデータ貼り付け!X139)","v":""},{"$f":"IF(JAAFデータ貼り付け!Y139=\"\",\"\",JAAFデータ貼り付け!Y139)","v":""},{"$f":"IF(JAAFデータ貼り付け!Z139=\"\",\"\",JAAFデータ貼り付け!Z139)","v":""},{"$f":"IF(JAAFデータ貼り付け!AA139=\"\",\"\",JAAFデータ貼り付け!AA139)","v":""},{"$f":"IF(JAAFデータ貼り付け!AB139=\"\",\"\",JAAFデータ貼り付け!AB139)","v":""},{"$f":"IF(JAAFデータ貼り付け!AC139=\"\",\"\",JAAFデータ貼り付け!AC139)","v":""},{"$f":"IF(JAAFデータ貼り付け!AD139=\"\",\"\",JAAFデータ貼り付け!AD139)","v":""},{"$f":"IF(JAAFデータ貼り付け!AE139=\"\",\"\",JAAFデータ貼り付け!AE139)","v":""},{"$f":"IF(JAAFデータ貼り付け!AF139=\"\",\"\",JAAFデータ貼り付け!AF139)","v":""},{"$f":"IF(JAAFデータ貼り付け!AG139=\"\",\"\",JAAFデータ貼り付け!AG139)","v":""},{"$f":"IF(JAAFデータ貼り付け!AH139=\"\",\"\",JAAFデータ貼り付け!AH139)","v":""},{"$f":"IF(JAAFデータ貼り付け!AI139=\"\",\"\",JAAFデータ貼り付け!AI139)","v":""},{"$f":"IF(JAAFデータ貼り付け!AJ139=\"\",\"\",JAAFデータ貼り付け!AJ139)","v":""},{"$f":"IF(JAAFデータ貼り付け!AK139=\"\",\"\",JAAFデータ貼り付け!AK139)","v":""},{"$f":"IF(JAAFデータ貼り付け!AL139=\"\",\"\",JAAFデータ貼り付け!AL139)","v":""},{"$f":"IF(JAAFデータ貼り付け!AM139=\"\",\"\",JAAFデータ貼り付け!AM139)","v":""},{"$f":"IF(JAAFデータ貼り付け!AN139=\"\",\"\",JAAFデータ貼り付け!AN139)","v":""},{"$f":"IF(JAAFデータ貼り付け!AO139=\"\",\"\",JAAFデータ貼り付け!AO139)","v":""},{"$f":"IF(JAAFデータ貼り付け!AP139=\"\",\"\",JAAFデータ貼り付け!AP139)","v":""},{"$f":"IF(JAAFデータ貼り付け!AQ139=\"\",\"\",JAAFデータ貼り付け!AQ139)","v":""}]
[{"$f":"IF(JAAFデータ貼り付け!E140=\"\",\"\",JAAFデータ貼り付け!E140)","v":""},{"$f":"IF(JAAFデータ貼り付け!B140=\"\",\"\",JAAFデータ貼り付け!B140)","v":""},{"$f":"IF(JAAFデータ貼り付け!C140=\"\",\"\",JAAFデータ貼り付け!C140)","v":""},{"$f":"IF(JAAFデータ貼り付け!D140=\"\",\"\",JAAFデータ貼り付け!D140)","v":""},null,{"$f":"IF(フリガナ貼り付け!D140=\"\",\"\",フリガナ貼り付け!D140)","v":""},{"$f":"IF(フリガナ貼り付け!E140=\"\",\"\",フリガナ貼り付け!E140)","v":""},{"$f":"IF(JAAFデータ貼り付け!H140=\"\",\"\",JAAFデータ貼り付け!H140)","v":""},{"$f":"IF(JAAFデータ貼り付け!I140=\"\",\"\",JAAFデータ貼り付け!I140)","v":""},{"$f":"IF(JAAFデータ貼り付け!J140=\"\",\"\",JAAFデータ貼り付け!J140)","v":""},{"$f":"IF(JAAFデータ貼り付け!K140=\"\",\"\",JAAFデータ貼り付け!K140)","v":""},{"$f":"IF(JAAFデータ貼り付け!L140=\"\",\"\",JAAFデータ貼り付け!L140)","v":""},{"$f":"IF(JAAFデータ貼り付け!M140=\"\",\"\",JAAFデータ貼り付け!M140)","v":""},{"$f":"IF(JAAFデータ貼り付け!N140=\"\",\"\",JAAFデータ貼り付け!N140)","v":""},{"$f":"IF(JAAFデータ貼り付け!O140=\"\",\"\",JAAFデータ貼り付け!O140)","v":""},{"$f":"IF(JAAFデータ貼り付け!P140=\"\",\"\",JAAFデータ貼り付け!P140)","v":""},{"$f":"IF(JAAFデータ貼り付け!Q140=\"\",\"\",JAAFデータ貼り付け!Q140)","v":""},{"$f":"IF(JAAFデータ貼り付け!R140=\"\",\"\",JAAFデータ貼り付け!R140)","v":""},{"$f":"生年月日貼り付け!E140&生年月日貼り付け!F140&生年月日貼り付け!G140","v":"000"},{"$f":"IF(JAAFデータ貼り付け!T140=\"\",\"\",JAAFデータ貼り付け!T140)","v":""},{"$f":"IF(JAAFデータ貼り付け!U140=\"\",\"\",JAAFデータ貼り付け!U140)","v":""},{"$f":"IF(Sheet5!B140=\"\",\"\",Sheet5!B140)","v":"0"},{"$f":"IF(JAAFデータ貼り付け!W140=\"\",\"\",JAAFデータ貼り付け!W140)","v":""},{"$f":"IF(JAAFデータ貼り付け!X140=\"\",\"\",JAAFデータ貼り付け!X140)","v":""},{"$f":"IF(JAAFデータ貼り付け!Y140=\"\",\"\",JAAFデータ貼り付け!Y140)","v":""},{"$f":"IF(JAAFデータ貼り付け!Z140=\"\",\"\",JAAFデータ貼り付け!Z140)","v":""},{"$f":"IF(JAAFデータ貼り付け!AA140=\"\",\"\",JAAFデータ貼り付け!AA140)","v":""},{"$f":"IF(JAAFデータ貼り付け!AB140=\"\",\"\",JAAFデータ貼り付け!AB140)","v":""},{"$f":"IF(JAAFデータ貼り付け!AC140=\"\",\"\",JAAFデータ貼り付け!AC140)","v":""},{"$f":"IF(JAAFデータ貼り付け!AD140=\"\",\"\",JAAFデータ貼り付け!AD140)","v":""},{"$f":"IF(JAAFデータ貼り付け!AE140=\"\",\"\",JAAFデータ貼り付け!AE140)","v":""},{"$f":"IF(JAAFデータ貼り付け!AF140=\"\",\"\",JAAFデータ貼り付け!AF140)","v":""},{"$f":"IF(JAAFデータ貼り付け!AG140=\"\",\"\",JAAFデータ貼り付け!AG140)","v":""},{"$f":"IF(JAAFデータ貼り付け!AH140=\"\",\"\",JAAFデータ貼り付け!AH140)","v":""},{"$f":"IF(JAAFデータ貼り付け!AI140=\"\",\"\",JAAFデータ貼り付け!AI140)","v":""},{"$f":"IF(JAAFデータ貼り付け!AJ140=\"\",\"\",JAAFデータ貼り付け!AJ140)","v":""},{"$f":"IF(JAAFデータ貼り付け!AK140=\"\",\"\",JAAFデータ貼り付け!AK140)","v":""},{"$f":"IF(JAAFデータ貼り付け!AL140=\"\",\"\",JAAFデータ貼り付け!AL140)","v":""},{"$f":"IF(JAAFデータ貼り付け!AM140=\"\",\"\",JAAFデータ貼り付け!AM140)","v":""},{"$f":"IF(JAAFデータ貼り付け!AN140=\"\",\"\",JAAFデータ貼り付け!AN140)","v":""},{"$f":"IF(JAAFデータ貼り付け!AO140=\"\",\"\",JAAFデータ貼り付け!AO140)","v":""},{"$f":"IF(JAAFデータ貼り付け!AP140=\"\",\"\",JAAFデータ貼り付け!AP140)","v":""},{"$f":"IF(JAAFデータ貼り付け!AQ140=\"\",\"\",JAAFデータ貼り付け!AQ140)","v":""}]
[{"$f":"IF(JAAFデータ貼り付け!E141=\"\",\"\",JAAFデータ貼り付け!E141)","v":""},{"$f":"IF(JAAFデータ貼り付け!B141=\"\",\"\",JAAFデータ貼り付け!B141)","v":""},{"$f":"IF(JAAFデータ貼り付け!C141=\"\",\"\",JAAFデータ貼り付け!C141)","v":""},{"$f":"IF(JAAFデータ貼り付け!D141=\"\",\"\",JAAFデータ貼り付け!D141)","v":""},null,{"$f":"IF(フリガナ貼り付け!D141=\"\",\"\",フリガナ貼り付け!D141)","v":""},{"$f":"IF(フリガナ貼り付け!E141=\"\",\"\",フリガナ貼り付け!E141)","v":""},{"$f":"IF(JAAFデータ貼り付け!H141=\"\",\"\",JAAFデータ貼り付け!H141)","v":""},{"$f":"IF(JAAFデータ貼り付け!I141=\"\",\"\",JAAFデータ貼り付け!I141)","v":""},{"$f":"IF(JAAFデータ貼り付け!J141=\"\",\"\",JAAFデータ貼り付け!J141)","v":""},{"$f":"IF(JAAFデータ貼り付け!K141=\"\",\"\",JAAFデータ貼り付け!K141)","v":""},{"$f":"IF(JAAFデータ貼り付け!L141=\"\",\"\",JAAFデータ貼り付け!L141)","v":""},{"$f":"IF(JAAFデータ貼り付け!M141=\"\",\"\",JAAFデータ貼り付け!M141)","v":""},{"$f":"IF(JAAFデータ貼り付け!N141=\"\",\"\",JAAFデータ貼り付け!N141)","v":""},{"$f":"IF(JAAFデータ貼り付け!O141=\"\",\"\",JAAFデータ貼り付け!O141)","v":""},{"$f":"IF(JAAFデータ貼り付け!P141=\"\",\"\",JAAFデータ貼り付け!P141)","v":""},{"$f":"IF(JAAFデータ貼り付け!Q141=\"\",\"\",JAAFデータ貼り付け!Q141)","v":""},{"$f":"IF(JAAFデータ貼り付け!R141=\"\",\"\",JAAFデータ貼り付け!R141)","v":""},{"$f":"生年月日貼り付け!E141&生年月日貼り付け!F141&生年月日貼り付け!G141","v":"000"},{"$f":"IF(JAAFデータ貼り付け!T141=\"\",\"\",JAAFデータ貼り付け!T141)","v":""},{"$f":"IF(JAAFデータ貼り付け!U141=\"\",\"\",JAAFデータ貼り付け!U141)","v":""},{"$f":"IF(Sheet5!B141=\"\",\"\",Sheet5!B141)","v":"0"},{"$f":"IF(JAAFデータ貼り付け!W141=\"\",\"\",JAAFデータ貼り付け!W141)","v":""},{"$f":"IF(JAAFデータ貼り付け!X141=\"\",\"\",JAAFデータ貼り付け!X141)","v":""},{"$f":"IF(JAAFデータ貼り付け!Y141=\"\",\"\",JAAFデータ貼り付け!Y141)","v":""},{"$f":"IF(JAAFデータ貼り付け!Z141=\"\",\"\",JAAFデータ貼り付け!Z141)","v":""},{"$f":"IF(JAAFデータ貼り付け!AA141=\"\",\"\",JAAFデータ貼り付け!AA141)","v":""},{"$f":"IF(JAAFデータ貼り付け!AB141=\"\",\"\",JAAFデータ貼り付け!AB141)","v":""},{"$f":"IF(JAAFデータ貼り付け!AC141=\"\",\"\",JAAFデータ貼り付け!AC141)","v":""},{"$f":"IF(JAAFデータ貼り付け!AD141=\"\",\"\",JAAFデータ貼り付け!AD141)","v":""},{"$f":"IF(JAAFデータ貼り付け!AE141=\"\",\"\",JAAFデータ貼り付け!AE141)","v":""},{"$f":"IF(JAAFデータ貼り付け!AF141=\"\",\"\",JAAFデータ貼り付け!AF141)","v":""},{"$f":"IF(JAAFデータ貼り付け!AG141=\"\",\"\",JAAFデータ貼り付け!AG141)","v":""},{"$f":"IF(JAAFデータ貼り付け!AH141=\"\",\"\",JAAFデータ貼り付け!AH141)","v":""},{"$f":"IF(JAAFデータ貼り付け!AI141=\"\",\"\",JAAFデータ貼り付け!AI141)","v":""},{"$f":"IF(JAAFデータ貼り付け!AJ141=\"\",\"\",JAAFデータ貼り付け!AJ141)","v":""},{"$f":"IF(JAAFデータ貼り付け!AK141=\"\",\"\",JAAFデータ貼り付け!AK141)","v":""},{"$f":"IF(JAAFデータ貼り付け!AL141=\"\",\"\",JAAFデータ貼り付け!AL141)","v":""},{"$f":"IF(JAAFデータ貼り付け!AM141=\"\",\"\",JAAFデータ貼り付け!AM141)","v":""},{"$f":"IF(JAAFデータ貼り付け!AN141=\"\",\"\",JAAFデータ貼り付け!AN141)","v":""},{"$f":"IF(JAAFデータ貼り付け!AO141=\"\",\"\",JAAFデータ貼り付け!AO141)","v":""},{"$f":"IF(JAAFデータ貼り付け!AP141=\"\",\"\",JAAFデータ貼り付け!AP141)","v":""},{"$f":"IF(JAAFデータ貼り付け!AQ141=\"\",\"\",JAAFデータ貼り付け!AQ141)","v":""}]
[{"$f":"IF(JAAFデータ貼り付け!E142=\"\",\"\",JAAFデータ貼り付け!E142)","v":""},{"$f":"IF(JAAFデータ貼り付け!B142=\"\",\"\",JAAFデータ貼り付け!B142)","v":""},{"$f":"IF(JAAFデータ貼り付け!C142=\"\",\"\",JAAFデータ貼り付け!C142)","v":""},{"$f":"IF(JAAFデータ貼り付け!D142=\"\",\"\",JAAFデータ貼り付け!D142)","v":""},null,{"$f":"IF(フリガナ貼り付け!D142=\"\",\"\",フリガナ貼り付け!D142)","v":""},{"$f":"IF(フリガナ貼り付け!E142=\"\",\"\",フリガナ貼り付け!E142)","v":""},{"$f":"IF(JAAFデータ貼り付け!H142=\"\",\"\",JAAFデータ貼り付け!H142)","v":""},{"$f":"IF(JAAFデータ貼り付け!I142=\"\",\"\",JAAFデータ貼り付け!I142)","v":""},{"$f":"IF(JAAFデータ貼り付け!J142=\"\",\"\",JAAFデータ貼り付け!J142)","v":""},{"$f":"IF(JAAFデータ貼り付け!K142=\"\",\"\",JAAFデータ貼り付け!K142)","v":""},{"$f":"IF(JAAFデータ貼り付け!L142=\"\",\"\",JAAFデータ貼り付け!L142)","v":""},{"$f":"IF(JAAFデータ貼り付け!M142=\"\",\"\",JAAFデータ貼り付け!M142)","v":""},{"$f":"IF(JAAFデータ貼り付け!N142=\"\",\"\",JAAFデータ貼り付け!N142)","v":""},{"$f":"IF(JAAFデータ貼り付け!O142=\"\",\"\",JAAFデータ貼り付け!O142)","v":""},{"$f":"IF(JAAFデータ貼り付け!P142=\"\",\"\",JAAFデータ貼り付け!P142)","v":""},{"$f":"IF(JAAFデータ貼り付け!Q142=\"\",\"\",JAAFデータ貼り付け!Q142)","v":""},{"$f":"IF(JAAFデータ貼り付け!R142=\"\",\"\",JAAFデータ貼り付け!R142)","v":""},{"$f":"生年月日貼り付け!E142&生年月日貼り付け!F142&生年月日貼り付け!G142","v":"000"},{"$f":"IF(JAAFデータ貼り付け!T142=\"\",\"\",JAAFデータ貼り付け!T142)","v":""},{"$f":"IF(JAAFデータ貼り付け!U142=\"\",\"\",JAAFデータ貼り付け!U142)","v":""},{"$f":"IF(Sheet5!B142=\"\",\"\",Sheet5!B142)","v":"0"},{"$f":"IF(JAAFデータ貼り付け!W142=\"\",\"\",JAAFデータ貼り付け!W142)","v":""},{"$f":"IF(JAAFデータ貼り付け!X142=\"\",\"\",JAAFデータ貼り付け!X142)","v":""},{"$f":"IF(JAAFデータ貼り付け!Y142=\"\",\"\",JAAFデータ貼り付け!Y142)","v":""},{"$f":"IF(JAAFデータ貼り付け!Z142=\"\",\"\",JAAFデータ貼り付け!Z142)","v":""},{"$f":"IF(JAAFデータ貼り付け!AA142=\"\",\"\",JAAFデータ貼り付け!AA142)","v":""},{"$f":"IF(JAAFデータ貼り付け!AB142=\"\",\"\",JAAFデータ貼り付け!AB142)","v":""},{"$f":"IF(JAAFデータ貼り付け!AC142=\"\",\"\",JAAFデータ貼り付け!AC142)","v":""},{"$f":"IF(JAAFデータ貼り付け!AD142=\"\",\"\",JAAFデータ貼り付け!AD142)","v":""},{"$f":"IF(JAAFデータ貼り付け!AE142=\"\",\"\",JAAFデータ貼り付け!AE142)","v":""},{"$f":"IF(JAAFデータ貼り付け!AF142=\"\",\"\",JAAFデータ貼り付け!AF142)","v":""},{"$f":"IF(JAAFデータ貼り付け!AG142=\"\",\"\",JAAFデータ貼り付け!AG142)","v":""},{"$f":"IF(JAAFデータ貼り付け!AH142=\"\",\"\",JAAFデータ貼り付け!AH142)","v":""},{"$f":"IF(JAAFデータ貼り付け!AI142=\"\",\"\",JAAFデータ貼り付け!AI142)","v":""},{"$f":"IF(JAAFデータ貼り付け!AJ142=\"\",\"\",JAAFデータ貼り付け!AJ142)","v":""},{"$f":"IF(JAAFデータ貼り付け!AK142=\"\",\"\",JAAFデータ貼り付け!AK142)","v":""},{"$f":"IF(JAAFデータ貼り付け!AL142=\"\",\"\",JAAFデータ貼り付け!AL142)","v":""},{"$f":"IF(JAAFデータ貼り付け!AM142=\"\",\"\",JAAFデータ貼り付け!AM142)","v":""},{"$f":"IF(JAAFデータ貼り付け!AN142=\"\",\"\",JAAFデータ貼り付け!AN142)","v":""},{"$f":"IF(JAAFデータ貼り付け!AO142=\"\",\"\",JAAFデータ貼り付け!AO142)","v":""},{"$f":"IF(JAAFデータ貼り付け!AP142=\"\",\"\",JAAFデータ貼り付け!AP142)","v":""},{"$f":"IF(JAAFデータ貼り付け!AQ142=\"\",\"\",JAAFデータ貼り付け!AQ142)","v":""}]
[{"$f":"IF(JAAFデータ貼り付け!E143=\"\",\"\",JAAFデータ貼り付け!E143)","v":""},{"$f":"IF(JAAFデータ貼り付け!B143=\"\",\"\",JAAFデータ貼り付け!B143)","v":""},{"$f":"IF(JAAFデータ貼り付け!C143=\"\",\"\",JAAFデータ貼り付け!C143)","v":""},{"$f":"IF(JAAFデータ貼り付け!D143=\"\",\"\",JAAFデータ貼り付け!D143)","v":""},null,{"$f":"IF(フリガナ貼り付け!D143=\"\",\"\",フリガナ貼り付け!D143)","v":""},{"$f":"IF(フリガナ貼り付け!E143=\"\",\"\",フリガナ貼り付け!E143)","v":""},{"$f":"IF(JAAFデータ貼り付け!H143=\"\",\"\",JAAFデータ貼り付け!H143)","v":""},{"$f":"IF(JAAFデータ貼り付け!I143=\"\",\"\",JAAFデータ貼り付け!I143)","v":""},{"$f":"IF(JAAFデータ貼り付け!J143=\"\",\"\",JAAFデータ貼り付け!J143)","v":""},{"$f":"IF(JAAFデータ貼り付け!K143=\"\",\"\",JAAFデータ貼り付け!K143)","v":""},{"$f":"IF(JAAFデータ貼り付け!L143=\"\",\"\",JAAFデータ貼り付け!L143)","v":""},{"$f":"IF(JAAFデータ貼り付け!M143=\"\",\"\",JAAFデータ貼り付け!M143)","v":""},{"$f":"IF(JAAFデータ貼り付け!N143=\"\",\"\",JAAFデータ貼り付け!N143)","v":""},{"$f":"IF(JAAFデータ貼り付け!O143=\"\",\"\",JAAFデータ貼り付け!O143)","v":""},{"$f":"IF(JAAFデータ貼り付け!P143=\"\",\"\",JAAFデータ貼り付け!P143)","v":""},{"$f":"IF(JAAFデータ貼り付け!Q143=\"\",\"\",JAAFデータ貼り付け!Q143)","v":""},{"$f":"IF(JAAFデータ貼り付け!R143=\"\",\"\",JAAFデータ貼り付け!R143)","v":""},{"$f":"生年月日貼り付け!E143&生年月日貼り付け!F143&生年月日貼り付け!G143","v":"000"},{"$f":"IF(JAAFデータ貼り付け!T143=\"\",\"\",JAAFデータ貼り付け!T143)","v":""},{"$f":"IF(JAAFデータ貼り付け!U143=\"\",\"\",JAAFデータ貼り付け!U143)","v":""},{"$f":"IF(Sheet5!B143=\"\",\"\",Sheet5!B143)","v":"0"},{"$f":"IF(JAAFデータ貼り付け!W143=\"\",\"\",JAAFデータ貼り付け!W143)","v":""},{"$f":"IF(JAAFデータ貼り付け!X143=\"\",\"\",JAAFデータ貼り付け!X143)","v":""},{"$f":"IF(JAAFデータ貼り付け!Y143=\"\",\"\",JAAFデータ貼り付け!Y143)","v":""},{"$f":"IF(JAAFデータ貼り付け!Z143=\"\",\"\",JAAFデータ貼り付け!Z143)","v":""},{"$f":"IF(JAAFデータ貼り付け!AA143=\"\",\"\",JAAFデータ貼り付け!AA143)","v":""},{"$f":"IF(JAAFデータ貼り付け!AB143=\"\",\"\",JAAFデータ貼り付け!AB143)","v":""},{"$f":"IF(JAAFデータ貼り付け!AC143=\"\",\"\",JAAFデータ貼り付け!AC143)","v":""},{"$f":"IF(JAAFデータ貼り付け!AD143=\"\",\"\",JAAFデータ貼り付け!AD143)","v":""},{"$f":"IF(JAAFデータ貼り付け!AE143=\"\",\"\",JAAFデータ貼り付け!AE143)","v":""},{"$f":"IF(JAAFデータ貼り付け!AF143=\"\",\"\",JAAFデータ貼り付け!AF143)","v":""},{"$f":"IF(JAAFデータ貼り付け!AG143=\"\",\"\",JAAFデータ貼り付け!AG143)","v":""},{"$f":"IF(JAAFデータ貼り付け!AH143=\"\",\"\",JAAFデータ貼り付け!AH143)","v":""},{"$f":"IF(JAAFデータ貼り付け!AI143=\"\",\"\",JAAFデータ貼り付け!AI143)","v":""},{"$f":"IF(JAAFデータ貼り付け!AJ143=\"\",\"\",JAAFデータ貼り付け!AJ143)","v":""},{"$f":"IF(JAAFデータ貼り付け!AK143=\"\",\"\",JAAFデータ貼り付け!AK143)","v":""},{"$f":"IF(JAAFデータ貼り付け!AL143=\"\",\"\",JAAFデータ貼り付け!AL143)","v":""},{"$f":"IF(JAAFデータ貼り付け!AM143=\"\",\"\",JAAFデータ貼り付け!AM143)","v":""},{"$f":"IF(JAAFデータ貼り付け!AN143=\"\",\"\",JAAFデータ貼り付け!AN143)","v":""},{"$f":"IF(JAAFデータ貼り付け!AO143=\"\",\"\",JAAFデータ貼り付け!AO143)","v":""},{"$f":"IF(JAAFデータ貼り付け!AP143=\"\",\"\",JAAFデータ貼り付け!AP143)","v":""},{"$f":"IF(JAAFデータ貼り付け!AQ143=\"\",\"\",JAAFデータ貼り付け!AQ143)","v":""}]
[{"$f":"IF(JAAFデータ貼り付け!E144=\"\",\"\",JAAFデータ貼り付け!E144)","v":""},{"$f":"IF(JAAFデータ貼り付け!B144=\"\",\"\",JAAFデータ貼り付け!B144)","v":""},{"$f":"IF(JAAFデータ貼り付け!C144=\"\",\"\",JAAFデータ貼り付け!C144)","v":""},{"$f":"IF(JAAFデータ貼り付け!D144=\"\",\"\",JAAFデータ貼り付け!D144)","v":""},null,{"$f":"IF(フリガナ貼り付け!D144=\"\",\"\",フリガナ貼り付け!D144)","v":""},{"$f":"IF(フリガナ貼り付け!E144=\"\",\"\",フリガナ貼り付け!E144)","v":""},{"$f":"IF(JAAFデータ貼り付け!H144=\"\",\"\",JAAFデータ貼り付け!H144)","v":""},{"$f":"IF(JAAFデータ貼り付け!I144=\"\",\"\",JAAFデータ貼り付け!I144)","v":""},{"$f":"IF(JAAFデータ貼り付け!J144=\"\",\"\",JAAFデータ貼り付け!J144)","v":""},{"$f":"IF(JAAFデータ貼り付け!K144=\"\",\"\",JAAFデータ貼り付け!K144)","v":""},{"$f":"IF(JAAFデータ貼り付け!L144=\"\",\"\",JAAFデータ貼り付け!L144)","v":""},{"$f":"IF(JAAFデータ貼り付け!M144=\"\",\"\",JAAFデータ貼り付け!M144)","v":""},{"$f":"IF(JAAFデータ貼り付け!N144=\"\",\"\",JAAFデータ貼り付け!N144)","v":""},{"$f":"IF(JAAFデータ貼り付け!O144=\"\",\"\",JAAFデータ貼り付け!O144)","v":""},{"$f":"IF(JAAFデータ貼り付け!P144=\"\",\"\",JAAFデータ貼り付け!P144)","v":""},{"$f":"IF(JAAFデータ貼り付け!Q144=\"\",\"\",JAAFデータ貼り付け!Q144)","v":""},{"$f":"IF(JAAFデータ貼り付け!R144=\"\",\"\",JAAFデータ貼り付け!R144)","v":""},{"$f":"生年月日貼り付け!E144&生年月日貼り付け!F144&生年月日貼り付け!G144","v":"000"},{"$f":"IF(JAAFデータ貼り付け!T144=\"\",\"\",JAAFデータ貼り付け!T144)","v":""},{"$f":"IF(JAAFデータ貼り付け!U144=\"\",\"\",JAAFデータ貼り付け!U144)","v":""},{"$f":"IF(Sheet5!B144=\"\",\"\",Sheet5!B144)","v":"0"},{"$f":"IF(JAAFデータ貼り付け!W144=\"\",\"\",JAAFデータ貼り付け!W144)","v":""},{"$f":"IF(JAAFデータ貼り付け!X144=\"\",\"\",JAAFデータ貼り付け!X144)","v":""},{"$f":"IF(JAAFデータ貼り付け!Y144=\"\",\"\",JAAFデータ貼り付け!Y144)","v":""},{"$f":"IF(JAAFデータ貼り付け!Z144=\"\",\"\",JAAFデータ貼り付け!Z144)","v":""},{"$f":"IF(JAAFデータ貼り付け!AA144=\"\",\"\",JAAFデータ貼り付け!AA144)","v":""},{"$f":"IF(JAAFデータ貼り付け!AB144=\"\",\"\",JAAFデータ貼り付け!AB144)","v":""},{"$f":"IF(JAAFデータ貼り付け!AC144=\"\",\"\",JAAFデータ貼り付け!AC144)","v":""},{"$f":"IF(JAAFデータ貼り付け!AD144=\"\",\"\",JAAFデータ貼り付け!AD144)","v":""},{"$f":"IF(JAAFデータ貼り付け!AE144=\"\",\"\",JAAFデータ貼り付け!AE144)","v":""},{"$f":"IF(JAAFデータ貼り付け!AF144=\"\",\"\",JAAFデータ貼り付け!AF144)","v":""},{"$f":"IF(JAAFデータ貼り付け!AG144=\"\",\"\",JAAFデータ貼り付け!AG144)","v":""},{"$f":"IF(JAAFデータ貼り付け!AH144=\"\",\"\",JAAFデータ貼り付け!AH144)","v":""},{"$f":"IF(JAAFデータ貼り付け!AI144=\"\",\"\",JAAFデータ貼り付け!AI144)","v":""},{"$f":"IF(JAAFデータ貼り付け!AJ144=\"\",\"\",JAAFデータ貼り付け!AJ144)","v":""},{"$f":"IF(JAAFデータ貼り付け!AK144=\"\",\"\",JAAFデータ貼り付け!AK144)","v":""},{"$f":"IF(JAAFデータ貼り付け!AL144=\"\",\"\",JAAFデータ貼り付け!AL144)","v":""},{"$f":"IF(JAAFデータ貼り付け!AM144=\"\",\"\",JAAFデータ貼り付け!AM144)","v":""},{"$f":"IF(JAAFデータ貼り付け!AN144=\"\",\"\",JAAFデータ貼り付け!AN144)","v":""},{"$f":"IF(JAAFデータ貼り付け!AO144=\"\",\"\",JAAFデータ貼り付け!AO144)","v":""},{"$f":"IF(JAAFデータ貼り付け!AP144=\"\",\"\",JAAFデータ貼り付け!AP144)","v":""},{"$f":"IF(JAAFデータ貼り付け!AQ144=\"\",\"\",JAAFデータ貼り付け!AQ144)","v":""}]
[{"$f":"IF(JAAFデータ貼り付け!E145=\"\",\"\",JAAFデータ貼り付け!E145)","v":""},{"$f":"IF(JAAFデータ貼り付け!B145=\"\",\"\",JAAFデータ貼り付け!B145)","v":""},{"$f":"IF(JAAFデータ貼り付け!C145=\"\",\"\",JAAFデータ貼り付け!C145)","v":""},{"$f":"IF(JAAFデータ貼り付け!D145=\"\",\"\",JAAFデータ貼り付け!D145)","v":""},null,{"$f":"IF(フリガナ貼り付け!D145=\"\",\"\",フリガナ貼り付け!D145)","v":""},{"$f":"IF(フリガナ貼り付け!E145=\"\",\"\",フリガナ貼り付け!E145)","v":""},{"$f":"IF(JAAFデータ貼り付け!H145=\"\",\"\",JAAFデータ貼り付け!H145)","v":""},{"$f":"IF(JAAFデータ貼り付け!I145=\"\",\"\",JAAFデータ貼り付け!I145)","v":""},{"$f":"IF(JAAFデータ貼り付け!J145=\"\",\"\",JAAFデータ貼り付け!J145)","v":""},{"$f":"IF(JAAFデータ貼り付け!K145=\"\",\"\",JAAFデータ貼り付け!K145)","v":""},{"$f":"IF(JAAFデータ貼り付け!L145=\"\",\"\",JAAFデータ貼り付け!L145)","v":""},{"$f":"IF(JAAFデータ貼り付け!M145=\"\",\"\",JAAFデータ貼り付け!M145)","v":""},{"$f":"IF(JAAFデータ貼り付け!N145=\"\",\"\",JAAFデータ貼り付け!N145)","v":""},{"$f":"IF(JAAFデータ貼り付け!O145=\"\",\"\",JAAFデータ貼り付け!O145)","v":""},{"$f":"IF(JAAFデータ貼り付け!P145=\"\",\"\",JAAFデータ貼り付け!P145)","v":""},{"$f":"IF(JAAFデータ貼り付け!Q145=\"\",\"\",JAAFデータ貼り付け!Q145)","v":""},{"$f":"IF(JAAFデータ貼り付け!R145=\"\",\"\",JAAFデータ貼り付け!R145)","v":""},{"$f":"生年月日貼り付け!E145&生年月日貼り付け!F145&生年月日貼り付け!G145","v":"000"},{"$f":"IF(JAAFデータ貼り付け!T145=\"\",\"\",JAAFデータ貼り付け!T145)","v":""},{"$f":"IF(JAAFデータ貼り付け!U145=\"\",\"\",JAAFデータ貼り付け!U145)","v":""},{"$f":"IF(Sheet5!B145=\"\",\"\",Sheet5!B145)","v":"0"},{"$f":"IF(JAAFデータ貼り付け!W145=\"\",\"\",JAAFデータ貼り付け!W145)","v":""},{"$f":"IF(JAAFデータ貼り付け!X145=\"\",\"\",JAAFデータ貼り付け!X145)","v":""},{"$f":"IF(JAAFデータ貼り付け!Y145=\"\",\"\",JAAFデータ貼り付け!Y145)","v":""},{"$f":"IF(JAAFデータ貼り付け!Z145=\"\",\"\",JAAFデータ貼り付け!Z145)","v":""},{"$f":"IF(JAAFデータ貼り付け!AA145=\"\",\"\",JAAFデータ貼り付け!AA145)","v":""},{"$f":"IF(JAAFデータ貼り付け!AB145=\"\",\"\",JAAFデータ貼り付け!AB145)","v":""},{"$f":"IF(JAAFデータ貼り付け!AC145=\"\",\"\",JAAFデータ貼り付け!AC145)","v":""},{"$f":"IF(JAAFデータ貼り付け!AD145=\"\",\"\",JAAFデータ貼り付け!AD145)","v":""},{"$f":"IF(JAAFデータ貼り付け!AE145=\"\",\"\",JAAFデータ貼り付け!AE145)","v":""},{"$f":"IF(JAAFデータ貼り付け!AF145=\"\",\"\",JAAFデータ貼り付け!AF145)","v":""},{"$f":"IF(JAAFデータ貼り付け!AG145=\"\",\"\",JAAFデータ貼り付け!AG145)","v":""},{"$f":"IF(JAAFデータ貼り付け!AH145=\"\",\"\",JAAFデータ貼り付け!AH145)","v":""},{"$f":"IF(JAAFデータ貼り付け!AI145=\"\",\"\",JAAFデータ貼り付け!AI145)","v":""},{"$f":"IF(JAAFデータ貼り付け!AJ145=\"\",\"\",JAAFデータ貼り付け!AJ145)","v":""},{"$f":"IF(JAAFデータ貼り付け!AK145=\"\",\"\",JAAFデータ貼り付け!AK145)","v":""},{"$f":"IF(JAAFデータ貼り付け!AL145=\"\",\"\",JAAFデータ貼り付け!AL145)","v":""},{"$f":"IF(JAAFデータ貼り付け!AM145=\"\",\"\",JAAFデータ貼り付け!AM145)","v":""},{"$f":"IF(JAAFデータ貼り付け!AN145=\"\",\"\",JAAFデータ貼り付け!AN145)","v":""},{"$f":"IF(JAAFデータ貼り付け!AO145=\"\",\"\",JAAFデータ貼り付け!AO145)","v":""},{"$f":"IF(JAAFデータ貼り付け!AP145=\"\",\"\",JAAFデータ貼り付け!AP145)","v":""},{"$f":"IF(JAAFデータ貼り付け!AQ145=\"\",\"\",JAAFデータ貼り付け!AQ145)","v":""}]
[{"$f":"IF(JAAFデータ貼り付け!E146=\"\",\"\",JAAFデータ貼り付け!E146)","v":""},{"$f":"IF(JAAFデータ貼り付け!B146=\"\",\"\",JAAFデータ貼り付け!B146)","v":""},{"$f":"IF(JAAFデータ貼り付け!C146=\"\",\"\",JAAFデータ貼り付け!C146)","v":""},{"$f":"IF(JAAFデータ貼り付け!D146=\"\",\"\",JAAFデータ貼り付け!D146)","v":""},null,{"$f":"IF(フリガナ貼り付け!D146=\"\",\"\",フリガナ貼り付け!D146)","v":""},{"$f":"IF(フリガナ貼り付け!E146=\"\",\"\",フリガナ貼り付け!E146)","v":""},{"$f":"IF(JAAFデータ貼り付け!H146=\"\",\"\",JAAFデータ貼り付け!H146)","v":""},{"$f":"IF(JAAFデータ貼り付け!I146=\"\",\"\",JAAFデータ貼り付け!I146)","v":""},{"$f":"IF(JAAFデータ貼り付け!J146=\"\",\"\",JAAFデータ貼り付け!J146)","v":""},{"$f":"IF(JAAFデータ貼り付け!K146=\"\",\"\",JAAFデータ貼り付け!K146)","v":""},{"$f":"IF(JAAFデータ貼り付け!L146=\"\",\"\",JAAFデータ貼り付け!L146)","v":""},{"$f":"IF(JAAFデータ貼り付け!M146=\"\",\"\",JAAFデータ貼り付け!M146)","v":""},{"$f":"IF(JAAFデータ貼り付け!N146=\"\",\"\",JAAFデータ貼り付け!N146)","v":""},{"$f":"IF(JAAFデータ貼り付け!O146=\"\",\"\",JAAFデータ貼り付け!O146)","v":""},{"$f":"IF(JAAFデータ貼り付け!P146=\"\",\"\",JAAFデータ貼り付け!P146)","v":""},{"$f":"IF(JAAFデータ貼り付け!Q146=\"\",\"\",JAAFデータ貼り付け!Q146)","v":""},{"$f":"IF(JAAFデータ貼り付け!R146=\"\",\"\",JAAFデータ貼り付け!R146)","v":""},{"$f":"生年月日貼り付け!E146&生年月日貼り付け!F146&生年月日貼り付け!G146","v":"000"},{"$f":"IF(JAAFデータ貼り付け!T146=\"\",\"\",JAAFデータ貼り付け!T146)","v":""},{"$f":"IF(JAAFデータ貼り付け!U146=\"\",\"\",JAAFデータ貼り付け!U146)","v":""},{"$f":"IF(Sheet5!B146=\"\",\"\",Sheet5!B146)","v":"0"},{"$f":"IF(JAAFデータ貼り付け!W146=\"\",\"\",JAAFデータ貼り付け!W146)","v":""},{"$f":"IF(JAAFデータ貼り付け!X146=\"\",\"\",JAAFデータ貼り付け!X146)","v":""},{"$f":"IF(JAAFデータ貼り付け!Y146=\"\",\"\",JAAFデータ貼り付け!Y146)","v":""},{"$f":"IF(JAAFデータ貼り付け!Z146=\"\",\"\",JAAFデータ貼り付け!Z146)","v":""},{"$f":"IF(JAAFデータ貼り付け!AA146=\"\",\"\",JAAFデータ貼り付け!AA146)","v":""},{"$f":"IF(JAAFデータ貼り付け!AB146=\"\",\"\",JAAFデータ貼り付け!AB146)","v":""},{"$f":"IF(JAAFデータ貼り付け!AC146=\"\",\"\",JAAFデータ貼り付け!AC146)","v":""},{"$f":"IF(JAAFデータ貼り付け!AD146=\"\",\"\",JAAFデータ貼り付け!AD146)","v":""},{"$f":"IF(JAAFデータ貼り付け!AE146=\"\",\"\",JAAFデータ貼り付け!AE146)","v":""},{"$f":"IF(JAAFデータ貼り付け!AF146=\"\",\"\",JAAFデータ貼り付け!AF146)","v":""},{"$f":"IF(JAAFデータ貼り付け!AG146=\"\",\"\",JAAFデータ貼り付け!AG146)","v":""},{"$f":"IF(JAAFデータ貼り付け!AH146=\"\",\"\",JAAFデータ貼り付け!AH146)","v":""},{"$f":"IF(JAAFデータ貼り付け!AI146=\"\",\"\",JAAFデータ貼り付け!AI146)","v":""},{"$f":"IF(JAAFデータ貼り付け!AJ146=\"\",\"\",JAAFデータ貼り付け!AJ146)","v":""},{"$f":"IF(JAAFデータ貼り付け!AK146=\"\",\"\",JAAFデータ貼り付け!AK146)","v":""},{"$f":"IF(JAAFデータ貼り付け!AL146=\"\",\"\",JAAFデータ貼り付け!AL146)","v":""},{"$f":"IF(JAAFデータ貼り付け!AM146=\"\",\"\",JAAFデータ貼り付け!AM146)","v":""},{"$f":"IF(JAAFデータ貼り付け!AN146=\"\",\"\",JAAFデータ貼り付け!AN146)","v":""},{"$f":"IF(JAAFデータ貼り付け!AO146=\"\",\"\",JAAFデータ貼り付け!AO146)","v":""},{"$f":"IF(JAAFデータ貼り付け!AP146=\"\",\"\",JAAFデータ貼り付け!AP146)","v":""},{"$f":"IF(JAAFデータ貼り付け!AQ146=\"\",\"\",JAAFデータ貼り付け!AQ146)","v":""}]
[{"$f":"IF(JAAFデータ貼り付け!E147=\"\",\"\",JAAFデータ貼り付け!E147)","v":""},{"$f":"IF(JAAFデータ貼り付け!B147=\"\",\"\",JAAFデータ貼り付け!B147)","v":""},{"$f":"IF(JAAFデータ貼り付け!C147=\"\",\"\",JAAFデータ貼り付け!C147)","v":""},{"$f":"IF(JAAFデータ貼り付け!D147=\"\",\"\",JAAFデータ貼り付け!D147)","v":""},null,{"$f":"IF(フリガナ貼り付け!D147=\"\",\"\",フリガナ貼り付け!D147)","v":""},{"$f":"IF(フリガナ貼り付け!E147=\"\",\"\",フリガナ貼り付け!E147)","v":""},{"$f":"IF(JAAFデータ貼り付け!H147=\"\",\"\",JAAFデータ貼り付け!H147)","v":""},{"$f":"IF(JAAFデータ貼り付け!I147=\"\",\"\",JAAFデータ貼り付け!I147)","v":""},{"$f":"IF(JAAFデータ貼り付け!J147=\"\",\"\",JAAFデータ貼り付け!J147)","v":""},{"$f":"IF(JAAFデータ貼り付け!K147=\"\",\"\",JAAFデータ貼り付け!K147)","v":""},{"$f":"IF(JAAFデータ貼り付け!L147=\"\",\"\",JAAFデータ貼り付け!L147)","v":""},{"$f":"IF(JAAFデータ貼り付け!M147=\"\",\"\",JAAFデータ貼り付け!M147)","v":""},{"$f":"IF(JAAFデータ貼り付け!N147=\"\",\"\",JAAFデータ貼り付け!N147)","v":""},{"$f":"IF(JAAFデータ貼り付け!O147=\"\",\"\",JAAFデータ貼り付け!O147)","v":""},{"$f":"IF(JAAFデータ貼り付け!P147=\"\",\"\",JAAFデータ貼り付け!P147)","v":""},{"$f":"IF(JAAFデータ貼り付け!Q147=\"\",\"\",JAAFデータ貼り付け!Q147)","v":""},{"$f":"IF(JAAFデータ貼り付け!R147=\"\",\"\",JAAFデータ貼り付け!R147)","v":""},{"$f":"生年月日貼り付け!E147&生年月日貼り付け!F147&生年月日貼り付け!G147","v":"000"},{"$f":"IF(JAAFデータ貼り付け!T147=\"\",\"\",JAAFデータ貼り付け!T147)","v":""},{"$f":"IF(JAAFデータ貼り付け!U147=\"\",\"\",JAAFデータ貼り付け!U147)","v":""},{"$f":"IF(Sheet5!B147=\"\",\"\",Sheet5!B147)","v":"0"},{"$f":"IF(JAAFデータ貼り付け!W147=\"\",\"\",JAAFデータ貼り付け!W147)","v":""},{"$f":"IF(JAAFデータ貼り付け!X147=\"\",\"\",JAAFデータ貼り付け!X147)","v":""},{"$f":"IF(JAAFデータ貼り付け!Y147=\"\",\"\",JAAFデータ貼り付け!Y147)","v":""},{"$f":"IF(JAAFデータ貼り付け!Z147=\"\",\"\",JAAFデータ貼り付け!Z147)","v":""},{"$f":"IF(JAAFデータ貼り付け!AA147=\"\",\"\",JAAFデータ貼り付け!AA147)","v":""},{"$f":"IF(JAAFデータ貼り付け!AB147=\"\",\"\",JAAFデータ貼り付け!AB147)","v":""},{"$f":"IF(JAAFデータ貼り付け!AC147=\"\",\"\",JAAFデータ貼り付け!AC147)","v":""},{"$f":"IF(JAAFデータ貼り付け!AD147=\"\",\"\",JAAFデータ貼り付け!AD147)","v":""},{"$f":"IF(JAAFデータ貼り付け!AE147=\"\",\"\",JAAFデータ貼り付け!AE147)","v":""},{"$f":"IF(JAAFデータ貼り付け!AF147=\"\",\"\",JAAFデータ貼り付け!AF147)","v":""},{"$f":"IF(JAAFデータ貼り付け!AG147=\"\",\"\",JAAFデータ貼り付け!AG147)","v":""},{"$f":"IF(JAAFデータ貼り付け!AH147=\"\",\"\",JAAFデータ貼り付け!AH147)","v":""},{"$f":"IF(JAAFデータ貼り付け!AI147=\"\",\"\",JAAFデータ貼り付け!AI147)","v":""},{"$f":"IF(JAAFデータ貼り付け!AJ147=\"\",\"\",JAAFデータ貼り付け!AJ147)","v":""},{"$f":"IF(JAAFデータ貼り付け!AK147=\"\",\"\",JAAFデータ貼り付け!AK147)","v":""},{"$f":"IF(JAAFデータ貼り付け!AL147=\"\",\"\",JAAFデータ貼り付け!AL147)","v":""},{"$f":"IF(JAAFデータ貼り付け!AM147=\"\",\"\",JAAFデータ貼り付け!AM147)","v":""},{"$f":"IF(JAAFデータ貼り付け!AN147=\"\",\"\",JAAFデータ貼り付け!AN147)","v":""},{"$f":"IF(JAAFデータ貼り付け!AO147=\"\",\"\",JAAFデータ貼り付け!AO147)","v":""},{"$f":"IF(JAAFデータ貼り付け!AP147=\"\",\"\",JAAFデータ貼り付け!AP147)","v":""},{"$f":"IF(JAAFデータ貼り付け!AQ147=\"\",\"\",JAAFデータ貼り付け!AQ147)","v":""}]
[{"$f":"IF(JAAFデータ貼り付け!E148=\"\",\"\",JAAFデータ貼り付け!E148)","v":""},{"$f":"IF(JAAFデータ貼り付け!B148=\"\",\"\",JAAFデータ貼り付け!B148)","v":""},{"$f":"IF(JAAFデータ貼り付け!C148=\"\",\"\",JAAFデータ貼り付け!C148)","v":""},{"$f":"IF(JAAFデータ貼り付け!D148=\"\",\"\",JAAFデータ貼り付け!D148)","v":""},null,{"$f":"IF(フリガナ貼り付け!D148=\"\",\"\",フリガナ貼り付け!D148)","v":""},{"$f":"IF(フリガナ貼り付け!E148=\"\",\"\",フリガナ貼り付け!E148)","v":""},{"$f":"IF(JAAFデータ貼り付け!H148=\"\",\"\",JAAFデータ貼り付け!H148)","v":""},{"$f":"IF(JAAFデータ貼り付け!I148=\"\",\"\",JAAFデータ貼り付け!I148)","v":""},{"$f":"IF(JAAFデータ貼り付け!J148=\"\",\"\",JAAFデータ貼り付け!J148)","v":""},{"$f":"IF(JAAFデータ貼り付け!K148=\"\",\"\",JAAFデータ貼り付け!K148)","v":""},{"$f":"IF(JAAFデータ貼り付け!L148=\"\",\"\",JAAFデータ貼り付け!L148)","v":""},{"$f":"IF(JAAFデータ貼り付け!M148=\"\",\"\",JAAFデータ貼り付け!M148)","v":""},{"$f":"IF(JAAFデータ貼り付け!N148=\"\",\"\",JAAFデータ貼り付け!N148)","v":""},{"$f":"IF(JAAFデータ貼り付け!O148=\"\",\"\",JAAFデータ貼り付け!O148)","v":""},{"$f":"IF(JAAFデータ貼り付け!P148=\"\",\"\",JAAFデータ貼り付け!P148)","v":""},{"$f":"IF(JAAFデータ貼り付け!Q148=\"\",\"\",JAAFデータ貼り付け!Q148)","v":""},{"$f":"IF(JAAFデータ貼り付け!R148=\"\",\"\",JAAFデータ貼り付け!R148)","v":""},{"$f":"生年月日貼り付け!E148&生年月日貼り付け!F148&生年月日貼り付け!G148","v":"000"},{"$f":"IF(JAAFデータ貼り付け!T148=\"\",\"\",JAAFデータ貼り付け!T148)","v":""},{"$f":"IF(JAAFデータ貼り付け!U148=\"\",\"\",JAAFデータ貼り付け!U148)","v":""},{"$f":"IF(Sheet5!B148=\"\",\"\",Sheet5!B148)","v":"0"},{"$f":"IF(JAAFデータ貼り付け!W148=\"\",\"\",JAAFデータ貼り付け!W148)","v":""},{"$f":"IF(JAAFデータ貼り付け!X148=\"\",\"\",JAAFデータ貼り付け!X148)","v":""},{"$f":"IF(JAAFデータ貼り付け!Y148=\"\",\"\",JAAFデータ貼り付け!Y148)","v":""},{"$f":"IF(JAAFデータ貼り付け!Z148=\"\",\"\",JAAFデータ貼り付け!Z148)","v":""},{"$f":"IF(JAAFデータ貼り付け!AA148=\"\",\"\",JAAFデータ貼り付け!AA148)","v":""},{"$f":"IF(JAAFデータ貼り付け!AB148=\"\",\"\",JAAFデータ貼り付け!AB148)","v":""},{"$f":"IF(JAAFデータ貼り付け!AC148=\"\",\"\",JAAFデータ貼り付け!AC148)","v":""},{"$f":"IF(JAAFデータ貼り付け!AD148=\"\",\"\",JAAFデータ貼り付け!AD148)","v":""},{"$f":"IF(JAAFデータ貼り付け!AE148=\"\",\"\",JAAFデータ貼り付け!AE148)","v":""},{"$f":"IF(JAAFデータ貼り付け!AF148=\"\",\"\",JAAFデータ貼り付け!AF148)","v":""},{"$f":"IF(JAAFデータ貼り付け!AG148=\"\",\"\",JAAFデータ貼り付け!AG148)","v":""},{"$f":"IF(JAAFデータ貼り付け!AH148=\"\",\"\",JAAFデータ貼り付け!AH148)","v":""},{"$f":"IF(JAAFデータ貼り付け!AI148=\"\",\"\",JAAFデータ貼り付け!AI148)","v":""},{"$f":"IF(JAAFデータ貼り付け!AJ148=\"\",\"\",JAAFデータ貼り付け!AJ148)","v":""},{"$f":"IF(JAAFデータ貼り付け!AK148=\"\",\"\",JAAFデータ貼り付け!AK148)","v":""},{"$f":"IF(JAAFデータ貼り付け!AL148=\"\",\"\",JAAFデータ貼り付け!AL148)","v":""},{"$f":"IF(JAAFデータ貼り付け!AM148=\"\",\"\",JAAFデータ貼り付け!AM148)","v":""},{"$f":"IF(JAAFデータ貼り付け!AN148=\"\",\"\",JAAFデータ貼り付け!AN148)","v":""},{"$f":"IF(JAAFデータ貼り付け!AO148=\"\",\"\",JAAFデータ貼り付け!AO148)","v":""},{"$f":"IF(JAAFデータ貼り付け!AP148=\"\",\"\",JAAFデータ貼り付け!AP148)","v":""},{"$f":"IF(JAAFデータ貼り付け!AQ148=\"\",\"\",JAAFデータ貼り付け!AQ148)","v":""}]
[{"$f":"IF(JAAFデータ貼り付け!E149=\"\",\"\",JAAFデータ貼り付け!E149)","v":""},{"$f":"IF(JAAFデータ貼り付け!B149=\"\",\"\",JAAFデータ貼り付け!B149)","v":""},{"$f":"IF(JAAFデータ貼り付け!C149=\"\",\"\",JAAFデータ貼り付け!C149)","v":""},{"$f":"IF(JAAFデータ貼り付け!D149=\"\",\"\",JAAFデータ貼り付け!D149)","v":""},null,{"$f":"IF(フリガナ貼り付け!D149=\"\",\"\",フリガナ貼り付け!D149)","v":""},{"$f":"IF(フリガナ貼り付け!E149=\"\",\"\",フリガナ貼り付け!E149)","v":""},{"$f":"IF(JAAFデータ貼り付け!H149=\"\",\"\",JAAFデータ貼り付け!H149)","v":""},{"$f":"IF(JAAFデータ貼り付け!I149=\"\",\"\",JAAFデータ貼り付け!I149)","v":""},{"$f":"IF(JAAFデータ貼り付け!J149=\"\",\"\",JAAFデータ貼り付け!J149)","v":""},{"$f":"IF(JAAFデータ貼り付け!K149=\"\",\"\",JAAFデータ貼り付け!K149)","v":""},{"$f":"IF(JAAFデータ貼り付け!L149=\"\",\"\",JAAFデータ貼り付け!L149)","v":""},{"$f":"IF(JAAFデータ貼り付け!M149=\"\",\"\",JAAFデータ貼り付け!M149)","v":""},{"$f":"IF(JAAFデータ貼り付け!N149=\"\",\"\",JAAFデータ貼り付け!N149)","v":""},{"$f":"IF(JAAFデータ貼り付け!O149=\"\",\"\",JAAFデータ貼り付け!O149)","v":""},{"$f":"IF(JAAFデータ貼り付け!P149=\"\",\"\",JAAFデータ貼り付け!P149)","v":""},{"$f":"IF(JAAFデータ貼り付け!Q149=\"\",\"\",JAAFデータ貼り付け!Q149)","v":""},{"$f":"IF(JAAFデータ貼り付け!R149=\"\",\"\",JAAFデータ貼り付け!R149)","v":""},{"$f":"生年月日貼り付け!E149&生年月日貼り付け!F149&生年月日貼り付け!G149","v":"000"},{"$f":"IF(JAAFデータ貼り付け!T149=\"\",\"\",JAAFデータ貼り付け!T149)","v":""},{"$f":"IF(JAAFデータ貼り付け!U149=\"\",\"\",JAAFデータ貼り付け!U149)","v":""},{"$f":"IF(Sheet5!B149=\"\",\"\",Sheet5!B149)","v":"0"},{"$f":"IF(JAAFデータ貼り付け!W149=\"\",\"\",JAAFデータ貼り付け!W149)","v":""},{"$f":"IF(JAAFデータ貼り付け!X149=\"\",\"\",JAAFデータ貼り付け!X149)","v":""},{"$f":"IF(JAAFデータ貼り付け!Y149=\"\",\"\",JAAFデータ貼り付け!Y149)","v":""},{"$f":"IF(JAAFデータ貼り付け!Z149=\"\",\"\",JAAFデータ貼り付け!Z149)","v":""},{"$f":"IF(JAAFデータ貼り付け!AA149=\"\",\"\",JAAFデータ貼り付け!AA149)","v":""},{"$f":"IF(JAAFデータ貼り付け!AB149=\"\",\"\",JAAFデータ貼り付け!AB149)","v":""},{"$f":"IF(JAAFデータ貼り付け!AC149=\"\",\"\",JAAFデータ貼り付け!AC149)","v":""},{"$f":"IF(JAAFデータ貼り付け!AD149=\"\",\"\",JAAFデータ貼り付け!AD149)","v":""},{"$f":"IF(JAAFデータ貼り付け!AE149=\"\",\"\",JAAFデータ貼り付け!AE149)","v":""},{"$f":"IF(JAAFデータ貼り付け!AF149=\"\",\"\",JAAFデータ貼り付け!AF149)","v":""},{"$f":"IF(JAAFデータ貼り付け!AG149=\"\",\"\",JAAFデータ貼り付け!AG149)","v":""},{"$f":"IF(JAAFデータ貼り付け!AH149=\"\",\"\",JAAFデータ貼り付け!AH149)","v":""},{"$f":"IF(JAAFデータ貼り付け!AI149=\"\",\"\",JAAFデータ貼り付け!AI149)","v":""},{"$f":"IF(JAAFデータ貼り付け!AJ149=\"\",\"\",JAAFデータ貼り付け!AJ149)","v":""},{"$f":"IF(JAAFデータ貼り付け!AK149=\"\",\"\",JAAFデータ貼り付け!AK149)","v":""},{"$f":"IF(JAAFデータ貼り付け!AL149=\"\",\"\",JAAFデータ貼り付け!AL149)","v":""},{"$f":"IF(JAAFデータ貼り付け!AM149=\"\",\"\",JAAFデータ貼り付け!AM149)","v":""},{"$f":"IF(JAAFデータ貼り付け!AN149=\"\",\"\",JAAFデータ貼り付け!AN149)","v":""},{"$f":"IF(JAAFデータ貼り付け!AO149=\"\",\"\",JAAFデータ貼り付け!AO149)","v":""},{"$f":"IF(JAAFデータ貼り付け!AP149=\"\",\"\",JAAFデータ貼り付け!AP149)","v":""},{"$f":"IF(JAAFデータ貼り付け!AQ149=\"\",\"\",JAAFデータ貼り付け!AQ149)","v":""}]
[{"$f":"IF(JAAFデータ貼り付け!E150=\"\",\"\",JAAFデータ貼り付け!E150)","v":""},{"$f":"IF(JAAFデータ貼り付け!B150=\"\",\"\",JAAFデータ貼り付け!B150)","v":""},{"$f":"IF(JAAFデータ貼り付け!C150=\"\",\"\",JAAFデータ貼り付け!C150)","v":""},{"$f":"IF(JAAFデータ貼り付け!D150=\"\",\"\",JAAFデータ貼り付け!D150)","v":""},null,{"$f":"IF(フリガナ貼り付け!D150=\"\",\"\",フリガナ貼り付け!D150)","v":""},{"$f":"IF(フリガナ貼り付け!E150=\"\",\"\",フリガナ貼り付け!E150)","v":""},{"$f":"IF(JAAFデータ貼り付け!H150=\"\",\"\",JAAFデータ貼り付け!H150)","v":""},{"$f":"IF(JAAFデータ貼り付け!I150=\"\",\"\",JAAFデータ貼り付け!I150)","v":""},{"$f":"IF(JAAFデータ貼り付け!J150=\"\",\"\",JAAFデータ貼り付け!J150)","v":""},{"$f":"IF(JAAFデータ貼り付け!K150=\"\",\"\",JAAFデータ貼り付け!K150)","v":""},{"$f":"IF(JAAFデータ貼り付け!L150=\"\",\"\",JAAFデータ貼り付け!L150)","v":""},{"$f":"IF(JAAFデータ貼り付け!M150=\"\",\"\",JAAFデータ貼り付け!M150)","v":""},{"$f":"IF(JAAFデータ貼り付け!N150=\"\",\"\",JAAFデータ貼り付け!N150)","v":""},{"$f":"IF(JAAFデータ貼り付け!O150=\"\",\"\",JAAFデータ貼り付け!O150)","v":""},{"$f":"IF(JAAFデータ貼り付け!P150=\"\",\"\",JAAFデータ貼り付け!P150)","v":""},{"$f":"IF(JAAFデータ貼り付け!Q150=\"\",\"\",JAAFデータ貼り付け!Q150)","v":""},{"$f":"IF(JAAFデータ貼り付け!R150=\"\",\"\",JAAFデータ貼り付け!R150)","v":""},{"$f":"生年月日貼り付け!E150&生年月日貼り付け!F150&生年月日貼り付け!G150","v":"000"},{"$f":"IF(JAAFデータ貼り付け!T150=\"\",\"\",JAAFデータ貼り付け!T150)","v":""},{"$f":"IF(JAAFデータ貼り付け!U150=\"\",\"\",JAAFデータ貼り付け!U150)","v":""},{"$f":"IF(Sheet5!B150=\"\",\"\",Sheet5!B150)","v":"0"},{"$f":"IF(JAAFデータ貼り付け!W150=\"\",\"\",JAAFデータ貼り付け!W150)","v":""},{"$f":"IF(JAAFデータ貼り付け!X150=\"\",\"\",JAAFデータ貼り付け!X150)","v":""},{"$f":"IF(JAAFデータ貼り付け!Y150=\"\",\"\",JAAFデータ貼り付け!Y150)","v":""},{"$f":"IF(JAAFデータ貼り付け!Z150=\"\",\"\",JAAFデータ貼り付け!Z150)","v":""},{"$f":"IF(JAAFデータ貼り付け!AA150=\"\",\"\",JAAFデータ貼り付け!AA150)","v":""},{"$f":"IF(JAAFデータ貼り付け!AB150=\"\",\"\",JAAFデータ貼り付け!AB150)","v":""},{"$f":"IF(JAAFデータ貼り付け!AC150=\"\",\"\",JAAFデータ貼り付け!AC150)","v":""},{"$f":"IF(JAAFデータ貼り付け!AD150=\"\",\"\",JAAFデータ貼り付け!AD150)","v":""},{"$f":"IF(JAAFデータ貼り付け!AE150=\"\",\"\",JAAFデータ貼り付け!AE150)","v":""},{"$f":"IF(JAAFデータ貼り付け!AF150=\"\",\"\",JAAFデータ貼り付け!AF150)","v":""},{"$f":"IF(JAAFデータ貼り付け!AG150=\"\",\"\",JAAFデータ貼り付け!AG150)","v":""},{"$f":"IF(JAAFデータ貼り付け!AH150=\"\",\"\",JAAFデータ貼り付け!AH150)","v":""},{"$f":"IF(JAAFデータ貼り付け!AI150=\"\",\"\",JAAFデータ貼り付け!AI150)","v":""},{"$f":"IF(JAAFデータ貼り付け!AJ150=\"\",\"\",JAAFデータ貼り付け!AJ150)","v":""},{"$f":"IF(JAAFデータ貼り付け!AK150=\"\",\"\",JAAFデータ貼り付け!AK150)","v":""},{"$f":"IF(JAAFデータ貼り付け!AL150=\"\",\"\",JAAFデータ貼り付け!AL150)","v":""},{"$f":"IF(JAAFデータ貼り付け!AM150=\"\",\"\",JAAFデータ貼り付け!AM150)","v":""},{"$f":"IF(JAAFデータ貼り付け!AN150=\"\",\"\",JAAFデータ貼り付け!AN150)","v":""},{"$f":"IF(JAAFデータ貼り付け!AO150=\"\",\"\",JAAFデータ貼り付け!AO150)","v":""},{"$f":"IF(JAAFデータ貼り付け!AP150=\"\",\"\",JAAFデータ貼り付け!AP150)","v":""},{"$f":"IF(JAAFデータ貼り付け!AQ150=\"\",\"\",JAAFデータ貼り付け!AQ150)","v":""}]
[{"$f":"IF(JAAFデータ貼り付け!E151=\"\",\"\",JAAFデータ貼り付け!E151)","v":""},{"$f":"IF(JAAFデータ貼り付け!B151=\"\",\"\",JAAFデータ貼り付け!B151)","v":""},{"$f":"IF(JAAFデータ貼り付け!C151=\"\",\"\",JAAFデータ貼り付け!C151)","v":""},{"$f":"IF(JAAFデータ貼り付け!D151=\"\",\"\",JAAFデータ貼り付け!D151)","v":""},null,{"$f":"IF(フリガナ貼り付け!D151=\"\",\"\",フリガナ貼り付け!D151)","v":""},{"$f":"IF(フリガナ貼り付け!E151=\"\",\"\",フリガナ貼り付け!E151)","v":""},{"$f":"IF(JAAFデータ貼り付け!H151=\"\",\"\",JAAFデータ貼り付け!H151)","v":""},{"$f":"IF(JAAFデータ貼り付け!I151=\"\",\"\",JAAFデータ貼り付け!I151)","v":""},{"$f":"IF(JAAFデータ貼り付け!J151=\"\",\"\",JAAFデータ貼り付け!J151)","v":""},{"$f":"IF(JAAFデータ貼り付け!K151=\"\",\"\",JAAFデータ貼り付け!K151)","v":""},{"$f":"IF(JAAFデータ貼り付け!L151=\"\",\"\",JAAFデータ貼り付け!L151)","v":""},{"$f":"IF(JAAFデータ貼り付け!M151=\"\",\"\",JAAFデータ貼り付け!M151)","v":""},{"$f":"IF(JAAFデータ貼り付け!N151=\"\",\"\",JAAFデータ貼り付け!N151)","v":""},{"$f":"IF(JAAFデータ貼り付け!O151=\"\",\"\",JAAFデータ貼り付け!O151)","v":""},{"$f":"IF(JAAFデータ貼り付け!P151=\"\",\"\",JAAFデータ貼り付け!P151)","v":""},{"$f":"IF(JAAFデータ貼り付け!Q151=\"\",\"\",JAAFデータ貼り付け!Q151)","v":""},{"$f":"IF(JAAFデータ貼り付け!R151=\"\",\"\",JAAFデータ貼り付け!R151)","v":""},{"$f":"生年月日貼り付け!E151&生年月日貼り付け!F151&生年月日貼り付け!G151","v":"000"},{"$f":"IF(JAAFデータ貼り付け!T151=\"\",\"\",JAAFデータ貼り付け!T151)","v":""},{"$f":"IF(JAAFデータ貼り付け!U151=\"\",\"\",JAAFデータ貼り付け!U151)","v":""},{"$f":"IF(Sheet5!B151=\"\",\"\",Sheet5!B151)","v":"0"},{"$f":"IF(JAAFデータ貼り付け!W151=\"\",\"\",JAAFデータ貼り付け!W151)","v":""},{"$f":"IF(JAAFデータ貼り付け!X151=\"\",\"\",JAAFデータ貼り付け!X151)","v":""},{"$f":"IF(JAAFデータ貼り付け!Y151=\"\",\"\",JAAFデータ貼り付け!Y151)","v":""},{"$f":"IF(JAAFデータ貼り付け!Z151=\"\",\"\",JAAFデータ貼り付け!Z151)","v":""},{"$f":"IF(JAAFデータ貼り付け!AA151=\"\",\"\",JAAFデータ貼り付け!AA151)","v":""},{"$f":"IF(JAAFデータ貼り付け!AB151=\"\",\"\",JAAFデータ貼り付け!AB151)","v":""},{"$f":"IF(JAAFデータ貼り付け!AC151=\"\",\"\",JAAFデータ貼り付け!AC151)","v":""},{"$f":"IF(JAAFデータ貼り付け!AD151=\"\",\"\",JAAFデータ貼り付け!AD151)","v":""},{"$f":"IF(JAAFデータ貼り付け!AE151=\"\",\"\",JAAFデータ貼り付け!AE151)","v":""},{"$f":"IF(JAAFデータ貼り付け!AF151=\"\",\"\",JAAFデータ貼り付け!AF151)","v":""},{"$f":"IF(JAAFデータ貼り付け!AG151=\"\",\"\",JAAFデータ貼り付け!AG151)","v":""},{"$f":"IF(JAAFデータ貼り付け!AH151=\"\",\"\",JAAFデータ貼り付け!AH151)","v":""},{"$f":"IF(JAAFデータ貼り付け!AI151=\"\",\"\",JAAFデータ貼り付け!AI151)","v":""},{"$f":"IF(JAAFデータ貼り付け!AJ151=\"\",\"\",JAAFデータ貼り付け!AJ151)","v":""},{"$f":"IF(JAAFデータ貼り付け!AK151=\"\",\"\",JAAFデータ貼り付け!AK151)","v":""},{"$f":"IF(JAAFデータ貼り付け!AL151=\"\",\"\",JAAFデータ貼り付け!AL151)","v":""},{"$f":"IF(JAAFデータ貼り付け!AM151=\"\",\"\",JAAFデータ貼り付け!AM151)","v":""},{"$f":"IF(JAAFデータ貼り付け!AN151=\"\",\"\",JAAFデータ貼り付け!AN151)","v":""},{"$f":"IF(JAAFデータ貼り付け!AO151=\"\",\"\",JAAFデータ貼り付け!AO151)","v":""},{"$f":"IF(JAAFデータ貼り付け!AP151=\"\",\"\",JAAFデータ貼り付け!AP151)","v":""},{"$f":"IF(JAAFデータ貼り付け!AQ151=\"\",\"\",JAAFデータ貼り付け!AQ151)","v":""}]
[{"$f":"IF(JAAFデータ貼り付け!E152=\"\",\"\",JAAFデータ貼り付け!E152)","v":""},{"$f":"IF(JAAFデータ貼り付け!B152=\"\",\"\",JAAFデータ貼り付け!B152)","v":""},{"$f":"IF(JAAFデータ貼り付け!C152=\"\",\"\",JAAFデータ貼り付け!C152)","v":""},{"$f":"IF(JAAFデータ貼り付け!D152=\"\",\"\",JAAFデータ貼り付け!D152)","v":""},null,{"$f":"IF(フリガナ貼り付け!D152=\"\",\"\",フリガナ貼り付け!D152)","v":""},{"$f":"IF(フリガナ貼り付け!E152=\"\",\"\",フリガナ貼り付け!E152)","v":""},{"$f":"IF(JAAFデータ貼り付け!H152=\"\",\"\",JAAFデータ貼り付け!H152)","v":""},{"$f":"IF(JAAFデータ貼り付け!I152=\"\",\"\",JAAFデータ貼り付け!I152)","v":""},{"$f":"IF(JAAFデータ貼り付け!J152=\"\",\"\",JAAFデータ貼り付け!J152)","v":""},{"$f":"IF(JAAFデータ貼り付け!K152=\"\",\"\",JAAFデータ貼り付け!K152)","v":""},{"$f":"IF(JAAFデータ貼り付け!L152=\"\",\"\",JAAFデータ貼り付け!L152)","v":""},{"$f":"IF(JAAFデータ貼り付け!M152=\"\",\"\",JAAFデータ貼り付け!M152)","v":""},{"$f":"IF(JAAFデータ貼り付け!N152=\"\",\"\",JAAFデータ貼り付け!N152)","v":""},{"$f":"IF(JAAFデータ貼り付け!O152=\"\",\"\",JAAFデータ貼り付け!O152)","v":""},{"$f":"IF(JAAFデータ貼り付け!P152=\"\",\"\",JAAFデータ貼り付け!P152)","v":""},{"$f":"IF(JAAFデータ貼り付け!Q152=\"\",\"\",JAAFデータ貼り付け!Q152)","v":""},{"$f":"IF(JAAFデータ貼り付け!R152=\"\",\"\",JAAFデータ貼り付け!R152)","v":""},{"$f":"生年月日貼り付け!E152&生年月日貼り付け!F152&生年月日貼り付け!G152","v":"000"},{"$f":"IF(JAAFデータ貼り付け!T152=\"\",\"\",JAAFデータ貼り付け!T152)","v":""},{"$f":"IF(JAAFデータ貼り付け!U152=\"\",\"\",JAAFデータ貼り付け!U152)","v":""},{"$f":"IF(Sheet5!B152=\"\",\"\",Sheet5!B152)","v":"0"},{"$f":"IF(JAAFデータ貼り付け!W152=\"\",\"\",JAAFデータ貼り付け!W152)","v":""},{"$f":"IF(JAAFデータ貼り付け!X152=\"\",\"\",JAAFデータ貼り付け!X152)","v":""},{"$f":"IF(JAAFデータ貼り付け!Y152=\"\",\"\",JAAFデータ貼り付け!Y152)","v":""},{"$f":"IF(JAAFデータ貼り付け!Z152=\"\",\"\",JAAFデータ貼り付け!Z152)","v":""},{"$f":"IF(JAAFデータ貼り付け!AA152=\"\",\"\",JAAFデータ貼り付け!AA152)","v":""},{"$f":"IF(JAAFデータ貼り付け!AB152=\"\",\"\",JAAFデータ貼り付け!AB152)","v":""},{"$f":"IF(JAAFデータ貼り付け!AC152=\"\",\"\",JAAFデータ貼り付け!AC152)","v":""},{"$f":"IF(JAAFデータ貼り付け!AD152=\"\",\"\",JAAFデータ貼り付け!AD152)","v":""},{"$f":"IF(JAAFデータ貼り付け!AE152=\"\",\"\",JAAFデータ貼り付け!AE152)","v":""},{"$f":"IF(JAAFデータ貼り付け!AF152=\"\",\"\",JAAFデータ貼り付け!AF152)","v":""},{"$f":"IF(JAAFデータ貼り付け!AG152=\"\",\"\",JAAFデータ貼り付け!AG152)","v":""},{"$f":"IF(JAAFデータ貼り付け!AH152=\"\",\"\",JAAFデータ貼り付け!AH152)","v":""},{"$f":"IF(JAAFデータ貼り付け!AI152=\"\",\"\",JAAFデータ貼り付け!AI152)","v":""},{"$f":"IF(JAAFデータ貼り付け!AJ152=\"\",\"\",JAAFデータ貼り付け!AJ152)","v":""},{"$f":"IF(JAAFデータ貼り付け!AK152=\"\",\"\",JAAFデータ貼り付け!AK152)","v":""},{"$f":"IF(JAAFデータ貼り付け!AL152=\"\",\"\",JAAFデータ貼り付け!AL152)","v":""},{"$f":"IF(JAAFデータ貼り付け!AM152=\"\",\"\",JAAFデータ貼り付け!AM152)","v":""},{"$f":"IF(JAAFデータ貼り付け!AN152=\"\",\"\",JAAFデータ貼り付け!AN152)","v":""},{"$f":"IF(JAAFデータ貼り付け!AO152=\"\",\"\",JAAFデータ貼り付け!AO152)","v":""},{"$f":"IF(JAAFデータ貼り付け!AP152=\"\",\"\",JAAFデータ貼り付け!AP152)","v":""},{"$f":"IF(JAAFデータ貼り付け!AQ152=\"\",\"\",JAAFデータ貼り付け!AQ152)","v":""}]
[{"$f":"IF(JAAFデータ貼り付け!E153=\"\",\"\",JAAFデータ貼り付け!E153)","v":""},{"$f":"IF(JAAFデータ貼り付け!B153=\"\",\"\",JAAFデータ貼り付け!B153)","v":""},{"$f":"IF(JAAFデータ貼り付け!C153=\"\",\"\",JAAFデータ貼り付け!C153)","v":""},{"$f":"IF(JAAFデータ貼り付け!D153=\"\",\"\",JAAFデータ貼り付け!D153)","v":""},null,{"$f":"IF(フリガナ貼り付け!D153=\"\",\"\",フリガナ貼り付け!D153)","v":""},{"$f":"IF(フリガナ貼り付け!E153=\"\",\"\",フリガナ貼り付け!E153)","v":""},{"$f":"IF(JAAFデータ貼り付け!H153=\"\",\"\",JAAFデータ貼り付け!H153)","v":""},{"$f":"IF(JAAFデータ貼り付け!I153=\"\",\"\",JAAFデータ貼り付け!I153)","v":""},{"$f":"IF(JAAFデータ貼り付け!J153=\"\",\"\",JAAFデータ貼り付け!J153)","v":""},{"$f":"IF(JAAFデータ貼り付け!K153=\"\",\"\",JAAFデータ貼り付け!K153)","v":""},{"$f":"IF(JAAFデータ貼り付け!L153=\"\",\"\",JAAFデータ貼り付け!L153)","v":""},{"$f":"IF(JAAFデータ貼り付け!M153=\"\",\"\",JAAFデータ貼り付け!M153)","v":""},{"$f":"IF(JAAFデータ貼り付け!N153=\"\",\"\",JAAFデータ貼り付け!N153)","v":""},{"$f":"IF(JAAFデータ貼り付け!O153=\"\",\"\",JAAFデータ貼り付け!O153)","v":""},{"$f":"IF(JAAFデータ貼り付け!P153=\"\",\"\",JAAFデータ貼り付け!P153)","v":""},{"$f":"IF(JAAFデータ貼り付け!Q153=\"\",\"\",JAAFデータ貼り付け!Q153)","v":""},{"$f":"IF(JAAFデータ貼り付け!R153=\"\",\"\",JAAFデータ貼り付け!R153)","v":""},{"$f":"生年月日貼り付け!E153&生年月日貼り付け!F153&生年月日貼り付け!G153","v":"000"},{"$f":"IF(JAAFデータ貼り付け!T153=\"\",\"\",JAAFデータ貼り付け!T153)","v":""},{"$f":"IF(JAAFデータ貼り付け!U153=\"\",\"\",JAAFデータ貼り付け!U153)","v":""},{"$f":"IF(Sheet5!B153=\"\",\"\",Sheet5!B153)","v":"0"},{"$f":"IF(JAAFデータ貼り付け!W153=\"\",\"\",JAAFデータ貼り付け!W153)","v":""},{"$f":"IF(JAAFデータ貼り付け!X153=\"\",\"\",JAAFデータ貼り付け!X153)","v":""},{"$f":"IF(JAAFデータ貼り付け!Y153=\"\",\"\",JAAFデータ貼り付け!Y153)","v":""},{"$f":"IF(JAAFデータ貼り付け!Z153=\"\",\"\",JAAFデータ貼り付け!Z153)","v":""},{"$f":"IF(JAAFデータ貼り付け!AA153=\"\",\"\",JAAFデータ貼り付け!AA153)","v":""},{"$f":"IF(JAAFデータ貼り付け!AB153=\"\",\"\",JAAFデータ貼り付け!AB153)","v":""},{"$f":"IF(JAAFデータ貼り付け!AC153=\"\",\"\",JAAFデータ貼り付け!AC153)","v":""},{"$f":"IF(JAAFデータ貼り付け!AD153=\"\",\"\",JAAFデータ貼り付け!AD153)","v":""},{"$f":"IF(JAAFデータ貼り付け!AE153=\"\",\"\",JAAFデータ貼り付け!AE153)","v":""},{"$f":"IF(JAAFデータ貼り付け!AF153=\"\",\"\",JAAFデータ貼り付け!AF153)","v":""},{"$f":"IF(JAAFデータ貼り付け!AG153=\"\",\"\",JAAFデータ貼り付け!AG153)","v":""},{"$f":"IF(JAAFデータ貼り付け!AH153=\"\",\"\",JAAFデータ貼り付け!AH153)","v":""},{"$f":"IF(JAAFデータ貼り付け!AI153=\"\",\"\",JAAFデータ貼り付け!AI153)","v":""},{"$f":"IF(JAAFデータ貼り付け!AJ153=\"\",\"\",JAAFデータ貼り付け!AJ153)","v":""},{"$f":"IF(JAAFデータ貼り付け!AK153=\"\",\"\",JAAFデータ貼り付け!AK153)","v":""},{"$f":"IF(JAAFデータ貼り付け!AL153=\"\",\"\",JAAFデータ貼り付け!AL153)","v":""},{"$f":"IF(JAAFデータ貼り付け!AM153=\"\",\"\",JAAFデータ貼り付け!AM153)","v":""},{"$f":"IF(JAAFデータ貼り付け!AN153=\"\",\"\",JAAFデータ貼り付け!AN153)","v":""},{"$f":"IF(JAAFデータ貼り付け!AO153=\"\",\"\",JAAFデータ貼り付け!AO153)","v":""},{"$f":"IF(JAAFデータ貼り付け!AP153=\"\",\"\",JAAFデータ貼り付け!AP153)","v":""},{"$f":"IF(JAAFデータ貼り付け!AQ153=\"\",\"\",JAAFデータ貼り付け!AQ153)","v":""}]
[{"$f":"IF(JAAFデータ貼り付け!E154=\"\",\"\",JAAFデータ貼り付け!E154)","v":""},{"$f":"IF(JAAFデータ貼り付け!B154=\"\",\"\",JAAFデータ貼り付け!B154)","v":""},{"$f":"IF(JAAFデータ貼り付け!C154=\"\",\"\",JAAFデータ貼り付け!C154)","v":""},{"$f":"IF(JAAFデータ貼り付け!D154=\"\",\"\",JAAFデータ貼り付け!D154)","v":""},null,{"$f":"IF(フリガナ貼り付け!D154=\"\",\"\",フリガナ貼り付け!D154)","v":""},{"$f":"IF(フリガナ貼り付け!E154=\"\",\"\",フリガナ貼り付け!E154)","v":""},{"$f":"IF(JAAFデータ貼り付け!H154=\"\",\"\",JAAFデータ貼り付け!H154)","v":""},{"$f":"IF(JAAFデータ貼り付け!I154=\"\",\"\",JAAFデータ貼り付け!I154)","v":""},{"$f":"IF(JAAFデータ貼り付け!J154=\"\",\"\",JAAFデータ貼り付け!J154)","v":""},{"$f":"IF(JAAFデータ貼り付け!K154=\"\",\"\",JAAFデータ貼り付け!K154)","v":""},{"$f":"IF(JAAFデータ貼り付け!L154=\"\",\"\",JAAFデータ貼り付け!L154)","v":""},{"$f":"IF(JAAFデータ貼り付け!M154=\"\",\"\",JAAFデータ貼り付け!M154)","v":""},{"$f":"IF(JAAFデータ貼り付け!N154=\"\",\"\",JAAFデータ貼り付け!N154)","v":""},{"$f":"IF(JAAFデータ貼り付け!O154=\"\",\"\",JAAFデータ貼り付け!O154)","v":""},{"$f":"IF(JAAFデータ貼り付け!P154=\"\",\"\",JAAFデータ貼り付け!P154)","v":""},{"$f":"IF(JAAFデータ貼り付け!Q154=\"\",\"\",JAAFデータ貼り付け!Q154)","v":""},{"$f":"IF(JAAFデータ貼り付け!R154=\"\",\"\",JAAFデータ貼り付け!R154)","v":""},{"$f":"生年月日貼り付け!E154&生年月日貼り付け!F154&生年月日貼り付け!G154","v":"000"},{"$f":"IF(JAAFデータ貼り付け!T154=\"\",\"\",JAAFデータ貼り付け!T154)","v":""},{"$f":"IF(JAAFデータ貼り付け!U154=\"\",\"\",JAAFデータ貼り付け!U154)","v":""},{"$f":"IF(Sheet5!B154=\"\",\"\",Sheet5!B154)","v":"0"},{"$f":"IF(JAAFデータ貼り付け!W154=\"\",\"\",JAAFデータ貼り付け!W154)","v":""},{"$f":"IF(JAAFデータ貼り付け!X154=\"\",\"\",JAAFデータ貼り付け!X154)","v":""},{"$f":"IF(JAAFデータ貼り付け!Y154=\"\",\"\",JAAFデータ貼り付け!Y154)","v":""},{"$f":"IF(JAAFデータ貼り付け!Z154=\"\",\"\",JAAFデータ貼り付け!Z154)","v":""},{"$f":"IF(JAAFデータ貼り付け!AA154=\"\",\"\",JAAFデータ貼り付け!AA154)","v":""},{"$f":"IF(JAAFデータ貼り付け!AB154=\"\",\"\",JAAFデータ貼り付け!AB154)","v":""},{"$f":"IF(JAAFデータ貼り付け!AC154=\"\",\"\",JAAFデータ貼り付け!AC154)","v":""},{"$f":"IF(JAAFデータ貼り付け!AD154=\"\",\"\",JAAFデータ貼り付け!AD154)","v":""},{"$f":"IF(JAAFデータ貼り付け!AE154=\"\",\"\",JAAFデータ貼り付け!AE154)","v":""},{"$f":"IF(JAAFデータ貼り付け!AF154=\"\",\"\",JAAFデータ貼り付け!AF154)","v":""},{"$f":"IF(JAAFデータ貼り付け!AG154=\"\",\"\",JAAFデータ貼り付け!AG154)","v":""},{"$f":"IF(JAAFデータ貼り付け!AH154=\"\",\"\",JAAFデータ貼り付け!AH154)","v":""},{"$f":"IF(JAAFデータ貼り付け!AI154=\"\",\"\",JAAFデータ貼り付け!AI154)","v":""},{"$f":"IF(JAAFデータ貼り付け!AJ154=\"\",\"\",JAAFデータ貼り付け!AJ154)","v":""},{"$f":"IF(JAAFデータ貼り付け!AK154=\"\",\"\",JAAFデータ貼り付け!AK154)","v":""},{"$f":"IF(JAAFデータ貼り付け!AL154=\"\",\"\",JAAFデータ貼り付け!AL154)","v":""},{"$f":"IF(JAAFデータ貼り付け!AM154=\"\",\"\",JAAFデータ貼り付け!AM154)","v":""},{"$f":"IF(JAAFデータ貼り付け!AN154=\"\",\"\",JAAFデータ貼り付け!AN154)","v":""},{"$f":"IF(JAAFデータ貼り付け!AO154=\"\",\"\",JAAFデータ貼り付け!AO154)","v":""},{"$f":"IF(JAAFデータ貼り付け!AP154=\"\",\"\",JAAFデータ貼り付け!AP154)","v":""},{"$f":"IF(JAAFデータ貼り付け!AQ154=\"\",\"\",JAAFデータ貼り付け!AQ154)","v":""}]
[{"$f":"IF(JAAFデータ貼り付け!E155=\"\",\"\",JAAFデータ貼り付け!E155)","v":""},{"$f":"IF(JAAFデータ貼り付け!B155=\"\",\"\",JAAFデータ貼り付け!B155)","v":""},{"$f":"IF(JAAFデータ貼り付け!C155=\"\",\"\",JAAFデータ貼り付け!C155)","v":""},{"$f":"IF(JAAFデータ貼り付け!D155=\"\",\"\",JAAFデータ貼り付け!D155)","v":""},null,{"$f":"IF(フリガナ貼り付け!D155=\"\",\"\",フリガナ貼り付け!D155)","v":""},{"$f":"IF(フリガナ貼り付け!E155=\"\",\"\",フリガナ貼り付け!E155)","v":""},{"$f":"IF(JAAFデータ貼り付け!H155=\"\",\"\",JAAFデータ貼り付け!H155)","v":""},{"$f":"IF(JAAFデータ貼り付け!I155=\"\",\"\",JAAFデータ貼り付け!I155)","v":""},{"$f":"IF(JAAFデータ貼り付け!J155=\"\",\"\",JAAFデータ貼り付け!J155)","v":""},{"$f":"IF(JAAFデータ貼り付け!K155=\"\",\"\",JAAFデータ貼り付け!K155)","v":""},{"$f":"IF(JAAFデータ貼り付け!L155=\"\",\"\",JAAFデータ貼り付け!L155)","v":""},{"$f":"IF(JAAFデータ貼り付け!M155=\"\",\"\",JAAFデータ貼り付け!M155)","v":""},{"$f":"IF(JAAFデータ貼り付け!N155=\"\",\"\",JAAFデータ貼り付け!N155)","v":""},{"$f":"IF(JAAFデータ貼り付け!O155=\"\",\"\",JAAFデータ貼り付け!O155)","v":""},{"$f":"IF(JAAFデータ貼り付け!P155=\"\",\"\",JAAFデータ貼り付け!P155)","v":""},{"$f":"IF(JAAFデータ貼り付け!Q155=\"\",\"\",JAAFデータ貼り付け!Q155)","v":""},{"$f":"IF(JAAFデータ貼り付け!R155=\"\",\"\",JAAFデータ貼り付け!R155)","v":""},{"$f":"生年月日貼り付け!E155&生年月日貼り付け!F155&生年月日貼り付け!G155","v":"000"},{"$f":"IF(JAAFデータ貼り付け!T155=\"\",\"\",JAAFデータ貼り付け!T155)","v":""},{"$f":"IF(JAAFデータ貼り付け!U155=\"\",\"\",JAAFデータ貼り付け!U155)","v":""},{"$f":"IF(Sheet5!B155=\"\",\"\",Sheet5!B155)","v":"0"},{"$f":"IF(JAAFデータ貼り付け!W155=\"\",\"\",JAAFデータ貼り付け!W155)","v":""},{"$f":"IF(JAAFデータ貼り付け!X155=\"\",\"\",JAAFデータ貼り付け!X155)","v":""},{"$f":"IF(JAAFデータ貼り付け!Y155=\"\",\"\",JAAFデータ貼り付け!Y155)","v":""},{"$f":"IF(JAAFデータ貼り付け!Z155=\"\",\"\",JAAFデータ貼り付け!Z155)","v":""},{"$f":"IF(JAAFデータ貼り付け!AA155=\"\",\"\",JAAFデータ貼り付け!AA155)","v":""},{"$f":"IF(JAAFデータ貼り付け!AB155=\"\",\"\",JAAFデータ貼り付け!AB155)","v":""},{"$f":"IF(JAAFデータ貼り付け!AC155=\"\",\"\",JAAFデータ貼り付け!AC155)","v":""},{"$f":"IF(JAAFデータ貼り付け!AD155=\"\",\"\",JAAFデータ貼り付け!AD155)","v":""},{"$f":"IF(JAAFデータ貼り付け!AE155=\"\",\"\",JAAFデータ貼り付け!AE155)","v":""},{"$f":"IF(JAAFデータ貼り付け!AF155=\"\",\"\",JAAFデータ貼り付け!AF155)","v":""},{"$f":"IF(JAAFデータ貼り付け!AG155=\"\",\"\",JAAFデータ貼り付け!AG155)","v":""},{"$f":"IF(JAAFデータ貼り付け!AH155=\"\",\"\",JAAFデータ貼り付け!AH155)","v":""},{"$f":"IF(JAAFデータ貼り付け!AI155=\"\",\"\",JAAFデータ貼り付け!AI155)","v":""},{"$f":"IF(JAAFデータ貼り付け!AJ155=\"\",\"\",JAAFデータ貼り付け!AJ155)","v":""},{"$f":"IF(JAAFデータ貼り付け!AK155=\"\",\"\",JAAFデータ貼り付け!AK155)","v":""},{"$f":"IF(JAAFデータ貼り付け!AL155=\"\",\"\",JAAFデータ貼り付け!AL155)","v":""},{"$f":"IF(JAAFデータ貼り付け!AM155=\"\",\"\",JAAFデータ貼り付け!AM155)","v":""},{"$f":"IF(JAAFデータ貼り付け!AN155=\"\",\"\",JAAFデータ貼り付け!AN155)","v":""},{"$f":"IF(JAAFデータ貼り付け!AO155=\"\",\"\",JAAFデータ貼り付け!AO155)","v":""},{"$f":"IF(JAAFデータ貼り付け!AP155=\"\",\"\",JAAFデータ貼り付け!AP155)","v":""},{"$f":"IF(JAAFデータ貼り付け!AQ155=\"\",\"\",JAAFデータ貼り付け!AQ155)","v":""}]
[{"$f":"IF(JAAFデータ貼り付け!E156=\"\",\"\",JAAFデータ貼り付け!E156)","v":""},{"$f":"IF(JAAFデータ貼り付け!B156=\"\",\"\",JAAFデータ貼り付け!B156)","v":""},{"$f":"IF(JAAFデータ貼り付け!C156=\"\",\"\",JAAFデータ貼り付け!C156)","v":""},{"$f":"IF(JAAFデータ貼り付け!D156=\"\",\"\",JAAFデータ貼り付け!D156)","v":""},null,{"$f":"IF(フリガナ貼り付け!D156=\"\",\"\",フリガナ貼り付け!D156)","v":""},{"$f":"IF(フリガナ貼り付け!E156=\"\",\"\",フリガナ貼り付け!E156)","v":""},{"$f":"IF(JAAFデータ貼り付け!H156=\"\",\"\",JAAFデータ貼り付け!H156)","v":""},{"$f":"IF(JAAFデータ貼り付け!I156=\"\",\"\",JAAFデータ貼り付け!I156)","v":""},{"$f":"IF(JAAFデータ貼り付け!J156=\"\",\"\",JAAFデータ貼り付け!J156)","v":""},{"$f":"IF(JAAFデータ貼り付け!K156=\"\",\"\",JAAFデータ貼り付け!K156)","v":""},{"$f":"IF(JAAFデータ貼り付け!L156=\"\",\"\",JAAFデータ貼り付け!L156)","v":""},{"$f":"IF(JAAFデータ貼り付け!M156=\"\",\"\",JAAFデータ貼り付け!M156)","v":""},{"$f":"IF(JAAFデータ貼り付け!N156=\"\",\"\",JAAFデータ貼り付け!N156)","v":""},{"$f":"IF(JAAFデータ貼り付け!O156=\"\",\"\",JAAFデータ貼り付け!O156)","v":""},{"$f":"IF(JAAFデータ貼り付け!P156=\"\",\"\",JAAFデータ貼り付け!P156)","v":""},{"$f":"IF(JAAFデータ貼り付け!Q156=\"\",\"\",JAAFデータ貼り付け!Q156)","v":""},{"$f":"IF(JAAFデータ貼り付け!R156=\"\",\"\",JAAFデータ貼り付け!R156)","v":""},{"$f":"生年月日貼り付け!E156&生年月日貼り付け!F156&生年月日貼り付け!G156","v":"000"},{"$f":"IF(JAAFデータ貼り付け!T156=\"\",\"\",JAAFデータ貼り付け!T156)","v":""},{"$f":"IF(JAAFデータ貼り付け!U156=\"\",\"\",JAAFデータ貼り付け!U156)","v":""},{"$f":"IF(Sheet5!B156=\"\",\"\",Sheet5!B156)","v":"0"},{"$f":"IF(JAAFデータ貼り付け!W156=\"\",\"\",JAAFデータ貼り付け!W156)","v":""},{"$f":"IF(JAAFデータ貼り付け!X156=\"\",\"\",JAAFデータ貼り付け!X156)","v":""},{"$f":"IF(JAAFデータ貼り付け!Y156=\"\",\"\",JAAFデータ貼り付け!Y156)","v":""},{"$f":"IF(JAAFデータ貼り付け!Z156=\"\",\"\",JAAFデータ貼り付け!Z156)","v":""},{"$f":"IF(JAAFデータ貼り付け!AA156=\"\",\"\",JAAFデータ貼り付け!AA156)","v":""},{"$f":"IF(JAAFデータ貼り付け!AB156=\"\",\"\",JAAFデータ貼り付け!AB156)","v":""},{"$f":"IF(JAAFデータ貼り付け!AC156=\"\",\"\",JAAFデータ貼り付け!AC156)","v":""},{"$f":"IF(JAAFデータ貼り付け!AD156=\"\",\"\",JAAFデータ貼り付け!AD156)","v":""},{"$f":"IF(JAAFデータ貼り付け!AE156=\"\",\"\",JAAFデータ貼り付け!AE156)","v":""},{"$f":"IF(JAAFデータ貼り付け!AF156=\"\",\"\",JAAFデータ貼り付け!AF156)","v":""},{"$f":"IF(JAAFデータ貼り付け!AG156=\"\",\"\",JAAFデータ貼り付け!AG156)","v":""},{"$f":"IF(JAAFデータ貼り付け!AH156=\"\",\"\",JAAFデータ貼り付け!AH156)","v":""},{"$f":"IF(JAAFデータ貼り付け!AI156=\"\",\"\",JAAFデータ貼り付け!AI156)","v":""},{"$f":"IF(JAAFデータ貼り付け!AJ156=\"\",\"\",JAAFデータ貼り付け!AJ156)","v":""},{"$f":"IF(JAAFデータ貼り付け!AK156=\"\",\"\",JAAFデータ貼り付け!AK156)","v":""},{"$f":"IF(JAAFデータ貼り付け!AL156=\"\",\"\",JAAFデータ貼り付け!AL156)","v":""},{"$f":"IF(JAAFデータ貼り付け!AM156=\"\",\"\",JAAFデータ貼り付け!AM156)","v":""},{"$f":"IF(JAAFデータ貼り付け!AN156=\"\",\"\",JAAFデータ貼り付け!AN156)","v":""},{"$f":"IF(JAAFデータ貼り付け!AO156=\"\",\"\",JAAFデータ貼り付け!AO156)","v":""},{"$f":"IF(JAAFデータ貼り付け!AP156=\"\",\"\",JAAFデータ貼り付け!AP156)","v":""},{"$f":"IF(JAAFデータ貼り付け!AQ156=\"\",\"\",JAAFデータ貼り付け!AQ156)","v":""}]
[{"$f":"IF(JAAFデータ貼り付け!E157=\"\",\"\",JAAFデータ貼り付け!E157)","v":""},{"$f":"IF(JAAFデータ貼り付け!B157=\"\",\"\",JAAFデータ貼り付け!B157)","v":""},{"$f":"IF(JAAFデータ貼り付け!C157=\"\",\"\",JAAFデータ貼り付け!C157)","v":""},{"$f":"IF(JAAFデータ貼り付け!D157=\"\",\"\",JAAFデータ貼り付け!D157)","v":""},null,{"$f":"IF(フリガナ貼り付け!D157=\"\",\"\",フリガナ貼り付け!D157)","v":""},{"$f":"IF(フリガナ貼り付け!E157=\"\",\"\",フリガナ貼り付け!E157)","v":""},{"$f":"IF(JAAFデータ貼り付け!H157=\"\",\"\",JAAFデータ貼り付け!H157)","v":""},{"$f":"IF(JAAFデータ貼り付け!I157=\"\",\"\",JAAFデータ貼り付け!I157)","v":""},{"$f":"IF(JAAFデータ貼り付け!J157=\"\",\"\",JAAFデータ貼り付け!J157)","v":""},{"$f":"IF(JAAFデータ貼り付け!K157=\"\",\"\",JAAFデータ貼り付け!K157)","v":""},{"$f":"IF(JAAFデータ貼り付け!L157=\"\",\"\",JAAFデータ貼り付け!L157)","v":""},{"$f":"IF(JAAFデータ貼り付け!M157=\"\",\"\",JAAFデータ貼り付け!M157)","v":""},{"$f":"IF(JAAFデータ貼り付け!N157=\"\",\"\",JAAFデータ貼り付け!N157)","v":""},{"$f":"IF(JAAFデータ貼り付け!O157=\"\",\"\",JAAFデータ貼り付け!O157)","v":""},{"$f":"IF(JAAFデータ貼り付け!P157=\"\",\"\",JAAFデータ貼り付け!P157)","v":""},{"$f":"IF(JAAFデータ貼り付け!Q157=\"\",\"\",JAAFデータ貼り付け!Q157)","v":""},{"$f":"IF(JAAFデータ貼り付け!R157=\"\",\"\",JAAFデータ貼り付け!R157)","v":""},{"$f":"生年月日貼り付け!E157&生年月日貼り付け!F157&生年月日貼り付け!G157","v":"000"},{"$f":"IF(JAAFデータ貼り付け!T157=\"\",\"\",JAAFデータ貼り付け!T157)","v":""},{"$f":"IF(JAAFデータ貼り付け!U157=\"\",\"\",JAAFデータ貼り付け!U157)","v":""},{"$f":"IF(Sheet5!B157=\"\",\"\",Sheet5!B157)","v":"0"},{"$f":"IF(JAAFデータ貼り付け!W157=\"\",\"\",JAAFデータ貼り付け!W157)","v":""},{"$f":"IF(JAAFデータ貼り付け!X157=\"\",\"\",JAAFデータ貼り付け!X157)","v":""},{"$f":"IF(JAAFデータ貼り付け!Y157=\"\",\"\",JAAFデータ貼り付け!Y157)","v":""},{"$f":"IF(JAAFデータ貼り付け!Z157=\"\",\"\",JAAFデータ貼り付け!Z157)","v":""},{"$f":"IF(JAAFデータ貼り付け!AA157=\"\",\"\",JAAFデータ貼り付け!AA157)","v":""},{"$f":"IF(JAAFデータ貼り付け!AB157=\"\",\"\",JAAFデータ貼り付け!AB157)","v":""},{"$f":"IF(JAAFデータ貼り付け!AC157=\"\",\"\",JAAFデータ貼り付け!AC157)","v":""},{"$f":"IF(JAAFデータ貼り付け!AD157=\"\",\"\",JAAFデータ貼り付け!AD157)","v":""},{"$f":"IF(JAAFデータ貼り付け!AE157=\"\",\"\",JAAFデータ貼り付け!AE157)","v":""},{"$f":"IF(JAAFデータ貼り付け!AF157=\"\",\"\",JAAFデータ貼り付け!AF157)","v":""},{"$f":"IF(JAAFデータ貼り付け!AG157=\"\",\"\",JAAFデータ貼り付け!AG157)","v":""},{"$f":"IF(JAAFデータ貼り付け!AH157=\"\",\"\",JAAFデータ貼り付け!AH157)","v":""},{"$f":"IF(JAAFデータ貼り付け!AI157=\"\",\"\",JAAFデータ貼り付け!AI157)","v":""},{"$f":"IF(JAAFデータ貼り付け!AJ157=\"\",\"\",JAAFデータ貼り付け!AJ157)","v":""},{"$f":"IF(JAAFデータ貼り付け!AK157=\"\",\"\",JAAFデータ貼り付け!AK157)","v":""},{"$f":"IF(JAAFデータ貼り付け!AL157=\"\",\"\",JAAFデータ貼り付け!AL157)","v":""},{"$f":"IF(JAAFデータ貼り付け!AM157=\"\",\"\",JAAFデータ貼り付け!AM157)","v":""},{"$f":"IF(JAAFデータ貼り付け!AN157=\"\",\"\",JAAFデータ貼り付け!AN157)","v":""},{"$f":"IF(JAAFデータ貼り付け!AO157=\"\",\"\",JAAFデータ貼り付け!AO157)","v":""},{"$f":"IF(JAAFデータ貼り付け!AP157=\"\",\"\",JAAFデータ貼り付け!AP157)","v":""},{"$f":"IF(JAAFデータ貼り付け!AQ157=\"\",\"\",JAAFデータ貼り付け!AQ157)","v":""}]
[{"$f":"IF(JAAFデータ貼り付け!E158=\"\",\"\",JAAFデータ貼り付け!E158)","v":""},{"$f":"IF(JAAFデータ貼り付け!B158=\"\",\"\",JAAFデータ貼り付け!B158)","v":""},{"$f":"IF(JAAFデータ貼り付け!C158=\"\",\"\",JAAFデータ貼り付け!C158)","v":""},{"$f":"IF(JAAFデータ貼り付け!D158=\"\",\"\",JAAFデータ貼り付け!D158)","v":""},null,{"$f":"IF(フリガナ貼り付け!D158=\"\",\"\",フリガナ貼り付け!D158)","v":""},{"$f":"IF(フリガナ貼り付け!E158=\"\",\"\",フリガナ貼り付け!E158)","v":""},{"$f":"IF(JAAFデータ貼り付け!H158=\"\",\"\",JAAFデータ貼り付け!H158)","v":""},{"$f":"IF(JAAFデータ貼り付け!I158=\"\",\"\",JAAFデータ貼り付け!I158)","v":""},{"$f":"IF(JAAFデータ貼り付け!J158=\"\",\"\",JAAFデータ貼り付け!J158)","v":""},{"$f":"IF(JAAFデータ貼り付け!K158=\"\",\"\",JAAFデータ貼り付け!K158)","v":""},{"$f":"IF(JAAFデータ貼り付け!L158=\"\",\"\",JAAFデータ貼り付け!L158)","v":""},{"$f":"IF(JAAFデータ貼り付け!M158=\"\",\"\",JAAFデータ貼り付け!M158)","v":""},{"$f":"IF(JAAFデータ貼り付け!N158=\"\",\"\",JAAFデータ貼り付け!N158)","v":""},{"$f":"IF(JAAFデータ貼り付け!O158=\"\",\"\",JAAFデータ貼り付け!O158)","v":""},{"$f":"IF(JAAFデータ貼り付け!P158=\"\",\"\",JAAFデータ貼り付け!P158)","v":""},{"$f":"IF(JAAFデータ貼り付け!Q158=\"\",\"\",JAAFデータ貼り付け!Q158)","v":""},{"$f":"IF(JAAFデータ貼り付け!R158=\"\",\"\",JAAFデータ貼り付け!R158)","v":""},{"$f":"生年月日貼り付け!E158&生年月日貼り付け!F158&生年月日貼り付け!G158","v":"000"},{"$f":"IF(JAAFデータ貼り付け!T158=\"\",\"\",JAAFデータ貼り付け!T158)","v":""},{"$f":"IF(JAAFデータ貼り付け!U158=\"\",\"\",JAAFデータ貼り付け!U158)","v":""},{"$f":"IF(Sheet5!B158=\"\",\"\",Sheet5!B158)","v":"0"},{"$f":"IF(JAAFデータ貼り付け!W158=\"\",\"\",JAAFデータ貼り付け!W158)","v":""},{"$f":"IF(JAAFデータ貼り付け!X158=\"\",\"\",JAAFデータ貼り付け!X158)","v":""},{"$f":"IF(JAAFデータ貼り付け!Y158=\"\",\"\",JAAFデータ貼り付け!Y158)","v":""},{"$f":"IF(JAAFデータ貼り付け!Z158=\"\",\"\",JAAFデータ貼り付け!Z158)","v":""},{"$f":"IF(JAAFデータ貼り付け!AA158=\"\",\"\",JAAFデータ貼り付け!AA158)","v":""},{"$f":"IF(JAAFデータ貼り付け!AB158=\"\",\"\",JAAFデータ貼り付け!AB158)","v":""},{"$f":"IF(JAAFデータ貼り付け!AC158=\"\",\"\",JAAFデータ貼り付け!AC158)","v":""},{"$f":"IF(JAAFデータ貼り付け!AD158=\"\",\"\",JAAFデータ貼り付け!AD158)","v":""},{"$f":"IF(JAAFデータ貼り付け!AE158=\"\",\"\",JAAFデータ貼り付け!AE158)","v":""},{"$f":"IF(JAAFデータ貼り付け!AF158=\"\",\"\",JAAFデータ貼り付け!AF158)","v":""},{"$f":"IF(JAAFデータ貼り付け!AG158=\"\",\"\",JAAFデータ貼り付け!AG158)","v":""},{"$f":"IF(JAAFデータ貼り付け!AH158=\"\",\"\",JAAFデータ貼り付け!AH158)","v":""},{"$f":"IF(JAAFデータ貼り付け!AI158=\"\",\"\",JAAFデータ貼り付け!AI158)","v":""},{"$f":"IF(JAAFデータ貼り付け!AJ158=\"\",\"\",JAAFデータ貼り付け!AJ158)","v":""},{"$f":"IF(JAAFデータ貼り付け!AK158=\"\",\"\",JAAFデータ貼り付け!AK158)","v":""},{"$f":"IF(JAAFデータ貼り付け!AL158=\"\",\"\",JAAFデータ貼り付け!AL158)","v":""},{"$f":"IF(JAAFデータ貼り付け!AM158=\"\",\"\",JAAFデータ貼り付け!AM158)","v":""},{"$f":"IF(JAAFデータ貼り付け!AN158=\"\",\"\",JAAFデータ貼り付け!AN158)","v":""},{"$f":"IF(JAAFデータ貼り付け!AO158=\"\",\"\",JAAFデータ貼り付け!AO158)","v":""},{"$f":"IF(JAAFデータ貼り付け!AP158=\"\",\"\",JAAFデータ貼り付け!AP158)","v":""},{"$f":"IF(JAAFデータ貼り付け!AQ158=\"\",\"\",JAAFデータ貼り付け!AQ158)","v":""}]
[{"$f":"IF(JAAFデータ貼り付け!E159=\"\",\"\",JAAFデータ貼り付け!E159)","v":""},{"$f":"IF(JAAFデータ貼り付け!B159=\"\",\"\",JAAFデータ貼り付け!B159)","v":""},{"$f":"IF(JAAFデータ貼り付け!C159=\"\",\"\",JAAFデータ貼り付け!C159)","v":""},{"$f":"IF(JAAFデータ貼り付け!D159=\"\",\"\",JAAFデータ貼り付け!D159)","v":""},null,{"$f":"IF(フリガナ貼り付け!D159=\"\",\"\",フリガナ貼り付け!D159)","v":""},{"$f":"IF(フリガナ貼り付け!E159=\"\",\"\",フリガナ貼り付け!E159)","v":""},{"$f":"IF(JAAFデータ貼り付け!H159=\"\",\"\",JAAFデータ貼り付け!H159)","v":""},{"$f":"IF(JAAFデータ貼り付け!I159=\"\",\"\",JAAFデータ貼り付け!I159)","v":""},{"$f":"IF(JAAFデータ貼り付け!J159=\"\",\"\",JAAFデータ貼り付け!J159)","v":""},{"$f":"IF(JAAFデータ貼り付け!K159=\"\",\"\",JAAFデータ貼り付け!K159)","v":""},{"$f":"IF(JAAFデータ貼り付け!L159=\"\",\"\",JAAFデータ貼り付け!L159)","v":""},{"$f":"IF(JAAFデータ貼り付け!M159=\"\",\"\",JAAFデータ貼り付け!M159)","v":""},{"$f":"IF(JAAFデータ貼り付け!N159=\"\",\"\",JAAFデータ貼り付け!N159)","v":""},{"$f":"IF(JAAFデータ貼り付け!O159=\"\",\"\",JAAFデータ貼り付け!O159)","v":""},{"$f":"IF(JAAFデータ貼り付け!P159=\"\",\"\",JAAFデータ貼り付け!P159)","v":""},{"$f":"IF(JAAFデータ貼り付け!Q159=\"\",\"\",JAAFデータ貼り付け!Q159)","v":""},{"$f":"IF(JAAFデータ貼り付け!R159=\"\",\"\",JAAFデータ貼り付け!R159)","v":""},{"$f":"生年月日貼り付け!E159&生年月日貼り付け!F159&生年月日貼り付け!G159","v":"000"},{"$f":"IF(JAAFデータ貼り付け!T159=\"\",\"\",JAAFデータ貼り付け!T159)","v":""},{"$f":"IF(JAAFデータ貼り付け!U159=\"\",\"\",JAAFデータ貼り付け!U159)","v":""},{"$f":"IF(Sheet5!B159=\"\",\"\",Sheet5!B159)","v":"0"},{"$f":"IF(JAAFデータ貼り付け!W159=\"\",\"\",JAAFデータ貼り付け!W159)","v":""},{"$f":"IF(JAAFデータ貼り付け!X159=\"\",\"\",JAAFデータ貼り付け!X159)","v":""},{"$f":"IF(JAAFデータ貼り付け!Y159=\"\",\"\",JAAFデータ貼り付け!Y159)","v":""},{"$f":"IF(JAAFデータ貼り付け!Z159=\"\",\"\",JAAFデータ貼り付け!Z159)","v":""},{"$f":"IF(JAAFデータ貼り付け!AA159=\"\",\"\",JAAFデータ貼り付け!AA159)","v":""},{"$f":"IF(JAAFデータ貼り付け!AB159=\"\",\"\",JAAFデータ貼り付け!AB159)","v":""},{"$f":"IF(JAAFデータ貼り付け!AC159=\"\",\"\",JAAFデータ貼り付け!AC159)","v":""},{"$f":"IF(JAAFデータ貼り付け!AD159=\"\",\"\",JAAFデータ貼り付け!AD159)","v":""},{"$f":"IF(JAAFデータ貼り付け!AE159=\"\",\"\",JAAFデータ貼り付け!AE159)","v":""},{"$f":"IF(JAAFデータ貼り付け!AF159=\"\",\"\",JAAFデータ貼り付け!AF159)","v":""},{"$f":"IF(JAAFデータ貼り付け!AG159=\"\",\"\",JAAFデータ貼り付け!AG159)","v":""},{"$f":"IF(JAAFデータ貼り付け!AH159=\"\",\"\",JAAFデータ貼り付け!AH159)","v":""},{"$f":"IF(JAAFデータ貼り付け!AI159=\"\",\"\",JAAFデータ貼り付け!AI159)","v":""},{"$f":"IF(JAAFデータ貼り付け!AJ159=\"\",\"\",JAAFデータ貼り付け!AJ159)","v":""},{"$f":"IF(JAAFデータ貼り付け!AK159=\"\",\"\",JAAFデータ貼り付け!AK159)","v":""},{"$f":"IF(JAAFデータ貼り付け!AL159=\"\",\"\",JAAFデータ貼り付け!AL159)","v":""},{"$f":"IF(JAAFデータ貼り付け!AM159=\"\",\"\",JAAFデータ貼り付け!AM159)","v":""},{"$f":"IF(JAAFデータ貼り付け!AN159=\"\",\"\",JAAFデータ貼り付け!AN159)","v":""},{"$f":"IF(JAAFデータ貼り付け!AO159=\"\",\"\",JAAFデータ貼り付け!AO159)","v":""},{"$f":"IF(JAAFデータ貼り付け!AP159=\"\",\"\",JAAFデータ貼り付け!AP159)","v":""},{"$f":"IF(JAAFデータ貼り付け!AQ159=\"\",\"\",JAAFデータ貼り付け!AQ159)","v":""}]
[{"$f":"IF(JAAFデータ貼り付け!E160=\"\",\"\",JAAFデータ貼り付け!E160)","v":""},{"$f":"IF(JAAFデータ貼り付け!B160=\"\",\"\",JAAFデータ貼り付け!B160)","v":""},{"$f":"IF(JAAFデータ貼り付け!C160=\"\",\"\",JAAFデータ貼り付け!C160)","v":""},{"$f":"IF(JAAFデータ貼り付け!D160=\"\",\"\",JAAFデータ貼り付け!D160)","v":""},null,{"$f":"IF(フリガナ貼り付け!D160=\"\",\"\",フリガナ貼り付け!D160)","v":""},{"$f":"IF(フリガナ貼り付け!E160=\"\",\"\",フリガナ貼り付け!E160)","v":""},{"$f":"IF(JAAFデータ貼り付け!H160=\"\",\"\",JAAFデータ貼り付け!H160)","v":""},{"$f":"IF(JAAFデータ貼り付け!I160=\"\",\"\",JAAFデータ貼り付け!I160)","v":""},{"$f":"IF(JAAFデータ貼り付け!J160=\"\",\"\",JAAFデータ貼り付け!J160)","v":""},{"$f":"IF(JAAFデータ貼り付け!K160=\"\",\"\",JAAFデータ貼り付け!K160)","v":""},{"$f":"IF(JAAFデータ貼り付け!L160=\"\",\"\",JAAFデータ貼り付け!L160)","v":""},{"$f":"IF(JAAFデータ貼り付け!M160=\"\",\"\",JAAFデータ貼り付け!M160)","v":""},{"$f":"IF(JAAFデータ貼り付け!N160=\"\",\"\",JAAFデータ貼り付け!N160)","v":""},{"$f":"IF(JAAFデータ貼り付け!O160=\"\",\"\",JAAFデータ貼り付け!O160)","v":""},{"$f":"IF(JAAFデータ貼り付け!P160=\"\",\"\",JAAFデータ貼り付け!P160)","v":""},{"$f":"IF(JAAFデータ貼り付け!Q160=\"\",\"\",JAAFデータ貼り付け!Q160)","v":""},{"$f":"IF(JAAFデータ貼り付け!R160=\"\",\"\",JAAFデータ貼り付け!R160)","v":""},{"$f":"生年月日貼り付け!E160&生年月日貼り付け!F160&生年月日貼り付け!G160","v":"000"},{"$f":"IF(JAAFデータ貼り付け!T160=\"\",\"\",JAAFデータ貼り付け!T160)","v":""},{"$f":"IF(JAAFデータ貼り付け!U160=\"\",\"\",JAAFデータ貼り付け!U160)","v":""},{"$f":"IF(Sheet5!B160=\"\",\"\",Sheet5!B160)","v":"0"},{"$f":"IF(JAAFデータ貼り付け!W160=\"\",\"\",JAAFデータ貼り付け!W160)","v":""},{"$f":"IF(JAAFデータ貼り付け!X160=\"\",\"\",JAAFデータ貼り付け!X160)","v":""},{"$f":"IF(JAAFデータ貼り付け!Y160=\"\",\"\",JAAFデータ貼り付け!Y160)","v":""},{"$f":"IF(JAAFデータ貼り付け!Z160=\"\",\"\",JAAFデータ貼り付け!Z160)","v":""},{"$f":"IF(JAAFデータ貼り付け!AA160=\"\",\"\",JAAFデータ貼り付け!AA160)","v":""},{"$f":"IF(JAAFデータ貼り付け!AB160=\"\",\"\",JAAFデータ貼り付け!AB160)","v":""},{"$f":"IF(JAAFデータ貼り付け!AC160=\"\",\"\",JAAFデータ貼り付け!AC160)","v":""},{"$f":"IF(JAAFデータ貼り付け!AD160=\"\",\"\",JAAFデータ貼り付け!AD160)","v":""},{"$f":"IF(JAAFデータ貼り付け!AE160=\"\",\"\",JAAFデータ貼り付け!AE160)","v":""},{"$f":"IF(JAAFデータ貼り付け!AF160=\"\",\"\",JAAFデータ貼り付け!AF160)","v":""},{"$f":"IF(JAAFデータ貼り付け!AG160=\"\",\"\",JAAFデータ貼り付け!AG160)","v":""},{"$f":"IF(JAAFデータ貼り付け!AH160=\"\",\"\",JAAFデータ貼り付け!AH160)","v":""},{"$f":"IF(JAAFデータ貼り付け!AI160=\"\",\"\",JAAFデータ貼り付け!AI160)","v":""},{"$f":"IF(JAAFデータ貼り付け!AJ160=\"\",\"\",JAAFデータ貼り付け!AJ160)","v":""},{"$f":"IF(JAAFデータ貼り付け!AK160=\"\",\"\",JAAFデータ貼り付け!AK160)","v":""},{"$f":"IF(JAAFデータ貼り付け!AL160=\"\",\"\",JAAFデータ貼り付け!AL160)","v":""},{"$f":"IF(JAAFデータ貼り付け!AM160=\"\",\"\",JAAFデータ貼り付け!AM160)","v":""},{"$f":"IF(JAAFデータ貼り付け!AN160=\"\",\"\",JAAFデータ貼り付け!AN160)","v":""},{"$f":"IF(JAAFデータ貼り付け!AO160=\"\",\"\",JAAFデータ貼り付け!AO160)","v":""},{"$f":"IF(JAAFデータ貼り付け!AP160=\"\",\"\",JAAFデータ貼り付け!AP160)","v":""},{"$f":"IF(JAAFデータ貼り付け!AQ160=\"\",\"\",JAAFデータ貼り付け!AQ160)","v":""}]
[{"$f":"IF(JAAFデータ貼り付け!E161=\"\",\"\",JAAFデータ貼り付け!E161)","v":""},{"$f":"IF(JAAFデータ貼り付け!B161=\"\",\"\",JAAFデータ貼り付け!B161)","v":""},{"$f":"IF(JAAFデータ貼り付け!C161=\"\",\"\",JAAFデータ貼り付け!C161)","v":""},{"$f":"IF(JAAFデータ貼り付け!D161=\"\",\"\",JAAFデータ貼り付け!D161)","v":""},null,{"$f":"IF(フリガナ貼り付け!D161=\"\",\"\",フリガナ貼り付け!D161)","v":""},{"$f":"IF(フリガナ貼り付け!E161=\"\",\"\",フリガナ貼り付け!E161)","v":""},{"$f":"IF(JAAFデータ貼り付け!H161=\"\",\"\",JAAFデータ貼り付け!H161)","v":""},{"$f":"IF(JAAFデータ貼り付け!I161=\"\",\"\",JAAFデータ貼り付け!I161)","v":""},{"$f":"IF(JAAFデータ貼り付け!J161=\"\",\"\",JAAFデータ貼り付け!J161)","v":""},{"$f":"IF(JAAFデータ貼り付け!K161=\"\",\"\",JAAFデータ貼り付け!K161)","v":""},{"$f":"IF(JAAFデータ貼り付け!L161=\"\",\"\",JAAFデータ貼り付け!L161)","v":""},{"$f":"IF(JAAFデータ貼り付け!M161=\"\",\"\",JAAFデータ貼り付け!M161)","v":""},{"$f":"IF(JAAFデータ貼り付け!N161=\"\",\"\",JAAFデータ貼り付け!N161)","v":""},{"$f":"IF(JAAFデータ貼り付け!O161=\"\",\"\",JAAFデータ貼り付け!O161)","v":""},{"$f":"IF(JAAFデータ貼り付け!P161=\"\",\"\",JAAFデータ貼り付け!P161)","v":""},{"$f":"IF(JAAFデータ貼り付け!Q161=\"\",\"\",JAAFデータ貼り付け!Q161)","v":""},{"$f":"IF(JAAFデータ貼り付け!R161=\"\",\"\",JAAFデータ貼り付け!R161)","v":""},{"$f":"生年月日貼り付け!E161&生年月日貼り付け!F161&生年月日貼り付け!G161","v":"000"},{"$f":"IF(JAAFデータ貼り付け!T161=\"\",\"\",JAAFデータ貼り付け!T161)","v":""},{"$f":"IF(JAAFデータ貼り付け!U161=\"\",\"\",JAAFデータ貼り付け!U161)","v":""},{"$f":"IF(Sheet5!B161=\"\",\"\",Sheet5!B161)","v":"0"},{"$f":"IF(JAAFデータ貼り付け!W161=\"\",\"\",JAAFデータ貼り付け!W161)","v":""},{"$f":"IF(JAAFデータ貼り付け!X161=\"\",\"\",JAAFデータ貼り付け!X161)","v":""},{"$f":"IF(JAAFデータ貼り付け!Y161=\"\",\"\",JAAFデータ貼り付け!Y161)","v":""},{"$f":"IF(JAAFデータ貼り付け!Z161=\"\",\"\",JAAFデータ貼り付け!Z161)","v":""},{"$f":"IF(JAAFデータ貼り付け!AA161=\"\",\"\",JAAFデータ貼り付け!AA161)","v":""},{"$f":"IF(JAAFデータ貼り付け!AB161=\"\",\"\",JAAFデータ貼り付け!AB161)","v":""},{"$f":"IF(JAAFデータ貼り付け!AC161=\"\",\"\",JAAFデータ貼り付け!AC161)","v":""},{"$f":"IF(JAAFデータ貼り付け!AD161=\"\",\"\",JAAFデータ貼り付け!AD161)","v":""},{"$f":"IF(JAAFデータ貼り付け!AE161=\"\",\"\",JAAFデータ貼り付け!AE161)","v":""},{"$f":"IF(JAAFデータ貼り付け!AF161=\"\",\"\",JAAFデータ貼り付け!AF161)","v":""},{"$f":"IF(JAAFデータ貼り付け!AG161=\"\",\"\",JAAFデータ貼り付け!AG161)","v":""},{"$f":"IF(JAAFデータ貼り付け!AH161=\"\",\"\",JAAFデータ貼り付け!AH161)","v":""},{"$f":"IF(JAAFデータ貼り付け!AI161=\"\",\"\",JAAFデータ貼り付け!AI161)","v":""},{"$f":"IF(JAAFデータ貼り付け!AJ161=\"\",\"\",JAAFデータ貼り付け!AJ161)","v":""},{"$f":"IF(JAAFデータ貼り付け!AK161=\"\",\"\",JAAFデータ貼り付け!AK161)","v":""},{"$f":"IF(JAAFデータ貼り付け!AL161=\"\",\"\",JAAFデータ貼り付け!AL161)","v":""},{"$f":"IF(JAAFデータ貼り付け!AM161=\"\",\"\",JAAFデータ貼り付け!AM161)","v":""},{"$f":"IF(JAAFデータ貼り付け!AN161=\"\",\"\",JAAFデータ貼り付け!AN161)","v":""},{"$f":"IF(JAAFデータ貼り付け!AO161=\"\",\"\",JAAFデータ貼り付け!AO161)","v":""},{"$f":"IF(JAAFデータ貼り付け!AP161=\"\",\"\",JAAFデータ貼り付け!AP161)","v":""},{"$f":"IF(JAAFデータ貼り付け!AQ161=\"\",\"\",JAAFデータ貼り付け!AQ161)","v":""}]
[{"$f":"IF(JAAFデータ貼り付け!E162=\"\",\"\",JAAFデータ貼り付け!E162)","v":""},{"$f":"IF(JAAFデータ貼り付け!B162=\"\",\"\",JAAFデータ貼り付け!B162)","v":""},{"$f":"IF(JAAFデータ貼り付け!C162=\"\",\"\",JAAFデータ貼り付け!C162)","v":""},{"$f":"IF(JAAFデータ貼り付け!D162=\"\",\"\",JAAFデータ貼り付け!D162)","v":""},null,{"$f":"IF(フリガナ貼り付け!D162=\"\",\"\",フリガナ貼り付け!D162)","v":""},{"$f":"IF(フリガナ貼り付け!E162=\"\",\"\",フリガナ貼り付け!E162)","v":""},{"$f":"IF(JAAFデータ貼り付け!H162=\"\",\"\",JAAFデータ貼り付け!H162)","v":""},{"$f":"IF(JAAFデータ貼り付け!I162=\"\",\"\",JAAFデータ貼り付け!I162)","v":""},{"$f":"IF(JAAFデータ貼り付け!J162=\"\",\"\",JAAFデータ貼り付け!J162)","v":""},{"$f":"IF(JAAFデータ貼り付け!K162=\"\",\"\",JAAFデータ貼り付け!K162)","v":""},{"$f":"IF(JAAFデータ貼り付け!L162=\"\",\"\",JAAFデータ貼り付け!L162)","v":""},{"$f":"IF(JAAFデータ貼り付け!M162=\"\",\"\",JAAFデータ貼り付け!M162)","v":""},{"$f":"IF(JAAFデータ貼り付け!N162=\"\",\"\",JAAFデータ貼り付け!N162)","v":""},{"$f":"IF(JAAFデータ貼り付け!O162=\"\",\"\",JAAFデータ貼り付け!O162)","v":""},{"$f":"IF(JAAFデータ貼り付け!P162=\"\",\"\",JAAFデータ貼り付け!P162)","v":""},{"$f":"IF(JAAFデータ貼り付け!Q162=\"\",\"\",JAAFデータ貼り付け!Q162)","v":""},{"$f":"IF(JAAFデータ貼り付け!R162=\"\",\"\",JAAFデータ貼り付け!R162)","v":""},{"$f":"生年月日貼り付け!E162&生年月日貼り付け!F162&生年月日貼り付け!G162","v":"000"},{"$f":"IF(JAAFデータ貼り付け!T162=\"\",\"\",JAAFデータ貼り付け!T162)","v":""},{"$f":"IF(JAAFデータ貼り付け!U162=\"\",\"\",JAAFデータ貼り付け!U162)","v":""},{"$f":"IF(Sheet5!B162=\"\",\"\",Sheet5!B162)","v":"0"},{"$f":"IF(JAAFデータ貼り付け!W162=\"\",\"\",JAAFデータ貼り付け!W162)","v":""},{"$f":"IF(JAAFデータ貼り付け!X162=\"\",\"\",JAAFデータ貼り付け!X162)","v":""},{"$f":"IF(JAAFデータ貼り付け!Y162=\"\",\"\",JAAFデータ貼り付け!Y162)","v":""},{"$f":"IF(JAAFデータ貼り付け!Z162=\"\",\"\",JAAFデータ貼り付け!Z162)","v":""},{"$f":"IF(JAAFデータ貼り付け!AA162=\"\",\"\",JAAFデータ貼り付け!AA162)","v":""},{"$f":"IF(JAAFデータ貼り付け!AB162=\"\",\"\",JAAFデータ貼り付け!AB162)","v":""},{"$f":"IF(JAAFデータ貼り付け!AC162=\"\",\"\",JAAFデータ貼り付け!AC162)","v":""},{"$f":"IF(JAAFデータ貼り付け!AD162=\"\",\"\",JAAFデータ貼り付け!AD162)","v":""},{"$f":"IF(JAAFデータ貼り付け!AE162=\"\",\"\",JAAFデータ貼り付け!AE162)","v":""},{"$f":"IF(JAAFデータ貼り付け!AF162=\"\",\"\",JAAFデータ貼り付け!AF162)","v":""},{"$f":"IF(JAAFデータ貼り付け!AG162=\"\",\"\",JAAFデータ貼り付け!AG162)","v":""},{"$f":"IF(JAAFデータ貼り付け!AH162=\"\",\"\",JAAFデータ貼り付け!AH162)","v":""},{"$f":"IF(JAAFデータ貼り付け!AI162=\"\",\"\",JAAFデータ貼り付け!AI162)","v":""},{"$f":"IF(JAAFデータ貼り付け!AJ162=\"\",\"\",JAAFデータ貼り付け!AJ162)","v":""},{"$f":"IF(JAAFデータ貼り付け!AK162=\"\",\"\",JAAFデータ貼り付け!AK162)","v":""},{"$f":"IF(JAAFデータ貼り付け!AL162=\"\",\"\",JAAFデータ貼り付け!AL162)","v":""},{"$f":"IF(JAAFデータ貼り付け!AM162=\"\",\"\",JAAFデータ貼り付け!AM162)","v":""},{"$f":"IF(JAAFデータ貼り付け!AN162=\"\",\"\",JAAFデータ貼り付け!AN162)","v":""},{"$f":"IF(JAAFデータ貼り付け!AO162=\"\",\"\",JAAFデータ貼り付け!AO162)","v":""},{"$f":"IF(JAAFデータ貼り付け!AP162=\"\",\"\",JAAFデータ貼り付け!AP162)","v":""},{"$f":"IF(JAAFデータ貼り付け!AQ162=\"\",\"\",JAAFデータ貼り付け!AQ162)","v":""}]
[{"$f":"IF(JAAFデータ貼り付け!E163=\"\",\"\",JAAFデータ貼り付け!E163)","v":""},{"$f":"IF(JAAFデータ貼り付け!B163=\"\",\"\",JAAFデータ貼り付け!B163)","v":""},{"$f":"IF(JAAFデータ貼り付け!C163=\"\",\"\",JAAFデータ貼り付け!C163)","v":""},{"$f":"IF(JAAFデータ貼り付け!D163=\"\",\"\",JAAFデータ貼り付け!D163)","v":""},null,{"$f":"IF(フリガナ貼り付け!D163=\"\",\"\",フリガナ貼り付け!D163)","v":""},{"$f":"IF(フリガナ貼り付け!E163=\"\",\"\",フリガナ貼り付け!E163)","v":""},{"$f":"IF(JAAFデータ貼り付け!H163=\"\",\"\",JAAFデータ貼り付け!H163)","v":""},{"$f":"IF(JAAFデータ貼り付け!I163=\"\",\"\",JAAFデータ貼り付け!I163)","v":""},{"$f":"IF(JAAFデータ貼り付け!J163=\"\",\"\",JAAFデータ貼り付け!J163)","v":""},{"$f":"IF(JAAFデータ貼り付け!K163=\"\",\"\",JAAFデータ貼り付け!K163)","v":""},{"$f":"IF(JAAFデータ貼り付け!L163=\"\",\"\",JAAFデータ貼り付け!L163)","v":""},{"$f":"IF(JAAFデータ貼り付け!M163=\"\",\"\",JAAFデータ貼り付け!M163)","v":""},{"$f":"IF(JAAFデータ貼り付け!N163=\"\",\"\",JAAFデータ貼り付け!N163)","v":""},{"$f":"IF(JAAFデータ貼り付け!O163=\"\",\"\",JAAFデータ貼り付け!O163)","v":""},{"$f":"IF(JAAFデータ貼り付け!P163=\"\",\"\",JAAFデータ貼り付け!P163)","v":""},{"$f":"IF(JAAFデータ貼り付け!Q163=\"\",\"\",JAAFデータ貼り付け!Q163)","v":""},{"$f":"IF(JAAFデータ貼り付け!R163=\"\",\"\",JAAFデータ貼り付け!R163)","v":""},{"$f":"生年月日貼り付け!E163&生年月日貼り付け!F163&生年月日貼り付け!G163","v":"000"},{"$f":"IF(JAAFデータ貼り付け!T163=\"\",\"\",JAAFデータ貼り付け!T163)","v":""},{"$f":"IF(JAAFデータ貼り付け!U163=\"\",\"\",JAAFデータ貼り付け!U163)","v":""},{"$f":"IF(Sheet5!B163=\"\",\"\",Sheet5!B163)","v":"0"},{"$f":"IF(JAAFデータ貼り付け!W163=\"\",\"\",JAAFデータ貼り付け!W163)","v":""},{"$f":"IF(JAAFデータ貼り付け!X163=\"\",\"\",JAAFデータ貼り付け!X163)","v":""},{"$f":"IF(JAAFデータ貼り付け!Y163=\"\",\"\",JAAFデータ貼り付け!Y163)","v":""},{"$f":"IF(JAAFデータ貼り付け!Z163=\"\",\"\",JAAFデータ貼り付け!Z163)","v":""},{"$f":"IF(JAAFデータ貼り付け!AA163=\"\",\"\",JAAFデータ貼り付け!AA163)","v":""},{"$f":"IF(JAAFデータ貼り付け!AB163=\"\",\"\",JAAFデータ貼り付け!AB163)","v":""},{"$f":"IF(JAAFデータ貼り付け!AC163=\"\",\"\",JAAFデータ貼り付け!AC163)","v":""},{"$f":"IF(JAAFデータ貼り付け!AD163=\"\",\"\",JAAFデータ貼り付け!AD163)","v":""},{"$f":"IF(JAAFデータ貼り付け!AE163=\"\",\"\",JAAFデータ貼り付け!AE163)","v":""},{"$f":"IF(JAAFデータ貼り付け!AF163=\"\",\"\",JAAFデータ貼り付け!AF163)","v":""},{"$f":"IF(JAAFデータ貼り付け!AG163=\"\",\"\",JAAFデータ貼り付け!AG163)","v":""},{"$f":"IF(JAAFデータ貼り付け!AH163=\"\",\"\",JAAFデータ貼り付け!AH163)","v":""},{"$f":"IF(JAAFデータ貼り付け!AI163=\"\",\"\",JAAFデータ貼り付け!AI163)","v":""},{"$f":"IF(JAAFデータ貼り付け!AJ163=\"\",\"\",JAAFデータ貼り付け!AJ163)","v":""},{"$f":"IF(JAAFデータ貼り付け!AK163=\"\",\"\",JAAFデータ貼り付け!AK163)","v":""},{"$f":"IF(JAAFデータ貼り付け!AL163=\"\",\"\",JAAFデータ貼り付け!AL163)","v":""},{"$f":"IF(JAAFデータ貼り付け!AM163=\"\",\"\",JAAFデータ貼り付け!AM163)","v":""},{"$f":"IF(JAAFデータ貼り付け!AN163=\"\",\"\",JAAFデータ貼り付け!AN163)","v":""},{"$f":"IF(JAAFデータ貼り付け!AO163=\"\",\"\",JAAFデータ貼り付け!AO163)","v":""},{"$f":"IF(JAAFデータ貼り付け!AP163=\"\",\"\",JAAFデータ貼り付け!AP163)","v":""},{"$f":"IF(JAAFデータ貼り付け!AQ163=\"\",\"\",JAAFデータ貼り付け!AQ163)","v":""}]
[{"$f":"IF(JAAFデータ貼り付け!E164=\"\",\"\",JAAFデータ貼り付け!E164)","v":""},{"$f":"IF(JAAFデータ貼り付け!B164=\"\",\"\",JAAFデータ貼り付け!B164)","v":""},{"$f":"IF(JAAFデータ貼り付け!C164=\"\",\"\",JAAFデータ貼り付け!C164)","v":""},{"$f":"IF(JAAFデータ貼り付け!D164=\"\",\"\",JAAFデータ貼り付け!D164)","v":""},null,{"$f":"IF(フリガナ貼り付け!D164=\"\",\"\",フリガナ貼り付け!D164)","v":""},{"$f":"IF(フリガナ貼り付け!E164=\"\",\"\",フリガナ貼り付け!E164)","v":""},{"$f":"IF(JAAFデータ貼り付け!H164=\"\",\"\",JAAFデータ貼り付け!H164)","v":""},{"$f":"IF(JAAFデータ貼り付け!I164=\"\",\"\",JAAFデータ貼り付け!I164)","v":""},{"$f":"IF(JAAFデータ貼り付け!J164=\"\",\"\",JAAFデータ貼り付け!J164)","v":""},{"$f":"IF(JAAFデータ貼り付け!K164=\"\",\"\",JAAFデータ貼り付け!K164)","v":""},{"$f":"IF(JAAFデータ貼り付け!L164=\"\",\"\",JAAFデータ貼り付け!L164)","v":""},{"$f":"IF(JAAFデータ貼り付け!M164=\"\",\"\",JAAFデータ貼り付け!M164)","v":""},{"$f":"IF(JAAFデータ貼り付け!N164=\"\",\"\",JAAFデータ貼り付け!N164)","v":""},{"$f":"IF(JAAFデータ貼り付け!O164=\"\",\"\",JAAFデータ貼り付け!O164)","v":""},{"$f":"IF(JAAFデータ貼り付け!P164=\"\",\"\",JAAFデータ貼り付け!P164)","v":""},{"$f":"IF(JAAFデータ貼り付け!Q164=\"\",\"\",JAAFデータ貼り付け!Q164)","v":""},{"$f":"IF(JAAFデータ貼り付け!R164=\"\",\"\",JAAFデータ貼り付け!R164)","v":""},{"$f":"生年月日貼り付け!E164&生年月日貼り付け!F164&生年月日貼り付け!G164","v":"000"},{"$f":"IF(JAAFデータ貼り付け!T164=\"\",\"\",JAAFデータ貼り付け!T164)","v":""},{"$f":"IF(JAAFデータ貼り付け!U164=\"\",\"\",JAAFデータ貼り付け!U164)","v":""},{"$f":"IF(Sheet5!B164=\"\",\"\",Sheet5!B164)","v":"0"},{"$f":"IF(JAAFデータ貼り付け!W164=\"\",\"\",JAAFデータ貼り付け!W164)","v":""},{"$f":"IF(JAAFデータ貼り付け!X164=\"\",\"\",JAAFデータ貼り付け!X164)","v":""},{"$f":"IF(JAAFデータ貼り付け!Y164=\"\",\"\",JAAFデータ貼り付け!Y164)","v":""},{"$f":"IF(JAAFデータ貼り付け!Z164=\"\",\"\",JAAFデータ貼り付け!Z164)","v":""},{"$f":"IF(JAAFデータ貼り付け!AA164=\"\",\"\",JAAFデータ貼り付け!AA164)","v":""},{"$f":"IF(JAAFデータ貼り付け!AB164=\"\",\"\",JAAFデータ貼り付け!AB164)","v":""},{"$f":"IF(JAAFデータ貼り付け!AC164=\"\",\"\",JAAFデータ貼り付け!AC164)","v":""},{"$f":"IF(JAAFデータ貼り付け!AD164=\"\",\"\",JAAFデータ貼り付け!AD164)","v":""},{"$f":"IF(JAAFデータ貼り付け!AE164=\"\",\"\",JAAFデータ貼り付け!AE164)","v":""},{"$f":"IF(JAAFデータ貼り付け!AF164=\"\",\"\",JAAFデータ貼り付け!AF164)","v":""},{"$f":"IF(JAAFデータ貼り付け!AG164=\"\",\"\",JAAFデータ貼り付け!AG164)","v":""},{"$f":"IF(JAAFデータ貼り付け!AH164=\"\",\"\",JAAFデータ貼り付け!AH164)","v":""},{"$f":"IF(JAAFデータ貼り付け!AI164=\"\",\"\",JAAFデータ貼り付け!AI164)","v":""},{"$f":"IF(JAAFデータ貼り付け!AJ164=\"\",\"\",JAAFデータ貼り付け!AJ164)","v":""},{"$f":"IF(JAAFデータ貼り付け!AK164=\"\",\"\",JAAFデータ貼り付け!AK164)","v":""},{"$f":"IF(JAAFデータ貼り付け!AL164=\"\",\"\",JAAFデータ貼り付け!AL164)","v":""},{"$f":"IF(JAAFデータ貼り付け!AM164=\"\",\"\",JAAFデータ貼り付け!AM164)","v":""},{"$f":"IF(JAAFデータ貼り付け!AN164=\"\",\"\",JAAFデータ貼り付け!AN164)","v":""},{"$f":"IF(JAAFデータ貼り付け!AO164=\"\",\"\",JAAFデータ貼り付け!AO164)","v":""},{"$f":"IF(JAAFデータ貼り付け!AP164=\"\",\"\",JAAFデータ貼り付け!AP164)","v":""},{"$f":"IF(JAAFデータ貼り付け!AQ164=\"\",\"\",JAAFデータ貼り付け!AQ164)","v":""}]
[{"$f":"IF(JAAFデータ貼り付け!E165=\"\",\"\",JAAFデータ貼り付け!E165)","v":""},{"$f":"IF(JAAFデータ貼り付け!B165=\"\",\"\",JAAFデータ貼り付け!B165)","v":""},{"$f":"IF(JAAFデータ貼り付け!C165=\"\",\"\",JAAFデータ貼り付け!C165)","v":""},{"$f":"IF(JAAFデータ貼り付け!D165=\"\",\"\",JAAFデータ貼り付け!D165)","v":""},null,{"$f":"IF(フリガナ貼り付け!D165=\"\",\"\",フリガナ貼り付け!D165)","v":""},{"$f":"IF(フリガナ貼り付け!E165=\"\",\"\",フリガナ貼り付け!E165)","v":""},{"$f":"IF(JAAFデータ貼り付け!H165=\"\",\"\",JAAFデータ貼り付け!H165)","v":""},{"$f":"IF(JAAFデータ貼り付け!I165=\"\",\"\",JAAFデータ貼り付け!I165)","v":""},{"$f":"IF(JAAFデータ貼り付け!J165=\"\",\"\",JAAFデータ貼り付け!J165)","v":""},{"$f":"IF(JAAFデータ貼り付け!K165=\"\",\"\",JAAFデータ貼り付け!K165)","v":""},{"$f":"IF(JAAFデータ貼り付け!L165=\"\",\"\",JAAFデータ貼り付け!L165)","v":""},{"$f":"IF(JAAFデータ貼り付け!M165=\"\",\"\",JAAFデータ貼り付け!M165)","v":""},{"$f":"IF(JAAFデータ貼り付け!N165=\"\",\"\",JAAFデータ貼り付け!N165)","v":""},{"$f":"IF(JAAFデータ貼り付け!O165=\"\",\"\",JAAFデータ貼り付け!O165)","v":""},{"$f":"IF(JAAFデータ貼り付け!P165=\"\",\"\",JAAFデータ貼り付け!P165)","v":""},{"$f":"IF(JAAFデータ貼り付け!Q165=\"\",\"\",JAAFデータ貼り付け!Q165)","v":""},{"$f":"IF(JAAFデータ貼り付け!R165=\"\",\"\",JAAFデータ貼り付け!R165)","v":""},{"$f":"生年月日貼り付け!E165&生年月日貼り付け!F165&生年月日貼り付け!G165","v":"000"},{"$f":"IF(JAAFデータ貼り付け!T165=\"\",\"\",JAAFデータ貼り付け!T165)","v":""},{"$f":"IF(JAAFデータ貼り付け!U165=\"\",\"\",JAAFデータ貼り付け!U165)","v":""},{"$f":"IF(Sheet5!B165=\"\",\"\",Sheet5!B165)","v":"0"},{"$f":"IF(JAAFデータ貼り付け!W165=\"\",\"\",JAAFデータ貼り付け!W165)","v":""},{"$f":"IF(JAAFデータ貼り付け!X165=\"\",\"\",JAAFデータ貼り付け!X165)","v":""},{"$f":"IF(JAAFデータ貼り付け!Y165=\"\",\"\",JAAFデータ貼り付け!Y165)","v":""},{"$f":"IF(JAAFデータ貼り付け!Z165=\"\",\"\",JAAFデータ貼り付け!Z165)","v":""},{"$f":"IF(JAAFデータ貼り付け!AA165=\"\",\"\",JAAFデータ貼り付け!AA165)","v":""},{"$f":"IF(JAAFデータ貼り付け!AB165=\"\",\"\",JAAFデータ貼り付け!AB165)","v":""},{"$f":"IF(JAAFデータ貼り付け!AC165=\"\",\"\",JAAFデータ貼り付け!AC165)","v":""},{"$f":"IF(JAAFデータ貼り付け!AD165=\"\",\"\",JAAFデータ貼り付け!AD165)","v":""},{"$f":"IF(JAAFデータ貼り付け!AE165=\"\",\"\",JAAFデータ貼り付け!AE165)","v":""},{"$f":"IF(JAAFデータ貼り付け!AF165=\"\",\"\",JAAFデータ貼り付け!AF165)","v":""},{"$f":"IF(JAAFデータ貼り付け!AG165=\"\",\"\",JAAFデータ貼り付け!AG165)","v":""},{"$f":"IF(JAAFデータ貼り付け!AH165=\"\",\"\",JAAFデータ貼り付け!AH165)","v":""},{"$f":"IF(JAAFデータ貼り付け!AI165=\"\",\"\",JAAFデータ貼り付け!AI165)","v":""},{"$f":"IF(JAAFデータ貼り付け!AJ165=\"\",\"\",JAAFデータ貼り付け!AJ165)","v":""},{"$f":"IF(JAAFデータ貼り付け!AK165=\"\",\"\",JAAFデータ貼り付け!AK165)","v":""},{"$f":"IF(JAAFデータ貼り付け!AL165=\"\",\"\",JAAFデータ貼り付け!AL165)","v":""},{"$f":"IF(JAAFデータ貼り付け!AM165=\"\",\"\",JAAFデータ貼り付け!AM165)","v":""},{"$f":"IF(JAAFデータ貼り付け!AN165=\"\",\"\",JAAFデータ貼り付け!AN165)","v":""},{"$f":"IF(JAAFデータ貼り付け!AO165=\"\",\"\",JAAFデータ貼り付け!AO165)","v":""},{"$f":"IF(JAAFデータ貼り付け!AP165=\"\",\"\",JAAFデータ貼り付け!AP165)","v":""},{"$f":"IF(JAAFデータ貼り付け!AQ165=\"\",\"\",JAAFデータ貼り付け!AQ165)","v":""}]
[{"$f":"IF(JAAFデータ貼り付け!E166=\"\",\"\",JAAFデータ貼り付け!E166)","v":""},{"$f":"IF(JAAFデータ貼り付け!B166=\"\",\"\",JAAFデータ貼り付け!B166)","v":""},{"$f":"IF(JAAFデータ貼り付け!C166=\"\",\"\",JAAFデータ貼り付け!C166)","v":""},{"$f":"IF(JAAFデータ貼り付け!D166=\"\",\"\",JAAFデータ貼り付け!D166)","v":""},null,{"$f":"IF(フリガナ貼り付け!D166=\"\",\"\",フリガナ貼り付け!D166)","v":""},{"$f":"IF(フリガナ貼り付け!E166=\"\",\"\",フリガナ貼り付け!E166)","v":""},{"$f":"IF(JAAFデータ貼り付け!H166=\"\",\"\",JAAFデータ貼り付け!H166)","v":""},{"$f":"IF(JAAFデータ貼り付け!I166=\"\",\"\",JAAFデータ貼り付け!I166)","v":""},{"$f":"IF(JAAFデータ貼り付け!J166=\"\",\"\",JAAFデータ貼り付け!J166)","v":""},{"$f":"IF(JAAFデータ貼り付け!K166=\"\",\"\",JAAFデータ貼り付け!K166)","v":""},{"$f":"IF(JAAFデータ貼り付け!L166=\"\",\"\",JAAFデータ貼り付け!L166)","v":""},{"$f":"IF(JAAFデータ貼り付け!M166=\"\",\"\",JAAFデータ貼り付け!M166)","v":""},{"$f":"IF(JAAFデータ貼り付け!N166=\"\",\"\",JAAFデータ貼り付け!N166)","v":""},{"$f":"IF(JAAFデータ貼り付け!O166=\"\",\"\",JAAFデータ貼り付け!O166)","v":""},{"$f":"IF(JAAFデータ貼り付け!P166=\"\",\"\",JAAFデータ貼り付け!P166)","v":""},{"$f":"IF(JAAFデータ貼り付け!Q166=\"\",\"\",JAAFデータ貼り付け!Q166)","v":""},{"$f":"IF(JAAFデータ貼り付け!R166=\"\",\"\",JAAFデータ貼り付け!R166)","v":""},{"$f":"生年月日貼り付け!E166&生年月日貼り付け!F166&生年月日貼り付け!G166","v":"000"},{"$f":"IF(JAAFデータ貼り付け!T166=\"\",\"\",JAAFデータ貼り付け!T166)","v":""},{"$f":"IF(JAAFデータ貼り付け!U166=\"\",\"\",JAAFデータ貼り付け!U166)","v":""},{"$f":"IF(Sheet5!B166=\"\",\"\",Sheet5!B166)","v":"0"},{"$f":"IF(JAAFデータ貼り付け!W166=\"\",\"\",JAAFデータ貼り付け!W166)","v":""},{"$f":"IF(JAAFデータ貼り付け!X166=\"\",\"\",JAAFデータ貼り付け!X166)","v":""},{"$f":"IF(JAAFデータ貼り付け!Y166=\"\",\"\",JAAFデータ貼り付け!Y166)","v":""},{"$f":"IF(JAAFデータ貼り付け!Z166=\"\",\"\",JAAFデータ貼り付け!Z166)","v":""},{"$f":"IF(JAAFデータ貼り付け!AA166=\"\",\"\",JAAFデータ貼り付け!AA166)","v":""},{"$f":"IF(JAAFデータ貼り付け!AB166=\"\",\"\",JAAFデータ貼り付け!AB166)","v":""},{"$f":"IF(JAAFデータ貼り付け!AC166=\"\",\"\",JAAFデータ貼り付け!AC166)","v":""},{"$f":"IF(JAAFデータ貼り付け!AD166=\"\",\"\",JAAFデータ貼り付け!AD166)","v":""},{"$f":"IF(JAAFデータ貼り付け!AE166=\"\",\"\",JAAFデータ貼り付け!AE166)","v":""},{"$f":"IF(JAAFデータ貼り付け!AF166=\"\",\"\",JAAFデータ貼り付け!AF166)","v":""},{"$f":"IF(JAAFデータ貼り付け!AG166=\"\",\"\",JAAFデータ貼り付け!AG166)","v":""},{"$f":"IF(JAAFデータ貼り付け!AH166=\"\",\"\",JAAFデータ貼り付け!AH166)","v":""},{"$f":"IF(JAAFデータ貼り付け!AI166=\"\",\"\",JAAFデータ貼り付け!AI166)","v":""},{"$f":"IF(JAAFデータ貼り付け!AJ166=\"\",\"\",JAAFデータ貼り付け!AJ166)","v":""},{"$f":"IF(JAAFデータ貼り付け!AK166=\"\",\"\",JAAFデータ貼り付け!AK166)","v":""},{"$f":"IF(JAAFデータ貼り付け!AL166=\"\",\"\",JAAFデータ貼り付け!AL166)","v":""},{"$f":"IF(JAAFデータ貼り付け!AM166=\"\",\"\",JAAFデータ貼り付け!AM166)","v":""},{"$f":"IF(JAAFデータ貼り付け!AN166=\"\",\"\",JAAFデータ貼り付け!AN166)","v":""},{"$f":"IF(JAAFデータ貼り付け!AO166=\"\",\"\",JAAFデータ貼り付け!AO166)","v":""},{"$f":"IF(JAAFデータ貼り付け!AP166=\"\",\"\",JAAFデータ貼り付け!AP166)","v":""},{"$f":"IF(JAAFデータ貼り付け!AQ166=\"\",\"\",JAAFデータ貼り付け!AQ166)","v":""}]
[{"$f":"IF(JAAFデータ貼り付け!E167=\"\",\"\",JAAFデータ貼り付け!E167)","v":""},{"$f":"IF(JAAFデータ貼り付け!B167=\"\",\"\",JAAFデータ貼り付け!B167)","v":""},{"$f":"IF(JAAFデータ貼り付け!C167=\"\",\"\",JAAFデータ貼り付け!C167)","v":""},{"$f":"IF(JAAFデータ貼り付け!D167=\"\",\"\",JAAFデータ貼り付け!D167)","v":""},null,{"$f":"IF(フリガナ貼り付け!D167=\"\",\"\",フリガナ貼り付け!D167)","v":""},{"$f":"IF(フリガナ貼り付け!E167=\"\",\"\",フリガナ貼り付け!E167)","v":""},{"$f":"IF(JAAFデータ貼り付け!H167=\"\",\"\",JAAFデータ貼り付け!H167)","v":""},{"$f":"IF(JAAFデータ貼り付け!I167=\"\",\"\",JAAFデータ貼り付け!I167)","v":""},{"$f":"IF(JAAFデータ貼り付け!J167=\"\",\"\",JAAFデータ貼り付け!J167)","v":""},{"$f":"IF(JAAFデータ貼り付け!K167=\"\",\"\",JAAFデータ貼り付け!K167)","v":""},{"$f":"IF(JAAFデータ貼り付け!L167=\"\",\"\",JAAFデータ貼り付け!L167)","v":""},{"$f":"IF(JAAFデータ貼り付け!M167=\"\",\"\",JAAFデータ貼り付け!M167)","v":""},{"$f":"IF(JAAFデータ貼り付け!N167=\"\",\"\",JAAFデータ貼り付け!N167)","v":""},{"$f":"IF(JAAFデータ貼り付け!O167=\"\",\"\",JAAFデータ貼り付け!O167)","v":""},{"$f":"IF(JAAFデータ貼り付け!P167=\"\",\"\",JAAFデータ貼り付け!P167)","v":""},{"$f":"IF(JAAFデータ貼り付け!Q167=\"\",\"\",JAAFデータ貼り付け!Q167)","v":""},{"$f":"IF(JAAFデータ貼り付け!R167=\"\",\"\",JAAFデータ貼り付け!R167)","v":""},{"$f":"生年月日貼り付け!E167&生年月日貼り付け!F167&生年月日貼り付け!G167","v":"000"},{"$f":"IF(JAAFデータ貼り付け!T167=\"\",\"\",JAAFデータ貼り付け!T167)","v":""},{"$f":"IF(JAAFデータ貼り付け!U167=\"\",\"\",JAAFデータ貼り付け!U167)","v":""},{"$f":"IF(Sheet5!B167=\"\",\"\",Sheet5!B167)","v":"0"},{"$f":"IF(JAAFデータ貼り付け!W167=\"\",\"\",JAAFデータ貼り付け!W167)","v":""},{"$f":"IF(JAAFデータ貼り付け!X167=\"\",\"\",JAAFデータ貼り付け!X167)","v":""},{"$f":"IF(JAAFデータ貼り付け!Y167=\"\",\"\",JAAFデータ貼り付け!Y167)","v":""},{"$f":"IF(JAAFデータ貼り付け!Z167=\"\",\"\",JAAFデータ貼り付け!Z167)","v":""},{"$f":"IF(JAAFデータ貼り付け!AA167=\"\",\"\",JAAFデータ貼り付け!AA167)","v":""},{"$f":"IF(JAAFデータ貼り付け!AB167=\"\",\"\",JAAFデータ貼り付け!AB167)","v":""},{"$f":"IF(JAAFデータ貼り付け!AC167=\"\",\"\",JAAFデータ貼り付け!AC167)","v":""},{"$f":"IF(JAAFデータ貼り付け!AD167=\"\",\"\",JAAFデータ貼り付け!AD167)","v":""},{"$f":"IF(JAAFデータ貼り付け!AE167=\"\",\"\",JAAFデータ貼り付け!AE167)","v":""},{"$f":"IF(JAAFデータ貼り付け!AF167=\"\",\"\",JAAFデータ貼り付け!AF167)","v":""},{"$f":"IF(JAAFデータ貼り付け!AG167=\"\",\"\",JAAFデータ貼り付け!AG167)","v":""},{"$f":"IF(JAAFデータ貼り付け!AH167=\"\",\"\",JAAFデータ貼り付け!AH167)","v":""},{"$f":"IF(JAAFデータ貼り付け!AI167=\"\",\"\",JAAFデータ貼り付け!AI167)","v":""},{"$f":"IF(JAAFデータ貼り付け!AJ167=\"\",\"\",JAAFデータ貼り付け!AJ167)","v":""},{"$f":"IF(JAAFデータ貼り付け!AK167=\"\",\"\",JAAFデータ貼り付け!AK167)","v":""},{"$f":"IF(JAAFデータ貼り付け!AL167=\"\",\"\",JAAFデータ貼り付け!AL167)","v":""},{"$f":"IF(JAAFデータ貼り付け!AM167=\"\",\"\",JAAFデータ貼り付け!AM167)","v":""},{"$f":"IF(JAAFデータ貼り付け!AN167=\"\",\"\",JAAFデータ貼り付け!AN167)","v":""},{"$f":"IF(JAAFデータ貼り付け!AO167=\"\",\"\",JAAFデータ貼り付け!AO167)","v":""},{"$f":"IF(JAAFデータ貼り付け!AP167=\"\",\"\",JAAFデータ貼り付け!AP167)","v":""},{"$f":"IF(JAAFデータ貼り付け!AQ167=\"\",\"\",JAAFデータ貼り付け!AQ167)","v":""}]
[{"$f":"IF(JAAFデータ貼り付け!E168=\"\",\"\",JAAFデータ貼り付け!E168)","v":""},{"$f":"IF(JAAFデータ貼り付け!B168=\"\",\"\",JAAFデータ貼り付け!B168)","v":""},{"$f":"IF(JAAFデータ貼り付け!C168=\"\",\"\",JAAFデータ貼り付け!C168)","v":""},{"$f":"IF(JAAFデータ貼り付け!D168=\"\",\"\",JAAFデータ貼り付け!D168)","v":""},null,{"$f":"IF(フリガナ貼り付け!D168=\"\",\"\",フリガナ貼り付け!D168)","v":""},{"$f":"IF(フリガナ貼り付け!E168=\"\",\"\",フリガナ貼り付け!E168)","v":""},{"$f":"IF(JAAFデータ貼り付け!H168=\"\",\"\",JAAFデータ貼り付け!H168)","v":""},{"$f":"IF(JAAFデータ貼り付け!I168=\"\",\"\",JAAFデータ貼り付け!I168)","v":""},{"$f":"IF(JAAFデータ貼り付け!J168=\"\",\"\",JAAFデータ貼り付け!J168)","v":""},{"$f":"IF(JAAFデータ貼り付け!K168=\"\",\"\",JAAFデータ貼り付け!K168)","v":""},{"$f":"IF(JAAFデータ貼り付け!L168=\"\",\"\",JAAFデータ貼り付け!L168)","v":""},{"$f":"IF(JAAFデータ貼り付け!M168=\"\",\"\",JAAFデータ貼り付け!M168)","v":""},{"$f":"IF(JAAFデータ貼り付け!N168=\"\",\"\",JAAFデータ貼り付け!N168)","v":""},{"$f":"IF(JAAFデータ貼り付け!O168=\"\",\"\",JAAFデータ貼り付け!O168)","v":""},{"$f":"IF(JAAFデータ貼り付け!P168=\"\",\"\",JAAFデータ貼り付け!P168)","v":""},{"$f":"IF(JAAFデータ貼り付け!Q168=\"\",\"\",JAAFデータ貼り付け!Q168)","v":""},{"$f":"IF(JAAFデータ貼り付け!R168=\"\",\"\",JAAFデータ貼り付け!R168)","v":""},{"$f":"生年月日貼り付け!E168&生年月日貼り付け!F168&生年月日貼り付け!G168","v":"000"},{"$f":"IF(JAAFデータ貼り付け!T168=\"\",\"\",JAAFデータ貼り付け!T168)","v":""},{"$f":"IF(JAAFデータ貼り付け!U168=\"\",\"\",JAAFデータ貼り付け!U168)","v":""},{"$f":"IF(Sheet5!B168=\"\",\"\",Sheet5!B168)","v":"0"},{"$f":"IF(JAAFデータ貼り付け!W168=\"\",\"\",JAAFデータ貼り付け!W168)","v":""},{"$f":"IF(JAAFデータ貼り付け!X168=\"\",\"\",JAAFデータ貼り付け!X168)","v":""},{"$f":"IF(JAAFデータ貼り付け!Y168=\"\",\"\",JAAFデータ貼り付け!Y168)","v":""},{"$f":"IF(JAAFデータ貼り付け!Z168=\"\",\"\",JAAFデータ貼り付け!Z168)","v":""},{"$f":"IF(JAAFデータ貼り付け!AA168=\"\",\"\",JAAFデータ貼り付け!AA168)","v":""},{"$f":"IF(JAAFデータ貼り付け!AB168=\"\",\"\",JAAFデータ貼り付け!AB168)","v":""},{"$f":"IF(JAAFデータ貼り付け!AC168=\"\",\"\",JAAFデータ貼り付け!AC168)","v":""},{"$f":"IF(JAAFデータ貼り付け!AD168=\"\",\"\",JAAFデータ貼り付け!AD168)","v":""},{"$f":"IF(JAAFデータ貼り付け!AE168=\"\",\"\",JAAFデータ貼り付け!AE168)","v":""},{"$f":"IF(JAAFデータ貼り付け!AF168=\"\",\"\",JAAFデータ貼り付け!AF168)","v":""},{"$f":"IF(JAAFデータ貼り付け!AG168=\"\",\"\",JAAFデータ貼り付け!AG168)","v":""},{"$f":"IF(JAAFデータ貼り付け!AH168=\"\",\"\",JAAFデータ貼り付け!AH168)","v":""},{"$f":"IF(JAAFデータ貼り付け!AI168=\"\",\"\",JAAFデータ貼り付け!AI168)","v":""},{"$f":"IF(JAAFデータ貼り付け!AJ168=\"\",\"\",JAAFデータ貼り付け!AJ168)","v":""},{"$f":"IF(JAAFデータ貼り付け!AK168=\"\",\"\",JAAFデータ貼り付け!AK168)","v":""},{"$f":"IF(JAAFデータ貼り付け!AL168=\"\",\"\",JAAFデータ貼り付け!AL168)","v":""},{"$f":"IF(JAAFデータ貼り付け!AM168=\"\",\"\",JAAFデータ貼り付け!AM168)","v":""},{"$f":"IF(JAAFデータ貼り付け!AN168=\"\",\"\",JAAFデータ貼り付け!AN168)","v":""},{"$f":"IF(JAAFデータ貼り付け!AO168=\"\",\"\",JAAFデータ貼り付け!AO168)","v":""},{"$f":"IF(JAAFデータ貼り付け!AP168=\"\",\"\",JAAFデータ貼り付け!AP168)","v":""},{"$f":"IF(JAAFデータ貼り付け!AQ168=\"\",\"\",JAAFデータ貼り付け!AQ168)","v":""}]
[{"$f":"IF(JAAFデータ貼り付け!E169=\"\",\"\",JAAFデータ貼り付け!E169)","v":""},{"$f":"IF(JAAFデータ貼り付け!B169=\"\",\"\",JAAFデータ貼り付け!B169)","v":""},{"$f":"IF(JAAFデータ貼り付け!C169=\"\",\"\",JAAFデータ貼り付け!C169)","v":""},{"$f":"IF(JAAFデータ貼り付け!D169=\"\",\"\",JAAFデータ貼り付け!D169)","v":""},null,{"$f":"IF(フリガナ貼り付け!D169=\"\",\"\",フリガナ貼り付け!D169)","v":""},{"$f":"IF(フリガナ貼り付け!E169=\"\",\"\",フリガナ貼り付け!E169)","v":""},{"$f":"IF(JAAFデータ貼り付け!H169=\"\",\"\",JAAFデータ貼り付け!H169)","v":""},{"$f":"IF(JAAFデータ貼り付け!I169=\"\",\"\",JAAFデータ貼り付け!I169)","v":""},{"$f":"IF(JAAFデータ貼り付け!J169=\"\",\"\",JAAFデータ貼り付け!J169)","v":""},{"$f":"IF(JAAFデータ貼り付け!K169=\"\",\"\",JAAFデータ貼り付け!K169)","v":""},{"$f":"IF(JAAFデータ貼り付け!L169=\"\",\"\",JAAFデータ貼り付け!L169)","v":""},{"$f":"IF(JAAFデータ貼り付け!M169=\"\",\"\",JAAFデータ貼り付け!M169)","v":""},{"$f":"IF(JAAFデータ貼り付け!N169=\"\",\"\",JAAFデータ貼り付け!N169)","v":""},{"$f":"IF(JAAFデータ貼り付け!O169=\"\",\"\",JAAFデータ貼り付け!O169)","v":""},{"$f":"IF(JAAFデータ貼り付け!P169=\"\",\"\",JAAFデータ貼り付け!P169)","v":""},{"$f":"IF(JAAFデータ貼り付け!Q169=\"\",\"\",JAAFデータ貼り付け!Q169)","v":""},{"$f":"IF(JAAFデータ貼り付け!R169=\"\",\"\",JAAFデータ貼り付け!R169)","v":""},{"$f":"生年月日貼り付け!E169&生年月日貼り付け!F169&生年月日貼り付け!G169","v":"000"},{"$f":"IF(JAAFデータ貼り付け!T169=\"\",\"\",JAAFデータ貼り付け!T169)","v":""},{"$f":"IF(JAAFデータ貼り付け!U169=\"\",\"\",JAAFデータ貼り付け!U169)","v":""},{"$f":"IF(Sheet5!B169=\"\",\"\",Sheet5!B169)","v":"0"},{"$f":"IF(JAAFデータ貼り付け!W169=\"\",\"\",JAAFデータ貼り付け!W169)","v":""},{"$f":"IF(JAAFデータ貼り付け!X169=\"\",\"\",JAAFデータ貼り付け!X169)","v":""},{"$f":"IF(JAAFデータ貼り付け!Y169=\"\",\"\",JAAFデータ貼り付け!Y169)","v":""},{"$f":"IF(JAAFデータ貼り付け!Z169=\"\",\"\",JAAFデータ貼り付け!Z169)","v":""},{"$f":"IF(JAAFデータ貼り付け!AA169=\"\",\"\",JAAFデータ貼り付け!AA169)","v":""},{"$f":"IF(JAAFデータ貼り付け!AB169=\"\",\"\",JAAFデータ貼り付け!AB169)","v":""},{"$f":"IF(JAAFデータ貼り付け!AC169=\"\",\"\",JAAFデータ貼り付け!AC169)","v":""},{"$f":"IF(JAAFデータ貼り付け!AD169=\"\",\"\",JAAFデータ貼り付け!AD169)","v":""},{"$f":"IF(JAAFデータ貼り付け!AE169=\"\",\"\",JAAFデータ貼り付け!AE169)","v":""},{"$f":"IF(JAAFデータ貼り付け!AF169=\"\",\"\",JAAFデータ貼り付け!AF169)","v":""},{"$f":"IF(JAAFデータ貼り付け!AG169=\"\",\"\",JAAFデータ貼り付け!AG169)","v":""},{"$f":"IF(JAAFデータ貼り付け!AH169=\"\",\"\",JAAFデータ貼り付け!AH169)","v":""},{"$f":"IF(JAAFデータ貼り付け!AI169=\"\",\"\",JAAFデータ貼り付け!AI169)","v":""},{"$f":"IF(JAAFデータ貼り付け!AJ169=\"\",\"\",JAAFデータ貼り付け!AJ169)","v":""},{"$f":"IF(JAAFデータ貼り付け!AK169=\"\",\"\",JAAFデータ貼り付け!AK169)","v":""},{"$f":"IF(JAAFデータ貼り付け!AL169=\"\",\"\",JAAFデータ貼り付け!AL169)","v":""},{"$f":"IF(JAAFデータ貼り付け!AM169=\"\",\"\",JAAFデータ貼り付け!AM169)","v":""},{"$f":"IF(JAAFデータ貼り付け!AN169=\"\",\"\",JAAFデータ貼り付け!AN169)","v":""},{"$f":"IF(JAAFデータ貼り付け!AO169=\"\",\"\",JAAFデータ貼り付け!AO169)","v":""},{"$f":"IF(JAAFデータ貼り付け!AP169=\"\",\"\",JAAFデータ貼り付け!AP169)","v":""},{"$f":"IF(JAAFデータ貼り付け!AQ169=\"\",\"\",JAAFデータ貼り付け!AQ169)","v":""}]
[{"$f":"IF(JAAFデータ貼り付け!E170=\"\",\"\",JAAFデータ貼り付け!E170)","v":""},{"$f":"IF(JAAFデータ貼り付け!B170=\"\",\"\",JAAFデータ貼り付け!B170)","v":""},{"$f":"IF(JAAFデータ貼り付け!C170=\"\",\"\",JAAFデータ貼り付け!C170)","v":""},{"$f":"IF(JAAFデータ貼り付け!D170=\"\",\"\",JAAFデータ貼り付け!D170)","v":""},null,{"$f":"IF(フリガナ貼り付け!D170=\"\",\"\",フリガナ貼り付け!D170)","v":""},{"$f":"IF(フリガナ貼り付け!E170=\"\",\"\",フリガナ貼り付け!E170)","v":""},{"$f":"IF(JAAFデータ貼り付け!H170=\"\",\"\",JAAFデータ貼り付け!H170)","v":""},{"$f":"IF(JAAFデータ貼り付け!I170=\"\",\"\",JAAFデータ貼り付け!I170)","v":""},{"$f":"IF(JAAFデータ貼り付け!J170=\"\",\"\",JAAFデータ貼り付け!J170)","v":""},{"$f":"IF(JAAFデータ貼り付け!K170=\"\",\"\",JAAFデータ貼り付け!K170)","v":""},{"$f":"IF(JAAFデータ貼り付け!L170=\"\",\"\",JAAFデータ貼り付け!L170)","v":""},{"$f":"IF(JAAFデータ貼り付け!M170=\"\",\"\",JAAFデータ貼り付け!M170)","v":""},{"$f":"IF(JAAFデータ貼り付け!N170=\"\",\"\",JAAFデータ貼り付け!N170)","v":""},{"$f":"IF(JAAFデータ貼り付け!O170=\"\",\"\",JAAFデータ貼り付け!O170)","v":""},{"$f":"IF(JAAFデータ貼り付け!P170=\"\",\"\",JAAFデータ貼り付け!P170)","v":""},{"$f":"IF(JAAFデータ貼り付け!Q170=\"\",\"\",JAAFデータ貼り付け!Q170)","v":""},{"$f":"IF(JAAFデータ貼り付け!R170=\"\",\"\",JAAFデータ貼り付け!R170)","v":""},{"$f":"生年月日貼り付け!E170&生年月日貼り付け!F170&生年月日貼り付け!G170","v":"000"},{"$f":"IF(JAAFデータ貼り付け!T170=\"\",\"\",JAAFデータ貼り付け!T170)","v":""},{"$f":"IF(JAAFデータ貼り付け!U170=\"\",\"\",JAAFデータ貼り付け!U170)","v":""},{"$f":"IF(Sheet5!B170=\"\",\"\",Sheet5!B170)","v":"0"},{"$f":"IF(JAAFデータ貼り付け!W170=\"\",\"\",JAAFデータ貼り付け!W170)","v":""},{"$f":"IF(JAAFデータ貼り付け!X170=\"\",\"\",JAAFデータ貼り付け!X170)","v":""},{"$f":"IF(JAAFデータ貼り付け!Y170=\"\",\"\",JAAFデータ貼り付け!Y170)","v":""},{"$f":"IF(JAAFデータ貼り付け!Z170=\"\",\"\",JAAFデータ貼り付け!Z170)","v":""},{"$f":"IF(JAAFデータ貼り付け!AA170=\"\",\"\",JAAFデータ貼り付け!AA170)","v":""},{"$f":"IF(JAAFデータ貼り付け!AB170=\"\",\"\",JAAFデータ貼り付け!AB170)","v":""},{"$f":"IF(JAAFデータ貼り付け!AC170=\"\",\"\",JAAFデータ貼り付け!AC170)","v":""},{"$f":"IF(JAAFデータ貼り付け!AD170=\"\",\"\",JAAFデータ貼り付け!AD170)","v":""},{"$f":"IF(JAAFデータ貼り付け!AE170=\"\",\"\",JAAFデータ貼り付け!AE170)","v":""},{"$f":"IF(JAAFデータ貼り付け!AF170=\"\",\"\",JAAFデータ貼り付け!AF170)","v":""},{"$f":"IF(JAAFデータ貼り付け!AG170=\"\",\"\",JAAFデータ貼り付け!AG170)","v":""},{"$f":"IF(JAAFデータ貼り付け!AH170=\"\",\"\",JAAFデータ貼り付け!AH170)","v":""},{"$f":"IF(JAAFデータ貼り付け!AI170=\"\",\"\",JAAFデータ貼り付け!AI170)","v":""},{"$f":"IF(JAAFデータ貼り付け!AJ170=\"\",\"\",JAAFデータ貼り付け!AJ170)","v":""},{"$f":"IF(JAAFデータ貼り付け!AK170=\"\",\"\",JAAFデータ貼り付け!AK170)","v":""},{"$f":"IF(JAAFデータ貼り付け!AL170=\"\",\"\",JAAFデータ貼り付け!AL170)","v":""},{"$f":"IF(JAAFデータ貼り付け!AM170=\"\",\"\",JAAFデータ貼り付け!AM170)","v":""},{"$f":"IF(JAAFデータ貼り付け!AN170=\"\",\"\",JAAFデータ貼り付け!AN170)","v":""},{"$f":"IF(JAAFデータ貼り付け!AO170=\"\",\"\",JAAFデータ貼り付け!AO170)","v":""},{"$f":"IF(JAAFデータ貼り付け!AP170=\"\",\"\",JAAFデータ貼り付け!AP170)","v":""},{"$f":"IF(JAAFデータ貼り付け!AQ170=\"\",\"\",JAAFデータ貼り付け!AQ170)","v":""}]
[{"$f":"IF(JAAFデータ貼り付け!E171=\"\",\"\",JAAFデータ貼り付け!E171)","v":""},{"$f":"IF(JAAFデータ貼り付け!B171=\"\",\"\",JAAFデータ貼り付け!B171)","v":""},{"$f":"IF(JAAFデータ貼り付け!C171=\"\",\"\",JAAFデータ貼り付け!C171)","v":""},{"$f":"IF(JAAFデータ貼り付け!D171=\"\",\"\",JAAFデータ貼り付け!D171)","v":""},null,{"$f":"IF(フリガナ貼り付け!D171=\"\",\"\",フリガナ貼り付け!D171)","v":""},{"$f":"IF(フリガナ貼り付け!E171=\"\",\"\",フリガナ貼り付け!E171)","v":""},{"$f":"IF(JAAFデータ貼り付け!H171=\"\",\"\",JAAFデータ貼り付け!H171)","v":""},{"$f":"IF(JAAFデータ貼り付け!I171=\"\",\"\",JAAFデータ貼り付け!I171)","v":""},{"$f":"IF(JAAFデータ貼り付け!J171=\"\",\"\",JAAFデータ貼り付け!J171)","v":""},{"$f":"IF(JAAFデータ貼り付け!K171=\"\",\"\",JAAFデータ貼り付け!K171)","v":""},{"$f":"IF(JAAFデータ貼り付け!L171=\"\",\"\",JAAFデータ貼り付け!L171)","v":""},{"$f":"IF(JAAFデータ貼り付け!M171=\"\",\"\",JAAFデータ貼り付け!M171)","v":""},{"$f":"IF(JAAFデータ貼り付け!N171=\"\",\"\",JAAFデータ貼り付け!N171)","v":""},{"$f":"IF(JAAFデータ貼り付け!O171=\"\",\"\",JAAFデータ貼り付け!O171)","v":""},{"$f":"IF(JAAFデータ貼り付け!P171=\"\",\"\",JAAFデータ貼り付け!P171)","v":""},{"$f":"IF(JAAFデータ貼り付け!Q171=\"\",\"\",JAAFデータ貼り付け!Q171)","v":""},{"$f":"IF(JAAFデータ貼り付け!R171=\"\",\"\",JAAFデータ貼り付け!R171)","v":""},{"$f":"生年月日貼り付け!E171&生年月日貼り付け!F171&生年月日貼り付け!G171","v":"000"},{"$f":"IF(JAAFデータ貼り付け!T171=\"\",\"\",JAAFデータ貼り付け!T171)","v":""},{"$f":"IF(JAAFデータ貼り付け!U171=\"\",\"\",JAAFデータ貼り付け!U171)","v":""},{"$f":"IF(Sheet5!B171=\"\",\"\",Sheet5!B171)","v":"0"},{"$f":"IF(JAAFデータ貼り付け!W171=\"\",\"\",JAAFデータ貼り付け!W171)","v":""},{"$f":"IF(JAAFデータ貼り付け!X171=\"\",\"\",JAAFデータ貼り付け!X171)","v":""},{"$f":"IF(JAAFデータ貼り付け!Y171=\"\",\"\",JAAFデータ貼り付け!Y171)","v":""},{"$f":"IF(JAAFデータ貼り付け!Z171=\"\",\"\",JAAFデータ貼り付け!Z171)","v":""},{"$f":"IF(JAAFデータ貼り付け!AA171=\"\",\"\",JAAFデータ貼り付け!AA171)","v":""},{"$f":"IF(JAAFデータ貼り付け!AB171=\"\",\"\",JAAFデータ貼り付け!AB171)","v":""},{"$f":"IF(JAAFデータ貼り付け!AC171=\"\",\"\",JAAFデータ貼り付け!AC171)","v":""},{"$f":"IF(JAAFデータ貼り付け!AD171=\"\",\"\",JAAFデータ貼り付け!AD171)","v":""},{"$f":"IF(JAAFデータ貼り付け!AE171=\"\",\"\",JAAFデータ貼り付け!AE171)","v":""},{"$f":"IF(JAAFデータ貼り付け!AF171=\"\",\"\",JAAFデータ貼り付け!AF171)","v":""},{"$f":"IF(JAAFデータ貼り付け!AG171=\"\",\"\",JAAFデータ貼り付け!AG171)","v":""},{"$f":"IF(JAAFデータ貼り付け!AH171=\"\",\"\",JAAFデータ貼り付け!AH171)","v":""},{"$f":"IF(JAAFデータ貼り付け!AI171=\"\",\"\",JAAFデータ貼り付け!AI171)","v":""},{"$f":"IF(JAAFデータ貼り付け!AJ171=\"\",\"\",JAAFデータ貼り付け!AJ171)","v":""},{"$f":"IF(JAAFデータ貼り付け!AK171=\"\",\"\",JAAFデータ貼り付け!AK171)","v":""},{"$f":"IF(JAAFデータ貼り付け!AL171=\"\",\"\",JAAFデータ貼り付け!AL171)","v":""},{"$f":"IF(JAAFデータ貼り付け!AM171=\"\",\"\",JAAFデータ貼り付け!AM171)","v":""},{"$f":"IF(JAAFデータ貼り付け!AN171=\"\",\"\",JAAFデータ貼り付け!AN171)","v":""},{"$f":"IF(JAAFデータ貼り付け!AO171=\"\",\"\",JAAFデータ貼り付け!AO171)","v":""},{"$f":"IF(JAAFデータ貼り付け!AP171=\"\",\"\",JAAFデータ貼り付け!AP171)","v":""},{"$f":"IF(JAAFデータ貼り付け!AQ171=\"\",\"\",JAAFデータ貼り付け!AQ171)","v":""}]
[{"$f":"IF(JAAFデータ貼り付け!E172=\"\",\"\",JAAFデータ貼り付け!E172)","v":""},{"$f":"IF(JAAFデータ貼り付け!B172=\"\",\"\",JAAFデータ貼り付け!B172)","v":""},{"$f":"IF(JAAFデータ貼り付け!C172=\"\",\"\",JAAFデータ貼り付け!C172)","v":""},{"$f":"IF(JAAFデータ貼り付け!D172=\"\",\"\",JAAFデータ貼り付け!D172)","v":""},null,{"$f":"IF(フリガナ貼り付け!D172=\"\",\"\",フリガナ貼り付け!D172)","v":""},{"$f":"IF(フリガナ貼り付け!E172=\"\",\"\",フリガナ貼り付け!E172)","v":""},{"$f":"IF(JAAFデータ貼り付け!H172=\"\",\"\",JAAFデータ貼り付け!H172)","v":""},{"$f":"IF(JAAFデータ貼り付け!I172=\"\",\"\",JAAFデータ貼り付け!I172)","v":""},{"$f":"IF(JAAFデータ貼り付け!J172=\"\",\"\",JAAFデータ貼り付け!J172)","v":""},{"$f":"IF(JAAFデータ貼り付け!K172=\"\",\"\",JAAFデータ貼り付け!K172)","v":""},{"$f":"IF(JAAFデータ貼り付け!L172=\"\",\"\",JAAFデータ貼り付け!L172)","v":""},{"$f":"IF(JAAFデータ貼り付け!M172=\"\",\"\",JAAFデータ貼り付け!M172)","v":""},{"$f":"IF(JAAFデータ貼り付け!N172=\"\",\"\",JAAFデータ貼り付け!N172)","v":""},{"$f":"IF(JAAFデータ貼り付け!O172=\"\",\"\",JAAFデータ貼り付け!O172)","v":""},{"$f":"IF(JAAFデータ貼り付け!P172=\"\",\"\",JAAFデータ貼り付け!P172)","v":""},{"$f":"IF(JAAFデータ貼り付け!Q172=\"\",\"\",JAAFデータ貼り付け!Q172)","v":""},{"$f":"IF(JAAFデータ貼り付け!R172=\"\",\"\",JAAFデータ貼り付け!R172)","v":""},{"$f":"生年月日貼り付け!E172&生年月日貼り付け!F172&生年月日貼り付け!G172","v":"000"},{"$f":"IF(JAAFデータ貼り付け!T172=\"\",\"\",JAAFデータ貼り付け!T172)","v":""},{"$f":"IF(JAAFデータ貼り付け!U172=\"\",\"\",JAAFデータ貼り付け!U172)","v":""},{"$f":"IF(Sheet5!B172=\"\",\"\",Sheet5!B172)","v":"0"},{"$f":"IF(JAAFデータ貼り付け!W172=\"\",\"\",JAAFデータ貼り付け!W172)","v":""},{"$f":"IF(JAAFデータ貼り付け!X172=\"\",\"\",JAAFデータ貼り付け!X172)","v":""},{"$f":"IF(JAAFデータ貼り付け!Y172=\"\",\"\",JAAFデータ貼り付け!Y172)","v":""},{"$f":"IF(JAAFデータ貼り付け!Z172=\"\",\"\",JAAFデータ貼り付け!Z172)","v":""},{"$f":"IF(JAAFデータ貼り付け!AA172=\"\",\"\",JAAFデータ貼り付け!AA172)","v":""},{"$f":"IF(JAAFデータ貼り付け!AB172=\"\",\"\",JAAFデータ貼り付け!AB172)","v":""},{"$f":"IF(JAAFデータ貼り付け!AC172=\"\",\"\",JAAFデータ貼り付け!AC172)","v":""},{"$f":"IF(JAAFデータ貼り付け!AD172=\"\",\"\",JAAFデータ貼り付け!AD172)","v":""},{"$f":"IF(JAAFデータ貼り付け!AE172=\"\",\"\",JAAFデータ貼り付け!AE172)","v":""},{"$f":"IF(JAAFデータ貼り付け!AF172=\"\",\"\",JAAFデータ貼り付け!AF172)","v":""},{"$f":"IF(JAAFデータ貼り付け!AG172=\"\",\"\",JAAFデータ貼り付け!AG172)","v":""},{"$f":"IF(JAAFデータ貼り付け!AH172=\"\",\"\",JAAFデータ貼り付け!AH172)","v":""},{"$f":"IF(JAAFデータ貼り付け!AI172=\"\",\"\",JAAFデータ貼り付け!AI172)","v":""},{"$f":"IF(JAAFデータ貼り付け!AJ172=\"\",\"\",JAAFデータ貼り付け!AJ172)","v":""},{"$f":"IF(JAAFデータ貼り付け!AK172=\"\",\"\",JAAFデータ貼り付け!AK172)","v":""},{"$f":"IF(JAAFデータ貼り付け!AL172=\"\",\"\",JAAFデータ貼り付け!AL172)","v":""},{"$f":"IF(JAAFデータ貼り付け!AM172=\"\",\"\",JAAFデータ貼り付け!AM172)","v":""},{"$f":"IF(JAAFデータ貼り付け!AN172=\"\",\"\",JAAFデータ貼り付け!AN172)","v":""},{"$f":"IF(JAAFデータ貼り付け!AO172=\"\",\"\",JAAFデータ貼り付け!AO172)","v":""},{"$f":"IF(JAAFデータ貼り付け!AP172=\"\",\"\",JAAFデータ貼り付け!AP172)","v":""},{"$f":"IF(JAAFデータ貼り付け!AQ172=\"\",\"\",JAAFデータ貼り付け!AQ172)","v":""}]
[{"$f":"IF(JAAFデータ貼り付け!E173=\"\",\"\",JAAFデータ貼り付け!E173)","v":""},{"$f":"IF(JAAFデータ貼り付け!B173=\"\",\"\",JAAFデータ貼り付け!B173)","v":""},{"$f":"IF(JAAFデータ貼り付け!C173=\"\",\"\",JAAFデータ貼り付け!C173)","v":""},{"$f":"IF(JAAFデータ貼り付け!D173=\"\",\"\",JAAFデータ貼り付け!D173)","v":""},null,{"$f":"IF(フリガナ貼り付け!D173=\"\",\"\",フリガナ貼り付け!D173)","v":""},{"$f":"IF(フリガナ貼り付け!E173=\"\",\"\",フリガナ貼り付け!E173)","v":""},{"$f":"IF(JAAFデータ貼り付け!H173=\"\",\"\",JAAFデータ貼り付け!H173)","v":""},{"$f":"IF(JAAFデータ貼り付け!I173=\"\",\"\",JAAFデータ貼り付け!I173)","v":""},{"$f":"IF(JAAFデータ貼り付け!J173=\"\",\"\",JAAFデータ貼り付け!J173)","v":""},{"$f":"IF(JAAFデータ貼り付け!K173=\"\",\"\",JAAFデータ貼り付け!K173)","v":""},{"$f":"IF(JAAFデータ貼り付け!L173=\"\",\"\",JAAFデータ貼り付け!L173)","v":""},{"$f":"IF(JAAFデータ貼り付け!M173=\"\",\"\",JAAFデータ貼り付け!M173)","v":""},{"$f":"IF(JAAFデータ貼り付け!N173=\"\",\"\",JAAFデータ貼り付け!N173)","v":""},{"$f":"IF(JAAFデータ貼り付け!O173=\"\",\"\",JAAFデータ貼り付け!O173)","v":""},{"$f":"IF(JAAFデータ貼り付け!P173=\"\",\"\",JAAFデータ貼り付け!P173)","v":""},{"$f":"IF(JAAFデータ貼り付け!Q173=\"\",\"\",JAAFデータ貼り付け!Q173)","v":""},{"$f":"IF(JAAFデータ貼り付け!R173=\"\",\"\",JAAFデータ貼り付け!R173)","v":""},{"$f":"生年月日貼り付け!E173&生年月日貼り付け!F173&生年月日貼り付け!G173","v":"000"},{"$f":"IF(JAAFデータ貼り付け!T173=\"\",\"\",JAAFデータ貼り付け!T173)","v":""},{"$f":"IF(JAAFデータ貼り付け!U173=\"\",\"\",JAAFデータ貼り付け!U173)","v":""},{"$f":"IF(Sheet5!B173=\"\",\"\",Sheet5!B173)","v":"0"},{"$f":"IF(JAAFデータ貼り付け!W173=\"\",\"\",JAAFデータ貼り付け!W173)","v":""},{"$f":"IF(JAAFデータ貼り付け!X173=\"\",\"\",JAAFデータ貼り付け!X173)","v":""},{"$f":"IF(JAAFデータ貼り付け!Y173=\"\",\"\",JAAFデータ貼り付け!Y173)","v":""},{"$f":"IF(JAAFデータ貼り付け!Z173=\"\",\"\",JAAFデータ貼り付け!Z173)","v":""},{"$f":"IF(JAAFデータ貼り付け!AA173=\"\",\"\",JAAFデータ貼り付け!AA173)","v":""},{"$f":"IF(JAAFデータ貼り付け!AB173=\"\",\"\",JAAFデータ貼り付け!AB173)","v":""},{"$f":"IF(JAAFデータ貼り付け!AC173=\"\",\"\",JAAFデータ貼り付け!AC173)","v":""},{"$f":"IF(JAAFデータ貼り付け!AD173=\"\",\"\",JAAFデータ貼り付け!AD173)","v":""},{"$f":"IF(JAAFデータ貼り付け!AE173=\"\",\"\",JAAFデータ貼り付け!AE173)","v":""},{"$f":"IF(JAAFデータ貼り付け!AF173=\"\",\"\",JAAFデータ貼り付け!AF173)","v":""},{"$f":"IF(JAAFデータ貼り付け!AG173=\"\",\"\",JAAFデータ貼り付け!AG173)","v":""},{"$f":"IF(JAAFデータ貼り付け!AH173=\"\",\"\",JAAFデータ貼り付け!AH173)","v":""},{"$f":"IF(JAAFデータ貼り付け!AI173=\"\",\"\",JAAFデータ貼り付け!AI173)","v":""},{"$f":"IF(JAAFデータ貼り付け!AJ173=\"\",\"\",JAAFデータ貼り付け!AJ173)","v":""},{"$f":"IF(JAAFデータ貼り付け!AK173=\"\",\"\",JAAFデータ貼り付け!AK173)","v":""},{"$f":"IF(JAAFデータ貼り付け!AL173=\"\",\"\",JAAFデータ貼り付け!AL173)","v":""},{"$f":"IF(JAAFデータ貼り付け!AM173=\"\",\"\",JAAFデータ貼り付け!AM173)","v":""},{"$f":"IF(JAAFデータ貼り付け!AN173=\"\",\"\",JAAFデータ貼り付け!AN173)","v":""},{"$f":"IF(JAAFデータ貼り付け!AO173=\"\",\"\",JAAFデータ貼り付け!AO173)","v":""},{"$f":"IF(JAAFデータ貼り付け!AP173=\"\",\"\",JAAFデータ貼り付け!AP173)","v":""},{"$f":"IF(JAAFデータ貼り付け!AQ173=\"\",\"\",JAAFデータ貼り付け!AQ173)","v":""}]
[{"$f":"IF(JAAFデータ貼り付け!E174=\"\",\"\",JAAFデータ貼り付け!E174)","v":""},{"$f":"IF(JAAFデータ貼り付け!B174=\"\",\"\",JAAFデータ貼り付け!B174)","v":""},{"$f":"IF(JAAFデータ貼り付け!C174=\"\",\"\",JAAFデータ貼り付け!C174)","v":""},{"$f":"IF(JAAFデータ貼り付け!D174=\"\",\"\",JAAFデータ貼り付け!D174)","v":""},null,{"$f":"IF(フリガナ貼り付け!D174=\"\",\"\",フリガナ貼り付け!D174)","v":""},{"$f":"IF(フリガナ貼り付け!E174=\"\",\"\",フリガナ貼り付け!E174)","v":""},{"$f":"IF(JAAFデータ貼り付け!H174=\"\",\"\",JAAFデータ貼り付け!H174)","v":""},{"$f":"IF(JAAFデータ貼り付け!I174=\"\",\"\",JAAFデータ貼り付け!I174)","v":""},{"$f":"IF(JAAFデータ貼り付け!J174=\"\",\"\",JAAFデータ貼り付け!J174)","v":""},{"$f":"IF(JAAFデータ貼り付け!K174=\"\",\"\",JAAFデータ貼り付け!K174)","v":""},{"$f":"IF(JAAFデータ貼り付け!L174=\"\",\"\",JAAFデータ貼り付け!L174)","v":""},{"$f":"IF(JAAFデータ貼り付け!M174=\"\",\"\",JAAFデータ貼り付け!M174)","v":""},{"$f":"IF(JAAFデータ貼り付け!N174=\"\",\"\",JAAFデータ貼り付け!N174)","v":""},{"$f":"IF(JAAFデータ貼り付け!O174=\"\",\"\",JAAFデータ貼り付け!O174)","v":""},{"$f":"IF(JAAFデータ貼り付け!P174=\"\",\"\",JAAFデータ貼り付け!P174)","v":""},{"$f":"IF(JAAFデータ貼り付け!Q174=\"\",\"\",JAAFデータ貼り付け!Q174)","v":""},{"$f":"IF(JAAFデータ貼り付け!R174=\"\",\"\",JAAFデータ貼り付け!R174)","v":""},{"$f":"生年月日貼り付け!E174&生年月日貼り付け!F174&生年月日貼り付け!G174","v":"000"},{"$f":"IF(JAAFデータ貼り付け!T174=\"\",\"\",JAAFデータ貼り付け!T174)","v":""},{"$f":"IF(JAAFデータ貼り付け!U174=\"\",\"\",JAAFデータ貼り付け!U174)","v":""},{"$f":"IF(Sheet5!B174=\"\",\"\",Sheet5!B174)","v":"0"},{"$f":"IF(JAAFデータ貼り付け!W174=\"\",\"\",JAAFデータ貼り付け!W174)","v":""},{"$f":"IF(JAAFデータ貼り付け!X174=\"\",\"\",JAAFデータ貼り付け!X174)","v":""},{"$f":"IF(JAAFデータ貼り付け!Y174=\"\",\"\",JAAFデータ貼り付け!Y174)","v":""},{"$f":"IF(JAAFデータ貼り付け!Z174=\"\",\"\",JAAFデータ貼り付け!Z174)","v":""},{"$f":"IF(JAAFデータ貼り付け!AA174=\"\",\"\",JAAFデータ貼り付け!AA174)","v":""},{"$f":"IF(JAAFデータ貼り付け!AB174=\"\",\"\",JAAFデータ貼り付け!AB174)","v":""},{"$f":"IF(JAAFデータ貼り付け!AC174=\"\",\"\",JAAFデータ貼り付け!AC174)","v":""},{"$f":"IF(JAAFデータ貼り付け!AD174=\"\",\"\",JAAFデータ貼り付け!AD174)","v":""},{"$f":"IF(JAAFデータ貼り付け!AE174=\"\",\"\",JAAFデータ貼り付け!AE174)","v":""},{"$f":"IF(JAAFデータ貼り付け!AF174=\"\",\"\",JAAFデータ貼り付け!AF174)","v":""},{"$f":"IF(JAAFデータ貼り付け!AG174=\"\",\"\",JAAFデータ貼り付け!AG174)","v":""},{"$f":"IF(JAAFデータ貼り付け!AH174=\"\",\"\",JAAFデータ貼り付け!AH174)","v":""},{"$f":"IF(JAAFデータ貼り付け!AI174=\"\",\"\",JAAFデータ貼り付け!AI174)","v":""},{"$f":"IF(JAAFデータ貼り付け!AJ174=\"\",\"\",JAAFデータ貼り付け!AJ174)","v":""},{"$f":"IF(JAAFデータ貼り付け!AK174=\"\",\"\",JAAFデータ貼り付け!AK174)","v":""},{"$f":"IF(JAAFデータ貼り付け!AL174=\"\",\"\",JAAFデータ貼り付け!AL174)","v":""},{"$f":"IF(JAAFデータ貼り付け!AM174=\"\",\"\",JAAFデータ貼り付け!AM174)","v":""},{"$f":"IF(JAAFデータ貼り付け!AN174=\"\",\"\",JAAFデータ貼り付け!AN174)","v":""},{"$f":"IF(JAAFデータ貼り付け!AO174=\"\",\"\",JAAFデータ貼り付け!AO174)","v":""},{"$f":"IF(JAAFデータ貼り付け!AP174=\"\",\"\",JAAFデータ貼り付け!AP174)","v":""},{"$f":"IF(JAAFデータ貼り付け!AQ174=\"\",\"\",JAAFデータ貼り付け!AQ174)","v":""}]
[{"$f":"IF(JAAFデータ貼り付け!E175=\"\",\"\",JAAFデータ貼り付け!E175)","v":""},{"$f":"IF(JAAFデータ貼り付け!B175=\"\",\"\",JAAFデータ貼り付け!B175)","v":""},{"$f":"IF(JAAFデータ貼り付け!C175=\"\",\"\",JAAFデータ貼り付け!C175)","v":""},{"$f":"IF(JAAFデータ貼り付け!D175=\"\",\"\",JAAFデータ貼り付け!D175)","v":""},null,{"$f":"IF(フリガナ貼り付け!D175=\"\",\"\",フリガナ貼り付け!D175)","v":""},{"$f":"IF(フリガナ貼り付け!E175=\"\",\"\",フリガナ貼り付け!E175)","v":""},{"$f":"IF(JAAFデータ貼り付け!H175=\"\",\"\",JAAFデータ貼り付け!H175)","v":""},{"$f":"IF(JAAFデータ貼り付け!I175=\"\",\"\",JAAFデータ貼り付け!I175)","v":""},{"$f":"IF(JAAFデータ貼り付け!J175=\"\",\"\",JAAFデータ貼り付け!J175)","v":""},{"$f":"IF(JAAFデータ貼り付け!K175=\"\",\"\",JAAFデータ貼り付け!K175)","v":""},{"$f":"IF(JAAFデータ貼り付け!L175=\"\",\"\",JAAFデータ貼り付け!L175)","v":""},{"$f":"IF(JAAFデータ貼り付け!M175=\"\",\"\",JAAFデータ貼り付け!M175)","v":""},{"$f":"IF(JAAFデータ貼り付け!N175=\"\",\"\",JAAFデータ貼り付け!N175)","v":""},{"$f":"IF(JAAFデータ貼り付け!O175=\"\",\"\",JAAFデータ貼り付け!O175)","v":""},{"$f":"IF(JAAFデータ貼り付け!P175=\"\",\"\",JAAFデータ貼り付け!P175)","v":""},{"$f":"IF(JAAFデータ貼り付け!Q175=\"\",\"\",JAAFデータ貼り付け!Q175)","v":""},{"$f":"IF(JAAFデータ貼り付け!R175=\"\",\"\",JAAFデータ貼り付け!R175)","v":""},{"$f":"生年月日貼り付け!E175&生年月日貼り付け!F175&生年月日貼り付け!G175","v":"000"},{"$f":"IF(JAAFデータ貼り付け!T175=\"\",\"\",JAAFデータ貼り付け!T175)","v":""},{"$f":"IF(JAAFデータ貼り付け!U175=\"\",\"\",JAAFデータ貼り付け!U175)","v":""},{"$f":"IF(Sheet5!B175=\"\",\"\",Sheet5!B175)","v":"0"},{"$f":"IF(JAAFデータ貼り付け!W175=\"\",\"\",JAAFデータ貼り付け!W175)","v":""},{"$f":"IF(JAAFデータ貼り付け!X175=\"\",\"\",JAAFデータ貼り付け!X175)","v":""},{"$f":"IF(JAAFデータ貼り付け!Y175=\"\",\"\",JAAFデータ貼り付け!Y175)","v":""},{"$f":"IF(JAAFデータ貼り付け!Z175=\"\",\"\",JAAFデータ貼り付け!Z175)","v":""},{"$f":"IF(JAAFデータ貼り付け!AA175=\"\",\"\",JAAFデータ貼り付け!AA175)","v":""},{"$f":"IF(JAAFデータ貼り付け!AB175=\"\",\"\",JAAFデータ貼り付け!AB175)","v":""},{"$f":"IF(JAAFデータ貼り付け!AC175=\"\",\"\",JAAFデータ貼り付け!AC175)","v":""},{"$f":"IF(JAAFデータ貼り付け!AD175=\"\",\"\",JAAFデータ貼り付け!AD175)","v":""},{"$f":"IF(JAAFデータ貼り付け!AE175=\"\",\"\",JAAFデータ貼り付け!AE175)","v":""},{"$f":"IF(JAAFデータ貼り付け!AF175=\"\",\"\",JAAFデータ貼り付け!AF175)","v":""},{"$f":"IF(JAAFデータ貼り付け!AG175=\"\",\"\",JAAFデータ貼り付け!AG175)","v":""},{"$f":"IF(JAAFデータ貼り付け!AH175=\"\",\"\",JAAFデータ貼り付け!AH175)","v":""},{"$f":"IF(JAAFデータ貼り付け!AI175=\"\",\"\",JAAFデータ貼り付け!AI175)","v":""},{"$f":"IF(JAAFデータ貼り付け!AJ175=\"\",\"\",JAAFデータ貼り付け!AJ175)","v":""},{"$f":"IF(JAAFデータ貼り付け!AK175=\"\",\"\",JAAFデータ貼り付け!AK175)","v":""},{"$f":"IF(JAAFデータ貼り付け!AL175=\"\",\"\",JAAFデータ貼り付け!AL175)","v":""},{"$f":"IF(JAAFデータ貼り付け!AM175=\"\",\"\",JAAFデータ貼り付け!AM175)","v":""},{"$f":"IF(JAAFデータ貼り付け!AN175=\"\",\"\",JAAFデータ貼り付け!AN175)","v":""},{"$f":"IF(JAAFデータ貼り付け!AO175=\"\",\"\",JAAFデータ貼り付け!AO175)","v":""},{"$f":"IF(JAAFデータ貼り付け!AP175=\"\",\"\",JAAFデータ貼り付け!AP175)","v":""},{"$f":"IF(JAAFデータ貼り付け!AQ175=\"\",\"\",JAAFデータ貼り付け!AQ175)","v":""}]
[{"$f":"IF(JAAFデータ貼り付け!E176=\"\",\"\",JAAFデータ貼り付け!E176)","v":""},{"$f":"IF(JAAFデータ貼り付け!B176=\"\",\"\",JAAFデータ貼り付け!B176)","v":""},{"$f":"IF(JAAFデータ貼り付け!C176=\"\",\"\",JAAFデータ貼り付け!C176)","v":""},{"$f":"IF(JAAFデータ貼り付け!D176=\"\",\"\",JAAFデータ貼り付け!D176)","v":""},null,{"$f":"IF(フリガナ貼り付け!D176=\"\",\"\",フリガナ貼り付け!D176)","v":""},{"$f":"IF(フリガナ貼り付け!E176=\"\",\"\",フリガナ貼り付け!E176)","v":""},{"$f":"IF(JAAFデータ貼り付け!H176=\"\",\"\",JAAFデータ貼り付け!H176)","v":""},{"$f":"IF(JAAFデータ貼り付け!I176=\"\",\"\",JAAFデータ貼り付け!I176)","v":""},{"$f":"IF(JAAFデータ貼り付け!J176=\"\",\"\",JAAFデータ貼り付け!J176)","v":""},{"$f":"IF(JAAFデータ貼り付け!K176=\"\",\"\",JAAFデータ貼り付け!K176)","v":""},{"$f":"IF(JAAFデータ貼り付け!L176=\"\",\"\",JAAFデータ貼り付け!L176)","v":""},{"$f":"IF(JAAFデータ貼り付け!M176=\"\",\"\",JAAFデータ貼り付け!M176)","v":""},{"$f":"IF(JAAFデータ貼り付け!N176=\"\",\"\",JAAFデータ貼り付け!N176)","v":""},{"$f":"IF(JAAFデータ貼り付け!O176=\"\",\"\",JAAFデータ貼り付け!O176)","v":""},{"$f":"IF(JAAFデータ貼り付け!P176=\"\",\"\",JAAFデータ貼り付け!P176)","v":""},{"$f":"IF(JAAFデータ貼り付け!Q176=\"\",\"\",JAAFデータ貼り付け!Q176)","v":""},{"$f":"IF(JAAFデータ貼り付け!R176=\"\",\"\",JAAFデータ貼り付け!R176)","v":""},{"$f":"生年月日貼り付け!E176&生年月日貼り付け!F176&生年月日貼り付け!G176","v":"000"},{"$f":"IF(JAAFデータ貼り付け!T176=\"\",\"\",JAAFデータ貼り付け!T176)","v":""},{"$f":"IF(JAAFデータ貼り付け!U176=\"\",\"\",JAAFデータ貼り付け!U176)","v":""},{"$f":"IF(Sheet5!B176=\"\",\"\",Sheet5!B176)","v":"0"},{"$f":"IF(JAAFデータ貼り付け!W176=\"\",\"\",JAAFデータ貼り付け!W176)","v":""},{"$f":"IF(JAAFデータ貼り付け!X176=\"\",\"\",JAAFデータ貼り付け!X176)","v":""},{"$f":"IF(JAAFデータ貼り付け!Y176=\"\",\"\",JAAFデータ貼り付け!Y176)","v":""},{"$f":"IF(JAAFデータ貼り付け!Z176=\"\",\"\",JAAFデータ貼り付け!Z176)","v":""},{"$f":"IF(JAAFデータ貼り付け!AA176=\"\",\"\",JAAFデータ貼り付け!AA176)","v":""},{"$f":"IF(JAAFデータ貼り付け!AB176=\"\",\"\",JAAFデータ貼り付け!AB176)","v":""},{"$f":"IF(JAAFデータ貼り付け!AC176=\"\",\"\",JAAFデータ貼り付け!AC176)","v":""},{"$f":"IF(JAAFデータ貼り付け!AD176=\"\",\"\",JAAFデータ貼り付け!AD176)","v":""},{"$f":"IF(JAAFデータ貼り付け!AE176=\"\",\"\",JAAFデータ貼り付け!AE176)","v":""},{"$f":"IF(JAAFデータ貼り付け!AF176=\"\",\"\",JAAFデータ貼り付け!AF176)","v":""},{"$f":"IF(JAAFデータ貼り付け!AG176=\"\",\"\",JAAFデータ貼り付け!AG176)","v":""},{"$f":"IF(JAAFデータ貼り付け!AH176=\"\",\"\",JAAFデータ貼り付け!AH176)","v":""},{"$f":"IF(JAAFデータ貼り付け!AI176=\"\",\"\",JAAFデータ貼り付け!AI176)","v":""},{"$f":"IF(JAAFデータ貼り付け!AJ176=\"\",\"\",JAAFデータ貼り付け!AJ176)","v":""},{"$f":"IF(JAAFデータ貼り付け!AK176=\"\",\"\",JAAFデータ貼り付け!AK176)","v":""},{"$f":"IF(JAAFデータ貼り付け!AL176=\"\",\"\",JAAFデータ貼り付け!AL176)","v":""},{"$f":"IF(JAAFデータ貼り付け!AM176=\"\",\"\",JAAFデータ貼り付け!AM176)","v":""},{"$f":"IF(JAAFデータ貼り付け!AN176=\"\",\"\",JAAFデータ貼り付け!AN176)","v":""},{"$f":"IF(JAAFデータ貼り付け!AO176=\"\",\"\",JAAFデータ貼り付け!AO176)","v":""},{"$f":"IF(JAAFデータ貼り付け!AP176=\"\",\"\",JAAFデータ貼り付け!AP176)","v":""},{"$f":"IF(JAAFデータ貼り付け!AQ176=\"\",\"\",JAAFデータ貼り付け!AQ176)","v":""}]
[{"$f":"IF(JAAFデータ貼り付け!E177=\"\",\"\",JAAFデータ貼り付け!E177)","v":""},{"$f":"IF(JAAFデータ貼り付け!B177=\"\",\"\",JAAFデータ貼り付け!B177)","v":""},{"$f":"IF(JAAFデータ貼り付け!C177=\"\",\"\",JAAFデータ貼り付け!C177)","v":""},{"$f":"IF(JAAFデータ貼り付け!D177=\"\",\"\",JAAFデータ貼り付け!D177)","v":""},null,{"$f":"IF(フリガナ貼り付け!D177=\"\",\"\",フリガナ貼り付け!D177)","v":""},{"$f":"IF(フリガナ貼り付け!E177=\"\",\"\",フリガナ貼り付け!E177)","v":""},{"$f":"IF(JAAFデータ貼り付け!H177=\"\",\"\",JAAFデータ貼り付け!H177)","v":""},{"$f":"IF(JAAFデータ貼り付け!I177=\"\",\"\",JAAFデータ貼り付け!I177)","v":""},{"$f":"IF(JAAFデータ貼り付け!J177=\"\",\"\",JAAFデータ貼り付け!J177)","v":""},{"$f":"IF(JAAFデータ貼り付け!K177=\"\",\"\",JAAFデータ貼り付け!K177)","v":""},{"$f":"IF(JAAFデータ貼り付け!L177=\"\",\"\",JAAFデータ貼り付け!L177)","v":""},{"$f":"IF(JAAFデータ貼り付け!M177=\"\",\"\",JAAFデータ貼り付け!M177)","v":""},{"$f":"IF(JAAFデータ貼り付け!N177=\"\",\"\",JAAFデータ貼り付け!N177)","v":""},{"$f":"IF(JAAFデータ貼り付け!O177=\"\",\"\",JAAFデータ貼り付け!O177)","v":""},{"$f":"IF(JAAFデータ貼り付け!P177=\"\",\"\",JAAFデータ貼り付け!P177)","v":""},{"$f":"IF(JAAFデータ貼り付け!Q177=\"\",\"\",JAAFデータ貼り付け!Q177)","v":""},{"$f":"IF(JAAFデータ貼り付け!R177=\"\",\"\",JAAFデータ貼り付け!R177)","v":""},{"$f":"生年月日貼り付け!E177&生年月日貼り付け!F177&生年月日貼り付け!G177","v":"000"},{"$f":"IF(JAAFデータ貼り付け!T177=\"\",\"\",JAAFデータ貼り付け!T177)","v":""},{"$f":"IF(JAAFデータ貼り付け!U177=\"\",\"\",JAAFデータ貼り付け!U177)","v":""},{"$f":"IF(Sheet5!B177=\"\",\"\",Sheet5!B177)","v":"0"},{"$f":"IF(JAAFデータ貼り付け!W177=\"\",\"\",JAAFデータ貼り付け!W177)","v":""},{"$f":"IF(JAAFデータ貼り付け!X177=\"\",\"\",JAAFデータ貼り付け!X177)","v":""},{"$f":"IF(JAAFデータ貼り付け!Y177=\"\",\"\",JAAFデータ貼り付け!Y177)","v":""},{"$f":"IF(JAAFデータ貼り付け!Z177=\"\",\"\",JAAFデータ貼り付け!Z177)","v":""},{"$f":"IF(JAAFデータ貼り付け!AA177=\"\",\"\",JAAFデータ貼り付け!AA177)","v":""},{"$f":"IF(JAAFデータ貼り付け!AB177=\"\",\"\",JAAFデータ貼り付け!AB177)","v":""},{"$f":"IF(JAAFデータ貼り付け!AC177=\"\",\"\",JAAFデータ貼り付け!AC177)","v":""},{"$f":"IF(JAAFデータ貼り付け!AD177=\"\",\"\",JAAFデータ貼り付け!AD177)","v":""},{"$f":"IF(JAAFデータ貼り付け!AE177=\"\",\"\",JAAFデータ貼り付け!AE177)","v":""},{"$f":"IF(JAAFデータ貼り付け!AF177=\"\",\"\",JAAFデータ貼り付け!AF177)","v":""},{"$f":"IF(JAAFデータ貼り付け!AG177=\"\",\"\",JAAFデータ貼り付け!AG177)","v":""},{"$f":"IF(JAAFデータ貼り付け!AH177=\"\",\"\",JAAFデータ貼り付け!AH177)","v":""},{"$f":"IF(JAAFデータ貼り付け!AI177=\"\",\"\",JAAFデータ貼り付け!AI177)","v":""},{"$f":"IF(JAAFデータ貼り付け!AJ177=\"\",\"\",JAAFデータ貼り付け!AJ177)","v":""},{"$f":"IF(JAAFデータ貼り付け!AK177=\"\",\"\",JAAFデータ貼り付け!AK177)","v":""},{"$f":"IF(JAAFデータ貼り付け!AL177=\"\",\"\",JAAFデータ貼り付け!AL177)","v":""},{"$f":"IF(JAAFデータ貼り付け!AM177=\"\",\"\",JAAFデータ貼り付け!AM177)","v":""},{"$f":"IF(JAAFデータ貼り付け!AN177=\"\",\"\",JAAFデータ貼り付け!AN177)","v":""},{"$f":"IF(JAAFデータ貼り付け!AO177=\"\",\"\",JAAFデータ貼り付け!AO177)","v":""},{"$f":"IF(JAAFデータ貼り付け!AP177=\"\",\"\",JAAFデータ貼り付け!AP177)","v":""},{"$f":"IF(JAAFデータ貼り付け!AQ177=\"\",\"\",JAAFデータ貼り付け!AQ177)","v":""}]
[{"$f":"IF(JAAFデータ貼り付け!E178=\"\",\"\",JAAFデータ貼り付け!E178)","v":""},{"$f":"IF(JAAFデータ貼り付け!B178=\"\",\"\",JAAFデータ貼り付け!B178)","v":""},{"$f":"IF(JAAFデータ貼り付け!C178=\"\",\"\",JAAFデータ貼り付け!C178)","v":""},{"$f":"IF(JAAFデータ貼り付け!D178=\"\",\"\",JAAFデータ貼り付け!D178)","v":""},null,{"$f":"IF(フリガナ貼り付け!D178=\"\",\"\",フリガナ貼り付け!D178)","v":""},{"$f":"IF(フリガナ貼り付け!E178=\"\",\"\",フリガナ貼り付け!E178)","v":""},{"$f":"IF(JAAFデータ貼り付け!H178=\"\",\"\",JAAFデータ貼り付け!H178)","v":""},{"$f":"IF(JAAFデータ貼り付け!I178=\"\",\"\",JAAFデータ貼り付け!I178)","v":""},{"$f":"IF(JAAFデータ貼り付け!J178=\"\",\"\",JAAFデータ貼り付け!J178)","v":""},{"$f":"IF(JAAFデータ貼り付け!K178=\"\",\"\",JAAFデータ貼り付け!K178)","v":""},{"$f":"IF(JAAFデータ貼り付け!L178=\"\",\"\",JAAFデータ貼り付け!L178)","v":""},{"$f":"IF(JAAFデータ貼り付け!M178=\"\",\"\",JAAFデータ貼り付け!M178)","v":""},{"$f":"IF(JAAFデータ貼り付け!N178=\"\",\"\",JAAFデータ貼り付け!N178)","v":""},{"$f":"IF(JAAFデータ貼り付け!O178=\"\",\"\",JAAFデータ貼り付け!O178)","v":""},{"$f":"IF(JAAFデータ貼り付け!P178=\"\",\"\",JAAFデータ貼り付け!P178)","v":""},{"$f":"IF(JAAFデータ貼り付け!Q178=\"\",\"\",JAAFデータ貼り付け!Q178)","v":""},{"$f":"IF(JAAFデータ貼り付け!R178=\"\",\"\",JAAFデータ貼り付け!R178)","v":""},{"$f":"生年月日貼り付け!E178&生年月日貼り付け!F178&生年月日貼り付け!G178","v":"000"},{"$f":"IF(JAAFデータ貼り付け!T178=\"\",\"\",JAAFデータ貼り付け!T178)","v":""},{"$f":"IF(JAAFデータ貼り付け!U178=\"\",\"\",JAAFデータ貼り付け!U178)","v":""},{"$f":"IF(Sheet5!B178=\"\",\"\",Sheet5!B178)","v":"0"},{"$f":"IF(JAAFデータ貼り付け!W178=\"\",\"\",JAAFデータ貼り付け!W178)","v":""},{"$f":"IF(JAAFデータ貼り付け!X178=\"\",\"\",JAAFデータ貼り付け!X178)","v":""},{"$f":"IF(JAAFデータ貼り付け!Y178=\"\",\"\",JAAFデータ貼り付け!Y178)","v":""},{"$f":"IF(JAAFデータ貼り付け!Z178=\"\",\"\",JAAFデータ貼り付け!Z178)","v":""},{"$f":"IF(JAAFデータ貼り付け!AA178=\"\",\"\",JAAFデータ貼り付け!AA178)","v":""},{"$f":"IF(JAAFデータ貼り付け!AB178=\"\",\"\",JAAFデータ貼り付け!AB178)","v":""},{"$f":"IF(JAAFデータ貼り付け!AC178=\"\",\"\",JAAFデータ貼り付け!AC178)","v":""},{"$f":"IF(JAAFデータ貼り付け!AD178=\"\",\"\",JAAFデータ貼り付け!AD178)","v":""},{"$f":"IF(JAAFデータ貼り付け!AE178=\"\",\"\",JAAFデータ貼り付け!AE178)","v":""},{"$f":"IF(JAAFデータ貼り付け!AF178=\"\",\"\",JAAFデータ貼り付け!AF178)","v":""},{"$f":"IF(JAAFデータ貼り付け!AG178=\"\",\"\",JAAFデータ貼り付け!AG178)","v":""},{"$f":"IF(JAAFデータ貼り付け!AH178=\"\",\"\",JAAFデータ貼り付け!AH178)","v":""},{"$f":"IF(JAAFデータ貼り付け!AI178=\"\",\"\",JAAFデータ貼り付け!AI178)","v":""},{"$f":"IF(JAAFデータ貼り付け!AJ178=\"\",\"\",JAAFデータ貼り付け!AJ178)","v":""},{"$f":"IF(JAAFデータ貼り付け!AK178=\"\",\"\",JAAFデータ貼り付け!AK178)","v":""},{"$f":"IF(JAAFデータ貼り付け!AL178=\"\",\"\",JAAFデータ貼り付け!AL178)","v":""},{"$f":"IF(JAAFデータ貼り付け!AM178=\"\",\"\",JAAFデータ貼り付け!AM178)","v":""},{"$f":"IF(JAAFデータ貼り付け!AN178=\"\",\"\",JAAFデータ貼り付け!AN178)","v":""},{"$f":"IF(JAAFデータ貼り付け!AO178=\"\",\"\",JAAFデータ貼り付け!AO178)","v":""},{"$f":"IF(JAAFデータ貼り付け!AP178=\"\",\"\",JAAFデータ貼り付け!AP178)","v":""},{"$f":"IF(JAAFデータ貼り付け!AQ178=\"\",\"\",JAAFデータ貼り付け!AQ178)","v":""}]
[{"$f":"IF(JAAFデータ貼り付け!E179=\"\",\"\",JAAFデータ貼り付け!E179)","v":""},{"$f":"IF(JAAFデータ貼り付け!B179=\"\",\"\",JAAFデータ貼り付け!B179)","v":""},{"$f":"IF(JAAFデータ貼り付け!C179=\"\",\"\",JAAFデータ貼り付け!C179)","v":""},{"$f":"IF(JAAFデータ貼り付け!D179=\"\",\"\",JAAFデータ貼り付け!D179)","v":""},null,{"$f":"IF(フリガナ貼り付け!D179=\"\",\"\",フリガナ貼り付け!D179)","v":""},{"$f":"IF(フリガナ貼り付け!E179=\"\",\"\",フリガナ貼り付け!E179)","v":""},{"$f":"IF(JAAFデータ貼り付け!H179=\"\",\"\",JAAFデータ貼り付け!H179)","v":""},{"$f":"IF(JAAFデータ貼り付け!I179=\"\",\"\",JAAFデータ貼り付け!I179)","v":""},{"$f":"IF(JAAFデータ貼り付け!J179=\"\",\"\",JAAFデータ貼り付け!J179)","v":""},{"$f":"IF(JAAFデータ貼り付け!K179=\"\",\"\",JAAFデータ貼り付け!K179)","v":""},{"$f":"IF(JAAFデータ貼り付け!L179=\"\",\"\",JAAFデータ貼り付け!L179)","v":""},{"$f":"IF(JAAFデータ貼り付け!M179=\"\",\"\",JAAFデータ貼り付け!M179)","v":""},{"$f":"IF(JAAFデータ貼り付け!N179=\"\",\"\",JAAFデータ貼り付け!N179)","v":""},{"$f":"IF(JAAFデータ貼り付け!O179=\"\",\"\",JAAFデータ貼り付け!O179)","v":""},{"$f":"IF(JAAFデータ貼り付け!P179=\"\",\"\",JAAFデータ貼り付け!P179)","v":""},{"$f":"IF(JAAFデータ貼り付け!Q179=\"\",\"\",JAAFデータ貼り付け!Q179)","v":""},{"$f":"IF(JAAFデータ貼り付け!R179=\"\",\"\",JAAFデータ貼り付け!R179)","v":""},{"$f":"生年月日貼り付け!E179&生年月日貼り付け!F179&生年月日貼り付け!G179","v":"000"},{"$f":"IF(JAAFデータ貼り付け!T179=\"\",\"\",JAAFデータ貼り付け!T179)","v":""},{"$f":"IF(JAAFデータ貼り付け!U179=\"\",\"\",JAAFデータ貼り付け!U179)","v":""},{"$f":"IF(Sheet5!B179=\"\",\"\",Sheet5!B179)","v":"0"},{"$f":"IF(JAAFデータ貼り付け!W179=\"\",\"\",JAAFデータ貼り付け!W179)","v":""},{"$f":"IF(JAAFデータ貼り付け!X179=\"\",\"\",JAAFデータ貼り付け!X179)","v":""},{"$f":"IF(JAAFデータ貼り付け!Y179=\"\",\"\",JAAFデータ貼り付け!Y179)","v":""},{"$f":"IF(JAAFデータ貼り付け!Z179=\"\",\"\",JAAFデータ貼り付け!Z179)","v":""},{"$f":"IF(JAAFデータ貼り付け!AA179=\"\",\"\",JAAFデータ貼り付け!AA179)","v":""},{"$f":"IF(JAAFデータ貼り付け!AB179=\"\",\"\",JAAFデータ貼り付け!AB179)","v":""},{"$f":"IF(JAAFデータ貼り付け!AC179=\"\",\"\",JAAFデータ貼り付け!AC179)","v":""},{"$f":"IF(JAAFデータ貼り付け!AD179=\"\",\"\",JAAFデータ貼り付け!AD179)","v":""},{"$f":"IF(JAAFデータ貼り付け!AE179=\"\",\"\",JAAFデータ貼り付け!AE179)","v":""},{"$f":"IF(JAAFデータ貼り付け!AF179=\"\",\"\",JAAFデータ貼り付け!AF179)","v":""},{"$f":"IF(JAAFデータ貼り付け!AG179=\"\",\"\",JAAFデータ貼り付け!AG179)","v":""},{"$f":"IF(JAAFデータ貼り付け!AH179=\"\",\"\",JAAFデータ貼り付け!AH179)","v":""},{"$f":"IF(JAAFデータ貼り付け!AI179=\"\",\"\",JAAFデータ貼り付け!AI179)","v":""},{"$f":"IF(JAAFデータ貼り付け!AJ179=\"\",\"\",JAAFデータ貼り付け!AJ179)","v":""},{"$f":"IF(JAAFデータ貼り付け!AK179=\"\",\"\",JAAFデータ貼り付け!AK179)","v":""},{"$f":"IF(JAAFデータ貼り付け!AL179=\"\",\"\",JAAFデータ貼り付け!AL179)","v":""},{"$f":"IF(JAAFデータ貼り付け!AM179=\"\",\"\",JAAFデータ貼り付け!AM179)","v":""},{"$f":"IF(JAAFデータ貼り付け!AN179=\"\",\"\",JAAFデータ貼り付け!AN179)","v":""},{"$f":"IF(JAAFデータ貼り付け!AO179=\"\",\"\",JAAFデータ貼り付け!AO179)","v":""},{"$f":"IF(JAAFデータ貼り付け!AP179=\"\",\"\",JAAFデータ貼り付け!AP179)","v":""},{"$f":"IF(JAAFデータ貼り付け!AQ179=\"\",\"\",JAAFデータ貼り付け!AQ179)","v":""}]
[{"$f":"IF(JAAFデータ貼り付け!E180=\"\",\"\",JAAFデータ貼り付け!E180)","v":""},{"$f":"IF(JAAFデータ貼り付け!B180=\"\",\"\",JAAFデータ貼り付け!B180)","v":""},{"$f":"IF(JAAFデータ貼り付け!C180=\"\",\"\",JAAFデータ貼り付け!C180)","v":""},{"$f":"IF(JAAFデータ貼り付け!D180=\"\",\"\",JAAFデータ貼り付け!D180)","v":""},null,{"$f":"IF(フリガナ貼り付け!D180=\"\",\"\",フリガナ貼り付け!D180)","v":""},{"$f":"IF(フリガナ貼り付け!E180=\"\",\"\",フリガナ貼り付け!E180)","v":""},{"$f":"IF(JAAFデータ貼り付け!H180=\"\",\"\",JAAFデータ貼り付け!H180)","v":""},{"$f":"IF(JAAFデータ貼り付け!I180=\"\",\"\",JAAFデータ貼り付け!I180)","v":""},{"$f":"IF(JAAFデータ貼り付け!J180=\"\",\"\",JAAFデータ貼り付け!J180)","v":""},{"$f":"IF(JAAFデータ貼り付け!K180=\"\",\"\",JAAFデータ貼り付け!K180)","v":""},{"$f":"IF(JAAFデータ貼り付け!L180=\"\",\"\",JAAFデータ貼り付け!L180)","v":""},{"$f":"IF(JAAFデータ貼り付け!M180=\"\",\"\",JAAFデータ貼り付け!M180)","v":""},{"$f":"IF(JAAFデータ貼り付け!N180=\"\",\"\",JAAFデータ貼り付け!N180)","v":""},{"$f":"IF(JAAFデータ貼り付け!O180=\"\",\"\",JAAFデータ貼り付け!O180)","v":""},{"$f":"IF(JAAFデータ貼り付け!P180=\"\",\"\",JAAFデータ貼り付け!P180)","v":""},{"$f":"IF(JAAFデータ貼り付け!Q180=\"\",\"\",JAAFデータ貼り付け!Q180)","v":""},{"$f":"IF(JAAFデータ貼り付け!R180=\"\",\"\",JAAFデータ貼り付け!R180)","v":""},{"$f":"生年月日貼り付け!E180&生年月日貼り付け!F180&生年月日貼り付け!G180","v":"000"},{"$f":"IF(JAAFデータ貼り付け!T180=\"\",\"\",JAAFデータ貼り付け!T180)","v":""},{"$f":"IF(JAAFデータ貼り付け!U180=\"\",\"\",JAAFデータ貼り付け!U180)","v":""},{"$f":"IF(Sheet5!B180=\"\",\"\",Sheet5!B180)","v":"0"},{"$f":"IF(JAAFデータ貼り付け!W180=\"\",\"\",JAAFデータ貼り付け!W180)","v":""},{"$f":"IF(JAAFデータ貼り付け!X180=\"\",\"\",JAAFデータ貼り付け!X180)","v":""},{"$f":"IF(JAAFデータ貼り付け!Y180=\"\",\"\",JAAFデータ貼り付け!Y180)","v":""},{"$f":"IF(JAAFデータ貼り付け!Z180=\"\",\"\",JAAFデータ貼り付け!Z180)","v":""},{"$f":"IF(JAAFデータ貼り付け!AA180=\"\",\"\",JAAFデータ貼り付け!AA180)","v":""},{"$f":"IF(JAAFデータ貼り付け!AB180=\"\",\"\",JAAFデータ貼り付け!AB180)","v":""},{"$f":"IF(JAAFデータ貼り付け!AC180=\"\",\"\",JAAFデータ貼り付け!AC180)","v":""},{"$f":"IF(JAAFデータ貼り付け!AD180=\"\",\"\",JAAFデータ貼り付け!AD180)","v":""},{"$f":"IF(JAAFデータ貼り付け!AE180=\"\",\"\",JAAFデータ貼り付け!AE180)","v":""},{"$f":"IF(JAAFデータ貼り付け!AF180=\"\",\"\",JAAFデータ貼り付け!AF180)","v":""},{"$f":"IF(JAAFデータ貼り付け!AG180=\"\",\"\",JAAFデータ貼り付け!AG180)","v":""},{"$f":"IF(JAAFデータ貼り付け!AH180=\"\",\"\",JAAFデータ貼り付け!AH180)","v":""},{"$f":"IF(JAAFデータ貼り付け!AI180=\"\",\"\",JAAFデータ貼り付け!AI180)","v":""},{"$f":"IF(JAAFデータ貼り付け!AJ180=\"\",\"\",JAAFデータ貼り付け!AJ180)","v":""},{"$f":"IF(JAAFデータ貼り付け!AK180=\"\",\"\",JAAFデータ貼り付け!AK180)","v":""},{"$f":"IF(JAAFデータ貼り付け!AL180=\"\",\"\",JAAFデータ貼り付け!AL180)","v":""},{"$f":"IF(JAAFデータ貼り付け!AM180=\"\",\"\",JAAFデータ貼り付け!AM180)","v":""},{"$f":"IF(JAAFデータ貼り付け!AN180=\"\",\"\",JAAFデータ貼り付け!AN180)","v":""},{"$f":"IF(JAAFデータ貼り付け!AO180=\"\",\"\",JAAFデータ貼り付け!AO180)","v":""},{"$f":"IF(JAAFデータ貼り付け!AP180=\"\",\"\",JAAFデータ貼り付け!AP180)","v":""},{"$f":"IF(JAAFデータ貼り付け!AQ180=\"\",\"\",JAAFデータ貼り付け!AQ180)","v":""}]
[{"$f":"IF(JAAFデータ貼り付け!E181=\"\",\"\",JAAFデータ貼り付け!E181)","v":""},{"$f":"IF(JAAFデータ貼り付け!B181=\"\",\"\",JAAFデータ貼り付け!B181)","v":""},{"$f":"IF(JAAFデータ貼り付け!C181=\"\",\"\",JAAFデータ貼り付け!C181)","v":""},{"$f":"IF(JAAFデータ貼り付け!D181=\"\",\"\",JAAFデータ貼り付け!D181)","v":""},null,{"$f":"IF(フリガナ貼り付け!D181=\"\",\"\",フリガナ貼り付け!D181)","v":""},{"$f":"IF(フリガナ貼り付け!E181=\"\",\"\",フリガナ貼り付け!E181)","v":""},{"$f":"IF(JAAFデータ貼り付け!H181=\"\",\"\",JAAFデータ貼り付け!H181)","v":""},{"$f":"IF(JAAFデータ貼り付け!I181=\"\",\"\",JAAFデータ貼り付け!I181)","v":""},{"$f":"IF(JAAFデータ貼り付け!J181=\"\",\"\",JAAFデータ貼り付け!J181)","v":""},{"$f":"IF(JAAFデータ貼り付け!K181=\"\",\"\",JAAFデータ貼り付け!K181)","v":""},{"$f":"IF(JAAFデータ貼り付け!L181=\"\",\"\",JAAFデータ貼り付け!L181)","v":""},{"$f":"IF(JAAFデータ貼り付け!M181=\"\",\"\",JAAFデータ貼り付け!M181)","v":""},{"$f":"IF(JAAFデータ貼り付け!N181=\"\",\"\",JAAFデータ貼り付け!N181)","v":""},{"$f":"IF(JAAFデータ貼り付け!O181=\"\",\"\",JAAFデータ貼り付け!O181)","v":""},{"$f":"IF(JAAFデータ貼り付け!P181=\"\",\"\",JAAFデータ貼り付け!P181)","v":""},{"$f":"IF(JAAFデータ貼り付け!Q181=\"\",\"\",JAAFデータ貼り付け!Q181)","v":""},{"$f":"IF(JAAFデータ貼り付け!R181=\"\",\"\",JAAFデータ貼り付け!R181)","v":""},{"$f":"生年月日貼り付け!E181&生年月日貼り付け!F181&生年月日貼り付け!G181","v":"000"},{"$f":"IF(JAAFデータ貼り付け!T181=\"\",\"\",JAAFデータ貼り付け!T181)","v":""},{"$f":"IF(JAAFデータ貼り付け!U181=\"\",\"\",JAAFデータ貼り付け!U181)","v":""},{"$f":"IF(Sheet5!B181=\"\",\"\",Sheet5!B181)","v":"0"},{"$f":"IF(JAAFデータ貼り付け!W181=\"\",\"\",JAAFデータ貼り付け!W181)","v":""},{"$f":"IF(JAAFデータ貼り付け!X181=\"\",\"\",JAAFデータ貼り付け!X181)","v":""},{"$f":"IF(JAAFデータ貼り付け!Y181=\"\",\"\",JAAFデータ貼り付け!Y181)","v":""},{"$f":"IF(JAAFデータ貼り付け!Z181=\"\",\"\",JAAFデータ貼り付け!Z181)","v":""},{"$f":"IF(JAAFデータ貼り付け!AA181=\"\",\"\",JAAFデータ貼り付け!AA181)","v":""},{"$f":"IF(JAAFデータ貼り付け!AB181=\"\",\"\",JAAFデータ貼り付け!AB181)","v":""},{"$f":"IF(JAAFデータ貼り付け!AC181=\"\",\"\",JAAFデータ貼り付け!AC181)","v":""},{"$f":"IF(JAAFデータ貼り付け!AD181=\"\",\"\",JAAFデータ貼り付け!AD181)","v":""},{"$f":"IF(JAAFデータ貼り付け!AE181=\"\",\"\",JAAFデータ貼り付け!AE181)","v":""},{"$f":"IF(JAAFデータ貼り付け!AF181=\"\",\"\",JAAFデータ貼り付け!AF181)","v":""},{"$f":"IF(JAAFデータ貼り付け!AG181=\"\",\"\",JAAFデータ貼り付け!AG181)","v":""},{"$f":"IF(JAAFデータ貼り付け!AH181=\"\",\"\",JAAFデータ貼り付け!AH181)","v":""},{"$f":"IF(JAAFデータ貼り付け!AI181=\"\",\"\",JAAFデータ貼り付け!AI181)","v":""},{"$f":"IF(JAAFデータ貼り付け!AJ181=\"\",\"\",JAAFデータ貼り付け!AJ181)","v":""},{"$f":"IF(JAAFデータ貼り付け!AK181=\"\",\"\",JAAFデータ貼り付け!AK181)","v":""},{"$f":"IF(JAAFデータ貼り付け!AL181=\"\",\"\",JAAFデータ貼り付け!AL181)","v":""},{"$f":"IF(JAAFデータ貼り付け!AM181=\"\",\"\",JAAFデータ貼り付け!AM181)","v":""},{"$f":"IF(JAAFデータ貼り付け!AN181=\"\",\"\",JAAFデータ貼り付け!AN181)","v":""},{"$f":"IF(JAAFデータ貼り付け!AO181=\"\",\"\",JAAFデータ貼り付け!AO181)","v":""},{"$f":"IF(JAAFデータ貼り付け!AP181=\"\",\"\",JAAFデータ貼り付け!AP181)","v":""},{"$f":"IF(JAAFデータ貼り付け!AQ181=\"\",\"\",JAAFデータ貼り付け!AQ181)","v":""}]
[{"$f":"IF(JAAFデータ貼り付け!E182=\"\",\"\",JAAFデータ貼り付け!E182)","v":""},{"$f":"IF(JAAFデータ貼り付け!B182=\"\",\"\",JAAFデータ貼り付け!B182)","v":""},{"$f":"IF(JAAFデータ貼り付け!C182=\"\",\"\",JAAFデータ貼り付け!C182)","v":""},{"$f":"IF(JAAFデータ貼り付け!D182=\"\",\"\",JAAFデータ貼り付け!D182)","v":""},null,{"$f":"IF(フリガナ貼り付け!D182=\"\",\"\",フリガナ貼り付け!D182)","v":""},{"$f":"IF(フリガナ貼り付け!E182=\"\",\"\",フリガナ貼り付け!E182)","v":""},{"$f":"IF(JAAFデータ貼り付け!H182=\"\",\"\",JAAFデータ貼り付け!H182)","v":""},{"$f":"IF(JAAFデータ貼り付け!I182=\"\",\"\",JAAFデータ貼り付け!I182)","v":""},{"$f":"IF(JAAFデータ貼り付け!J182=\"\",\"\",JAAFデータ貼り付け!J182)","v":""},{"$f":"IF(JAAFデータ貼り付け!K182=\"\",\"\",JAAFデータ貼り付け!K182)","v":""},{"$f":"IF(JAAFデータ貼り付け!L182=\"\",\"\",JAAFデータ貼り付け!L182)","v":""},{"$f":"IF(JAAFデータ貼り付け!M182=\"\",\"\",JAAFデータ貼り付け!M182)","v":""},{"$f":"IF(JAAFデータ貼り付け!N182=\"\",\"\",JAAFデータ貼り付け!N182)","v":""},{"$f":"IF(JAAFデータ貼り付け!O182=\"\",\"\",JAAFデータ貼り付け!O182)","v":""},{"$f":"IF(JAAFデータ貼り付け!P182=\"\",\"\",JAAFデータ貼り付け!P182)","v":""},{"$f":"IF(JAAFデータ貼り付け!Q182=\"\",\"\",JAAFデータ貼り付け!Q182)","v":""},{"$f":"IF(JAAFデータ貼り付け!R182=\"\",\"\",JAAFデータ貼り付け!R182)","v":""},{"$f":"生年月日貼り付け!E182&生年月日貼り付け!F182&生年月日貼り付け!G182","v":"000"},{"$f":"IF(JAAFデータ貼り付け!T182=\"\",\"\",JAAFデータ貼り付け!T182)","v":""},{"$f":"IF(JAAFデータ貼り付け!U182=\"\",\"\",JAAFデータ貼り付け!U182)","v":""},{"$f":"IF(Sheet5!B182=\"\",\"\",Sheet5!B182)","v":"0"},{"$f":"IF(JAAFデータ貼り付け!W182=\"\",\"\",JAAFデータ貼り付け!W182)","v":""},{"$f":"IF(JAAFデータ貼り付け!X182=\"\",\"\",JAAFデータ貼り付け!X182)","v":""},{"$f":"IF(JAAFデータ貼り付け!Y182=\"\",\"\",JAAFデータ貼り付け!Y182)","v":""},{"$f":"IF(JAAFデータ貼り付け!Z182=\"\",\"\",JAAFデータ貼り付け!Z182)","v":""},{"$f":"IF(JAAFデータ貼り付け!AA182=\"\",\"\",JAAFデータ貼り付け!AA182)","v":""},{"$f":"IF(JAAFデータ貼り付け!AB182=\"\",\"\",JAAFデータ貼り付け!AB182)","v":""},{"$f":"IF(JAAFデータ貼り付け!AC182=\"\",\"\",JAAFデータ貼り付け!AC182)","v":""},{"$f":"IF(JAAFデータ貼り付け!AD182=\"\",\"\",JAAFデータ貼り付け!AD182)","v":""},{"$f":"IF(JAAFデータ貼り付け!AE182=\"\",\"\",JAAFデータ貼り付け!AE182)","v":""},{"$f":"IF(JAAFデータ貼り付け!AF182=\"\",\"\",JAAFデータ貼り付け!AF182)","v":""},{"$f":"IF(JAAFデータ貼り付け!AG182=\"\",\"\",JAAFデータ貼り付け!AG182)","v":""},{"$f":"IF(JAAFデータ貼り付け!AH182=\"\",\"\",JAAFデータ貼り付け!AH182)","v":""},{"$f":"IF(JAAFデータ貼り付け!AI182=\"\",\"\",JAAFデータ貼り付け!AI182)","v":""},{"$f":"IF(JAAFデータ貼り付け!AJ182=\"\",\"\",JAAFデータ貼り付け!AJ182)","v":""},{"$f":"IF(JAAFデータ貼り付け!AK182=\"\",\"\",JAAFデータ貼り付け!AK182)","v":""},{"$f":"IF(JAAFデータ貼り付け!AL182=\"\",\"\",JAAFデータ貼り付け!AL182)","v":""},{"$f":"IF(JAAFデータ貼り付け!AM182=\"\",\"\",JAAFデータ貼り付け!AM182)","v":""},{"$f":"IF(JAAFデータ貼り付け!AN182=\"\",\"\",JAAFデータ貼り付け!AN182)","v":""},{"$f":"IF(JAAFデータ貼り付け!AO182=\"\",\"\",JAAFデータ貼り付け!AO182)","v":""},{"$f":"IF(JAAFデータ貼り付け!AP182=\"\",\"\",JAAFデータ貼り付け!AP182)","v":""},{"$f":"IF(JAAFデータ貼り付け!AQ182=\"\",\"\",JAAFデータ貼り付け!AQ182)","v":""}]
[{"$f":"IF(JAAFデータ貼り付け!E183=\"\",\"\",JAAFデータ貼り付け!E183)","v":""},{"$f":"IF(JAAFデータ貼り付け!B183=\"\",\"\",JAAFデータ貼り付け!B183)","v":""},{"$f":"IF(JAAFデータ貼り付け!C183=\"\",\"\",JAAFデータ貼り付け!C183)","v":""},{"$f":"IF(JAAFデータ貼り付け!D183=\"\",\"\",JAAFデータ貼り付け!D183)","v":""},null,{"$f":"IF(フリガナ貼り付け!D183=\"\",\"\",フリガナ貼り付け!D183)","v":""},{"$f":"IF(フリガナ貼り付け!E183=\"\",\"\",フリガナ貼り付け!E183)","v":""},{"$f":"IF(JAAFデータ貼り付け!H183=\"\",\"\",JAAFデータ貼り付け!H183)","v":""},{"$f":"IF(JAAFデータ貼り付け!I183=\"\",\"\",JAAFデータ貼り付け!I183)","v":""},{"$f":"IF(JAAFデータ貼り付け!J183=\"\",\"\",JAAFデータ貼り付け!J183)","v":""},{"$f":"IF(JAAFデータ貼り付け!K183=\"\",\"\",JAAFデータ貼り付け!K183)","v":""},{"$f":"IF(JAAFデータ貼り付け!L183=\"\",\"\",JAAFデータ貼り付け!L183)","v":""},{"$f":"IF(JAAFデータ貼り付け!M183=\"\",\"\",JAAFデータ貼り付け!M183)","v":""},{"$f":"IF(JAAFデータ貼り付け!N183=\"\",\"\",JAAFデータ貼り付け!N183)","v":""},{"$f":"IF(JAAFデータ貼り付け!O183=\"\",\"\",JAAFデータ貼り付け!O183)","v":""},{"$f":"IF(JAAFデータ貼り付け!P183=\"\",\"\",JAAFデータ貼り付け!P183)","v":""},{"$f":"IF(JAAFデータ貼り付け!Q183=\"\",\"\",JAAFデータ貼り付け!Q183)","v":""},{"$f":"IF(JAAFデータ貼り付け!R183=\"\",\"\",JAAFデータ貼り付け!R183)","v":""},{"$f":"生年月日貼り付け!E183&生年月日貼り付け!F183&生年月日貼り付け!G183","v":"000"},{"$f":"IF(JAAFデータ貼り付け!T183=\"\",\"\",JAAFデータ貼り付け!T183)","v":""},{"$f":"IF(JAAFデータ貼り付け!U183=\"\",\"\",JAAFデータ貼り付け!U183)","v":""},{"$f":"IF(Sheet5!B183=\"\",\"\",Sheet5!B183)","v":"0"},{"$f":"IF(JAAFデータ貼り付け!W183=\"\",\"\",JAAFデータ貼り付け!W183)","v":""},{"$f":"IF(JAAFデータ貼り付け!X183=\"\",\"\",JAAFデータ貼り付け!X183)","v":""},{"$f":"IF(JAAFデータ貼り付け!Y183=\"\",\"\",JAAFデータ貼り付け!Y183)","v":""},{"$f":"IF(JAAFデータ貼り付け!Z183=\"\",\"\",JAAFデータ貼り付け!Z183)","v":""},{"$f":"IF(JAAFデータ貼り付け!AA183=\"\",\"\",JAAFデータ貼り付け!AA183)","v":""},{"$f":"IF(JAAFデータ貼り付け!AB183=\"\",\"\",JAAFデータ貼り付け!AB183)","v":""},{"$f":"IF(JAAFデータ貼り付け!AC183=\"\",\"\",JAAFデータ貼り付け!AC183)","v":""},{"$f":"IF(JAAFデータ貼り付け!AD183=\"\",\"\",JAAFデータ貼り付け!AD183)","v":""},{"$f":"IF(JAAFデータ貼り付け!AE183=\"\",\"\",JAAFデータ貼り付け!AE183)","v":""},{"$f":"IF(JAAFデータ貼り付け!AF183=\"\",\"\",JAAFデータ貼り付け!AF183)","v":""},{"$f":"IF(JAAFデータ貼り付け!AG183=\"\",\"\",JAAFデータ貼り付け!AG183)","v":""},{"$f":"IF(JAAFデータ貼り付け!AH183=\"\",\"\",JAAFデータ貼り付け!AH183)","v":""},{"$f":"IF(JAAFデータ貼り付け!AI183=\"\",\"\",JAAFデータ貼り付け!AI183)","v":""},{"$f":"IF(JAAFデータ貼り付け!AJ183=\"\",\"\",JAAFデータ貼り付け!AJ183)","v":""},{"$f":"IF(JAAFデータ貼り付け!AK183=\"\",\"\",JAAFデータ貼り付け!AK183)","v":""},{"$f":"IF(JAAFデータ貼り付け!AL183=\"\",\"\",JAAFデータ貼り付け!AL183)","v":""},{"$f":"IF(JAAFデータ貼り付け!AM183=\"\",\"\",JAAFデータ貼り付け!AM183)","v":""},{"$f":"IF(JAAFデータ貼り付け!AN183=\"\",\"\",JAAFデータ貼り付け!AN183)","v":""},{"$f":"IF(JAAFデータ貼り付け!AO183=\"\",\"\",JAAFデータ貼り付け!AO183)","v":""},{"$f":"IF(JAAFデータ貼り付け!AP183=\"\",\"\",JAAFデータ貼り付け!AP183)","v":""},{"$f":"IF(JAAFデータ貼り付け!AQ183=\"\",\"\",JAAFデータ貼り付け!AQ183)","v":""}]
[{"$f":"IF(JAAFデータ貼り付け!E184=\"\",\"\",JAAFデータ貼り付け!E184)","v":""},{"$f":"IF(JAAFデータ貼り付け!B184=\"\",\"\",JAAFデータ貼り付け!B184)","v":""},{"$f":"IF(JAAFデータ貼り付け!C184=\"\",\"\",JAAFデータ貼り付け!C184)","v":""},{"$f":"IF(JAAFデータ貼り付け!D184=\"\",\"\",JAAFデータ貼り付け!D184)","v":""},null,{"$f":"IF(フリガナ貼り付け!D184=\"\",\"\",フリガナ貼り付け!D184)","v":""},{"$f":"IF(フリガナ貼り付け!E184=\"\",\"\",フリガナ貼り付け!E184)","v":""},{"$f":"IF(JAAFデータ貼り付け!H184=\"\",\"\",JAAFデータ貼り付け!H184)","v":""},{"$f":"IF(JAAFデータ貼り付け!I184=\"\",\"\",JAAFデータ貼り付け!I184)","v":""},{"$f":"IF(JAAFデータ貼り付け!J184=\"\",\"\",JAAFデータ貼り付け!J184)","v":""},{"$f":"IF(JAAFデータ貼り付け!K184=\"\",\"\",JAAFデータ貼り付け!K184)","v":""},{"$f":"IF(JAAFデータ貼り付け!L184=\"\",\"\",JAAFデータ貼り付け!L184)","v":""},{"$f":"IF(JAAFデータ貼り付け!M184=\"\",\"\",JAAFデータ貼り付け!M184)","v":""},{"$f":"IF(JAAFデータ貼り付け!N184=\"\",\"\",JAAFデータ貼り付け!N184)","v":""},{"$f":"IF(JAAFデータ貼り付け!O184=\"\",\"\",JAAFデータ貼り付け!O184)","v":""},{"$f":"IF(JAAFデータ貼り付け!P184=\"\",\"\",JAAFデータ貼り付け!P184)","v":""},{"$f":"IF(JAAFデータ貼り付け!Q184=\"\",\"\",JAAFデータ貼り付け!Q184)","v":""},{"$f":"IF(JAAFデータ貼り付け!R184=\"\",\"\",JAAFデータ貼り付け!R184)","v":""},{"$f":"生年月日貼り付け!E184&生年月日貼り付け!F184&生年月日貼り付け!G184","v":"000"},{"$f":"IF(JAAFデータ貼り付け!T184=\"\",\"\",JAAFデータ貼り付け!T184)","v":""},{"$f":"IF(JAAFデータ貼り付け!U184=\"\",\"\",JAAFデータ貼り付け!U184)","v":""},{"$f":"IF(Sheet5!B184=\"\",\"\",Sheet5!B184)","v":"0"},{"$f":"IF(JAAFデータ貼り付け!W184=\"\",\"\",JAAFデータ貼り付け!W184)","v":""},{"$f":"IF(JAAFデータ貼り付け!X184=\"\",\"\",JAAFデータ貼り付け!X184)","v":""},{"$f":"IF(JAAFデータ貼り付け!Y184=\"\",\"\",JAAFデータ貼り付け!Y184)","v":""},{"$f":"IF(JAAFデータ貼り付け!Z184=\"\",\"\",JAAFデータ貼り付け!Z184)","v":""},{"$f":"IF(JAAFデータ貼り付け!AA184=\"\",\"\",JAAFデータ貼り付け!AA184)","v":""},{"$f":"IF(JAAFデータ貼り付け!AB184=\"\",\"\",JAAFデータ貼り付け!AB184)","v":""},{"$f":"IF(JAAFデータ貼り付け!AC184=\"\",\"\",JAAFデータ貼り付け!AC184)","v":""},{"$f":"IF(JAAFデータ貼り付け!AD184=\"\",\"\",JAAFデータ貼り付け!AD184)","v":""},{"$f":"IF(JAAFデータ貼り付け!AE184=\"\",\"\",JAAFデータ貼り付け!AE184)","v":""},{"$f":"IF(JAAFデータ貼り付け!AF184=\"\",\"\",JAAFデータ貼り付け!AF184)","v":""},{"$f":"IF(JAAFデータ貼り付け!AG184=\"\",\"\",JAAFデータ貼り付け!AG184)","v":""},{"$f":"IF(JAAFデータ貼り付け!AH184=\"\",\"\",JAAFデータ貼り付け!AH184)","v":""},{"$f":"IF(JAAFデータ貼り付け!AI184=\"\",\"\",JAAFデータ貼り付け!AI184)","v":""},{"$f":"IF(JAAFデータ貼り付け!AJ184=\"\",\"\",JAAFデータ貼り付け!AJ184)","v":""},{"$f":"IF(JAAFデータ貼り付け!AK184=\"\",\"\",JAAFデータ貼り付け!AK184)","v":""},{"$f":"IF(JAAFデータ貼り付け!AL184=\"\",\"\",JAAFデータ貼り付け!AL184)","v":""},{"$f":"IF(JAAFデータ貼り付け!AM184=\"\",\"\",JAAFデータ貼り付け!AM184)","v":""},{"$f":"IF(JAAFデータ貼り付け!AN184=\"\",\"\",JAAFデータ貼り付け!AN184)","v":""},{"$f":"IF(JAAFデータ貼り付け!AO184=\"\",\"\",JAAFデータ貼り付け!AO184)","v":""},{"$f":"IF(JAAFデータ貼り付け!AP184=\"\",\"\",JAAFデータ貼り付け!AP184)","v":""},{"$f":"IF(JAAFデータ貼り付け!AQ184=\"\",\"\",JAAFデータ貼り付け!AQ184)","v":""}]
[{"$f":"IF(JAAFデータ貼り付け!E185=\"\",\"\",JAAFデータ貼り付け!E185)","v":""},{"$f":"IF(JAAFデータ貼り付け!B185=\"\",\"\",JAAFデータ貼り付け!B185)","v":""},{"$f":"IF(JAAFデータ貼り付け!C185=\"\",\"\",JAAFデータ貼り付け!C185)","v":""},{"$f":"IF(JAAFデータ貼り付け!D185=\"\",\"\",JAAFデータ貼り付け!D185)","v":""},null,{"$f":"IF(フリガナ貼り付け!D185=\"\",\"\",フリガナ貼り付け!D185)","v":""},{"$f":"IF(フリガナ貼り付け!E185=\"\",\"\",フリガナ貼り付け!E185)","v":""},{"$f":"IF(JAAFデータ貼り付け!H185=\"\",\"\",JAAFデータ貼り付け!H185)","v":""},{"$f":"IF(JAAFデータ貼り付け!I185=\"\",\"\",JAAFデータ貼り付け!I185)","v":""},{"$f":"IF(JAAFデータ貼り付け!J185=\"\",\"\",JAAFデータ貼り付け!J185)","v":""},{"$f":"IF(JAAFデータ貼り付け!K185=\"\",\"\",JAAFデータ貼り付け!K185)","v":""},{"$f":"IF(JAAFデータ貼り付け!L185=\"\",\"\",JAAFデータ貼り付け!L185)","v":""},{"$f":"IF(JAAFデータ貼り付け!M185=\"\",\"\",JAAFデータ貼り付け!M185)","v":""},{"$f":"IF(JAAFデータ貼り付け!N185=\"\",\"\",JAAFデータ貼り付け!N185)","v":""},{"$f":"IF(JAAFデータ貼り付け!O185=\"\",\"\",JAAFデータ貼り付け!O185)","v":""},{"$f":"IF(JAAFデータ貼り付け!P185=\"\",\"\",JAAFデータ貼り付け!P185)","v":""},{"$f":"IF(JAAFデータ貼り付け!Q185=\"\",\"\",JAAFデータ貼り付け!Q185)","v":""},{"$f":"IF(JAAFデータ貼り付け!R185=\"\",\"\",JAAFデータ貼り付け!R185)","v":""},{"$f":"生年月日貼り付け!E185&生年月日貼り付け!F185&生年月日貼り付け!G185","v":"000"},{"$f":"IF(JAAFデータ貼り付け!T185=\"\",\"\",JAAFデータ貼り付け!T185)","v":""},{"$f":"IF(JAAFデータ貼り付け!U185=\"\",\"\",JAAFデータ貼り付け!U185)","v":""},{"$f":"IF(Sheet5!B185=\"\",\"\",Sheet5!B185)","v":"0"},{"$f":"IF(JAAFデータ貼り付け!W185=\"\",\"\",JAAFデータ貼り付け!W185)","v":""},{"$f":"IF(JAAFデータ貼り付け!X185=\"\",\"\",JAAFデータ貼り付け!X185)","v":""},{"$f":"IF(JAAFデータ貼り付け!Y185=\"\",\"\",JAAFデータ貼り付け!Y185)","v":""},{"$f":"IF(JAAFデータ貼り付け!Z185=\"\",\"\",JAAFデータ貼り付け!Z185)","v":""},{"$f":"IF(JAAFデータ貼り付け!AA185=\"\",\"\",JAAFデータ貼り付け!AA185)","v":""},{"$f":"IF(JAAFデータ貼り付け!AB185=\"\",\"\",JAAFデータ貼り付け!AB185)","v":""},{"$f":"IF(JAAFデータ貼り付け!AC185=\"\",\"\",JAAFデータ貼り付け!AC185)","v":""},{"$f":"IF(JAAFデータ貼り付け!AD185=\"\",\"\",JAAFデータ貼り付け!AD185)","v":""},{"$f":"IF(JAAFデータ貼り付け!AE185=\"\",\"\",JAAFデータ貼り付け!AE185)","v":""},{"$f":"IF(JAAFデータ貼り付け!AF185=\"\",\"\",JAAFデータ貼り付け!AF185)","v":""},{"$f":"IF(JAAFデータ貼り付け!AG185=\"\",\"\",JAAFデータ貼り付け!AG185)","v":""},{"$f":"IF(JAAFデータ貼り付け!AH185=\"\",\"\",JAAFデータ貼り付け!AH185)","v":""},{"$f":"IF(JAAFデータ貼り付け!AI185=\"\",\"\",JAAFデータ貼り付け!AI185)","v":""},{"$f":"IF(JAAFデータ貼り付け!AJ185=\"\",\"\",JAAFデータ貼り付け!AJ185)","v":""},{"$f":"IF(JAAFデータ貼り付け!AK185=\"\",\"\",JAAFデータ貼り付け!AK185)","v":""},{"$f":"IF(JAAFデータ貼り付け!AL185=\"\",\"\",JAAFデータ貼り付け!AL185)","v":""},{"$f":"IF(JAAFデータ貼り付け!AM185=\"\",\"\",JAAFデータ貼り付け!AM185)","v":""},{"$f":"IF(JAAFデータ貼り付け!AN185=\"\",\"\",JAAFデータ貼り付け!AN185)","v":""},{"$f":"IF(JAAFデータ貼り付け!AO185=\"\",\"\",JAAFデータ貼り付け!AO185)","v":""},{"$f":"IF(JAAFデータ貼り付け!AP185=\"\",\"\",JAAFデータ貼り付け!AP185)","v":""},{"$f":"IF(JAAFデータ貼り付け!AQ185=\"\",\"\",JAAFデータ貼り付け!AQ185)","v":""}]
[{"$f":"IF(JAAFデータ貼り付け!E186=\"\",\"\",JAAFデータ貼り付け!E186)","v":""},{"$f":"IF(JAAFデータ貼り付け!B186=\"\",\"\",JAAFデータ貼り付け!B186)","v":""},{"$f":"IF(JAAFデータ貼り付け!C186=\"\",\"\",JAAFデータ貼り付け!C186)","v":""},{"$f":"IF(JAAFデータ貼り付け!D186=\"\",\"\",JAAFデータ貼り付け!D186)","v":""},null,{"$f":"IF(フリガナ貼り付け!D186=\"\",\"\",フリガナ貼り付け!D186)","v":""},{"$f":"IF(フリガナ貼り付け!E186=\"\",\"\",フリガナ貼り付け!E186)","v":""},{"$f":"IF(JAAFデータ貼り付け!H186=\"\",\"\",JAAFデータ貼り付け!H186)","v":""},{"$f":"IF(JAAFデータ貼り付け!I186=\"\",\"\",JAAFデータ貼り付け!I186)","v":""},{"$f":"IF(JAAFデータ貼り付け!J186=\"\",\"\",JAAFデータ貼り付け!J186)","v":""},{"$f":"IF(JAAFデータ貼り付け!K186=\"\",\"\",JAAFデータ貼り付け!K186)","v":""},{"$f":"IF(JAAFデータ貼り付け!L186=\"\",\"\",JAAFデータ貼り付け!L186)","v":""},{"$f":"IF(JAAFデータ貼り付け!M186=\"\",\"\",JAAFデータ貼り付け!M186)","v":""},{"$f":"IF(JAAFデータ貼り付け!N186=\"\",\"\",JAAFデータ貼り付け!N186)","v":""},{"$f":"IF(JAAFデータ貼り付け!O186=\"\",\"\",JAAFデータ貼り付け!O186)","v":""},{"$f":"IF(JAAFデータ貼り付け!P186=\"\",\"\",JAAFデータ貼り付け!P186)","v":""},{"$f":"IF(JAAFデータ貼り付け!Q186=\"\",\"\",JAAFデータ貼り付け!Q186)","v":""},{"$f":"IF(JAAFデータ貼り付け!R186=\"\",\"\",JAAFデータ貼り付け!R186)","v":""},{"$f":"生年月日貼り付け!E186&生年月日貼り付け!F186&生年月日貼り付け!G186","v":"000"},{"$f":"IF(JAAFデータ貼り付け!T186=\"\",\"\",JAAFデータ貼り付け!T186)","v":""},{"$f":"IF(JAAFデータ貼り付け!U186=\"\",\"\",JAAFデータ貼り付け!U186)","v":""},{"$f":"IF(Sheet5!B186=\"\",\"\",Sheet5!B186)","v":"0"},{"$f":"IF(JAAFデータ貼り付け!W186=\"\",\"\",JAAFデータ貼り付け!W186)","v":""},{"$f":"IF(JAAFデータ貼り付け!X186=\"\",\"\",JAAFデータ貼り付け!X186)","v":""},{"$f":"IF(JAAFデータ貼り付け!Y186=\"\",\"\",JAAFデータ貼り付け!Y186)","v":""},{"$f":"IF(JAAFデータ貼り付け!Z186=\"\",\"\",JAAFデータ貼り付け!Z186)","v":""},{"$f":"IF(JAAFデータ貼り付け!AA186=\"\",\"\",JAAFデータ貼り付け!AA186)","v":""},{"$f":"IF(JAAFデータ貼り付け!AB186=\"\",\"\",JAAFデータ貼り付け!AB186)","v":""},{"$f":"IF(JAAFデータ貼り付け!AC186=\"\",\"\",JAAFデータ貼り付け!AC186)","v":""},{"$f":"IF(JAAFデータ貼り付け!AD186=\"\",\"\",JAAFデータ貼り付け!AD186)","v":""},{"$f":"IF(JAAFデータ貼り付け!AE186=\"\",\"\",JAAFデータ貼り付け!AE186)","v":""},{"$f":"IF(JAAFデータ貼り付け!AF186=\"\",\"\",JAAFデータ貼り付け!AF186)","v":""},{"$f":"IF(JAAFデータ貼り付け!AG186=\"\",\"\",JAAFデータ貼り付け!AG186)","v":""},{"$f":"IF(JAAFデータ貼り付け!AH186=\"\",\"\",JAAFデータ貼り付け!AH186)","v":""},{"$f":"IF(JAAFデータ貼り付け!AI186=\"\",\"\",JAAFデータ貼り付け!AI186)","v":""},{"$f":"IF(JAAFデータ貼り付け!AJ186=\"\",\"\",JAAFデータ貼り付け!AJ186)","v":""},{"$f":"IF(JAAFデータ貼り付け!AK186=\"\",\"\",JAAFデータ貼り付け!AK186)","v":""},{"$f":"IF(JAAFデータ貼り付け!AL186=\"\",\"\",JAAFデータ貼り付け!AL186)","v":""},{"$f":"IF(JAAFデータ貼り付け!AM186=\"\",\"\",JAAFデータ貼り付け!AM186)","v":""},{"$f":"IF(JAAFデータ貼り付け!AN186=\"\",\"\",JAAFデータ貼り付け!AN186)","v":""},{"$f":"IF(JAAFデータ貼り付け!AO186=\"\",\"\",JAAFデータ貼り付け!AO186)","v":""},{"$f":"IF(JAAFデータ貼り付け!AP186=\"\",\"\",JAAFデータ貼り付け!AP186)","v":""},{"$f":"IF(JAAFデータ貼り付け!AQ186=\"\",\"\",JAAFデータ貼り付け!AQ186)","v":""}]
[{"$f":"IF(JAAFデータ貼り付け!E187=\"\",\"\",JAAFデータ貼り付け!E187)","v":""},{"$f":"IF(JAAFデータ貼り付け!B187=\"\",\"\",JAAFデータ貼り付け!B187)","v":""},{"$f":"IF(JAAFデータ貼り付け!C187=\"\",\"\",JAAFデータ貼り付け!C187)","v":""},{"$f":"IF(JAAFデータ貼り付け!D187=\"\",\"\",JAAFデータ貼り付け!D187)","v":""},null,{"$f":"IF(フリガナ貼り付け!D187=\"\",\"\",フリガナ貼り付け!D187)","v":""},{"$f":"IF(フリガナ貼り付け!E187=\"\",\"\",フリガナ貼り付け!E187)","v":""},{"$f":"IF(JAAFデータ貼り付け!H187=\"\",\"\",JAAFデータ貼り付け!H187)","v":""},{"$f":"IF(JAAFデータ貼り付け!I187=\"\",\"\",JAAFデータ貼り付け!I187)","v":""},{"$f":"IF(JAAFデータ貼り付け!J187=\"\",\"\",JAAFデータ貼り付け!J187)","v":""},{"$f":"IF(JAAFデータ貼り付け!K187=\"\",\"\",JAAFデータ貼り付け!K187)","v":""},{"$f":"IF(JAAFデータ貼り付け!L187=\"\",\"\",JAAFデータ貼り付け!L187)","v":""},{"$f":"IF(JAAFデータ貼り付け!M187=\"\",\"\",JAAFデータ貼り付け!M187)","v":""},{"$f":"IF(JAAFデータ貼り付け!N187=\"\",\"\",JAAFデータ貼り付け!N187)","v":""},{"$f":"IF(JAAFデータ貼り付け!O187=\"\",\"\",JAAFデータ貼り付け!O187)","v":""},{"$f":"IF(JAAFデータ貼り付け!P187=\"\",\"\",JAAFデータ貼り付け!P187)","v":""},{"$f":"IF(JAAFデータ貼り付け!Q187=\"\",\"\",JAAFデータ貼り付け!Q187)","v":""},{"$f":"IF(JAAFデータ貼り付け!R187=\"\",\"\",JAAFデータ貼り付け!R187)","v":""},{"$f":"生年月日貼り付け!E187&生年月日貼り付け!F187&生年月日貼り付け!G187","v":"000"},{"$f":"IF(JAAFデータ貼り付け!T187=\"\",\"\",JAAFデータ貼り付け!T187)","v":""},{"$f":"IF(JAAFデータ貼り付け!U187=\"\",\"\",JAAFデータ貼り付け!U187)","v":""},{"$f":"IF(Sheet5!B187=\"\",\"\",Sheet5!B187)","v":"0"},{"$f":"IF(JAAFデータ貼り付け!W187=\"\",\"\",JAAFデータ貼り付け!W187)","v":""},{"$f":"IF(JAAFデータ貼り付け!X187=\"\",\"\",JAAFデータ貼り付け!X187)","v":""},{"$f":"IF(JAAFデータ貼り付け!Y187=\"\",\"\",JAAFデータ貼り付け!Y187)","v":""},{"$f":"IF(JAAFデータ貼り付け!Z187=\"\",\"\",JAAFデータ貼り付け!Z187)","v":""},{"$f":"IF(JAAFデータ貼り付け!AA187=\"\",\"\",JAAFデータ貼り付け!AA187)","v":""},{"$f":"IF(JAAFデータ貼り付け!AB187=\"\",\"\",JAAFデータ貼り付け!AB187)","v":""},{"$f":"IF(JAAFデータ貼り付け!AC187=\"\",\"\",JAAFデータ貼り付け!AC187)","v":""},{"$f":"IF(JAAFデータ貼り付け!AD187=\"\",\"\",JAAFデータ貼り付け!AD187)","v":""},{"$f":"IF(JAAFデータ貼り付け!AE187=\"\",\"\",JAAFデータ貼り付け!AE187)","v":""},{"$f":"IF(JAAFデータ貼り付け!AF187=\"\",\"\",JAAFデータ貼り付け!AF187)","v":""},{"$f":"IF(JAAFデータ貼り付け!AG187=\"\",\"\",JAAFデータ貼り付け!AG187)","v":""},{"$f":"IF(JAAFデータ貼り付け!AH187=\"\",\"\",JAAFデータ貼り付け!AH187)","v":""},{"$f":"IF(JAAFデータ貼り付け!AI187=\"\",\"\",JAAFデータ貼り付け!AI187)","v":""},{"$f":"IF(JAAFデータ貼り付け!AJ187=\"\",\"\",JAAFデータ貼り付け!AJ187)","v":""},{"$f":"IF(JAAFデータ貼り付け!AK187=\"\",\"\",JAAFデータ貼り付け!AK187)","v":""},{"$f":"IF(JAAFデータ貼り付け!AL187=\"\",\"\",JAAFデータ貼り付け!AL187)","v":""},{"$f":"IF(JAAFデータ貼り付け!AM187=\"\",\"\",JAAFデータ貼り付け!AM187)","v":""},{"$f":"IF(JAAFデータ貼り付け!AN187=\"\",\"\",JAAFデータ貼り付け!AN187)","v":""},{"$f":"IF(JAAFデータ貼り付け!AO187=\"\",\"\",JAAFデータ貼り付け!AO187)","v":""},{"$f":"IF(JAAFデータ貼り付け!AP187=\"\",\"\",JAAFデータ貼り付け!AP187)","v":""},{"$f":"IF(JAAFデータ貼り付け!AQ187=\"\",\"\",JAAFデータ貼り付け!AQ187)","v":""}]
[{"$f":"IF(JAAFデータ貼り付け!E188=\"\",\"\",JAAFデータ貼り付け!E188)","v":""},{"$f":"IF(JAAFデータ貼り付け!B188=\"\",\"\",JAAFデータ貼り付け!B188)","v":""},{"$f":"IF(JAAFデータ貼り付け!C188=\"\",\"\",JAAFデータ貼り付け!C188)","v":""},{"$f":"IF(JAAFデータ貼り付け!D188=\"\",\"\",JAAFデータ貼り付け!D188)","v":""},null,{"$f":"IF(フリガナ貼り付け!D188=\"\",\"\",フリガナ貼り付け!D188)","v":""},{"$f":"IF(フリガナ貼り付け!E188=\"\",\"\",フリガナ貼り付け!E188)","v":""},{"$f":"IF(JAAFデータ貼り付け!H188=\"\",\"\",JAAFデータ貼り付け!H188)","v":""},{"$f":"IF(JAAFデータ貼り付け!I188=\"\",\"\",JAAFデータ貼り付け!I188)","v":""},{"$f":"IF(JAAFデータ貼り付け!J188=\"\",\"\",JAAFデータ貼り付け!J188)","v":""},{"$f":"IF(JAAFデータ貼り付け!K188=\"\",\"\",JAAFデータ貼り付け!K188)","v":""},{"$f":"IF(JAAFデータ貼り付け!L188=\"\",\"\",JAAFデータ貼り付け!L188)","v":""},{"$f":"IF(JAAFデータ貼り付け!M188=\"\",\"\",JAAFデータ貼り付け!M188)","v":""},{"$f":"IF(JAAFデータ貼り付け!N188=\"\",\"\",JAAFデータ貼り付け!N188)","v":""},{"$f":"IF(JAAFデータ貼り付け!O188=\"\",\"\",JAAFデータ貼り付け!O188)","v":""},{"$f":"IF(JAAFデータ貼り付け!P188=\"\",\"\",JAAFデータ貼り付け!P188)","v":""},{"$f":"IF(JAAFデータ貼り付け!Q188=\"\",\"\",JAAFデータ貼り付け!Q188)","v":""},{"$f":"IF(JAAFデータ貼り付け!R188=\"\",\"\",JAAFデータ貼り付け!R188)","v":""},{"$f":"生年月日貼り付け!E188&生年月日貼り付け!F188&生年月日貼り付け!G188","v":"000"},{"$f":"IF(JAAFデータ貼り付け!T188=\"\",\"\",JAAFデータ貼り付け!T188)","v":""},{"$f":"IF(JAAFデータ貼り付け!U188=\"\",\"\",JAAFデータ貼り付け!U188)","v":""},{"$f":"IF(Sheet5!B188=\"\",\"\",Sheet5!B188)","v":"0"},{"$f":"IF(JAAFデータ貼り付け!W188=\"\",\"\",JAAFデータ貼り付け!W188)","v":""},{"$f":"IF(JAAFデータ貼り付け!X188=\"\",\"\",JAAFデータ貼り付け!X188)","v":""},{"$f":"IF(JAAFデータ貼り付け!Y188=\"\",\"\",JAAFデータ貼り付け!Y188)","v":""},{"$f":"IF(JAAFデータ貼り付け!Z188=\"\",\"\",JAAFデータ貼り付け!Z188)","v":""},{"$f":"IF(JAAFデータ貼り付け!AA188=\"\",\"\",JAAFデータ貼り付け!AA188)","v":""},{"$f":"IF(JAAFデータ貼り付け!AB188=\"\",\"\",JAAFデータ貼り付け!AB188)","v":""},{"$f":"IF(JAAFデータ貼り付け!AC188=\"\",\"\",JAAFデータ貼り付け!AC188)","v":""},{"$f":"IF(JAAFデータ貼り付け!AD188=\"\",\"\",JAAFデータ貼り付け!AD188)","v":""},{"$f":"IF(JAAFデータ貼り付け!AE188=\"\",\"\",JAAFデータ貼り付け!AE188)","v":""},{"$f":"IF(JAAFデータ貼り付け!AF188=\"\",\"\",JAAFデータ貼り付け!AF188)","v":""},{"$f":"IF(JAAFデータ貼り付け!AG188=\"\",\"\",JAAFデータ貼り付け!AG188)","v":""},{"$f":"IF(JAAFデータ貼り付け!AH188=\"\",\"\",JAAFデータ貼り付け!AH188)","v":""},{"$f":"IF(JAAFデータ貼り付け!AI188=\"\",\"\",JAAFデータ貼り付け!AI188)","v":""},{"$f":"IF(JAAFデータ貼り付け!AJ188=\"\",\"\",JAAFデータ貼り付け!AJ188)","v":""},{"$f":"IF(JAAFデータ貼り付け!AK188=\"\",\"\",JAAFデータ貼り付け!AK188)","v":""},{"$f":"IF(JAAFデータ貼り付け!AL188=\"\",\"\",JAAFデータ貼り付け!AL188)","v":""},{"$f":"IF(JAAFデータ貼り付け!AM188=\"\",\"\",JAAFデータ貼り付け!AM188)","v":""},{"$f":"IF(JAAFデータ貼り付け!AN188=\"\",\"\",JAAFデータ貼り付け!AN188)","v":""},{"$f":"IF(JAAFデータ貼り付け!AO188=\"\",\"\",JAAFデータ貼り付け!AO188)","v":""},{"$f":"IF(JAAFデータ貼り付け!AP188=\"\",\"\",JAAFデータ貼り付け!AP188)","v":""},{"$f":"IF(JAAFデータ貼り付け!AQ188=\"\",\"\",JAAFデータ貼り付け!AQ188)","v":""}]
[{"$f":"IF(JAAFデータ貼り付け!E189=\"\",\"\",JAAFデータ貼り付け!E189)","v":""},{"$f":"IF(JAAFデータ貼り付け!B189=\"\",\"\",JAAFデータ貼り付け!B189)","v":""},{"$f":"IF(JAAFデータ貼り付け!C189=\"\",\"\",JAAFデータ貼り付け!C189)","v":""},{"$f":"IF(JAAFデータ貼り付け!D189=\"\",\"\",JAAFデータ貼り付け!D189)","v":""},null,{"$f":"IF(フリガナ貼り付け!D189=\"\",\"\",フリガナ貼り付け!D189)","v":""},{"$f":"IF(フリガナ貼り付け!E189=\"\",\"\",フリガナ貼り付け!E189)","v":""},{"$f":"IF(JAAFデータ貼り付け!H189=\"\",\"\",JAAFデータ貼り付け!H189)","v":""},{"$f":"IF(JAAFデータ貼り付け!I189=\"\",\"\",JAAFデータ貼り付け!I189)","v":""},{"$f":"IF(JAAFデータ貼り付け!J189=\"\",\"\",JAAFデータ貼り付け!J189)","v":""},{"$f":"IF(JAAFデータ貼り付け!K189=\"\",\"\",JAAFデータ貼り付け!K189)","v":""},{"$f":"IF(JAAFデータ貼り付け!L189=\"\",\"\",JAAFデータ貼り付け!L189)","v":""},{"$f":"IF(JAAFデータ貼り付け!M189=\"\",\"\",JAAFデータ貼り付け!M189)","v":""},{"$f":"IF(JAAFデータ貼り付け!N189=\"\",\"\",JAAFデータ貼り付け!N189)","v":""},{"$f":"IF(JAAFデータ貼り付け!O189=\"\",\"\",JAAFデータ貼り付け!O189)","v":""},{"$f":"IF(JAAFデータ貼り付け!P189=\"\",\"\",JAAFデータ貼り付け!P189)","v":""},{"$f":"IF(JAAFデータ貼り付け!Q189=\"\",\"\",JAAFデータ貼り付け!Q189)","v":""},{"$f":"IF(JAAFデータ貼り付け!R189=\"\",\"\",JAAFデータ貼り付け!R189)","v":""},{"$f":"生年月日貼り付け!E189&生年月日貼り付け!F189&生年月日貼り付け!G189","v":"000"},{"$f":"IF(JAAFデータ貼り付け!T189=\"\",\"\",JAAFデータ貼り付け!T189)","v":""},{"$f":"IF(JAAFデータ貼り付け!U189=\"\",\"\",JAAFデータ貼り付け!U189)","v":""},{"$f":"IF(Sheet5!B189=\"\",\"\",Sheet5!B189)","v":"0"},{"$f":"IF(JAAFデータ貼り付け!W189=\"\",\"\",JAAFデータ貼り付け!W189)","v":""},{"$f":"IF(JAAFデータ貼り付け!X189=\"\",\"\",JAAFデータ貼り付け!X189)","v":""},{"$f":"IF(JAAFデータ貼り付け!Y189=\"\",\"\",JAAFデータ貼り付け!Y189)","v":""},{"$f":"IF(JAAFデータ貼り付け!Z189=\"\",\"\",JAAFデータ貼り付け!Z189)","v":""},{"$f":"IF(JAAFデータ貼り付け!AA189=\"\",\"\",JAAFデータ貼り付け!AA189)","v":""},{"$f":"IF(JAAFデータ貼り付け!AB189=\"\",\"\",JAAFデータ貼り付け!AB189)","v":""},{"$f":"IF(JAAFデータ貼り付け!AC189=\"\",\"\",JAAFデータ貼り付け!AC189)","v":""},{"$f":"IF(JAAFデータ貼り付け!AD189=\"\",\"\",JAAFデータ貼り付け!AD189)","v":""},{"$f":"IF(JAAFデータ貼り付け!AE189=\"\",\"\",JAAFデータ貼り付け!AE189)","v":""},{"$f":"IF(JAAFデータ貼り付け!AF189=\"\",\"\",JAAFデータ貼り付け!AF189)","v":""},{"$f":"IF(JAAFデータ貼り付け!AG189=\"\",\"\",JAAFデータ貼り付け!AG189)","v":""},{"$f":"IF(JAAFデータ貼り付け!AH189=\"\",\"\",JAAFデータ貼り付け!AH189)","v":""},{"$f":"IF(JAAFデータ貼り付け!AI189=\"\",\"\",JAAFデータ貼り付け!AI189)","v":""},{"$f":"IF(JAAFデータ貼り付け!AJ189=\"\",\"\",JAAFデータ貼り付け!AJ189)","v":""},{"$f":"IF(JAAFデータ貼り付け!AK189=\"\",\"\",JAAFデータ貼り付け!AK189)","v":""},{"$f":"IF(JAAFデータ貼り付け!AL189=\"\",\"\",JAAFデータ貼り付け!AL189)","v":""},{"$f":"IF(JAAFデータ貼り付け!AM189=\"\",\"\",JAAFデータ貼り付け!AM189)","v":""},{"$f":"IF(JAAFデータ貼り付け!AN189=\"\",\"\",JAAFデータ貼り付け!AN189)","v":""},{"$f":"IF(JAAFデータ貼り付け!AO189=\"\",\"\",JAAFデータ貼り付け!AO189)","v":""},{"$f":"IF(JAAFデータ貼り付け!AP189=\"\",\"\",JAAFデータ貼り付け!AP189)","v":""},{"$f":"IF(JAAFデータ貼り付け!AQ189=\"\",\"\",JAAFデータ貼り付け!AQ189)","v":""}]
[{"$f":"IF(JAAFデータ貼り付け!E190=\"\",\"\",JAAFデータ貼り付け!E190)","v":""},{"$f":"IF(JAAFデータ貼り付け!B190=\"\",\"\",JAAFデータ貼り付け!B190)","v":""},{"$f":"IF(JAAFデータ貼り付け!C190=\"\",\"\",JAAFデータ貼り付け!C190)","v":""},{"$f":"IF(JAAFデータ貼り付け!D190=\"\",\"\",JAAFデータ貼り付け!D190)","v":""},null,{"$f":"IF(フリガナ貼り付け!D190=\"\",\"\",フリガナ貼り付け!D190)","v":""},{"$f":"IF(フリガナ貼り付け!E190=\"\",\"\",フリガナ貼り付け!E190)","v":""},{"$f":"IF(JAAFデータ貼り付け!H190=\"\",\"\",JAAFデータ貼り付け!H190)","v":""},{"$f":"IF(JAAFデータ貼り付け!I190=\"\",\"\",JAAFデータ貼り付け!I190)","v":""},{"$f":"IF(JAAFデータ貼り付け!J190=\"\",\"\",JAAFデータ貼り付け!J190)","v":""},{"$f":"IF(JAAFデータ貼り付け!K190=\"\",\"\",JAAFデータ貼り付け!K190)","v":""},{"$f":"IF(JAAFデータ貼り付け!L190=\"\",\"\",JAAFデータ貼り付け!L190)","v":""},{"$f":"IF(JAAFデータ貼り付け!M190=\"\",\"\",JAAFデータ貼り付け!M190)","v":""},{"$f":"IF(JAAFデータ貼り付け!N190=\"\",\"\",JAAFデータ貼り付け!N190)","v":""},{"$f":"IF(JAAFデータ貼り付け!O190=\"\",\"\",JAAFデータ貼り付け!O190)","v":""},{"$f":"IF(JAAFデータ貼り付け!P190=\"\",\"\",JAAFデータ貼り付け!P190)","v":""},{"$f":"IF(JAAFデータ貼り付け!Q190=\"\",\"\",JAAFデータ貼り付け!Q190)","v":""},{"$f":"IF(JAAFデータ貼り付け!R190=\"\",\"\",JAAFデータ貼り付け!R190)","v":""},{"$f":"生年月日貼り付け!E190&生年月日貼り付け!F190&生年月日貼り付け!G190","v":"000"},{"$f":"IF(JAAFデータ貼り付け!T190=\"\",\"\",JAAFデータ貼り付け!T190)","v":""},{"$f":"IF(JAAFデータ貼り付け!U190=\"\",\"\",JAAFデータ貼り付け!U190)","v":""},{"$f":"IF(Sheet5!B190=\"\",\"\",Sheet5!B190)","v":"0"},{"$f":"IF(JAAFデータ貼り付け!W190=\"\",\"\",JAAFデータ貼り付け!W190)","v":""},{"$f":"IF(JAAFデータ貼り付け!X190=\"\",\"\",JAAFデータ貼り付け!X190)","v":""},{"$f":"IF(JAAFデータ貼り付け!Y190=\"\",\"\",JAAFデータ貼り付け!Y190)","v":""},{"$f":"IF(JAAFデータ貼り付け!Z190=\"\",\"\",JAAFデータ貼り付け!Z190)","v":""},{"$f":"IF(JAAFデータ貼り付け!AA190=\"\",\"\",JAAFデータ貼り付け!AA190)","v":""},{"$f":"IF(JAAFデータ貼り付け!AB190=\"\",\"\",JAAFデータ貼り付け!AB190)","v":""},{"$f":"IF(JAAFデータ貼り付け!AC190=\"\",\"\",JAAFデータ貼り付け!AC190)","v":""},{"$f":"IF(JAAFデータ貼り付け!AD190=\"\",\"\",JAAFデータ貼り付け!AD190)","v":""},{"$f":"IF(JAAFデータ貼り付け!AE190=\"\",\"\",JAAFデータ貼り付け!AE190)","v":""},{"$f":"IF(JAAFデータ貼り付け!AF190=\"\",\"\",JAAFデータ貼り付け!AF190)","v":""},{"$f":"IF(JAAFデータ貼り付け!AG190=\"\",\"\",JAAFデータ貼り付け!AG190)","v":""},{"$f":"IF(JAAFデータ貼り付け!AH190=\"\",\"\",JAAFデータ貼り付け!AH190)","v":""},{"$f":"IF(JAAFデータ貼り付け!AI190=\"\",\"\",JAAFデータ貼り付け!AI190)","v":""},{"$f":"IF(JAAFデータ貼り付け!AJ190=\"\",\"\",JAAFデータ貼り付け!AJ190)","v":""},{"$f":"IF(JAAFデータ貼り付け!AK190=\"\",\"\",JAAFデータ貼り付け!AK190)","v":""},{"$f":"IF(JAAFデータ貼り付け!AL190=\"\",\"\",JAAFデータ貼り付け!AL190)","v":""},{"$f":"IF(JAAFデータ貼り付け!AM190=\"\",\"\",JAAFデータ貼り付け!AM190)","v":""},{"$f":"IF(JAAFデータ貼り付け!AN190=\"\",\"\",JAAFデータ貼り付け!AN190)","v":""},{"$f":"IF(JAAFデータ貼り付け!AO190=\"\",\"\",JAAFデータ貼り付け!AO190)","v":""},{"$f":"IF(JAAFデータ貼り付け!AP190=\"\",\"\",JAAFデータ貼り付け!AP190)","v":""},{"$f":"IF(JAAFデータ貼り付け!AQ190=\"\",\"\",JAAFデータ貼り付け!AQ190)","v":""}]